{"text_format":"1","workbook":"xlsx","n_sheets":7,"sheets":["CALCULADORA","Flujos","Características","TIR de Tenencia","Tabla de Amortizacion","Tablas","Exclusión"],"not_rendered":{"charts":0,"images":3,"macros":1,"external_links":1,"defined_names":4,"comments":0,"pivot_tables":0},"unopened":[],"bounds":{"document_bytes":16777216,"sheet_cells":100000,"rows_first":2000,"rows_last":500,"rows_between":2000,"halvings":0,"cell_chars":16384,"cell_head_chars":4096},"cells_cut":0,"cells_raw":0,"read":"whole","date_system":"1900"}

{"sheet":"CALCULADORA","index":0,"n_rows":43,"n_cols":8,"rows_kept":43,"cut":false,"hidden":false,"merged":[[58,7,58,8],[10,1,10,2],[38,7,38,8],[6,1,6,2],[21,1,21,2],[25,1,25,2],[38,10,38,11],[21,3,23,4]]}
[null,"Exclusión de responsabilidad",null,null,null,null,null,"Valor nominal negociado"]
[null,null,null,null,null,null,null,"TIPS N13 A"]
[null,null,null,null,null,null,null,"TIPS N14 A"]
[null,null,null,null,null,null,null,"TIPS N16 A"]
[null,null,null,null,null,null,null,"TIPS N17 A "]
[null,null,null,null,null,null,null,"TIPS N18 A 2034"]
[null,"Calculadora Emisiones TIPS en Pesos",null,null,null,null,null,"TIPS N19 A 2034"]
[null,null,null,null,null,null,null,"TIPS N20 A 2034"]
[null,"Emisión","TIPS N23 A",null,"Seleccionar la Emisión a Calcular",null,null,"TIPS N21 A"]
[null,null,null,null,null,null,null,"TIPS N22 A"]
[null,"Características",null,null,null,null,null,"TIPS N23 A"]
[null,"Identificación titulo (Nemotécnico)",{"$f":"+HLOOKUP(C9,Características!B1:M7,2,FALSE)","v":"INST15180739"},null,null,{"$error":"#N/A"},null,"TIPS N24 A1 2029"]
[null,"Fecha de Emisión ",{"$f":"+HLOOKUP(C9,Características!B1:M7,4,FALSE)","v":"2024-07-18"},null,null,null,null,"TIPS N24 A2 2039"]
[null,"Fecha de Vencimiento Contractual",{"$f":"+HLOOKUP(C9,Características!B1:M7,5,FALSE)","v":"2039-07-18"}]
[null,"Fecha estimada para el pago del 100% del título",{"$f":"+VLOOKUP(0,Flujos!D2:J182,6,FALSE)","v":"2032-02-18"}]
[null,"Tasa Facial Efectiva Anual",{"$f":"+HLOOKUP(C9,Características!B1:M7,6,FALSE)","v":0.11650000000000001}]
[null,"Tasa Facial Nominal Anual ",{"$f":"+ROUND(((1+C16)^(1/12)-1)*12,6)","v":0.110706}]
[null,"Duración Macaulay",{"$f":"+SUMPRODUCT(Flujos!B2:B182,Flujos!H2:H182)/Flujos!H183/365","v":1.6821294532313371}]
[null,"Nominal Inicial  (Nominal del título al momento de la emisión)",{"$f":"Flujos!L2","v":61711871367.216919}]
[]
[]
[null,"Datos de Compra",null,"Fecha de Compra y Valor de Compra son datos opcionales deben incluirse solo para calcular la TIR de Tenencia"]
[null,"Fecha de Compra","2024-03-07"]
[null,"Valor de Compra (COP)",15000000000]
[]
[null,"Datos de Venta"]
[null,"Fecha de Venta ","2025-02-01",null,"Incluir los datos de las celdas grises"]
[null,"Valor nominal a negociar (COP)",49630124223]
[null,"Tasa de negociación / tasa de valoración",0.10539999999999999]
[null,"Precio Limpio (sin incluir intereses causados)"]
[null,"Precio sucio (incluyendo intereses causados)",100.02800000000001]
[{"$f":"+Flujos!C183*100","v":80.422329000000019},"Porcentaje del nominal inicial que falta por pagar del capital",{"$f":"+Flujos!C183*100/100","v":0.80422329000000015}]
[null,"Valor de Giro (COP)",{"$f":"+Características!B32","v":50889240475}]
[]
[null,"TIR de Tenencia en COP*",{"$f":"+'TIR de Tenencia'!K2","v":0.72909463644027728}]
[]
[null,"Oficina de Atención a Inversionistas al 601 618 3030 ext 257 - 239, o al correo  asalcedo@titularizadora.com - josorio@titularizadora.com"]
[]
[]
[]
[]
[]
[null,null,1]

{"sheet":"Flujos","index":1,"n_rows":183,"n_cols":15,"rows_kept":183,"cut":false,"hidden":false,"merged":[]}
["Fecha","Días 365 / Days 365","Amortización / Amortization","Factor Saldo","Factor Capital","Factor Intereses","Factor Total","VPN","Control","Mes inicial","Días iniciales","Saldo / Balance","Pago de Capital","Pago de Intereses","Pago Total"]
[{"$f":"+CALCULADORA!C13","v":"2024-07-18"},{"$f":"IF(DIAS365(CALCULADORA!$C$27,A2)<0,0,DIAS365(CALCULADORA!$C$27,A2))","v":0},0,{"$f":"+CALCULADORA!A32/Flujos!C183","v":100},0,0,{"$f":"F2+E2","v":0},{"$f":"IF($B2<0,0,G2/POWER(1+CALCULADORA!$C$29,Flujos!$B2/365))","v":0},{"$f":"+A2","v":"2024-07-18"},0,0,{"$f":"+Características!B18/Flujos!C183","v":61711871367.216919},0,0,{"$f":"+N2+M2","v":0}]
[{"$f":"EDATE(A2,1)","v":"2024-08-18"},{"$f":"IF(DIAS365(CALCULADORA!$C$27,A3)<0,0,DIAS365(CALCULADORA!$C$27,A3))","v":0},{"$f":"+HLOOKUP(CALCULADORA!$C$9,Tablas!B:B,Flujos!J3+1,FALSE)","v":2.7082479999999999E-2},{"$f":"+ROUND(D2-E3,6)","v":97.291752000000002},{"$f":"ROUND(C3*$D$2,6)","v":2.7082480000000002},{"$f":"ROUND(D2*ROUND(((1+CALCULADORA!$C$16)^(1/12)-1),6),6)","v":0.92259999999999998},{"$f":"F3+E3","v":3.6308480000000003},{"$f":"IF($B3=0,0,G3/POWER(1+CALCULADORA!$C$29,Flujos!$B3/365))","v":0},{"$f":"+A3","v":"2024-08-18"},1,{"$f":"+DIAS365($A$2,A3)","v":31},{"$f":"+L2-M3","v":60040560845.151695},{"$f":"+$L$2*C3","v":1671310522.0652249},{"$f":"+L2*$F$3%","v":569353725.23394322},{"$f":"+N3+M3","v":2240664247.2991681}]
[{"$f":"EDATE(A3,1)","v":"2024-09-18"},{"$f":"IF(DIAS365(CALCULADORA!$C$27,A4)<0,0,DIAS365(CALCULADORA!$C$27,A4))","v":0},{"$f":"+HLOOKUP(CALCULADORA!$C$9,Tablas!B:B,Flujos!J4+1,FALSE)","v":2.8401409999999998E-2},{"$f":"+ROUND(D3-E4,6)","v":94.451611},{"$f":"ROUND(C4*$D$2,6)","v":2.840141},{"$f":"ROUND(D3*ROUND(((1+CALCULADORA!$C$16)^(1/12)-1),6),6)","v":0.89761400000000002},{"$f":"F4+E4","v":3.7377549999999999},{"$f":"IF($B4=0,0,G4/POWER(1+CALCULADORA!$C$29,Flujos!$B4/365))","v":0},"2024-09-18",2,{"$f":"+DIAS365($A$2,A4)","v":62},{"$f":"+L3-M4","v":58287856684.584106},{"$f":"+$L$2*C4","v":1752704160.5675881},{"$f":"+L3*$F$3%","v":553934214.35736954},{"$f":"+N4+M4","v":2306638374.9249578}]
["2024-10-18",{"$f":"IF(DIAS365(CALCULADORA!$C$27,A5)<0,0,DIAS365(CALCULADORA!$C$27,A5))","v":0},{"$f":"+HLOOKUP(CALCULADORA!$C$9,Tablas!B:B,Flujos!J5+1,FALSE)","v":3.5727059999999998E-2},{"$f":"+ROUND(D4-E5,6)","v":90.878905000000003},3.5727060000000002,{"$f":"ROUND(D4*ROUND(((1+CALCULADORA!$C$16)^(1/12)-1),6),6)","v":0.87141100000000005},4.4441170000000003,{"$f":"IF($B5=0,0,G5/POWER(1+CALCULADORA!$C$29,Flujos!$B5/365))","v":0},"2024-10-18",3,{"$f":"+DIAS365($A$2,A5)","v":92},56083072953.535263,2204783731.048841,537763765.77197301,2742547496.8208141]
["2024-11-18",{"$f":"IF(DIAS365(CALCULADORA!$C$27,A6)<0,0,DIAS365(CALCULADORA!$C$27,A6))","v":0},{"$f":"+HLOOKUP(CALCULADORA!$C$9,Tablas!B:B,Flujos!J6+1,FALSE)","v":3.6433880000000002E-2},87.235517000000002,3.6433879999999998,{"$f":"ROUND(D5*ROUND(((1+CALCULADORA!$C$16)^(1/12)-1),6),6)","v":0.838449},4.4818369999999996,{"$f":"IF($B6=0,0,G6/POWER(1+CALCULADORA!$C$29,Flujos!$B6/365))","v":0},"2024-11-18",4,{"$f":"+DIAS365($A$2,A6)","v":123},53834670037.566643,2248402915.9686174,517422431.06931633,2765825347.0379338]
["2024-12-18",{"$f":"IF(DIAS365(CALCULADORA!$C$27,A7)<0,0,DIAS365(CALCULADORA!$C$27,A7))","v":0},{"$f":"+HLOOKUP(CALCULADORA!$C$9,Tablas!B:B,Flujos!J7+1,FALSE)","v":2.940951E-2},84.294566000000003,2.9409510000000001,{"$f":"ROUND(D6*ROUND(((1+CALCULADORA!$C$16)^(1/12)-1),6),6)","v":0.80483499999999997},3.7457859999999998,{"$f":"IF($B7=0,0,G7/POWER(1+CALCULADORA!$C$29,Flujos!$B7/365))","v":0},"2024-12-18",5,{"$f":"+DIAS365($A$2,A7)","v":153},52019754139.473763,1814915898.0928795,496678665.76658982,2311594563.8594694]
["2025-01-18",{"$f":"IF(DIAS365(CALCULADORA!$C$27,A8)<0,0,DIAS365(CALCULADORA!$C$27,A8))","v":0},{"$f":"+HLOOKUP(CALCULADORA!$C$9,Tablas!B:B,Flujos!J8+1,FALSE)","v":3.8722369999999999E-2},80.422329000000005,3.8722370000000002,{"$f":"ROUND(D7*ROUND(((1+CALCULADORA!$C$16)^(1/12)-1),6),6)","v":0.777702},4.6499389999999998,{"$f":"IF($B8=0,0,G8/POWER(1+CALCULADORA!$C$29,Flujos!$B8/365))","v":0},"2025-01-18",6,{"$f":"+DIAS365($A$2,A8)","v":184},49630124222.999985,2389629916.4737792,479934251.69078493,2869564168.1645641]
["2025-02-18",{"$f":"IF(DIAS365(CALCULADORA!$C$27,A9)<0,0,DIAS365(CALCULADORA!$C$27,A9))","v":17},{"$f":"+HLOOKUP(CALCULADORA!$C$9,Tablas!B:B,Flujos!J9+1,FALSE)","v":4.3933670000000001E-2},76.028962000000007,4.3933669999999996,{"$f":"ROUND(D8*ROUND(((1+CALCULADORA!$C$16)^(1/12)-1),6),6)","v":0.74197599999999997},5.1353429999999998,{"$f":"IF($B9=0,0,G9/POWER(1+CALCULADORA!$C$29,Flujos!$B9/365))","v":5.1114312352382125},"2025-02-18",7,{"$f":"+DIAS365($A$2,A9)","v":215},46918895231.270226,2711228991.7297568,457887526.08139783,3169116517.8111548]
["2025-03-18",{"$f":"IF(DIAS365(CALCULADORA!$C$27,A10)<0,0,DIAS365(CALCULADORA!$C$27,A10))","v":45},{"$f":"+HLOOKUP(CALCULADORA!$C$9,Tablas!B:B,Flujos!J10+1,FALSE)","v":2.8550269999999999E-2},73.173935,2.8550270000000002,{"$f":"ROUND(D9*ROUND(((1+CALCULADORA!$C$16)^(1/12)-1),6),6)","v":0.70144300000000004},3.55647,{"$f":"IF($B10=0,0,G10/POWER(1+CALCULADORA!$C$29,Flujos!$B10/365))","v":3.5128025287028448},"2025-03-18",8,{"$f":"+DIAS365($A$2,A10)","v":243},45157004641.530914,1761890589.7393122,432873727.4036991,2194764317.1430111]
["2025-04-18",{"$f":"IF(DIAS365(CALCULADORA!$C$27,A11)<0,0,DIAS365(CALCULADORA!$C$27,A11))","v":76},{"$f":"+HLOOKUP(CALCULADORA!$C$9,Tablas!B:B,Flujos!J11+1,FALSE)","v":2.7539569999999999E-2},70.419978,2.7539570000000002,{"$f":"ROUND(D10*ROUND(((1+CALCULADORA!$C$16)^(1/12)-1),6),6)","v":0.67510300000000001},3.4290600000000002,{"$f":"IF($B11=0,0,G11/POWER(1+CALCULADORA!$C$29,Flujos!$B11/365))","v":3.3582536698223304},"2025-04-18",9,{"$f":"+DIAS365($A$2,A11)","v":274},43457486240.182449,1699518401.3484659,416618524.82276422,2116136926.1712301]
["2025-05-18",{"$f":"IF(DIAS365(CALCULADORA!$C$27,A12)<0,0,DIAS365(CALCULADORA!$C$27,A12))","v":106},{"$f":"+HLOOKUP(CALCULADORA!$C$9,Tablas!B:B,Flujos!J12+1,FALSE)","v":2.6554560000000001E-2},67.764521999999999,2.655456,{"$f":"ROUND(D11*ROUND(((1+CALCULADORA!$C$16)^(1/12)-1),6),6)","v":0.64969500000000002},3.305151,{"$f":"IF($B12=0,0,G12/POWER(1+CALCULADORA!$C$29,Flujos!$B12/365))","v":3.210352916790681},"2025-05-18",10,{"$f":"+DIAS365($A$2,A12)","v":304},41818754649.249405,1638731590.9330437,400938768.05192327,2039670358.984967]
["2025-06-18",{"$f":"IF(DIAS365(CALCULADORA!$C$27,A13)<0,0,DIAS365(CALCULADORA!$C$27,A13))","v":137},{"$f":"+HLOOKUP(CALCULADORA!$C$9,Tablas!B:B,Flujos!J13+1,FALSE)","v":2.5602090000000001E-2},65.204312999999999,2.560209,{"$f":"ROUND(D12*ROUND(((1+CALCULADORA!$C$16)^(1/12)-1),6),6)","v":0.62519499999999995},3.1854040000000001,{"$f":"IF($B13=0,0,G13/POWER(1+CALCULADORA!$C$29,Flujos!$B13/365))","v":3.0678196125719839},"2025-06-18",11,{"$f":"+DIAS365($A$2,A13)","v":335},40238801764.437492,1579952884.8119106,385819830.39397502,1965772715.2058856]
["2025-07-18",{"$f":"IF(DIAS365(CALCULADORA!$C$27,A14)<0,0,DIAS365(CALCULADORA!$C$27,A14))","v":167},{"$f":"+HLOOKUP(CALCULADORA!$C$9,Tablas!B:B,Flujos!J14+1,FALSE)","v":2.468364E-2},62.735948999999998,2.4683639999999998,{"$f":"ROUND(D13*ROUND(((1+CALCULADORA!$C$16)^(1/12)-1),6),6)","v":0.60157499999999997},3.0699389999999998,{"$f":"IF($B14=0,0,G14/POWER(1+CALCULADORA!$C$29,Flujos!$B14/365))","v":2.932365509112536},"2025-07-18",12,{"$f":"+DIAS365($A$2,A14)","v":365},38715528147.882805,1523273616.5546901,371243185.0787003,1894516801.6333904]
["2025-08-18",{"$f":"IF(DIAS365(CALCULADORA!$C$27,A15)<0,0,DIAS365(CALCULADORA!$C$27,A15))","v":198},{"$f":"+HLOOKUP(CALCULADORA!$C$9,Tablas!B:B,Flujos!J15+1,FALSE)","v":2.3787719999999998E-2},60.357177,2.3787720000000001,{"$f":"ROUND(D14*ROUND(((1+CALCULADORA!$C$16)^(1/12)-1),6),6)","v":0.57880200000000004},2.9575740000000001,{"$f":"IF($B15=0,0,G15/POWER(1+CALCULADORA!$C$29,Flujos!$B15/365))","v":2.8010947717335206},"2025-08-18",13,{"$f":"+DIAS365($A$2,A15)","v":396},37247543431.123428,1467984716.7593732,357189462.69236678,1825174179.45174]
["2025-09-18",{"$f":"IF(DIAS365(CALCULADORA!$C$27,A16)<0,0,DIAS365(CALCULADORA!$C$27,A16))","v":229},{"$f":"+HLOOKUP(CALCULADORA!$C$9,Tablas!B:B,Flujos!J16+1,FALSE)","v":2.2936399999999999E-2},58.063536999999997,2.2936399999999999,{"$f":"ROUND(D15*ROUND(((1+CALCULADORA!$C$16)^(1/12)-1),6),6)","v":0.55685499999999999},2.850495,{"$f":"IF($B16=0,0,G16/POWER(1+CALCULADORA!$C$29,Flujos!$B16/365))","v":2.6768022793339252},"2025-09-18",14,{"$f":"+DIAS365($A$2,A16)","v":427},35832095264.696396,1415448166.4270341,343645835.69554472,1759094002.1225789]
["2025-10-18",{"$f":"IF(DIAS365(CALCULADORA!$C$27,A17)<0,0,DIAS365(CALCULADORA!$C$27,A17))","v":259},{"$f":"+HLOOKUP(CALCULADORA!$C$9,Tablas!B:B,Flujos!J17+1,FALSE)","v":2.2106730000000002E-2},55.852863999999997,2.2106729999999999,{"$f":"ROUND(D16*ROUND(((1+CALCULADORA!$C$16)^(1/12)-1),6),6)","v":0.535694},2.7463669999999998,{"$f":"IF($B17=0,0,G17/POWER(1+CALCULADORA!$C$29,Flujos!$B17/365))","v":2.5578651211693484},"2025-10-18",15,{"$f":"+DIAS365($A$2,A17)","v":457},34467847586.586601,1364247678.1097953,330586910.91208893,1694834589.0218842]
["2025-11-18",{"$f":"IF(DIAS365(CALCULADORA!$C$27,A18)<0,0,DIAS365(CALCULADORA!$C$27,A18))","v":290},{"$f":"+HLOOKUP(CALCULADORA!$C$9,Tablas!B:B,Flujos!J18+1,FALSE)","v":2.1304989999999999E-2},53.722365000000003,2.1304989999999999,{"$f":"ROUND(D17*ROUND(((1+CALCULADORA!$C$16)^(1/12)-1),6),6)","v":0.51529899999999995},2.6457980000000001,{"$f":"IF($B18=0,0,G18/POWER(1+CALCULADORA!$C$29,Flujos!$B18/365))","v":2.443315659413035},"2025-11-18",16,{"$f":"+DIAS365($A$2,A18)","v":488},33153076784.226757,1314770802.3598428,318000361.833848,1632771164.1936908]
["2025-12-18",{"$f":"IF(DIAS365(CALCULADORA!$C$27,A19)<0,0,DIAS365(CALCULADORA!$C$27,A19))","v":320},{"$f":"+HLOOKUP(CALCULADORA!$C$9,Tablas!B:B,Flujos!J19+1,FALSE)","v":2.052027E-2},51.670338000000001,2.0520269999999998,{"$f":"ROUND(D18*ROUND(((1+CALCULADORA!$C$16)^(1/12)-1),6),6)","v":0.495643},2.5476699999999997,{"$f":"IF($B19=0,0,G19/POWER(1+CALCULADORA!$C$29,Flujos!$B19/365))","v":2.33339963582941},"2025-12-18",17,{"$f":"+DIAS365($A$2,A19)","v":518},31886732521.566196,1266344262.6605604,305870286.41127604,1572214549.0718365]
["2026-01-18",{"$f":"IF(DIAS365(CALCULADORA!$C$27,A20)<0,0,DIAS365(CALCULADORA!$C$27,A20))","v":351},{"$f":"+HLOOKUP(CALCULADORA!$C$9,Tablas!B:B,Flujos!J20+1,FALSE)","v":1.9782020000000001E-2},49.692135999999998,1.978202,{"$f":"ROUND(D19*ROUND(((1+CALCULADORA!$C$16)^(1/12)-1),6),6)","v":0.476711},2.4549129999999999,{"$f":"IF($B20=0,0,G20/POWER(1+CALCULADORA!$C$29,Flujos!$B20/365))","v":2.2293891595671704},"2026-01-18",18,{"$f":"+DIAS365($A$2,A20)","v":549},30665947047.942482,1220785473.6237125,294186994.24396974,1514972467.8676822]
["2026-02-18",{"$f":"IF(DIAS365(CALCULADORA!$C$27,A21)<0,0,DIAS365(CALCULADORA!$C$27,A21))","v":382},{"$f":"+HLOOKUP(CALCULADORA!$C$9,Tablas!B:B,Flujos!J21+1,FALSE)","v":1.9060009999999999E-2},47.786135000000002,1.9060010000000001,{"$f":"ROUND(D20*ROUND(((1+CALCULADORA!$C$16)^(1/12)-1),6),6)","v":0.45845999999999998},2.3644609999999999,{"$f":"IF($B21=0,0,G21/POWER(1+CALCULADORA!$C$29,Flujos!$B21/365))","v":2.1290495108806606},"2026-02-18",19,{"$f":"+DIAS365($A$2,A21)","v":580},29489718162.564613,1176228885.3778682,282924027.46431732,1459152912.8421855]
["2026-03-18",{"$f":"IF(DIAS365(CALCULADORA!$C$27,A22)<0,0,DIAS365(CALCULADORA!$C$27,A22))","v":410},{"$f":"+HLOOKUP(CALCULADORA!$C$9,Tablas!B:B,Flujos!J22+1,FALSE)","v":1.837225E-2},{"$f":"+ROUND(D21-E22,6)","v":45.948909999999998},1.8372250000000001,{"$f":"ROUND(D21*ROUND(((1+CALCULADORA!$C$16)^(1/12)-1),6),6)","v":0.44087500000000002},2.2781000000000002,{"$f":"IF($B22=0,0,G22/POWER(1+CALCULADORA!$C$29,Flujos!$B22/365))","v":2.03557876125228},"2026-03-18",20,{"$f":"+DIAS365($A$2,A22)","v":608},28355932233.838261,1133785928.726351,272072139.76782113,1405858068.4941721]
["2026-04-18",{"$f":"IF(DIAS365(CALCULADORA!$C$27,A23)<0,0,DIAS365(CALCULADORA!$C$27,A23))","v":441},{"$f":"+HLOOKUP(CALCULADORA!$C$9,Tablas!B:B,Flujos!J23+1,FALSE)","v":1.7702079999999999E-2},44.178702000000001,1.770208,{"$f":"ROUND(D22*ROUND(((1+CALCULADORA!$C$16)^(1/12)-1),6),6)","v":0.423925},2.1941329999999999,{"$f":"IF($B23=0,0,G23/POWER(1+CALCULADORA!$C$29,Flujos!$B23/365))","v":1.9439357324824817},"2026-04-18",21,{"$f":"+DIAS365($A$2,A23)","v":639},27263503749.946075,1092428483.8921833,261611830.78939179,1354040314.6815751]
["2026-05-18",{"$f":"IF(DIAS365(CALCULADORA!$C$27,A24)<0,0,DIAS365(CALCULADORA!$C$27,A24))","v":471},{"$f":"+HLOOKUP(CALCULADORA!$C$9,Tablas!B:B,Flujos!J24+1,FALSE)","v":1.704804E-2},42.473897999999998,1.704804,{"$f":"ROUND(D23*ROUND(((1+CALCULADORA!$C$16)^(1/12)-1),6),6)","v":0.40759299999999998},2.1123970000000001,{"$f":"IF($B24=0,0,G24/POWER(1+CALCULADORA!$C$29,Flujos!$B24/365))","v":1.8561691640983984},"2026-05-18",22,{"$f":"+DIAS365($A$2,A24)","v":669},26211437298.402908,1052066451.5431688,251533085.59700248,1303599537.1401713]
["2026-06-18",{"$f":"IF(DIAS365(CALCULADORA!$C$27,A25)<0,0,DIAS365(CALCULADORA!$C$27,A25))","v":502},{"$f":"+HLOOKUP(CALCULADORA!$C$9,Tablas!B:B,Flujos!J25+1,FALSE)","v":1.64219E-2},40.831707999999999,1.64219,{"$f":"ROUND(D24*ROUND(((1+CALCULADORA!$C$16)^(1/12)-1),6),6)","v":0.39186399999999999},2.0340540000000003,{"$f":"IF($B25=0,0,G25/POWER(1+CALCULADORA!$C$29,Flujos!$B25/365))","v":1.7721819815797004},"2026-06-18",23,{"$f":"+DIAS365($A$2,A25)","v":700},25198011117.997608,1013426180.4052995,241826720.51506522,1255252900.9203649]
["2026-07-18",{"$f":"IF(DIAS365(CALCULADORA!$C$27,A26)<0,0,DIAS365(CALCULADORA!$C$27,A26))","v":532},{"$f":"+HLOOKUP(CALCULADORA!$C$9,Tablas!B:B,Flujos!J26+1,FALSE)","v":1.5802589999999998E-2},39.251449000000001,1.5802590000000001,{"$f":"ROUND(D25*ROUND(((1+CALCULADORA!$C$16)^(1/12)-1),6),6)","v":0.37671300000000002},1.9569720000000002,{"$f":"IF($B26=0,0,G26/POWER(1+CALCULADORA!$C$29,Flujos!$B26/365))","v":1.6910385501125331},"2026-07-18",24,{"$f":"+DIAS365($A$2,A26)","v":730},24222803716.648739,975207401.34886825,232476850.57464594,1207684251.9235141]
["2026-08-18",{"$f":"IF(DIAS365(CALCULADORA!$C$27,A27)<0,0,DIAS365(CALCULADORA!$C$27,A27))","v":563},{"$f":"+HLOOKUP(CALCULADORA!$C$9,Tablas!B:B,Flujos!J27+1,FALSE)","v":1.522098E-2},37.729351000000001,1.522098,{"$f":"ROUND(D26*ROUND(((1+CALCULADORA!$C$16)^(1/12)-1),6),6)","v":0.36213400000000001},1.8842319999999999,{"$f":"IF($B27=0,0,G27/POWER(1+CALCULADORA!$C$29,Flujos!$B27/365))","v":1.6143849421874354},"2026-08-18",25,{"$f":"+DIAS365($A$2,A27)","v":761},23283488556.805756,939315159.84298134,223479587.08980125,1162794746.9327826]
["2026-09-18",{"$f":"IF(DIAS365(CALCULADORA!$C$27,A28)<0,0,DIAS365(CALCULADORA!$C$27,A28))","v":594},{"$f":"+HLOOKUP(CALCULADORA!$C$9,Tablas!B:B,Flujos!J28+1,FALSE)","v":1.465902E-2},36.263449000000001,1.465902,{"$f":"ROUND(D27*ROUND(((1+CALCULADORA!$C$16)^(1/12)-1),6),6)","v":0.34809099999999998},1.813993,{"$f":"IF($B28=0,0,G28/POWER(1+CALCULADORA!$C$29,Flujos!$B28/365))","v":1.5410337720166865},"2026-09-18",26,{"$f":"+DIAS365($A$2,A28)","v":792},22378853000.196297,904635556.60946012,214813465.4250899,1119449022.03455]
["2026-10-18",{"$f":"IF(DIAS365(CALCULADORA!$C$27,A29)<0,0,DIAS365(CALCULADORA!$C$27,A29))","v":624},{"$f":"+HLOOKUP(CALCULADORA!$C$9,Tablas!B:B,Flujos!J29+1,FALSE)","v":1.4109999999999999E-2},34.852449,1.411,{"$f":"ROUND(D28*ROUND(((1+CALCULADORA!$C$16)^(1/12)-1),6),6)","v":0.334567},1.7455670000000001,{"$f":"IF($B29=0,0,G29/POWER(1+CALCULADORA!$C$29,Flujos!$B29/365))","v":1.4707407670042636},"2026-10-18",27,{"$f":"+DIAS365($A$2,A29)","v":822},21508098495.204865,870754504.99143064,206467297.77981102,1077221802.7712417]
["2026-11-18",{"$f":"IF(DIAS365(CALCULADORA!$C$27,A30)<0,0,DIAS365(CALCULADORA!$C$27,A30))","v":655},{"$f":"+HLOOKUP(CALCULADORA!$C$9,Tablas!B:B,Flujos!J30+1,FALSE)","v":1.3583339999999999E-2},33.494115000000001,1.3583339999999999,{"$f":"ROUND(D29*ROUND(((1+CALCULADORA!$C$16)^(1/12)-1),6),6)","v":0.32154899999999997},1.6798829999999998,{"$f":"IF($B30=0,0,G30/POWER(1+CALCULADORA!$C$29,Flujos!$B30/365))","v":1.4034032228067539},"2026-11-18",28,{"$f":"+DIAS365($A$2,A30)","v":853},20669845164.387691,838253330.81717217,198433716.71676007,1036687047.5339322]
["2026-12-18",{"$f":"IF(DIAS365(CALCULADORA!$C$27,A31)<0,0,DIAS365(CALCULADORA!$C$27,A31))","v":685},{"$f":"+HLOOKUP(CALCULADORA!$C$9,Tablas!B:B,Flujos!J31+1,FALSE)","v":1.3073990000000001E-2},32.186715999999997,1.307399,{"$f":"ROUND(D30*ROUND(((1+CALCULADORA!$C$16)^(1/12)-1),6),6)","v":0.30901699999999999},1.6164160000000001,{"$f":"IF($B31=0,0,G31/POWER(1+CALCULADORA!$C$29,Flujos!$B31/365))","v":1.339305440576593},"2026-12-18",29,{"$f":"+DIAS365($A$2,A31)","v":883},19863024775.251411,806820389.13628042,190699991.48664084,997520380.62292123]
["2027-01-18",{"$f":"IF(DIAS365(CALCULADORA!$C$27,A32)<0,0,DIAS365(CALCULADORA!$C$27,A32))","v":716},{"$f":"+HLOOKUP(CALCULADORA!$C$9,Tablas!B:B,Flujos!J32+1,FALSE)","v":1.2578570000000001E-2},30.928858999999999,1.257857,{"$f":"ROUND(D31*ROUND(((1+CALCULADORA!$C$16)^(1/12)-1),6),6)","v":0.29695500000000002},1.5548120000000001,{"$f":"IF($B32=0,0,G32/POWER(1+CALCULADORA!$C$29,Flujos!$B32/365))","v":1.2773449722931964},"2027-01-18",30,{"$f":"+DIAS365($A$2,A32)","v":914},19086777681.427879,776247093.82353377,183256266.57646951,959503360.40000331]
["2027-02-18",{"$f":"IF(DIAS365(CALCULADORA!$C$27,A33)<0,0,DIAS365(CALCULADORA!$C$27,A33))","v":747},{"$f":"+HLOOKUP(CALCULADORA!$C$9,Tablas!B:B,Flujos!J33+1,FALSE)","v":1.2097220000000001E-2},29.719137,1.209722,{"$f":"ROUND(D32*ROUND(((1+CALCULADORA!$C$16)^(1/12)-1),6),6)","v":0.28534999999999999},1.495072,{"$f":"IF($B33=0,0,G33/POWER(1+CALCULADORA!$C$29,Flujos!$B33/365))","v":1.2178568795543738},"2027-02-18",31,{"$f":"+DIAS365($A$2,A33)","v":945},18340235596.886955,746542084.54092383,176094610.88885361,922636695.42977738]
["2027-03-18",{"$f":"IF(DIAS365(CALCULADORA!$C$27,A34)<0,0,DIAS365(CALCULADORA!$C$27,A34))","v":775},{"$f":"+HLOOKUP(CALCULADORA!$C$9,Tablas!B:B,Flujos!J34+1,FALSE)","v":1.164632E-2},28.554504999999999,1.1646319999999999,{"$f":"ROUND(D33*ROUND(((1+CALCULADORA!$C$16)^(1/12)-1),6),6)","v":0.27418900000000002},1.4388209999999999,{"$f":"IF($B34=0,0,G34/POWER(1+CALCULADORA!$C$29,Flujos!$B34/365))","v":1.1630608428677114},"2027-03-18",32,{"$f":"+DIAS365($A$2,A34)","v":973},17621519395.145508,718716201.74144578,169207013.61687905,887923215.35832477]
[{"$f":"EDATE(A34,1)","v":"2027-04-18"},{"$f":"IF(DIAS365(CALCULADORA!$C$27,A35)<0,0,DIAS365(CALCULADORA!$C$27,A35))","v":806},{"$f":"+HLOOKUP(CALCULADORA!$C$9,Tablas!B:B,Flujos!J35+1,FALSE)","v":1.1209510000000001E-2},27.433554000000001,1.120951,{"$f":"ROUND(D34*ROUND(((1+CALCULADORA!$C$16)^(1/12)-1),6),6)","v":0.26344400000000001},1.384395,{"$f":"IF($B35=0,0,G35/POWER(1+CALCULADORA!$C$29,Flujos!$B35/365))","v":1.1095822874247709},"2027-04-18",33,{"$f":"+DIAS365($A$2,A35)","v":1004},16929759555.935976,691759839.20953178,162576137.93961245,854335977.14914417]
["2027-05-18",{"$f":"IF(DIAS365(CALCULADORA!$C$27,A36)<0,0,DIAS365(CALCULADORA!$C$27,A36))","v":836},{"$f":"+HLOOKUP(CALCULADORA!$C$9,Tablas!B:B,Flujos!J36+1,FALSE)","v":1.078439E-2},26.355115000000001,1.0784389999999999,{"$f":"ROUND(D35*ROUND(((1+CALCULADORA!$C$16)^(1/12)-1),6),6)","v":0.25310199999999999},1.3315409999999999,{"$f":"IF($B36=0,0,G36/POWER(1+CALCULADORA!$C$29,Flujos!$B36/365))","v":1.0584664451541357},"2027-05-18",34,{"$f":"+DIAS365($A$2,A36)","v":1034},16264234667.482075,665524888.45390046,156193961.66306531,821718850.11696577]
["2027-06-18",{"$f":"IF(DIAS365(CALCULADORA!$C$27,A37)<0,0,DIAS365(CALCULADORA!$C$27,A37))","v":867},{"$f":"+HLOOKUP(CALCULADORA!$C$9,Tablas!B:B,Flujos!J37+1,FALSE)","v":1.0370900000000001E-2},25.318024999999999,1.0370900000000001,{"$f":"ROUND(D36*ROUND(((1+CALCULADORA!$C$16)^(1/12)-1),6),6)","v":0.24315200000000001},1.2802420000000001,{"$f":"IF($B37=0,0,G37/POWER(1+CALCULADORA!$C$29,Flujos!$B37/365))","v":1.0090633875169062},"2027-06-18",35,{"$f":"+DIAS365($A$2,A37)","v":1065},15624227020.719805,640007646.76226997,150053829.04218963,790061475.80445957]
["2027-07-18",{"$f":"IF(DIAS365(CALCULADORA!$C$27,A38)<0,0,DIAS365(CALCULADORA!$C$27,A38))","v":897},{"$f":"+HLOOKUP(CALCULADORA!$C$9,Tablas!B:B,Flujos!J38+1,FALSE)","v":9.9640500000000003E-3},24.321619999999999,0.99640499999999999,{"$f":"ROUND(D37*ROUND(((1+CALCULADORA!$C$16)^(1/12)-1),6),6)","v":0.23358400000000001},1.229989,{"$f":"IF($B38=0,0,G38/POWER(1+CALCULADORA!$C$29,Flujos!$B38/365))","v":0.96150304409254506},"2027-07-18",36,{"$f":"+DIAS365($A$2,A38)","v":1095},15009326848.823288,614900171.89651775,144149118.4931609,759049290.38967872]
["2027-08-18",{"$f":"IF(DIAS365(CALCULADORA!$C$27,A39)<0,0,DIAS365(CALCULADORA!$C$27,A39))","v":928},{"$f":"+HLOOKUP(CALCULADORA!$C$9,Tablas!B:B,Flujos!J39+1,FALSE)","v":9.5865800000000008E-3},23.362962,0.95865800000000001,{"$f":"ROUND(D38*ROUND(((1+CALCULADORA!$C$16)^(1/12)-1),6),6)","v":0.22439100000000001},1.183049,{"$f":"IF($B39=0,0,G39/POWER(1+CALCULADORA!$C$29,Flujos!$B39/365))","v":0.91697183306068686},"2027-08-18",37,{"$f":"+DIAS365($A$2,A39)","v":1126},14417721057.011753,591605791.8115344,138476049.50724366,730081841.31877804]
["2027-09-18",{"$f":"IF(DIAS365(CALCULADORA!$C$27,A40)<0,0,DIAS365(CALCULADORA!$C$27,A40))","v":959},{"$f":"+HLOOKUP(CALCULADORA!$C$9,Tablas!B:B,Flujos!J40+1,FALSE)","v":9.2193299999999995E-3},{"$f":"+ROUND(D39-E40,6)","v":22.441029},{"$f":"ROUND(C40*$D$2,6)","v":0.921933},{"$f":"ROUND(D39*ROUND(((1+CALCULADORA!$C$16)^(1/12)-1),6),6)","v":0.21554699999999999},{"$f":"F40+E40","v":1.13748},{"$f":"IF($B40=0,0,G40/POWER(1+CALCULADORA!$C$29,Flujos!$B40/365))","v":0.87417998484707815},{"$f":"+A40","v":"2027-09-18"},38,{"$f":"+DIAS365($A$2,A40)","v":1157},13848778949.959829,568942107.05192387,133017894.47199044,701960001.52391434]
["2027-10-18",{"$f":"IF(DIAS365(CALCULADORA!$C$27,A41)<0,0,DIAS365(CALCULADORA!$C$27,A41))","v":989},{"$f":"+HLOOKUP(CALCULADORA!$C$9,Tablas!B:B,Flujos!J41+1,FALSE)","v":8.8708299999999997E-3},21.553946,0.88708299999999995,{"$f":"ROUND(D40*ROUND(((1+CALCULADORA!$C$16)^(1/12)-1),6),6)","v":0.207041},1.0941239999999999,{"$f":"IF($B41=0,0,G41/POWER(1+CALCULADORA!$C$29,Flujos!$B41/365))","v":0.83396282532596611},"2027-10-18",39,{"$f":"+DIAS365($A$2,A41)","v":1187},13301343430.07938,547435519.88044882,127768834.59232938,675204354.4727782]
["2027-11-18",{"$f":"IF(DIAS365(CALCULADORA!$C$27,A42)<0,0,DIAS365(CALCULADORA!$C$27,A42))","v":1020},{"$f":"+HLOOKUP(CALCULADORA!$C$9,Tablas!B:B,Flujos!J42+1,FALSE)","v":8.5253199999999994E-3},20.701414,0.85253199999999996,{"$f":"ROUND(D41*ROUND(((1+CALCULADORA!$C$16)^(1/12)-1),6),6)","v":0.19885700000000001},1.0513889999999999,{"$f":"IF($B42=0,0,G42/POWER(1+CALCULADORA!$C$29,Flujos!$B42/365))","v":0.7945978819334506},"2027-11-18",40,{"$f":"+DIAS365($A$2,A42)","v":1218},12775229978.875019,526113451.20436174,122718194.48591235,648831645.69027412]
["2027-12-18",{"$f":"IF(DIAS365(CALCULADORA!$C$27,A43)<0,0,DIAS365(CALCULADORA!$C$27,A43))","v":1050},{"$f":"+HLOOKUP(CALCULADORA!$C$9,Tablas!B:B,Flujos!J43+1,FALSE)","v":8.1891599999999991E-3},19.882497999999998,0.81891599999999998,{"$f":"ROUND(D42*ROUND(((1+CALCULADORA!$C$16)^(1/12)-1),6),6)","v":0.19099099999999999},1.0099069999999999,{"$f":"IF($B43=0,0,G43/POWER(1+CALCULADORA!$C$29,Flujos!$B43/365))","v":0.75698698839972522},"2027-12-18",41,{"$f":"+DIAS365($A$2,A43)","v":1248},12269861590.349461,505368388.52555805,117864271.78510092,623232660.31065893]
["2028-01-18",{"$f":"IF(DIAS365(CALCULADORA!$C$27,A44)<0,0,DIAS365(CALCULADORA!$C$27,A44))","v":1081},{"$f":"+HLOOKUP(CALCULADORA!$C$9,Tablas!B:B,Flujos!J44+1,FALSE)","v":7.8705600000000004E-3},19.095441999999998,0.78705599999999998,{"$f":"ROUND(D43*ROUND(((1+CALCULADORA!$C$16)^(1/12)-1),6),6)","v":0.18343599999999999},0.97049199999999991,{"$f":"IF($B44=0,0,G44/POWER(1+CALCULADORA!$C$29,Flujos!$B44/365))","v":0.72127822052654866},"2028-01-18",42,{"$f":"+DIAS365($A$2,A44)","v":1279},11784154604.041498,485706986.30796283,113201743.03256412,598908729.34052694]
["2028-02-18",{"$f":"IF(DIAS365(CALCULADORA!$C$27,A45)<0,0,DIAS365(CALCULADORA!$C$27,A45))","v":1112},{"$f":"+HLOOKUP(CALCULADORA!$C$9,Tablas!B:B,Flujos!J45+1,FALSE)","v":7.5681000000000003E-3},18.338632,0.75680999999999998,{"$f":"ROUND(D44*ROUND(((1+CALCULADORA!$C$16)^(1/12)-1),6),6)","v":0.176175},0.93298499999999995,{"$f":"IF($B45=0,0,G45/POWER(1+CALCULADORA!$C$29,Flujos!$B45/365))","v":0.68752634913794497},"2028-02-18",43,{"$f":"+DIAS365($A$2,A45)","v":1310},11317112990.347263,467041613.69423437,108720610.37688686,575762224.07112122]
["2028-03-18",{"$f":"IF(DIAS365(CALCULADORA!$C$27,A46)<0,0,DIAS365(CALCULADORA!$C$27,A46))","v":1140},{"$f":"+HLOOKUP(CALCULADORA!$C$9,Tablas!B:B,Flujos!J46+1,FALSE)","v":7.2791000000000002E-3},17.610721999999999,0.72790999999999995,{"$f":"ROUND(D45*ROUND(((1+CALCULADORA!$C$16)^(1/12)-1),6),6)","v":0.16919200000000001},0.89710199999999996,{"$f":"IF($B46=0,0,G46/POWER(1+CALCULADORA!$C$29,Flujos!$B46/365))","v":0.65602143711564109},"2028-03-18",44,{"$f":"+DIAS365($A$2,A46)","v":1338},10867906107.478155,449206882.86910868,104411684.44894385,553618567.31805253]
["2028-04-18",{"$f":"IF(DIAS365(CALCULADORA!$C$27,A47)<0,0,DIAS365(CALCULADORA!$C$27,A47))","v":1171},{"$f":"+HLOOKUP(CALCULADORA!$C$9,Tablas!B:B,Flujos!J47+1,FALSE)","v":6.9920700000000004E-3},16.911515000000001,0.69920700000000002,{"$f":"ROUND(D46*ROUND(((1+CALCULADORA!$C$16)^(1/12)-1),6),6)","v":0.16247700000000001},0.86168400000000001,{"$f":"IF($B47=0,0,G47/POWER(1+CALCULADORA!$C$29,Flujos!$B47/365))","v":0.62478135683833358},"2028-04-18",45,{"$f":"+DIAS365($A$2,A47)","v":1369},10436412383.047579,431493724.43057644,100267301.74759346,531761026.17816991]
["2028-05-18",{"$f":"IF(DIAS365(CALCULADORA!$C$27,A48)<0,0,DIAS365(CALCULADORA!$C$27,A48))","v":1201},{"$f":"+HLOOKUP(CALCULADORA!$C$9,Tablas!B:B,Flujos!J48+1,FALSE)","v":6.7219999999999997E-3},16.239315000000001,0.67220000000000002,{"$f":"ROUND(D47*ROUND(((1+CALCULADORA!$C$16)^(1/12)-1),6),6)","v":0.156026},0.82822600000000002,{"$f":"IF($B48=0,0,G48/POWER(1+CALCULADORA!$C$29,Flujos!$B48/365))","v":0.5955962449647707},"2028-05-18",46,{"$f":"+DIAS365($A$2,A48)","v":1399},10021585183.717146,414827199.33043212,96286340.645996958,511113539.9764291]
["2028-06-18",{"$f":"IF(DIAS365(CALCULADORA!$C$27,A49)<0,0,DIAS365(CALCULADORA!$C$27,A49))","v":1232},{"$f":"+HLOOKUP(CALCULADORA!$C$9,Tablas!B:B,Flujos!J49+1,FALSE)","v":6.4652199999999998E-3},15.592793,0.64652200000000004,{"$f":"ROUND(D48*ROUND(((1+CALCULADORA!$C$16)^(1/12)-1),6),6)","v":0.14982400000000001},0.796346,{"$f":"IF($B49=0,0,G49/POWER(1+CALCULADORA!$C$29,Flujos!$B49/365))","v":0.5678174313112786},"2028-06-18",47,{"$f":"+DIAS365($A$2,A49)","v":1430},9622604358.7163887,398980825.00075817,92459144.904974386,491439969.90573257]
["2028-07-18",{"$f":"IF(DIAS365(CALCULADORA!$C$27,A50)<0,0,DIAS365(CALCULADORA!$C$27,A50))","v":1262},{"$f":"+HLOOKUP(CALCULADORA!$C$9,Tablas!B:B,Flujos!J50+1,FALSE)","v":6.2131199999999999E-3},14.971481000000001,0.62131199999999998,{"$f":"ROUND(D49*ROUND(((1+CALCULADORA!$C$16)^(1/12)-1),6),6)","v":0.14385899999999999},0.76517099999999993,{"$f":"IF($B50=0,0,G50/POWER(1+CALCULADORA!$C$29,Flujos!$B50/365))","v":0.54111363533082546},"2028-07-18",48,{"$f":"+DIAS365($A$2,A50)","v":1460},9239181096.4873066,383423262.22908276,88778147.813517407,472201410.04260015]
["2028-08-18",{"$f":"IF(DIAS365(CALCULADORA!$C$27,A51)<0,0,DIAS365(CALCULADORA!$C$27,A51))","v":1293},{"$f":"+HLOOKUP(CALCULADORA!$C$9,Tablas!B:B,Flujos!J51+1,FALSE)","v":5.9794499999999999E-3},14.373536,0.59794499999999995,{"$f":"ROUND(D50*ROUND(((1+CALCULADORA!$C$16)^(1/12)-1),6),6)","v":0.138127},0.73607199999999995,{"$f":"IF($B51=0,0,G51/POWER(1+CALCULADORA!$C$29,Flujos!$B51/365))","v":0.51612405422921015},"2028-08-18",49,{"$f":"+DIAS365($A$2,A51)","v":1491},8870178047.2406006,369003049.24670517,85240684.796191886,454243734.04289705]
["2028-09-18",{"$f":"IF(DIAS365(CALCULADORA!$C$27,A52)<0,0,DIAS365(CALCULADORA!$C$27,A52))","v":1324},{"$f":"+HLOOKUP(CALCULADORA!$C$9,Tablas!B:B,Flujos!J52+1,FALSE)","v":5.7472399999999998E-3},13.798812,0.57472400000000001,{"$f":"ROUND(D51*ROUND(((1+CALCULADORA!$C$16)^(1/12)-1),6),6)","v":0.13261000000000001},0.70733400000000002,{"$f":"IF($B52=0,0,G52/POWER(1+CALCULADORA!$C$29,Flujos!$B52/365))","v":0.49177014930205476},"2028-09-18",50,{"$f":"+DIAS365($A$2,A52)","v":1522},8515505111.6440773,354672935.59652376,81836262.663841784,436509198.26036555]
["2028-10-18",{"$f":"IF(DIAS365(CALCULADORA!$C$27,A53)<0,0,DIAS365(CALCULADORA!$C$27,A53))","v":1354},{"$f":"+HLOOKUP(CALCULADORA!$C$9,Tablas!B:B,Flujos!J53+1,FALSE)","v":5.5213099999999998E-3},13.246681000000001,0.55213100000000004,{"$f":"ROUND(D52*ROUND(((1+CALCULADORA!$C$16)^(1/12)-1),6),6)","v":0.127308},0.67943900000000002,{"$f":"IF($B53=0,0,G53/POWER(1+CALCULADORA!$C$29,Flujos!$B53/365))","v":0.46850168702967604},"2028-10-18",51,{"$f":"+DIAS365($A$2,A53)","v":1552},8174774739.1455488,340730372.49852842,78564050.160028249,419294422.6585567]
["2028-11-18",{"$f":"IF(DIAS365(CALCULADORA!$C$27,A54)<0,0,DIAS365(CALCULADORA!$C$27,A54))","v":1385},{"$f":"+HLOOKUP(CALCULADORA!$C$9,Tablas!B:B,Flujos!J54+1,FALSE)","v":5.2972999999999996E-3},12.716951,0.52973000000000003,{"$f":"ROUND(D53*ROUND(((1+CALCULADORA!$C$16)^(1/12)-1),6),6)","v":0.122214},0.65194400000000008,{"$f":"IF($B54=0,0,G54/POWER(1+CALCULADORA!$C$29,Flujos!$B54/365))","v":0.44573301868308457},"2028-11-18",52,{"$f":"+DIAS365($A$2,A54)","v":1583},7847868442.9519911,326906296.19355816,75420471.743356839,402326767.93691498]
["2028-12-18",{"$f":"IF(DIAS365(CALCULADORA!$C$27,A55)<0,0,DIAS365(CALCULADORA!$C$27,A55))","v":1415},{"$f":"+HLOOKUP(CALCULADORA!$C$9,Tablas!B:B,Flujos!J55+1,FALSE)","v":5.0961599999999998E-3},12.207335,0.50961599999999996,{"$f":"ROUND(D54*ROUND(((1+CALCULADORA!$C$16)^(1/12)-1),6),6)","v":0.117327},0.62694299999999992,{"$f":"IF($B55=0,0,G55/POWER(1+CALCULADORA!$C$29,Flujos!$B55/365))","v":0.4251240061403273},"2028-12-18",53,{"$f":"+DIAS365($A$2,A55)","v":1613},7533374872.5652351,314493570.38675618,72404434.254675075,386898004.64143127]
["2029-01-18",{"$f":"IF(DIAS365(CALCULADORA!$C$27,A56)<0,0,DIAS365(CALCULADORA!$C$27,A56))","v":1446},{"$f":"+HLOOKUP(CALCULADORA!$C$9,Tablas!B:B,Flujos!J56+1,FALSE)","v":4.9004900000000004E-3},11.717286,0.49004900000000001,{"$f":"ROUND(D55*ROUND(((1+CALCULADORA!$C$16)^(1/12)-1),6),6)","v":0.112625},0.60267400000000004,{"$f":"IF($B56=0,0,G56/POWER(1+CALCULADORA!$C$29,Flujos!$B56/365))","v":0.40520412190253707},"2029-01-18",54,{"$f":"+DIAS365($A$2,A56)","v":1644},7230956464.0489025,302418408.51633286,69502916.574286863,371921325.09061974]
["2029-02-18",{"$f":"IF(DIAS365(CALCULADORA!$C$27,A57)<0,0,DIAS365(CALCULADORA!$C$27,A57))","v":1477},{"$f":"+HLOOKUP(CALCULADORA!$C$9,Tablas!B:B,Flujos!J57+1,FALSE)","v":4.7080000000000004E-3},11.246486000000001,0.4708,{"$f":"ROUND(D56*ROUND(((1+CALCULADORA!$C$16)^(1/12)-1),6),6)","v":0.10810400000000001},0.57890399999999997,{"$f":"IF($B57=0,0,G57/POWER(1+CALCULADORA!$C$29,Flujos!$B57/365))","v":0.38592398946051076},"2029-02-18",55,{"$f":"+DIAS365($A$2,A57)","v":1675},6940416973.6520452,290539490.39685726,66712804.337315172,357252294.73417246]
["2029-03-18",{"$f":"IF(DIAS365(CALCULADORA!$C$27,A58)<0,0,DIAS365(CALCULADORA!$C$27,A58))","v":1505},{"$f":"+HLOOKUP(CALCULADORA!$C$9,Tablas!B:B,Flujos!J58+1,FALSE)","v":4.5293699999999996E-3},10.793549000000001,0.45293699999999998,{"$f":"ROUND(D57*ROUND(((1+CALCULADORA!$C$16)^(1/12)-1),6),6)","v":0.10376000000000001},0.556697,{"$f":"IF($B58=0,0,G58/POWER(1+CALCULADORA!$C$29,Flujos!$B58/365))","v":0.36827787370873888},"2029-03-18",56,{"$f":"+DIAS365($A$2,A58)","v":1703},6660901074.8375139,279515898.81453127,64032286.998913765,343548185.81344503]
["2029-04-18",{"$f":"IF(DIAS365(CALCULADORA!$C$27,A59)<0,0,DIAS365(CALCULADORA!$C$27,A59))","v":1536},{"$f":"+HLOOKUP(CALCULADORA!$C$9,Tablas!B:B,Flujos!J59+1,FALSE)","v":4.35506E-3},10.358043,0.435506,{"$f":"ROUND(D58*ROUND(((1+CALCULADORA!$C$16)^(1/12)-1),6),6)","v":9.9581000000000003E-2},0.53508699999999998,{"$f":"IF($B59=0,0,G59/POWER(1+CALCULADORA!$C$29,Flujos!$B59/365))","v":0.35098210365487542},"2029-04-18",57,{"$f":"+DIAS365($A$2,A59)","v":1734},6392142172.321002,268758902.51651174,61453473.316450901,330212375.83296263]
["2029-05-18",{"$f":"IF(DIAS365(CALCULADORA!$C$27,A60)<0,0,DIAS365(CALCULADORA!$C$27,A60))","v":1566},{"$f":"+HLOOKUP(CALCULADORA!$C$9,Tablas!B:B,Flujos!J60+1,FALSE)","v":4.1869200000000002E-3},9.9393510000000003,0.41869200000000001,{"$f":"ROUND(D59*ROUND(((1+CALCULADORA!$C$16)^(1/12)-1),6),6)","v":9.5562999999999995E-2},0.51425500000000002,{"$f":"IF($B60=0,0,G60/POWER(1+CALCULADORA!$C$29,Flujos!$B60/365))","v":0.33455086243736692},"2029-05-18",58,{"$f":"+DIAS365($A$2,A60)","v":1764},6133759503.8561745,258382668.46482787,58973903.681833565,317356572.1466614]
["2029-06-18",{"$f":"IF(DIAS365(CALCULADORA!$C$27,A61)<0,0,DIAS365(CALCULADORA!$C$27,A61))","v":1597},{"$f":"+HLOOKUP(CALCULADORA!$C$9,Tablas!B:B,Flujos!J61+1,FALSE)","v":4.0245300000000001E-3},9.5368980000000008,0.40245300000000001,{"$f":"ROUND(D60*ROUND(((1+CALCULADORA!$C$16)^(1/12)-1),6),6)","v":9.1700000000000004E-2},0.49415300000000001,{"$f":"IF($B61=0,0,G61/POWER(1+CALCULADORA!$C$29,Flujos!$B61/365))","v":0.31874904613655952},"2029-06-18",59,{"$f":"+DIAS365($A$2,A61)","v":1795},5885398226.1826687,248361277.67350551,56590065.182577066,304951342.85608256]
["2029-07-18",{"$f":"IF(DIAS365(CALCULADORA!$C$27,A62)<0,0,DIAS365(CALCULADORA!$C$27,A62))","v":1627},{"$f":"+HLOOKUP(CALCULADORA!$C$9,Tablas!B:B,Flujos!J62+1,FALSE)","v":3.8683699999999999E-3},9.1500610000000009,0.38683699999999999,{"$f":"ROUND(D61*ROUND(((1+CALCULADORA!$C$16)^(1/12)-1),6),6)","v":8.7986999999999996E-2},0.47482399999999997,{"$f":"IF($B62=0,0,G62/POWER(1+CALCULADORA!$C$29,Flujos!$B62/365))","v":0.30376880858118011},"2029-07-18",60,{"$f":"+DIAS365($A$2,A62)","v":1825},5646673874.3418674,238724351.84080091,54298684.034761302,293023035.87556219]
["2029-08-18",{"$f":"IF(DIAS365(CALCULADORA!$C$27,A63)<0,0,DIAS365(CALCULADORA!$C$27,A63))","v":1658},{"$f":"+HLOOKUP(CALCULADORA!$C$9,Tablas!B:B,Flujos!J63+1,FALSE)","v":3.7175400000000001E-3},8.7783069999999999,0.37175399999999997,{"$f":"ROUND(D62*ROUND(((1+CALCULADORA!$C$16)^(1/12)-1),6),6)","v":8.4418000000000007E-2},0.45617199999999997,{"$f":"IF($B63=0,0,G63/POWER(1+CALCULADORA!$C$29,Flujos!$B63/365))","v":0.28936297898948771},"2029-08-18",61,{"$f":"+DIAS365($A$2,A63)","v":1856},5417257524.0593834,229416350.28248358,52096213.164678067,281512563.44716167]
["2029-09-18",{"$f":"IF(DIAS365(CALCULADORA!$C$27,A64)<0,0,DIAS365(CALCULADORA!$C$27,A64))","v":1689},{"$f":"+HLOOKUP(CALCULADORA!$C$9,Tablas!B:B,Flujos!J64+1,FALSE)","v":3.5748099999999999E-3},8.4208259999999999,0.35748099999999999,{"$f":"ROUND(D63*ROUND(((1+CALCULADORA!$C$16)^(1/12)-1),6),6)","v":8.0989000000000005E-2},0.43847000000000003,{"$f":"IF($B64=0,0,G64/POWER(1+CALCULADORA!$C$29,Flujos!$B64/365))","v":0.27577700661562959},"2029-09-18",62,{"$f":"+DIAS365($A$2,A64)","v":1887},5196649309.1771431,220608214.88224071,49979617.91697187,270587832.79921257]
["2029-10-18",{"$f":"IF(DIAS365(CALCULADORA!$C$27,A65)<0,0,DIAS365(CALCULADORA!$C$27,A65))","v":1719},{"$f":"+HLOOKUP(CALCULADORA!$C$9,Tablas!B:B,Flujos!J65+1,FALSE)","v":3.4368100000000002E-3},8.0771449999999998,0.34368100000000001,{"$f":"ROUND(D64*ROUND(((1+CALCULADORA!$C$16)^(1/12)-1),6),6)","v":7.7690999999999996E-2},0.42137200000000002,{"$f":"IF($B65=0,0,G65/POWER(1+CALCULADORA!$C$29,Flujos!$B65/365))","v":0.26284934582395625},"2029-10-18",63,{"$f":"+DIAS365($A$2,A65)","v":1917},4984557332.5435781,212091976.6335648,47944286.526468322,260036263.16003311]
["2029-11-18",{"$f":"IF(DIAS365(CALCULADORA!$C$27,A66)<0,0,DIAS365(CALCULADORA!$C$27,A66))","v":1750},{"$f":"+HLOOKUP(CALCULADORA!$C$9,Tablas!B:B,Flujos!J66+1,FALSE)","v":3.2982699999999998E-3},7.7473179999999999,0.32982699999999998,{"$f":"ROUND(D65*ROUND(((1+CALCULADORA!$C$16)^(1/12)-1),6),6)","v":7.4520000000000003E-2},0.40434700000000001,{"$f":"IF($B66=0,0,G66/POWER(1+CALCULADORA!$C$29,Flujos!$B66/365))","v":0.2500917001173083},"2029-11-18",64,{"$f":"+DIAS365($A$2,A66)","v":1948},4781014918.5692272,203542413.97435054,45987525.950047053,249529939.92439759]
[{"$f":"EDATE(A66,1)","v":"2029-12-18"},{"$f":"IF(DIAS365(CALCULADORA!$C$27,A67)<0,0,DIAS365(CALCULADORA!$C$27,A67))","v":1780},{"$f":"+HLOOKUP(CALCULADORA!$C$9,Tablas!B:B,Flujos!J67+1,FALSE)","v":3.1661300000000001E-3},7.4307049999999997,0.31661299999999998,{"$f":"ROUND(D66*ROUND(((1+CALCULADORA!$C$16)^(1/12)-1),6),6)","v":7.1476999999999999E-2},0.38808999999999999,{"$f":"IF($B67=0,0,G67/POWER(1+CALCULADORA!$C$29,Flujos!$B67/365))","v":0.2380677481317037},{"$f":"+A67","v":"2029-12-18"},65,{"$f":"+DIAS365($A$2,A67)","v":1978},4585627111.2773409,195387807.29188651,44109643.638719693,239497450.93060619]
["2030-01-18",{"$f":"IF(DIAS365(CALCULADORA!$C$27,A68)<0,0,DIAS365(CALCULADORA!$C$27,A68))","v":1811},{"$f":"+HLOOKUP(CALCULADORA!$C$9,Tablas!B:B,Flujos!J68+1,FALSE)","v":3.04404E-3},{"$f":"+ROUND(D67-E68,6)","v":7.1263009999999998},{"$f":"ROUND(C68*$D$2,6)","v":0.30440400000000001},{"$f":"ROUND(D67*ROUND(((1+CALCULADORA!$C$16)^(1/12)-1),6),6)","v":6.8556000000000006E-2},{"$f":"F68+E68","v":0.37296000000000001},{"$f":"IF($B68=0,0,G68/POWER(1+CALCULADORA!$C$29,Flujos!$B68/365))","v":0.22684760294436734},"2030-01-18",66,{"$f":"+DIAS365($A$2,A68)","v":2009},{"$f":"+L67-M68","v":4397773706.3606777},{"$f":"+$L$2*C68","v":187853404.91666299},{"$f":"+L67*$F$3%","v":42306995.728644744},{"$f":"+N68+M68","v":230160400.64530772}]
["2030-02-18",{"$f":"IF(DIAS365(CALCULADORA!$C$27,A69)<0,0,DIAS365(CALCULADORA!$C$27,A69))","v":1842},{"$f":"+HLOOKUP(CALCULADORA!$C$9,Tablas!B:B,Flujos!J69+1,FALSE)","v":2.9268599999999999E-3},6.833615,0.292686,{"$f":"ROUND(D68*ROUND(((1+CALCULADORA!$C$16)^(1/12)-1),6),6)","v":6.5747E-2},0.358433,{"$f":"IF($B69=0,0,G69/POWER(1+CALCULADORA!$C$29,Flujos!$B69/365))","v":0.21616419116393429},"2030-02-18",67,{"$f":"+DIAS365($A$2,A69)","v":2040},4217151698.5308251,180622007.82985249,40573860.214883611,221195868.04473609]
["2030-03-18",{"$f":"IF(DIAS365(CALCULADORA!$C$27,A70)<0,0,DIAS365(CALCULADORA!$C$27,A70))","v":1870},{"$f":"+HLOOKUP(CALCULADORA!$C$9,Tablas!B:B,Flujos!J70+1,FALSE)","v":2.8139900000000002E-3},6.5522159999999996,0.28139900000000001,{"$f":"ROUND(D69*ROUND(((1+CALCULADORA!$C$16)^(1/12)-1),6),6)","v":6.3047000000000006E-2},0.34444600000000003,{"$f":"IF($B70=0,0,G70/POWER(1+CALCULADORA!$C$29,Flujos!$B70/365))","v":0.20613817727378361},"2030-03-18",68,{"$f":"+DIAS365($A$2,A70)","v":2068},4043495109.6221905,173656588.90863475,38907441.570645392,212564030.47928014]
["2030-04-18",{"$f":"IF(DIAS365(CALCULADORA!$C$27,A71)<0,0,DIAS365(CALCULADORA!$C$27,A71))","v":1901},{"$f":"+HLOOKUP(CALCULADORA!$C$9,Tablas!B:B,Flujos!J71+1,FALSE)","v":2.7060500000000002E-3},6.2816109999999998,0.27060499999999998,{"$f":"ROUND(D70*ROUND(((1+CALCULADORA!$C$16)^(1/12)-1),6),6)","v":6.0450999999999998E-2},0.33105599999999996,{"$f":"IF($B71=0,0,G71/POWER(1+CALCULADORA!$C$29,Flujos!$B71/365))","v":0.19644572212496481},"2030-04-18",69,{"$f":"+DIAS365($A$2,A71)","v":2099},3876499700.108933,166995409.51325735,37305285.881374329,204300695.39463168]
["2030-05-18",{"$f":"IF(DIAS365(CALCULADORA!$C$27,A72)<0,0,DIAS365(CALCULADORA!$C$27,A72))","v":1931},{"$f":"+HLOOKUP(CALCULADORA!$C$9,Tablas!B:B,Flujos!J72+1,FALSE)","v":2.6009800000000001E-3},6.0215129999999997,0.260098,{"$f":"ROUND(D71*ROUND(((1+CALCULADORA!$C$16)^(1/12)-1),6),6)","v":5.7953999999999999E-2},0.318052,{"$f":"IF($B72=0,0,G72/POWER(1+CALCULADORA!$C$29,Flujos!$B72/365))","v":0.18718123202719245},"2030-05-18",70,{"$f":"+DIAS365($A$2,A72)","v":2129},3715988356.920229,160511343.18870386,35764586.233205013,196275929.42190889]
["2030-06-18",{"$f":"IF(DIAS365(CALCULADORA!$C$27,A73)<0,0,DIAS365(CALCULADORA!$C$27,A73))","v":1962},{"$f":"+HLOOKUP(CALCULADORA!$C$9,Tablas!B:B,Flujos!J73+1,FALSE)","v":2.5007599999999999E-3},5.7714369999999997,0.25007600000000002,{"$f":"ROUND(D72*ROUND(((1+CALCULADORA!$C$16)^(1/12)-1),6),6)","v":5.5553999999999999E-2},0.30563000000000001,{"$f":"IF($B73=0,0,G73/POWER(1+CALCULADORA!$C$29,Flujos!$B73/365))","v":0.17834624860988832},"2030-06-18",71,{"$f":"+DIAS365($A$2,A73)","v":2160},3561661777.4799476,154326579.44028136,34283708.580946028,188610288.02122739]
["2030-07-18",{"$f":"IF(DIAS365(CALCULADORA!$C$27,A74)<0,0,DIAS365(CALCULADORA!$C$27,A74))","v":1992},{"$f":"+HLOOKUP(CALCULADORA!$C$9,Tablas!B:B,Flujos!J74+1,FALSE)","v":2.39931E-3},5.5315060000000003,0.23993100000000001,{"$f":"ROUND(D73*ROUND(((1+CALCULADORA!$C$16)^(1/12)-1),6),6)","v":5.3247000000000003E-2},0.29317799999999999,{"$f":"IF($B74=0,0,G74/POWER(1+CALCULADORA!$C$29,Flujos!$B74/365))","v":0.16967678753887544},"2030-07-18",72,{"$f":"+DIAS365($A$2,A74)","v":2190},3413595867.3898702,148065910.09007722,32859891.559029996,180925801.64910722]
["2030-08-18",{"$f":"IF(DIAS365(CALCULADORA!$C$27,A75)<0,0,DIAS365(CALCULADORA!$C$27,A75))","v":2023},{"$f":"+HLOOKUP(CALCULADORA!$C$9,Tablas!B:B,Flujos!J75+1,FALSE)","v":2.3048600000000002E-3},5.3010200000000003,0.230486,{"$f":"ROUND(D74*ROUND(((1+CALCULADORA!$C$16)^(1/12)-1),6),6)","v":5.1034000000000003E-2},0.28151999999999999,{"$f":"IF($B75=0,0,G75/POWER(1+CALCULADORA!$C$29,Flujos!$B75/365))","v":0.16154894857737118},"2030-08-18",73,{"$f":"+DIAS365($A$2,A75)","v":2221},3271358643.5504265,142237223.83944359,31493835.472538941,173731059.31198254]
["2030-09-18",{"$f":"IF(DIAS365(CALCULADORA!$C$27,A76)<0,0,DIAS365(CALCULADORA!$C$27,A76))","v":2054},{"$f":"+HLOOKUP(CALCULADORA!$C$9,Tablas!B:B,Flujos!J76+1,FALSE)","v":2.3993899999999999E-3},5.0610809999999997,0.23993900000000001,{"$f":"ROUND(D75*ROUND(((1+CALCULADORA!$C$16)^(1/12)-1),6),6)","v":4.8906999999999999E-2},0.28884599999999999,{"$f":"IF($B76=0,0,G76/POWER(1+CALCULADORA!$C$29,Flujos!$B76/365))","v":0.1643482433170779},"2030-09-18",74,{"$f":"+DIAS365($A$2,A76)","v":2252},3123287796.5106397,148070847.03978661,30181554.845396236,178252401.88518286]
["2030-10-18",{"$f":"IF(DIAS365(CALCULADORA!$C$27,A77)<0,0,DIAS365(CALCULADORA!$C$27,A77))","v":2084},{"$f":"+HLOOKUP(CALCULADORA!$C$9,Tablas!B:B,Flujos!J77+1,FALSE)","v":2.6425200000000002E-3},4.7968289999999998,0.26425199999999999,{"$f":"ROUND(D76*ROUND(((1+CALCULADORA!$C$16)^(1/12)-1),6),6)","v":4.6693999999999999E-2},0.310946,{"$f":"IF($B77=0,0,G77/POWER(1+CALCULADORA!$C$29,Flujos!$B77/365))","v":0.17547156162403432},"2030-10-18",75,{"$f":"+DIAS365($A$2,A77)","v":2282},2960212942.1853418,163074854.32529807,28815453.21060716,191890307.53590524]
["2030-11-18",{"$f":"IF(DIAS365(CALCULADORA!$C$27,A78)<0,0,DIAS365(CALCULADORA!$C$27,A78))","v":2115},{"$f":"+HLOOKUP(CALCULADORA!$C$9,Tablas!B:B,Flujos!J78+1,FALSE)","v":2.5426200000000002E-3},4.542567,0.25426199999999999,{"$f":"ROUND(D77*ROUND(((1+CALCULADORA!$C$16)^(1/12)-1),6),6)","v":4.4255999999999997E-2},0.29851800000000001,{"$f":"IF($B78=0,0,G78/POWER(1+CALCULADORA!$C$29,Flujos!$B78/365))","v":0.16703062903291158},"2030-11-18",76,{"$f":"+DIAS365($A$2,A78)","v":2313},2803303103.8096285,156909838.37571311,27310924.604601964,184220762.98031509]
["2030-12-18",{"$f":"IF(DIAS365(CALCULADORA!$C$27,A79)<0,0,DIAS365(CALCULADORA!$C$27,A79))","v":2145},{"$f":"+HLOOKUP(CALCULADORA!$C$9,Tablas!B:B,Flujos!J79+1,FALSE)","v":2.4473400000000001E-3},4.2978329999999998,0.24473400000000001,{"$f":"ROUND(D78*ROUND(((1+CALCULADORA!$C$16)^(1/12)-1),6),6)","v":4.1910000000000003E-2},0.28664400000000001,{"$f":"IF($B79=0,0,G79/POWER(1+CALCULADORA!$C$29,Flujos!$B79/365))","v":0.15907118158443598},"2030-12-18",77,{"$f":"+DIAS365($A$2,A79)","v":2343},2652273172.5377836,151029931.27184466,25863274.435747631,176893205.70759228]
["2031-01-18",{"$f":"IF(DIAS365(CALCULADORA!$C$27,A80)<0,0,DIAS365(CALCULADORA!$C$27,A80))","v":2176},{"$f":"+HLOOKUP(CALCULADORA!$C$9,Tablas!B:B,Flujos!J80+1,FALSE)","v":2.3536400000000002E-3},4.0624690000000001,0.23536399999999999,{"$f":"ROUND(D79*ROUND(((1+CALCULADORA!$C$16)^(1/12)-1),6),6)","v":3.9652E-2},0.27501599999999998,{"$f":"IF($B80=0,0,G80/POWER(1+CALCULADORA!$C$29,Flujos!$B80/365))","v":0.15132491520738053},"2031-01-18",78,{"$f":"+DIAS365($A$2,A80)","v":2374},2507025643.6130471,145247528.92473644,24469872.28983359,169717401.21457005]
["2031-02-18",{"$f":"IF(DIAS365(CALCULADORA!$C$27,A81)<0,0,DIAS365(CALCULADORA!$C$27,A81))","v":2207},{"$f":"+HLOOKUP(CALCULADORA!$C$9,Tablas!B:B,Flujos!J81+1,FALSE)","v":2.2644499999999999E-3},3.8360240000000001,0.22644500000000001,{"$f":"ROUND(D80*ROUND(((1+CALCULADORA!$C$16)^(1/12)-1),6),6)","v":3.7479999999999999E-2},0.26392500000000002,{"$f":"IF($B81=0,0,G81/POWER(1+CALCULADORA!$C$29,Flujos!$B81/365))","v":0.14399149306624973},"2031-02-18",79,{"$f":"+DIAS365($A$2,A81)","v":2405},2367282196.495553,139743447.11749434,23129818.587973971,162873265.70546833]
["2031-03-18",{"$f":"IF(DIAS365(CALCULADORA!$C$27,A82)<0,0,DIAS365(CALCULADORA!$C$27,A82))","v":2235},{"$f":"+HLOOKUP(CALCULADORA!$C$9,Tablas!B:B,Flujos!J82+1,FALSE)","v":2.1810200000000001E-3},3.6179220000000001,0.21810199999999999,{"$f":"ROUND(D81*ROUND(((1+CALCULADORA!$C$16)^(1/12)-1),6),6)","v":3.5390999999999999E-2},0.25349299999999997,{"$f":"IF($B82=0,0,G82/POWER(1+CALCULADORA!$C$29,Flujos!$B82/365))","v":0.13724097563822363},"2031-03-18",80,{"$f":"+DIAS365($A$2,A82)","v":2433},2232687370.8062258,134594825.68932745,21840545.54486797,156435371.23419541]
["2031-04-18",{"$f":"IF(DIAS365(CALCULADORA!$C$27,A83)<0,0,DIAS365(CALCULADORA!$C$27,A83))","v":2266},{"$f":"+HLOOKUP(CALCULADORA!$C$9,Tablas!B:B,Flujos!J83+1,FALSE)","v":2.09895E-3},3.4080270000000001,0.209895,{"$f":"ROUND(D82*ROUND(((1+CALCULADORA!$C$16)^(1/12)-1),6),6)","v":3.3378999999999999E-2},0.24327399999999999,{"$f":"IF($B83=0,0,G83/POWER(1+CALCULADORA!$C$29,Flujos!$B83/365))","v":0.13059223310662799},"2031-04-18",81,{"$f":"+DIAS365($A$2,A83)","v":2464},2103157238.4000058,129530132.40621996,20598773.68305824,150128906.08927819]
["2031-05-18",{"$f":"IF(DIAS365(CALCULADORA!$C$27,A84)<0,0,DIAS365(CALCULADORA!$C$27,A84))","v":2296},{"$f":"+HLOOKUP(CALCULADORA!$C$9,Tablas!B:B,Flujos!J84+1,FALSE)","v":2.0181999999999999E-3},3.206207,0.20182,{"$f":"ROUND(D83*ROUND(((1+CALCULADORA!$C$16)^(1/12)-1),6),6)","v":3.1441999999999998E-2},0.233262,{"$f":"IF($B84=0,0,G84/POWER(1+CALCULADORA!$C$29,Flujos!$B84/365))","v":0.12419059428788927},"2031-05-18",82,{"$f":"+DIAS365($A$2,A84)","v":2494},1978610339.6066887,124546898.79331718,19403728.681478452,143950627.47479564]
["2031-06-18",{"$f":"IF(DIAS365(CALCULADORA!$C$27,A85)<0,0,DIAS365(CALCULADORA!$C$27,A85))","v":2327},{"$f":"+HLOOKUP(CALCULADORA!$C$9,Tablas!B:B,Flujos!J85+1,FALSE)","v":1.94316E-3},3.0118909999999999,0.19431599999999999,{"$f":"ROUND(D84*ROUND(((1+CALCULADORA!$C$16)^(1/12)-1),6),6)","v":2.9579999999999999E-2},0.22389599999999998,{"$f":"IF($B85=0,0,G85/POWER(1+CALCULADORA!$C$29,Flujos!$B85/365))","v":0.11819384792590845},"2031-06-18",83,{"$f":"+DIAS365($A$2,A85)","v":2525},1858694299.6407676,119916039.96592122,18254658.99321131,138170698.95913252]
["2031-07-18",{"$f":"IF(DIAS365(CALCULADORA!$C$27,A86)<0,0,DIAS365(CALCULADORA!$C$27,A86))","v":2357},{"$f":"+HLOOKUP(CALCULADORA!$C$9,Tablas!B:B,Flujos!J86+1,FALSE)","v":1.52815E-3},2.859076,0.15281500000000001,{"$f":"ROUND(D85*ROUND(((1+CALCULADORA!$C$16)^(1/12)-1),6),6)","v":2.7788E-2},0.18060300000000001,{"$f":"IF($B86=0,0,G86/POWER(1+CALCULADORA!$C$29,Flujos!$B86/365))","v":9.4557624927006603E-2},"2031-07-18",84,{"$f":"+DIAS365($A$2,A86)","v":2555},1764389303.410955,94304996.229812533,17148313.608485721,111453309.83829826]
["2031-08-18",{"$f":"IF(DIAS365(CALCULADORA!$C$27,A87)<0,0,DIAS365(CALCULADORA!$C$27,A87))","v":2388},{"$f":"+HLOOKUP(CALCULADORA!$C$9,Tablas!B:B,Flujos!J87+1,FALSE)","v":1.7937199999999999E-3},2.6797040000000001,0.179372,{"$f":"ROUND(D86*ROUND(((1+CALCULADORA!$C$16)^(1/12)-1),6),6)","v":2.6377999999999999E-2},0.20574999999999999,{"$f":"IF($B87=0,0,G87/POWER(1+CALCULADORA!$C$29,Flujos!$B87/365))","v":0.1068108240351382},"2031-08-18",85,{"$f":"+DIAS365($A$2,A87)","v":2586},1653695485.5021505,110693817.90880433,16278255.71326947,126972073.6220738]
["2031-09-18",{"$f":"IF(DIAS365(CALCULADORA!$C$27,A88)<0,0,DIAS365(CALCULADORA!$C$27,A88))","v":2419},{"$f":"+HLOOKUP(CALCULADORA!$C$9,Tablas!B:B,Flujos!J88+1,FALSE)","v":1.7254099999999999E-3},2.5071629999999998,0.172541,{"$f":"ROUND(D87*ROUND(((1+CALCULADORA!$C$16)^(1/12)-1),6),6)","v":2.4722999999999998E-2},0.19726399999999999,{"$f":"IF($B88=0,0,G88/POWER(1+CALCULADORA!$C$29,Flujos!$B88/365))","v":0.10153764434599227},"2031-09-18",86,{"$f":"+DIAS365($A$2,A88)","v":2617},1547217205.5264409,106478279.97570974,15256994.549242841,121735274.52495258]
["2031-10-18",{"$f":"IF(DIAS365(CALCULADORA!$C$27,A89)<0,0,DIAS365(CALCULADORA!$C$27,A89))","v":2449},{"$f":"+HLOOKUP(CALCULADORA!$C$9,Tablas!B:B,Flujos!J89+1,FALSE)","v":1.65945E-3},2.341218,0.16594500000000001,{"$f":"ROUND(D88*ROUND(((1+CALCULADORA!$C$16)^(1/12)-1),6),6)","v":2.3130999999999999E-2},0.18907600000000002,{"$f":"IF($B89=0,0,G89/POWER(1+CALCULADORA!$C$29,Flujos!$B89/365))","v":9.6524755999781109E-2},"2031-10-18",87,{"$f":"+DIAS365($A$2,A89)","v":2647},1444809440.5861127,102407764.94032812,14274625.938186944,116682390.87851506]
["2031-11-18",{"$f":"IF(DIAS365(CALCULADORA!$C$27,A90)<0,0,DIAS365(CALCULADORA!$C$27,A90))","v":2480},{"$f":"+HLOOKUP(CALCULADORA!$C$9,Tablas!B:B,Flujos!J90+1,FALSE)","v":1.5964099999999999E-3},2.1815769999999999,0.15964100000000001,{"$f":"ROUND(D89*ROUND(((1+CALCULADORA!$C$16)^(1/12)-1),6),6)","v":2.1600000000000001E-2},0.18124100000000001,{"$f":"IF($B90=0,0,G90/POWER(1+CALCULADORA!$C$29,Flujos!$B90/365))","v":9.1740812655207671E-2},"2031-11-18",88,{"$f":"+DIAS365($A$2,A90)","v":2678},1346291992.0167739,98517448.569338754,13329811.898847476,111847260.46818623]
["2031-12-18",{"$f":"IF(DIAS365(CALCULADORA!$C$27,A91)<0,0,DIAS365(CALCULADORA!$C$27,A91))","v":2510},{"$f":"+HLOOKUP(CALCULADORA!$C$9,Tablas!B:B,Flujos!J91+1,FALSE)","v":1.5360300000000001E-3},2.0279739999999999,0.15360299999999999,{"$f":"ROUND(D90*ROUND(((1+CALCULADORA!$C$16)^(1/12)-1),6),6)","v":2.0126999999999999E-2},0.17373,{"$f":"IF($B91=0,0,G91/POWER(1+CALCULADORA!$C$29,Flujos!$B91/365))","v":8.7217575697051797E-2},"2031-12-18",89,{"$f":"+DIAS365($A$2,A91)","v":2708},1251500706.2405877,94791285.776186213,12420889.918346755,107212175.69453296]
["2032-01-18",{"$f":"IF(DIAS365(CALCULADORA!$C$27,A92)<0,0,DIAS365(CALCULADORA!$C$27,A92))","v":2541},{"$f":"+HLOOKUP(CALCULADORA!$C$9,Tablas!B:B,Flujos!J92+1,FALSE)","v":1.4741699999999999E-3},1.880557,0.14741699999999999,{"$f":"ROUND(D91*ROUND(((1+CALCULADORA!$C$16)^(1/12)-1),6),6)","v":1.8710000000000001E-2},0.166127,{"$f":"IF($B92=0,0,G92/POWER(1+CALCULADORA!$C$29,Flujos!$B92/365))","v":8.2693855394353213E-2},"2032-01-18",90,{"$f":"+DIAS365($A$2,A92)","v":2739},1160526916.8271775,90973789.413410157,11546345.515775662,102520134.92918582]
["2032-02-18",{"$f":"IF(DIAS365(CALCULADORA!$C$27,A93)<0,0,DIAS365(CALCULADORA!$C$27,A93))","v":2572},{"$f":"+HLOOKUP(CALCULADORA!$C$9,Tablas!B:B,Flujos!J93+1,FALSE)","v":1.8805570000000001E-2},0,1.880557,{"$f":"ROUND(D92*ROUND(((1+CALCULADORA!$C$16)^(1/12)-1),6),6)","v":1.7350000000000001E-2},1.897907,{"$f":"IF($B93=0,0,G93/POWER(1+CALCULADORA!$C$29,Flujos!$B93/365))","v":0.93672426872894554},"2032-02-18",91,{"$f":"+DIAS365($A$2,A93)","v":2770},-1.5974044799804688E-5,1160526916.8271935,10707021.33464754,1171233938.1618412]
["2032-03-18",{"$f":"IF(DIAS365(CALCULADORA!$C$27,A94)<0,0,DIAS365(CALCULADORA!$C$27,A94))","v":2600},{"$f":"+HLOOKUP(CALCULADORA!$C$9,Tablas!B:B,Flujos!J94+1,FALSE)","v":0},0,0,{"$f":"ROUND(D93*ROUND(((1+CALCULADORA!$C$16)^(1/12)-1),6),6)","v":0},0,{"$f":"IF($B94=0,0,G94/POWER(1+CALCULADORA!$C$29,Flujos!$B94/365))","v":0},"2032-03-18",92,{"$f":"+DIAS365($A$2,A94)","v":2798},-1.5974044799804688E-5,0,-1.4737653732299804E-7,-1.4737653732299804E-7]
["2032-04-18",{"$f":"IF(DIAS365(CALCULADORA!$C$27,A95)<0,0,DIAS365(CALCULADORA!$C$27,A95))","v":2631},{"$f":"+HLOOKUP(CALCULADORA!$C$9,Tablas!B:B,Flujos!J95+1,FALSE)","v":0},0,0,{"$f":"ROUND(D94*ROUND(((1+CALCULADORA!$C$16)^(1/12)-1),6),6)","v":0},0,{"$f":"IF($B95=0,0,G95/POWER(1+CALCULADORA!$C$29,Flujos!$B95/365))","v":0},"2032-04-18",93,{"$f":"+DIAS365($A$2,A95)","v":2829},-1.5974044799804688E-5,0,-1.4737653732299804E-7,-1.4737653732299804E-7]
["2032-05-18",{"$f":"IF(DIAS365(CALCULADORA!$C$27,A96)<0,0,DIAS365(CALCULADORA!$C$27,A96))","v":2661},{"$f":"+HLOOKUP(CALCULADORA!$C$9,Tablas!B:B,Flujos!J96+1,FALSE)","v":0},0,0,{"$f":"ROUND(D95*ROUND(((1+CALCULADORA!$C$16)^(1/12)-1),6),6)","v":0},0,{"$f":"IF($B96=0,0,G96/POWER(1+CALCULADORA!$C$29,Flujos!$B96/365))","v":0},"2032-05-18",94,{"$f":"+DIAS365($A$2,A96)","v":2859},-1.5974044799804688E-5,0,-1.4737653732299804E-7,-1.4737653732299804E-7]
["2032-06-18",{"$f":"IF(DIAS365(CALCULADORA!$C$27,A97)<0,0,DIAS365(CALCULADORA!$C$27,A97))","v":2692},{"$f":"+HLOOKUP(CALCULADORA!$C$9,Tablas!B:B,Flujos!J97+1,FALSE)","v":0},0,0,{"$f":"ROUND(D96*ROUND(((1+CALCULADORA!$C$16)^(1/12)-1),6),6)","v":0},0,{"$f":"IF($B97=0,0,G97/POWER(1+CALCULADORA!$C$29,Flujos!$B97/365))","v":0},"2032-06-18",95,{"$f":"+DIAS365($A$2,A97)","v":2890},-1.5974044799804688E-5,0,-1.4737653732299804E-7,-1.4737653732299804E-7]
["2032-07-18",{"$f":"IF(DIAS365(CALCULADORA!$C$27,A98)<0,0,DIAS365(CALCULADORA!$C$27,A98))","v":2722},{"$f":"+HLOOKUP(CALCULADORA!$C$9,Tablas!B:B,Flujos!J98+1,FALSE)","v":0},0,0,{"$f":"ROUND(D97*ROUND(((1+CALCULADORA!$C$16)^(1/12)-1),6),6)","v":0},0,{"$f":"IF($B98=0,0,G98/POWER(1+CALCULADORA!$C$29,Flujos!$B98/365))","v":0},"2032-07-18",96,{"$f":"+DIAS365($A$2,A98)","v":2920},-1.5974044799804688E-5,0,-1.4737653732299804E-7,-1.4737653732299804E-7]
[{"$f":"EDATE(A98,1)","v":"2032-08-18"},{"$f":"IF(DIAS365(CALCULADORA!$C$27,A99)<0,0,DIAS365(CALCULADORA!$C$27,A99))","v":2753},{"$f":"+HLOOKUP(CALCULADORA!$C$9,Tablas!B:B,Flujos!J99+1,FALSE)","v":0},0,0,{"$f":"ROUND(D98*ROUND(((1+CALCULADORA!$C$16)^(1/12)-1),6),6)","v":0},0,{"$f":"IF($B99=0,0,G99/POWER(1+CALCULADORA!$C$29,Flujos!$B99/365))","v":0},"2032-08-18",97,{"$f":"+DIAS365($A$2,A99)","v":2951},-1.5974044799804688E-5,0,-1.4737653732299804E-7,-1.4737653732299804E-7]
["2032-09-18",{"$f":"IF(DIAS365(CALCULADORA!$C$27,A100)<0,0,DIAS365(CALCULADORA!$C$27,A100))","v":2784},{"$f":"+HLOOKUP(CALCULADORA!$C$9,Tablas!B:B,Flujos!J100+1,FALSE)","v":0},0,0,{"$f":"ROUND(D99*ROUND(((1+CALCULADORA!$C$16)^(1/12)-1),6),6)","v":0},0,{"$f":"IF($B100=0,0,G100/POWER(1+CALCULADORA!$C$29,Flujos!$B100/365))","v":0},"2032-09-18",98,{"$f":"+DIAS365($A$2,A100)","v":2982},-1.5974044799804688E-5,0,-1.4737653732299804E-7,-1.4737653732299804E-7]
["2032-10-18",{"$f":"IF(DIAS365(CALCULADORA!$C$27,A101)<0,0,DIAS365(CALCULADORA!$C$27,A101))","v":2814},{"$f":"+HLOOKUP(CALCULADORA!$C$9,Tablas!B:B,Flujos!J101+1,FALSE)","v":0},0,0,{"$f":"ROUND(D100*ROUND(((1+CALCULADORA!$C$16)^(1/12)-1),6),6)","v":0},0,{"$f":"IF($B101=0,0,G101/POWER(1+CALCULADORA!$C$29,Flujos!$B101/365))","v":0},"2032-10-18",99,{"$f":"+DIAS365($A$2,A101)","v":3012},-1.5974044799804688E-5,0,-1.4737653732299804E-7,-1.4737653732299804E-7]
["2032-11-18",{"$f":"IF(DIAS365(CALCULADORA!$C$27,A102)<0,0,DIAS365(CALCULADORA!$C$27,A102))","v":2845},{"$f":"+HLOOKUP(CALCULADORA!$C$9,Tablas!B:B,Flujos!J102+1,FALSE)","v":0},0,0,{"$f":"ROUND(D101*ROUND(((1+CALCULADORA!$C$16)^(1/12)-1),6),6)","v":0},0,{"$f":"IF($B102=0,0,G102/POWER(1+CALCULADORA!$C$29,Flujos!$B102/365))","v":0},"2032-11-18",100,{"$f":"+DIAS365($A$2,A102)","v":3043},-1.5974044799804688E-5,0,-1.4737653732299804E-7,-1.4737653732299804E-7]
["2032-12-18",{"$f":"IF(DIAS365(CALCULADORA!$C$27,A103)<0,0,DIAS365(CALCULADORA!$C$27,A103))","v":2875},{"$f":"+HLOOKUP(CALCULADORA!$C$9,Tablas!B:B,Flujos!J103+1,FALSE)","v":0},0,0,{"$f":"ROUND(D102*ROUND(((1+CALCULADORA!$C$16)^(1/12)-1),6),6)","v":0},0,{"$f":"IF($B103=0,0,G103/POWER(1+CALCULADORA!$C$29,Flujos!$B103/365))","v":0},"2032-12-18",101,{"$f":"+DIAS365($A$2,A103)","v":3073},-1.5974044799804688E-5,0,-1.4737653732299804E-7,-1.4737653732299804E-7]
["2033-01-18",{"$f":"IF(DIAS365(CALCULADORA!$C$27,A104)<0,0,DIAS365(CALCULADORA!$C$27,A104))","v":2906},{"$f":"+HLOOKUP(CALCULADORA!$C$9,Tablas!B:B,Flujos!J104+1,FALSE)","v":0},0,0,{"$f":"ROUND(D103*ROUND(((1+CALCULADORA!$C$16)^(1/12)-1),6),6)","v":0},0,{"$f":"IF($B104=0,0,G104/POWER(1+CALCULADORA!$C$29,Flujos!$B104/365))","v":0},"2033-01-18",102,{"$f":"+DIAS365($A$2,A104)","v":3104},-1.5974044799804688E-5,0,-1.4737653732299804E-7,-1.4737653732299804E-7]
["2033-02-18",{"$f":"IF(DIAS365(CALCULADORA!$C$27,A105)<0,0,DIAS365(CALCULADORA!$C$27,A105))","v":2937},{"$f":"+HLOOKUP(CALCULADORA!$C$9,Tablas!B:B,Flujos!J105+1,FALSE)","v":0},0,0,{"$f":"ROUND(D104*ROUND(((1+CALCULADORA!$C$16)^(1/12)-1),6),6)","v":0},0,{"$f":"IF($B105=0,0,G105/POWER(1+CALCULADORA!$C$29,Flujos!$B105/365))","v":0},"2033-02-18",103,{"$f":"+DIAS365($A$2,A105)","v":3135},-1.5974044799804688E-5,0,-1.4737653732299804E-7,-1.4737653732299804E-7]
["2033-03-18",{"$f":"IF(DIAS365(CALCULADORA!$C$27,A106)<0,0,DIAS365(CALCULADORA!$C$27,A106))","v":2965},{"$f":"+HLOOKUP(CALCULADORA!$C$9,Tablas!B:B,Flujos!J106+1,FALSE)","v":0},0,0,{"$f":"ROUND(D105*ROUND(((1+CALCULADORA!$C$16)^(1/12)-1),6),6)","v":0},0,{"$f":"IF($B106=0,0,G106/POWER(1+CALCULADORA!$C$29,Flujos!$B106/365))","v":0},"2033-03-18",104,{"$f":"+DIAS365($A$2,A106)","v":3163},-1.5974044799804688E-5,0,-1.4737653732299804E-7,-1.4737653732299804E-7]
["2033-04-18",{"$f":"IF(DIAS365(CALCULADORA!$C$27,A107)<0,0,DIAS365(CALCULADORA!$C$27,A107))","v":2996},{"$f":"+HLOOKUP(CALCULADORA!$C$9,Tablas!B:B,Flujos!J107+1,FALSE)","v":0},0,0,{"$f":"ROUND(D106*ROUND(((1+CALCULADORA!$C$16)^(1/12)-1),6),6)","v":0},0,{"$f":"IF($B107=0,0,G107/POWER(1+CALCULADORA!$C$29,Flujos!$B107/365))","v":0},"2033-04-18",105,{"$f":"+DIAS365($A$2,A107)","v":3194},-1.5974044799804688E-5,0,-1.4737653732299804E-7,-1.4737653732299804E-7]
["2033-05-18",{"$f":"IF(DIAS365(CALCULADORA!$C$27,A108)<0,0,DIAS365(CALCULADORA!$C$27,A108))","v":3026},{"$f":"+HLOOKUP(CALCULADORA!$C$9,Tablas!B:B,Flujos!J108+1,FALSE)","v":0},0,0,{"$f":"ROUND(D107*ROUND(((1+CALCULADORA!$C$16)^(1/12)-1),6),6)","v":0},0,{"$f":"IF($B108=0,0,G108/POWER(1+CALCULADORA!$C$29,Flujos!$B108/365))","v":0},"2033-05-18",106,{"$f":"+DIAS365($A$2,A108)","v":3224},-1.5974044799804688E-5,0,-1.4737653732299804E-7,-1.4737653732299804E-7]
["2033-06-18",{"$f":"IF(DIAS365(CALCULADORA!$C$27,A109)<0,0,DIAS365(CALCULADORA!$C$27,A109))","v":3057},{"$f":"+HLOOKUP(CALCULADORA!$C$9,Tablas!B:B,Flujos!J109+1,FALSE)","v":0},0,0,{"$f":"ROUND(D108*ROUND(((1+CALCULADORA!$C$16)^(1/12)-1),6),6)","v":0},0,{"$f":"IF($B109=0,0,G109/POWER(1+CALCULADORA!$C$29,Flujos!$B109/365))","v":0},"2033-06-18",107,{"$f":"+DIAS365($A$2,A109)","v":3255},-1.5974044799804688E-5,0,-1.4737653732299804E-7,-1.4737653732299804E-7]
["2033-07-18",{"$f":"IF(DIAS365(CALCULADORA!$C$27,A110)<0,0,DIAS365(CALCULADORA!$C$27,A110))","v":3087},{"$f":"+HLOOKUP(CALCULADORA!$C$9,Tablas!B:B,Flujos!J110+1,FALSE)","v":0},0,0,{"$f":"ROUND(D109*ROUND(((1+CALCULADORA!$C$16)^(1/12)-1),6),6)","v":0},0,{"$f":"IF($B110=0,0,G110/POWER(1+CALCULADORA!$C$29,Flujos!$B110/365))","v":0},"2033-07-18",108,{"$f":"+DIAS365($A$2,A110)","v":3285},-1.5974044799804688E-5,0,-1.4737653732299804E-7,-1.4737653732299804E-7]
["2033-08-18",{"$f":"IF(DIAS365(CALCULADORA!$C$27,A111)<0,0,DIAS365(CALCULADORA!$C$27,A111))","v":3118},{"$f":"+HLOOKUP(CALCULADORA!$C$9,Tablas!B:B,Flujos!J111+1,FALSE)","v":0},0,0,{"$f":"ROUND(D110*ROUND(((1+CALCULADORA!$C$16)^(1/12)-1),6),6)","v":0},0,{"$f":"IF($B111=0,0,G111/POWER(1+CALCULADORA!$C$29,Flujos!$B111/365))","v":0},"2033-08-18",109,{"$f":"+DIAS365($A$2,A111)","v":3316},-1.5974044799804688E-5,0,-1.4737653732299804E-7,-1.4737653732299804E-7]
["2033-09-18",{"$f":"IF(DIAS365(CALCULADORA!$C$27,A112)<0,0,DIAS365(CALCULADORA!$C$27,A112))","v":3149},{"$f":"+HLOOKUP(CALCULADORA!$C$9,Tablas!B:B,Flujos!J112+1,FALSE)","v":0},0,0,{"$f":"ROUND(D111*ROUND(((1+CALCULADORA!$C$16)^(1/12)-1),6),6)","v":0},0,{"$f":"IF($B112=0,0,G112/POWER(1+CALCULADORA!$C$29,Flujos!$B112/365))","v":0},"2033-09-18",110,{"$f":"+DIAS365($A$2,A112)","v":3347},-1.5974044799804688E-5,0,-1.4737653732299804E-7,-1.4737653732299804E-7]
["2033-10-18",{"$f":"IF(DIAS365(CALCULADORA!$C$27,A113)<0,0,DIAS365(CALCULADORA!$C$27,A113))","v":3179},{"$f":"+HLOOKUP(CALCULADORA!$C$9,Tablas!B:B,Flujos!J113+1,FALSE)","v":0},0,0,{"$f":"ROUND(D112*ROUND(((1+CALCULADORA!$C$16)^(1/12)-1),6),6)","v":0},0,{"$f":"IF($B113=0,0,G113/POWER(1+CALCULADORA!$C$29,Flujos!$B113/365))","v":0},"2033-10-18",111,{"$f":"+DIAS365($A$2,A113)","v":3377},-1.5974044799804688E-5,0,-1.4737653732299804E-7,-1.4737653732299804E-7]
["2033-11-18",{"$f":"IF(DIAS365(CALCULADORA!$C$27,A114)<0,0,DIAS365(CALCULADORA!$C$27,A114))","v":3210},{"$f":"+HLOOKUP(CALCULADORA!$C$9,Tablas!B:B,Flujos!J114+1,FALSE)","v":0},0,0,{"$f":"ROUND(D113*ROUND(((1+CALCULADORA!$C$16)^(1/12)-1),6),6)","v":0},0,{"$f":"IF($B114=0,0,G114/POWER(1+CALCULADORA!$C$29,Flujos!$B114/365))","v":0},"2033-11-18",112,{"$f":"+DIAS365($A$2,A114)","v":3408},-1.5974044799804688E-5,0,-1.4737653732299804E-7,-1.4737653732299804E-7]
["2033-12-18",{"$f":"IF(DIAS365(CALCULADORA!$C$27,A115)<0,0,DIAS365(CALCULADORA!$C$27,A115))","v":3240},{"$f":"+HLOOKUP(CALCULADORA!$C$9,Tablas!B:B,Flujos!J115+1,FALSE)","v":0},0,0,{"$f":"ROUND(D114*ROUND(((1+CALCULADORA!$C$16)^(1/12)-1),6),6)","v":0},0,{"$f":"IF($B115=0,0,G115/POWER(1+CALCULADORA!$C$29,Flujos!$B115/365))","v":0},"2033-12-18",113,{"$f":"+DIAS365($A$2,A115)","v":3438},-1.5974044799804688E-5,0,-1.4737653732299804E-7,-1.4737653732299804E-7]
["2034-01-18",{"$f":"IF(DIAS365(CALCULADORA!$C$27,A116)<0,0,DIAS365(CALCULADORA!$C$27,A116))","v":3271},{"$f":"+HLOOKUP(CALCULADORA!$C$9,Tablas!B:B,Flujos!J116+1,FALSE)","v":0},0,0,{"$f":"ROUND(D115*ROUND(((1+CALCULADORA!$C$16)^(1/12)-1),6),6)","v":0},0,{"$f":"IF($B116=0,0,G116/POWER(1+CALCULADORA!$C$29,Flujos!$B116/365))","v":0},"2034-01-18",114,{"$f":"+DIAS365($A$2,A116)","v":3469},-1.5974044799804688E-5,0,-1.4737653732299804E-7,-1.4737653732299804E-7]
["2034-02-18",{"$f":"IF(DIAS365(CALCULADORA!$C$27,A117)<0,0,DIAS365(CALCULADORA!$C$27,A117))","v":3302},{"$f":"+HLOOKUP(CALCULADORA!$C$9,Tablas!B:B,Flujos!J117+1,FALSE)","v":0},0,0,{"$f":"ROUND(D116*ROUND(((1+CALCULADORA!$C$16)^(1/12)-1),6),6)","v":0},0,{"$f":"IF($B117=0,0,G117/POWER(1+CALCULADORA!$C$29,Flujos!$B117/365))","v":0},"2034-02-18",115,{"$f":"+DIAS365($A$2,A117)","v":3500},-1.5974044799804688E-5,0,-1.4737653732299804E-7,-1.4737653732299804E-7]
["2034-03-18",{"$f":"IF(DIAS365(CALCULADORA!$C$27,A118)<0,0,DIAS365(CALCULADORA!$C$27,A118))","v":3330},{"$f":"+HLOOKUP(CALCULADORA!$C$9,Tablas!B:B,Flujos!J118+1,FALSE)","v":0},0,0,{"$f":"ROUND(D117*ROUND(((1+CALCULADORA!$C$16)^(1/12)-1),6),6)","v":0},0,{"$f":"IF($B118=0,0,G118/POWER(1+CALCULADORA!$C$29,Flujos!$B118/365))","v":0},"2034-03-18",116,{"$f":"+DIAS365($A$2,A118)","v":3528},-1.5974044799804688E-5,0,-1.4737653732299804E-7,-1.4737653732299804E-7]
["2034-04-18",{"$f":"IF(DIAS365(CALCULADORA!$C$27,A119)<0,0,DIAS365(CALCULADORA!$C$27,A119))","v":3361},{"$f":"+HLOOKUP(CALCULADORA!$C$9,Tablas!B:B,Flujos!J119+1,FALSE)","v":0},0,0,{"$f":"ROUND(D118*ROUND(((1+CALCULADORA!$C$16)^(1/12)-1),6),6)","v":0},0,{"$f":"IF($B119=0,0,G119/POWER(1+CALCULADORA!$C$29,Flujos!$B119/365))","v":0},{"$f":"+A119","v":"2034-04-18"},117,{"$f":"+DIAS365($A$2,A119)","v":3559},-1.5974044799804688E-5,0,-1.4737653732299804E-7,-1.4737653732299804E-7]
["2034-05-18",{"$f":"IF(DIAS365(CALCULADORA!$C$27,A120)<0,0,DIAS365(CALCULADORA!$C$27,A120))","v":3391},{"$f":"+HLOOKUP(CALCULADORA!$C$9,Tablas!B:B,Flujos!J120+1,FALSE)","v":0},0,0,{"$f":"ROUND(D119*ROUND(((1+CALCULADORA!$C$16)^(1/12)-1),6),6)","v":0},0,{"$f":"IF($B120=0,0,G120/POWER(1+CALCULADORA!$C$29,Flujos!$B120/365))","v":0},{"$f":"+A120","v":"2034-05-18"},118,{"$f":"+DIAS365($A$2,A120)","v":3589},-1.5974044799804688E-5,0,-1.4737653732299804E-7,-1.4737653732299804E-7]
["2034-06-18",{"$f":"IF(DIAS365(CALCULADORA!$C$27,A121)<0,0,DIAS365(CALCULADORA!$C$27,A121))","v":3422},{"$f":"+HLOOKUP(CALCULADORA!$C$9,Tablas!B:B,Flujos!J121+1,FALSE)","v":0},0,0,{"$f":"ROUND(D120*ROUND(((1+CALCULADORA!$C$16)^(1/12)-1),6),6)","v":0},0,{"$f":"IF($B121=0,0,G121/POWER(1+CALCULADORA!$C$29,Flujos!$B121/365))","v":0},"2034-06-18",119,{"$f":"+DIAS365($A$2,A121)","v":3620},-1.5974044799804688E-5,0,-1.4737653732299804E-7,-1.4737653732299804E-7]
["2034-07-18",{"$f":"IF(DIAS365(CALCULADORA!$C$27,A122)<0,0,DIAS365(CALCULADORA!$C$27,A122))","v":3452},{"$f":"+HLOOKUP(CALCULADORA!$C$9,Tablas!B:B,Flujos!J122+1,FALSE)","v":0},0,0,{"$f":"ROUND(D121*ROUND(((1+CALCULADORA!$C$16)^(1/12)-1),6),6)","v":0},0,{"$f":"IF($B122=0,0,G122/POWER(1+CALCULADORA!$C$29,Flujos!$B122/365))","v":0},"2034-07-18",120,{"$f":"+DIAS365($A$2,A122)","v":3650},-1.5974044799804688E-5,0,-1.4737653732299804E-7,-1.4737653732299804E-7]
["2034-08-18",{"$f":"IF(DIAS365(CALCULADORA!$C$27,A123)<0,0,DIAS365(CALCULADORA!$C$27,A123))","v":3483},{"$f":"+HLOOKUP(CALCULADORA!$C$9,Tablas!B:B,Flujos!J123+1,FALSE)","v":0},0,0,{"$f":"ROUND(D122*ROUND(((1+CALCULADORA!$C$16)^(1/12)-1),6),6)","v":0},0,{"$f":"IF($B123=0,0,G123/POWER(1+CALCULADORA!$C$29,Flujos!$B123/365))","v":0},"2034-08-18",121,{"$f":"+DIAS365($A$2,A123)","v":3681},-1.5974044799804688E-5,0,-1.4737653732299804E-7,-1.4737653732299804E-7]
["2034-09-18",{"$f":"IF(DIAS365(CALCULADORA!$C$27,A124)<0,0,DIAS365(CALCULADORA!$C$27,A124))","v":3514},{"$f":"+HLOOKUP(CALCULADORA!$C$9,Tablas!B:B,Flujos!J124+1,FALSE)","v":0},0,0,{"$f":"ROUND(D123*ROUND(((1+CALCULADORA!$C$16)^(1/12)-1),6),6)","v":0},0,{"$f":"IF($B124=0,0,G124/POWER(1+CALCULADORA!$C$29,Flujos!$B124/365))","v":0},"2034-09-18",122,{"$f":"+DIAS365($A$2,A124)","v":3712},-1.5974044799804688E-5,0,-1.4737653732299804E-7,-1.4737653732299804E-7]
["2034-10-18",{"$f":"IF(DIAS365(CALCULADORA!$C$27,A125)<0,0,DIAS365(CALCULADORA!$C$27,A125))","v":3544},{"$f":"+HLOOKUP(CALCULADORA!$C$9,Tablas!B:B,Flujos!J125+1,FALSE)","v":0},0,0,{"$f":"ROUND(D124*ROUND(((1+CALCULADORA!$C$16)^(1/12)-1),6),6)","v":0},0,{"$f":"IF($B125=0,0,G125/POWER(1+CALCULADORA!$C$29,Flujos!$B125/365))","v":0},"2034-10-18",123,{"$f":"+DIAS365($A$2,A125)","v":3742},-1.5974044799804688E-5,0,-1.4737653732299804E-7,-1.4737653732299804E-7]
["2034-11-18",{"$f":"IF(DIAS365(CALCULADORA!$C$27,A126)<0,0,DIAS365(CALCULADORA!$C$27,A126))","v":3575},{"$f":"+HLOOKUP(CALCULADORA!$C$9,Tablas!B:B,Flujos!J126+1,FALSE)","v":0},0,0,{"$f":"ROUND(D125*ROUND(((1+CALCULADORA!$C$16)^(1/12)-1),6),6)","v":0},0,{"$f":"IF($B126=0,0,G126/POWER(1+CALCULADORA!$C$29,Flujos!$B126/365))","v":0},"2034-11-18",124,{"$f":"+DIAS365($A$2,A126)","v":3773},-1.5974044799804688E-5,0,-1.4737653732299804E-7,-1.4737653732299804E-7]
["2034-12-18",{"$f":"IF(DIAS365(CALCULADORA!$C$27,A127)<0,0,DIAS365(CALCULADORA!$C$27,A127))","v":3605},{"$f":"+HLOOKUP(CALCULADORA!$C$9,Tablas!B:B,Flujos!J127+1,FALSE)","v":0},0,0,{"$f":"ROUND(D126*ROUND(((1+CALCULADORA!$C$16)^(1/12)-1),6),6)","v":0},0,{"$f":"IF($B127=0,0,G127/POWER(1+CALCULADORA!$C$29,Flujos!$B127/365))","v":0},"2034-12-18",125,{"$f":"+DIAS365($A$2,A127)","v":3803},-1.5974044799804688E-5,0,-1.4737653732299804E-7,-1.4737653732299804E-7]
["2035-01-18",{"$f":"IF(DIAS365(CALCULADORA!$C$27,A128)<0,0,DIAS365(CALCULADORA!$C$27,A128))","v":3636},{"$f":"+HLOOKUP(CALCULADORA!$C$9,Tablas!B:B,Flujos!J128+1,FALSE)","v":0},0,0,{"$f":"ROUND(D127*ROUND(((1+CALCULADORA!$C$16)^(1/12)-1),6),6)","v":0},0,{"$f":"IF($B128=0,0,G128/POWER(1+CALCULADORA!$C$29,Flujos!$B128/365))","v":0},"2035-01-18",126,{"$f":"+DIAS365($A$2,A128)","v":3834},-1.5974044799804688E-5,0,-1.4737653732299804E-7,-1.4737653732299804E-7]
["2035-02-18",{"$f":"IF(DIAS365(CALCULADORA!$C$27,A129)<0,0,DIAS365(CALCULADORA!$C$27,A129))","v":3667},{"$f":"+HLOOKUP(CALCULADORA!$C$9,Tablas!B:B,Flujos!J129+1,FALSE)","v":0},0,0,{"$f":"ROUND(D128*ROUND(((1+CALCULADORA!$C$16)^(1/12)-1),6),6)","v":0},0,{"$f":"IF($B129=0,0,G129/POWER(1+CALCULADORA!$C$29,Flujos!$B129/365))","v":0},"2035-02-18",127,{"$f":"+DIAS365($A$2,A129)","v":3865},-1.5974044799804688E-5,0,-1.4737653732299804E-7,-1.4737653732299804E-7]
["2035-03-18",{"$f":"IF(DIAS365(CALCULADORA!$C$27,A130)<0,0,DIAS365(CALCULADORA!$C$27,A130))","v":3695},{"$f":"+HLOOKUP(CALCULADORA!$C$9,Tablas!B:B,Flujos!J130+1,FALSE)","v":0},0,0,{"$f":"ROUND(D129*ROUND(((1+CALCULADORA!$C$16)^(1/12)-1),6),6)","v":0},0,{"$f":"IF($B130=0,0,G130/POWER(1+CALCULADORA!$C$29,Flujos!$B130/365))","v":0},"2035-03-18",128,{"$f":"+DIAS365($A$2,A130)","v":3893},-1.5974044799804688E-5,0,-1.4737653732299804E-7,-1.4737653732299804E-7]
[{"$f":"EDATE(A130,1)","v":"2035-04-18"},{"$f":"IF(DIAS365(CALCULADORA!$C$27,A131)<0,0,DIAS365(CALCULADORA!$C$27,A131))","v":3726},{"$f":"+HLOOKUP(CALCULADORA!$C$9,Tablas!B:B,Flujos!J131+1,FALSE)","v":0},0,0,{"$f":"ROUND(D130*ROUND(((1+CALCULADORA!$C$16)^(1/12)-1),6),6)","v":0},0,{"$f":"IF($B131=0,0,G131/POWER(1+CALCULADORA!$C$29,Flujos!$B131/365))","v":0},{"$f":"+A131","v":"2035-04-18"},129,{"$f":"+DIAS365($A$2,A131)","v":3924},-1.5974044799804688E-5,0,-1.4737653732299804E-7,-1.4737653732299804E-7]
["2035-05-18",{"$f":"IF(DIAS365(CALCULADORA!$C$27,A132)<0,0,DIAS365(CALCULADORA!$C$27,A132))","v":3756},{"$f":"+HLOOKUP(CALCULADORA!$C$9,Tablas!B:B,Flujos!J132+1,FALSE)","v":0},{"$f":"+ROUND(D131-E132,6)","v":0},{"$f":"ROUND(C132*$D$2,6)","v":0},{"$f":"ROUND(D131*ROUND(((1+CALCULADORA!$C$16)^(1/12)-1),6),6)","v":0},{"$f":"F132+E132","v":0},{"$f":"IF($B132=0,0,G132/POWER(1+CALCULADORA!$C$29,Flujos!$B132/365))","v":0},"2035-05-18",130,{"$f":"+DIAS365($A$2,A132)","v":3954},{"$f":"+L131-M132","v":-1.5974044799804688E-5},{"$f":"+$L$2*C132","v":0},{"$f":"+L131*$F$3%","v":-1.4737653732299804E-7},{"$f":"+N132+M132","v":-1.4737653732299804E-7}]
["2035-06-18",{"$f":"IF(DIAS365(CALCULADORA!$C$27,A133)<0,0,DIAS365(CALCULADORA!$C$27,A133))","v":3787},{"$f":"+HLOOKUP(CALCULADORA!$C$9,Tablas!B:B,Flujos!J133+1,FALSE)","v":0},0,0,{"$f":"ROUND(D132*ROUND(((1+CALCULADORA!$C$16)^(1/12)-1),6),6)","v":0},0,{"$f":"IF($B133=0,0,G133/POWER(1+CALCULADORA!$C$29,Flujos!$B133/365))","v":0},"2035-06-18",131,{"$f":"+DIAS365($A$2,A133)","v":3985},-1.5974044799804688E-5,0,-1.4737653732299804E-7,-1.4737653732299804E-7]
["2035-07-18",{"$f":"IF(DIAS365(CALCULADORA!$C$27,A134)<0,0,DIAS365(CALCULADORA!$C$27,A134))","v":3817},{"$f":"+HLOOKUP(CALCULADORA!$C$9,Tablas!B:B,Flujos!J134+1,FALSE)","v":0},0,0,{"$f":"ROUND(D133*ROUND(((1+CALCULADORA!$C$16)^(1/12)-1),6),6)","v":0},0,{"$f":"IF($B134=0,0,G134/POWER(1+CALCULADORA!$C$29,Flujos!$B134/365))","v":0},"2035-07-18",132,{"$f":"+DIAS365($A$2,A134)","v":4015},-1.5974044799804688E-5,0,-1.4737653732299804E-7,-1.4737653732299804E-7]
["2035-08-18",{"$f":"IF(DIAS365(CALCULADORA!$C$27,A135)<0,0,DIAS365(CALCULADORA!$C$27,A135))","v":3848},{"$f":"+HLOOKUP(CALCULADORA!$C$9,Tablas!B:B,Flujos!J135+1,FALSE)","v":0},0,0,{"$f":"ROUND(D134*ROUND(((1+CALCULADORA!$C$16)^(1/12)-1),6),6)","v":0},0,{"$f":"IF($B135=0,0,G135/POWER(1+CALCULADORA!$C$29,Flujos!$B135/365))","v":0},"2035-08-18",133,{"$f":"+DIAS365($A$2,A135)","v":4046},-1.5974044799804688E-5,0,-1.4737653732299804E-7,-1.4737653732299804E-7]
["2035-09-18",{"$f":"IF(DIAS365(CALCULADORA!$C$27,A136)<0,0,DIAS365(CALCULADORA!$C$27,A136))","v":3879},{"$f":"+HLOOKUP(CALCULADORA!$C$9,Tablas!B:B,Flujos!J136+1,FALSE)","v":0},0,0,{"$f":"ROUND(D135*ROUND(((1+CALCULADORA!$C$16)^(1/12)-1),6),6)","v":0},0,{"$f":"IF($B136=0,0,G136/POWER(1+CALCULADORA!$C$29,Flujos!$B136/365))","v":0},"2035-09-18",134,{"$f":"+DIAS365($A$2,A136)","v":4077},-1.5974044799804688E-5,0,-1.4737653732299804E-7,-1.4737653732299804E-7]
["2035-10-18",{"$f":"IF(DIAS365(CALCULADORA!$C$27,A137)<0,0,DIAS365(CALCULADORA!$C$27,A137))","v":3909},{"$f":"+HLOOKUP(CALCULADORA!$C$9,Tablas!B:B,Flujos!J137+1,FALSE)","v":0},0,0,{"$f":"ROUND(D136*ROUND(((1+CALCULADORA!$C$16)^(1/12)-1),6),6)","v":0},0,{"$f":"IF($B137=0,0,G137/POWER(1+CALCULADORA!$C$29,Flujos!$B137/365))","v":0},"2035-10-18",135,{"$f":"+DIAS365($A$2,A137)","v":4107},-1.5974044799804688E-5,0,-1.4737653732299804E-7,-1.4737653732299804E-7]
["2035-11-18",{"$f":"IF(DIAS365(CALCULADORA!$C$27,A138)<0,0,DIAS365(CALCULADORA!$C$27,A138))","v":3940},{"$f":"+HLOOKUP(CALCULADORA!$C$9,Tablas!B:B,Flujos!J138+1,FALSE)","v":0},0,0,{"$f":"ROUND(D137*ROUND(((1+CALCULADORA!$C$16)^(1/12)-1),6),6)","v":0},0,{"$f":"IF($B138=0,0,G138/POWER(1+CALCULADORA!$C$29,Flujos!$B138/365))","v":0},"2035-11-18",136,{"$f":"+DIAS365($A$2,A138)","v":4138},-1.5974044799804688E-5,0,-1.4737653732299804E-7,-1.4737653732299804E-7]
["2035-12-18",{"$f":"IF(DIAS365(CALCULADORA!$C$27,A139)<0,0,DIAS365(CALCULADORA!$C$27,A139))","v":3970},{"$f":"+HLOOKUP(CALCULADORA!$C$9,Tablas!B:B,Flujos!J139+1,FALSE)","v":0},0,0,{"$f":"ROUND(D138*ROUND(((1+CALCULADORA!$C$16)^(1/12)-1),6),6)","v":0},0,{"$f":"IF($B139=0,0,G139/POWER(1+CALCULADORA!$C$29,Flujos!$B139/365))","v":0},"2035-12-18",137,{"$f":"+DIAS365($A$2,A139)","v":4168},-1.5974044799804688E-5,0,-1.4737653732299804E-7,-1.4737653732299804E-7]
["2036-01-18",{"$f":"IF(DIAS365(CALCULADORA!$C$27,A140)<0,0,DIAS365(CALCULADORA!$C$27,A140))","v":4001},{"$f":"+HLOOKUP(CALCULADORA!$C$9,Tablas!B:B,Flujos!J140+1,FALSE)","v":0},0,0,{"$f":"ROUND(D139*ROUND(((1+CALCULADORA!$C$16)^(1/12)-1),6),6)","v":0},0,{"$f":"IF($B140=0,0,G140/POWER(1+CALCULADORA!$C$29,Flujos!$B140/365))","v":0},"2036-01-18",138,{"$f":"+DIAS365($A$2,A140)","v":4199},-1.5974044799804688E-5,0,-1.4737653732299804E-7,-1.4737653732299804E-7]
["2036-02-18",{"$f":"IF(DIAS365(CALCULADORA!$C$27,A141)<0,0,DIAS365(CALCULADORA!$C$27,A141))","v":4032},{"$f":"+HLOOKUP(CALCULADORA!$C$9,Tablas!B:B,Flujos!J141+1,FALSE)","v":0},0,0,{"$f":"ROUND(D140*ROUND(((1+CALCULADORA!$C$16)^(1/12)-1),6),6)","v":0},0,{"$f":"IF($B141=0,0,G141/POWER(1+CALCULADORA!$C$29,Flujos!$B141/365))","v":0},"2036-02-18",139,{"$f":"+DIAS365($A$2,A141)","v":4230},-1.5974044799804688E-5,0,-1.4737653732299804E-7,-1.4737653732299804E-7]
["2036-03-18",{"$f":"IF(DIAS365(CALCULADORA!$C$27,A142)<0,0,DIAS365(CALCULADORA!$C$27,A142))","v":4060},{"$f":"+HLOOKUP(CALCULADORA!$C$9,Tablas!B:B,Flujos!J142+1,FALSE)","v":0},0,0,{"$f":"ROUND(D141*ROUND(((1+CALCULADORA!$C$16)^(1/12)-1),6),6)","v":0},0,{"$f":"IF($B142=0,0,G142/POWER(1+CALCULADORA!$C$29,Flujos!$B142/365))","v":0},"2036-03-18",140,{"$f":"+DIAS365($A$2,A142)","v":4258},-1.5974044799804688E-5,0,-1.4737653732299804E-7,-1.4737653732299804E-7]
["2036-04-18",{"$f":"IF(DIAS365(CALCULADORA!$C$27,A143)<0,0,DIAS365(CALCULADORA!$C$27,A143))","v":4091},{"$f":"+HLOOKUP(CALCULADORA!$C$9,Tablas!B:B,Flujos!J143+1,FALSE)","v":0},0,0,{"$f":"ROUND(D142*ROUND(((1+CALCULADORA!$C$16)^(1/12)-1),6),6)","v":0},0,{"$f":"IF($B143=0,0,G143/POWER(1+CALCULADORA!$C$29,Flujos!$B143/365))","v":0},"2036-04-18",141,{"$f":"+DIAS365($A$2,A143)","v":4289},-1.5974044799804688E-5,0,-1.4737653732299804E-7,-1.4737653732299804E-7]
["2036-05-18",{"$f":"IF(DIAS365(CALCULADORA!$C$27,A144)<0,0,DIAS365(CALCULADORA!$C$27,A144))","v":4121},{"$f":"+HLOOKUP(CALCULADORA!$C$9,Tablas!B:B,Flujos!J144+1,FALSE)","v":0},0,0,{"$f":"ROUND(D143*ROUND(((1+CALCULADORA!$C$16)^(1/12)-1),6),6)","v":0},0,{"$f":"IF($B144=0,0,G144/POWER(1+CALCULADORA!$C$29,Flujos!$B144/365))","v":0},"2036-05-18",142,{"$f":"+DIAS365($A$2,A144)","v":4319},-1.5974044799804688E-5,0,-1.4737653732299804E-7,-1.4737653732299804E-7]
["2036-06-18",{"$f":"IF(DIAS365(CALCULADORA!$C$27,A145)<0,0,DIAS365(CALCULADORA!$C$27,A145))","v":4152},{"$f":"+HLOOKUP(CALCULADORA!$C$9,Tablas!B:B,Flujos!J145+1,FALSE)","v":0},0,0,{"$f":"ROUND(D144*ROUND(((1+CALCULADORA!$C$16)^(1/12)-1),6),6)","v":0},0,{"$f":"IF($B145=0,0,G145/POWER(1+CALCULADORA!$C$29,Flujos!$B145/365))","v":0},"2036-06-18",143,{"$f":"+DIAS365($A$2,A145)","v":4350},-1.5974044799804688E-5,0,-1.4737653732299804E-7,-1.4737653732299804E-7]
["2036-07-18",{"$f":"IF(DIAS365(CALCULADORA!$C$27,A146)<0,0,DIAS365(CALCULADORA!$C$27,A146))","v":4182},{"$f":"+HLOOKUP(CALCULADORA!$C$9,Tablas!B:B,Flujos!J146+1,FALSE)","v":0},0,0,{"$f":"ROUND(D145*ROUND(((1+CALCULADORA!$C$16)^(1/12)-1),6),6)","v":0},0,{"$f":"IF($B146=0,0,G146/POWER(1+CALCULADORA!$C$29,Flujos!$B146/365))","v":0},"2036-07-18",144,{"$f":"+DIAS365($A$2,A146)","v":4380},-1.5974044799804688E-5,0,-1.4737653732299804E-7,-1.4737653732299804E-7]
["2036-08-18",{"$f":"IF(DIAS365(CALCULADORA!$C$27,A147)<0,0,DIAS365(CALCULADORA!$C$27,A147))","v":4213},{"$f":"+HLOOKUP(CALCULADORA!$C$9,Tablas!B:B,Flujos!J147+1,FALSE)","v":0},0,0,{"$f":"ROUND(D146*ROUND(((1+CALCULADORA!$C$16)^(1/12)-1),6),6)","v":0},0,{"$f":"IF($B147=0,0,G147/POWER(1+CALCULADORA!$C$29,Flujos!$B147/365))","v":0},"2036-08-18",145,{"$f":"+DIAS365($A$2,A147)","v":4411},-1.5974044799804688E-5,0,-1.4737653732299804E-7,-1.4737653732299804E-7]
["2036-09-18",{"$f":"IF(DIAS365(CALCULADORA!$C$27,A148)<0,0,DIAS365(CALCULADORA!$C$27,A148))","v":4244},{"$f":"+HLOOKUP(CALCULADORA!$C$9,Tablas!B:B,Flujos!J148+1,FALSE)","v":0},0,0,{"$f":"ROUND(D147*ROUND(((1+CALCULADORA!$C$16)^(1/12)-1),6),6)","v":0},0,{"$f":"IF($B148=0,0,G148/POWER(1+CALCULADORA!$C$29,Flujos!$B148/365))","v":0},"2036-09-18",146,{"$f":"+DIAS365($A$2,A148)","v":4442},-1.5974044799804688E-5,0,-1.4737653732299804E-7,-1.4737653732299804E-7]
["2036-10-18",{"$f":"IF(DIAS365(CALCULADORA!$C$27,A149)<0,0,DIAS365(CALCULADORA!$C$27,A149))","v":4274},{"$f":"+HLOOKUP(CALCULADORA!$C$9,Tablas!B:B,Flujos!J149+1,FALSE)","v":0},0,0,{"$f":"ROUND(D148*ROUND(((1+CALCULADORA!$C$16)^(1/12)-1),6),6)","v":0},0,{"$f":"IF($B149=0,0,G149/POWER(1+CALCULADORA!$C$29,Flujos!$B149/365))","v":0},"2036-10-18",147,{"$f":"+DIAS365($A$2,A149)","v":4472},-1.5974044799804688E-5,0,-1.4737653732299804E-7,-1.4737653732299804E-7]
["2036-11-18",{"$f":"IF(DIAS365(CALCULADORA!$C$27,A150)<0,0,DIAS365(CALCULADORA!$C$27,A150))","v":4305},{"$f":"+HLOOKUP(CALCULADORA!$C$9,Tablas!B:B,Flujos!J150+1,FALSE)","v":0},0,0,{"$f":"ROUND(D149*ROUND(((1+CALCULADORA!$C$16)^(1/12)-1),6),6)","v":0},0,{"$f":"IF($B150=0,0,G150/POWER(1+CALCULADORA!$C$29,Flujos!$B150/365))","v":0},"2036-11-18",148,{"$f":"+DIAS365($A$2,A150)","v":4503},-1.5974044799804688E-5,0,-1.4737653732299804E-7,-1.4737653732299804E-7]
["2036-12-18",{"$f":"IF(DIAS365(CALCULADORA!$C$27,A151)<0,0,DIAS365(CALCULADORA!$C$27,A151))","v":4335},{"$f":"+HLOOKUP(CALCULADORA!$C$9,Tablas!B:B,Flujos!J151+1,FALSE)","v":0},0,0,{"$f":"ROUND(D150*ROUND(((1+CALCULADORA!$C$16)^(1/12)-1),6),6)","v":0},0,{"$f":"IF($B151=0,0,G151/POWER(1+CALCULADORA!$C$29,Flujos!$B151/365))","v":0},"2036-12-18",149,{"$f":"+DIAS365($A$2,A151)","v":4533},-1.5974044799804688E-5,0,-1.4737653732299804E-7,-1.4737653732299804E-7]
["2037-01-18",{"$f":"IF(DIAS365(CALCULADORA!$C$27,A152)<0,0,DIAS365(CALCULADORA!$C$27,A152))","v":4366},{"$f":"+HLOOKUP(CALCULADORA!$C$9,Tablas!B:B,Flujos!J152+1,FALSE)","v":0},0,0,{"$f":"ROUND(D151*ROUND(((1+CALCULADORA!$C$16)^(1/12)-1),6),6)","v":0},0,{"$f":"IF($B152=0,0,G152/POWER(1+CALCULADORA!$C$29,Flujos!$B152/365))","v":0},"2037-01-18",150,{"$f":"+DIAS365($A$2,A152)","v":4564},-1.5974044799804688E-5,0,-1.4737653732299804E-7,-1.4737653732299804E-7]
["2037-02-18",{"$f":"IF(DIAS365(CALCULADORA!$C$27,A153)<0,0,DIAS365(CALCULADORA!$C$27,A153))","v":4397},{"$f":"+HLOOKUP(CALCULADORA!$C$9,Tablas!B:B,Flujos!J153+1,FALSE)","v":0},0,0,{"$f":"ROUND(D152*ROUND(((1+CALCULADORA!$C$16)^(1/12)-1),6),6)","v":0},0,{"$f":"IF($B153=0,0,G153/POWER(1+CALCULADORA!$C$29,Flujos!$B153/365))","v":0},"2037-02-18",151,{"$f":"+DIAS365($A$2,A153)","v":4595},-1.5974044799804688E-5,0,-1.4737653732299804E-7,-1.4737653732299804E-7]
["2037-03-18",{"$f":"IF(DIAS365(CALCULADORA!$C$27,A154)<0,0,DIAS365(CALCULADORA!$C$27,A154))","v":4425},{"$f":"+HLOOKUP(CALCULADORA!$C$9,Tablas!B:B,Flujos!J154+1,FALSE)","v":0},0,0,{"$f":"ROUND(D153*ROUND(((1+CALCULADORA!$C$16)^(1/12)-1),6),6)","v":0},0,{"$f":"IF($B154=0,0,G154/POWER(1+CALCULADORA!$C$29,Flujos!$B154/365))","v":0},"2037-03-18",152,{"$f":"+DIAS365($A$2,A154)","v":4623},-1.5974044799804688E-5,0,-1.4737653732299804E-7,-1.4737653732299804E-7]
["2037-04-18",{"$f":"IF(DIAS365(CALCULADORA!$C$27,A155)<0,0,DIAS365(CALCULADORA!$C$27,A155))","v":4456},{"$f":"+HLOOKUP(CALCULADORA!$C$9,Tablas!B:B,Flujos!J155+1,FALSE)","v":0},0,0,{"$f":"ROUND(D154*ROUND(((1+CALCULADORA!$C$16)^(1/12)-1),6),6)","v":0},0,{"$f":"IF($B155=0,0,G155/POWER(1+CALCULADORA!$C$29,Flujos!$B155/365))","v":0},"2037-04-18",153,{"$f":"+DIAS365($A$2,A155)","v":4654},-1.5974044799804688E-5,0,-1.4737653732299804E-7,-1.4737653732299804E-7]
["2037-05-18",{"$f":"IF(DIAS365(CALCULADORA!$C$27,A156)<0,0,DIAS365(CALCULADORA!$C$27,A156))","v":4486},{"$f":"+HLOOKUP(CALCULADORA!$C$9,Tablas!B:B,Flujos!J156+1,FALSE)","v":0},0,0,{"$f":"ROUND(D155*ROUND(((1+CALCULADORA!$C$16)^(1/12)-1),6),6)","v":0},0,{"$f":"IF($B156=0,0,G156/POWER(1+CALCULADORA!$C$29,Flujos!$B156/365))","v":0},"2037-05-18",154,{"$f":"+DIAS365($A$2,A156)","v":4684},-1.5974044799804688E-5,0,-1.4737653732299804E-7,-1.4737653732299804E-7]
["2037-06-18",{"$f":"IF(DIAS365(CALCULADORA!$C$27,A157)<0,0,DIAS365(CALCULADORA!$C$27,A157))","v":4517},{"$f":"+HLOOKUP(CALCULADORA!$C$9,Tablas!B:B,Flujos!J157+1,FALSE)","v":0},0,0,{"$f":"ROUND(D156*ROUND(((1+CALCULADORA!$C$16)^(1/12)-1),6),6)","v":0},0,{"$f":"IF($B157=0,0,G157/POWER(1+CALCULADORA!$C$29,Flujos!$B157/365))","v":0},"2037-06-18",155,{"$f":"+DIAS365($A$2,A157)","v":4715},-1.5974044799804688E-5,0,-1.4737653732299804E-7,-1.4737653732299804E-7]
["2037-07-18",{"$f":"IF(DIAS365(CALCULADORA!$C$27,A158)<0,0,DIAS365(CALCULADORA!$C$27,A158))","v":4547},{"$f":"+HLOOKUP(CALCULADORA!$C$9,Tablas!B:B,Flujos!J158+1,FALSE)","v":0},0,0,{"$f":"ROUND(D157*ROUND(((1+CALCULADORA!$C$16)^(1/12)-1),6),6)","v":0},0,{"$f":"IF($B158=0,0,G158/POWER(1+CALCULADORA!$C$29,Flujos!$B158/365))","v":0},"2037-07-18",156,{"$f":"+DIAS365($A$2,A158)","v":4745},-1.5974044799804688E-5,0,-1.4737653732299804E-7,-1.4737653732299804E-7]
["2037-08-18",{"$f":"IF(DIAS365(CALCULADORA!$C$27,A159)<0,0,DIAS365(CALCULADORA!$C$27,A159))","v":4578},{"$f":"+HLOOKUP(CALCULADORA!$C$9,Tablas!B:B,Flujos!J159+1,FALSE)","v":0},0,0,{"$f":"ROUND(D158*ROUND(((1+CALCULADORA!$C$16)^(1/12)-1),6),6)","v":0},0,{"$f":"IF($B159=0,0,G159/POWER(1+CALCULADORA!$C$29,Flujos!$B159/365))","v":0},"2037-08-18",157,{"$f":"+DIAS365($A$2,A159)","v":4776},-1.5974044799804688E-5,0,-1.4737653732299804E-7,-1.4737653732299804E-7]
["2037-09-18",{"$f":"IF(DIAS365(CALCULADORA!$C$27,A160)<0,0,DIAS365(CALCULADORA!$C$27,A160))","v":4609},{"$f":"+HLOOKUP(CALCULADORA!$C$9,Tablas!B:B,Flujos!J160+1,FALSE)","v":0},0,0,{"$f":"ROUND(D159*ROUND(((1+CALCULADORA!$C$16)^(1/12)-1),6),6)","v":0},0,{"$f":"IF($B160=0,0,G160/POWER(1+CALCULADORA!$C$29,Flujos!$B160/365))","v":0},"2037-09-18",158,{"$f":"+DIAS365($A$2,A160)","v":4807},-1.5974044799804688E-5,0,-1.4737653732299804E-7,-1.4737653732299804E-7]
["2037-10-18",{"$f":"IF(DIAS365(CALCULADORA!$C$27,A161)<0,0,DIAS365(CALCULADORA!$C$27,A161))","v":4639},{"$f":"+HLOOKUP(CALCULADORA!$C$9,Tablas!B:B,Flujos!J161+1,FALSE)","v":0},0,0,{"$f":"ROUND(D160*ROUND(((1+CALCULADORA!$C$16)^(1/12)-1),6),6)","v":0},0,{"$f":"IF($B161=0,0,G161/POWER(1+CALCULADORA!$C$29,Flujos!$B161/365))","v":0},"2037-10-18",159,{"$f":"+DIAS365($A$2,A161)","v":4837},-1.5974044799804688E-5,0,-1.4737653732299804E-7,-1.4737653732299804E-7]
["2037-11-18",{"$f":"IF(DIAS365(CALCULADORA!$C$27,A162)<0,0,DIAS365(CALCULADORA!$C$27,A162))","v":4670},{"$f":"+HLOOKUP(CALCULADORA!$C$9,Tablas!B:B,Flujos!J162+1,FALSE)","v":0},0,0,{"$f":"ROUND(D161*ROUND(((1+CALCULADORA!$C$16)^(1/12)-1),6),6)","v":0},0,{"$f":"IF($B162=0,0,G162/POWER(1+CALCULADORA!$C$29,Flujos!$B162/365))","v":0},"2037-11-18",160,{"$f":"+DIAS365($A$2,A162)","v":4868},-1.5974044799804688E-5,0,-1.4737653732299804E-7,-1.4737653732299804E-7]
[{"$f":"EDATE(A162,1)","v":"2037-12-18"},{"$f":"IF(DIAS365(CALCULADORA!$C$27,A163)<0,0,DIAS365(CALCULADORA!$C$27,A163))","v":4700},{"$f":"+HLOOKUP(CALCULADORA!$C$9,Tablas!B:B,Flujos!J163+1,FALSE)","v":0},0,0,{"$f":"ROUND(D162*ROUND(((1+CALCULADORA!$C$16)^(1/12)-1),6),6)","v":0},0,{"$f":"IF($B163=0,0,G163/POWER(1+CALCULADORA!$C$29,Flujos!$B163/365))","v":0},"2037-12-18",161,{"$f":"+DIAS365($A$2,A163)","v":4898},-1.5974044799804688E-5,0,-1.4737653732299804E-7,-1.4737653732299804E-7]
["2038-01-18",{"$f":"IF(DIAS365(CALCULADORA!$C$27,A164)<0,0,DIAS365(CALCULADORA!$C$27,A164))","v":4731},{"$f":"+HLOOKUP(CALCULADORA!$C$9,Tablas!B:B,Flujos!J164+1,FALSE)","v":0},0,0,{"$f":"ROUND(D163*ROUND(((1+CALCULADORA!$C$16)^(1/12)-1),6),6)","v":0},0,{"$f":"IF($B164=0,0,G164/POWER(1+CALCULADORA!$C$29,Flujos!$B164/365))","v":0},"2038-01-18",162,{"$f":"+DIAS365($A$2,A164)","v":4929},-1.5974044799804688E-5,0,-1.4737653732299804E-7,-1.4737653732299804E-7]
["2038-02-18",{"$f":"IF(DIAS365(CALCULADORA!$C$27,A165)<0,0,DIAS365(CALCULADORA!$C$27,A165))","v":4762},{"$f":"+HLOOKUP(CALCULADORA!$C$9,Tablas!B:B,Flujos!J165+1,FALSE)","v":0},0,0,{"$f":"ROUND(D164*ROUND(((1+CALCULADORA!$C$16)^(1/12)-1),6),6)","v":0},0,{"$f":"IF($B165=0,0,G165/POWER(1+CALCULADORA!$C$29,Flujos!$B165/365))","v":0},"2038-02-18",163,{"$f":"+DIAS365($A$2,A165)","v":4960},-1.5974044799804688E-5,0,-1.4737653732299804E-7,-1.4737653732299804E-7]
["2038-03-18",{"$f":"IF(DIAS365(CALCULADORA!$C$27,A166)<0,0,DIAS365(CALCULADORA!$C$27,A166))","v":4790},{"$f":"+HLOOKUP(CALCULADORA!$C$9,Tablas!B:B,Flujos!J166+1,FALSE)","v":0},0,0,{"$f":"ROUND(D165*ROUND(((1+CALCULADORA!$C$16)^(1/12)-1),6),6)","v":0},0,{"$f":"IF($B166=0,0,G166/POWER(1+CALCULADORA!$C$29,Flujos!$B166/365))","v":0},"2038-03-18",164,{"$f":"+DIAS365($A$2,A166)","v":4988},-1.5974044799804688E-5,0,-1.4737653732299804E-7,-1.4737653732299804E-7]
["2038-04-18",{"$f":"IF(DIAS365(CALCULADORA!$C$27,A167)<0,0,DIAS365(CALCULADORA!$C$27,A167))","v":4821},{"$f":"+HLOOKUP(CALCULADORA!$C$9,Tablas!B:B,Flujos!J167+1,FALSE)","v":0},0,0,{"$f":"ROUND(D166*ROUND(((1+CALCULADORA!$C$16)^(1/12)-1),6),6)","v":0},0,{"$f":"IF($B167=0,0,G167/POWER(1+CALCULADORA!$C$29,Flujos!$B167/365))","v":0},"2038-04-18",165,{"$f":"+DIAS365($A$2,A167)","v":5019},-1.5974044799804688E-5,0,-1.4737653732299804E-7,-1.4737653732299804E-7]
["2038-05-18",{"$f":"IF(DIAS365(CALCULADORA!$C$27,A168)<0,0,DIAS365(CALCULADORA!$C$27,A168))","v":4851},{"$f":"+HLOOKUP(CALCULADORA!$C$9,Tablas!B:B,Flujos!J168+1,FALSE)","v":0},0,0,{"$f":"ROUND(D167*ROUND(((1+CALCULADORA!$C$16)^(1/12)-1),6),6)","v":0},0,{"$f":"IF($B168=0,0,G168/POWER(1+CALCULADORA!$C$29,Flujos!$B168/365))","v":0},"2038-05-18",166,{"$f":"+DIAS365($A$2,A168)","v":5049},-1.5974044799804688E-5,0,-1.4737653732299804E-7,-1.4737653732299804E-7]
["2038-06-18",{"$f":"IF(DIAS365(CALCULADORA!$C$27,A169)<0,0,DIAS365(CALCULADORA!$C$27,A169))","v":4882},{"$f":"+HLOOKUP(CALCULADORA!$C$9,Tablas!B:B,Flujos!J169+1,FALSE)","v":0},0,0,{"$f":"ROUND(D168*ROUND(((1+CALCULADORA!$C$16)^(1/12)-1),6),6)","v":0},0,{"$f":"IF($B169=0,0,G169/POWER(1+CALCULADORA!$C$29,Flujos!$B169/365))","v":0},"2038-06-18",167,{"$f":"+DIAS365($A$2,A169)","v":5080},-1.5974044799804688E-5,0,-1.4737653732299804E-7,-1.4737653732299804E-7]
["2038-07-18",{"$f":"IF(DIAS365(CALCULADORA!$C$27,A170)<0,0,DIAS365(CALCULADORA!$C$27,A170))","v":4912},{"$f":"+HLOOKUP(CALCULADORA!$C$9,Tablas!B:B,Flujos!J170+1,FALSE)","v":0},0,0,{"$f":"ROUND(D169*ROUND(((1+CALCULADORA!$C$16)^(1/12)-1),6),6)","v":0},0,{"$f":"IF($B170=0,0,G170/POWER(1+CALCULADORA!$C$29,Flujos!$B170/365))","v":0},"2038-07-18",168,{"$f":"+DIAS365($A$2,A170)","v":5110},-1.5974044799804688E-5,0,-1.4737653732299804E-7,-1.4737653732299804E-7]
["2038-08-18",{"$f":"IF(DIAS365(CALCULADORA!$C$27,A171)<0,0,DIAS365(CALCULADORA!$C$27,A171))","v":4943},{"$f":"+HLOOKUP(CALCULADORA!$C$9,Tablas!B:B,Flujos!J171+1,FALSE)","v":0},0,0,{"$f":"ROUND(D170*ROUND(((1+CALCULADORA!$C$16)^(1/12)-1),6),6)","v":0},0,{"$f":"IF($B171=0,0,G171/POWER(1+CALCULADORA!$C$29,Flujos!$B171/365))","v":0},"2038-08-18",169,{"$f":"+DIAS365($A$2,A171)","v":5141},-1.5974044799804688E-5,0,-1.4737653732299804E-7,-1.4737653732299804E-7]
["2038-09-18",{"$f":"IF(DIAS365(CALCULADORA!$C$27,A172)<0,0,DIAS365(CALCULADORA!$C$27,A172))","v":4974},{"$f":"+HLOOKUP(CALCULADORA!$C$9,Tablas!B:B,Flujos!J172+1,FALSE)","v":0},0,0,{"$f":"ROUND(D171*ROUND(((1+CALCULADORA!$C$16)^(1/12)-1),6),6)","v":0},0,{"$f":"IF($B172=0,0,G172/POWER(1+CALCULADORA!$C$29,Flujos!$B172/365))","v":0},"2038-09-18",170,{"$f":"+DIAS365($A$2,A172)","v":5172},-1.5974044799804688E-5,0,-1.4737653732299804E-7,-1.4737653732299804E-7]
["2038-10-18",{"$f":"IF(DIAS365(CALCULADORA!$C$27,A173)<0,0,DIAS365(CALCULADORA!$C$27,A173))","v":5004},{"$f":"+HLOOKUP(CALCULADORA!$C$9,Tablas!B:B,Flujos!J173+1,FALSE)","v":0},0,0,{"$f":"ROUND(D172*ROUND(((1+CALCULADORA!$C$16)^(1/12)-1),6),6)","v":0},0,{"$f":"IF($B173=0,0,G173/POWER(1+CALCULADORA!$C$29,Flujos!$B173/365))","v":0},"2038-10-18",171,{"$f":"+DIAS365($A$2,A173)","v":5202},-1.5974044799804688E-5,0,-1.4737653732299804E-7,-1.4737653732299804E-7]
["2038-11-18",{"$f":"IF(DIAS365(CALCULADORA!$C$27,A174)<0,0,DIAS365(CALCULADORA!$C$27,A174))","v":5035},{"$f":"+HLOOKUP(CALCULADORA!$C$9,Tablas!B:B,Flujos!J174+1,FALSE)","v":0},0,0,{"$f":"ROUND(D173*ROUND(((1+CALCULADORA!$C$16)^(1/12)-1),6),6)","v":0},0,{"$f":"IF($B174=0,0,G174/POWER(1+CALCULADORA!$C$29,Flujos!$B174/365))","v":0},"2038-11-18",172,{"$f":"+DIAS365($A$2,A174)","v":5233},-1.5974044799804688E-5,0,-1.4737653732299804E-7,-1.4737653732299804E-7]
["2038-12-18",{"$f":"IF(DIAS365(CALCULADORA!$C$27,A175)<0,0,DIAS365(CALCULADORA!$C$27,A175))","v":5065},{"$f":"+HLOOKUP(CALCULADORA!$C$9,Tablas!B:B,Flujos!J175+1,FALSE)","v":0},0,0,{"$f":"ROUND(D174*ROUND(((1+CALCULADORA!$C$16)^(1/12)-1),6),6)","v":0},0,{"$f":"IF($B175=0,0,G175/POWER(1+CALCULADORA!$C$29,Flujos!$B175/365))","v":0},"2038-12-18",173,{"$f":"+DIAS365($A$2,A175)","v":5263},-1.5974044799804688E-5,0,-1.4737653732299804E-7,-1.4737653732299804E-7]
["2039-01-18",{"$f":"IF(DIAS365(CALCULADORA!$C$27,A176)<0,0,DIAS365(CALCULADORA!$C$27,A176))","v":5096},{"$f":"+HLOOKUP(CALCULADORA!$C$9,Tablas!B:B,Flujos!J176+1,FALSE)","v":0},0,0,{"$f":"ROUND(D175*ROUND(((1+CALCULADORA!$C$16)^(1/12)-1),6),6)","v":0},0,{"$f":"IF($B176=0,0,G176/POWER(1+CALCULADORA!$C$29,Flujos!$B176/365))","v":0},"2039-01-18",174,{"$f":"+DIAS365($A$2,A176)","v":5294},-1.5974044799804688E-5,0,-1.4737653732299804E-7,-1.4737653732299804E-7]
["2039-02-18",{"$f":"IF(DIAS365(CALCULADORA!$C$27,A177)<0,0,DIAS365(CALCULADORA!$C$27,A177))","v":5127},{"$f":"+HLOOKUP(CALCULADORA!$C$9,Tablas!B:B,Flujos!J177+1,FALSE)","v":0},0,0,{"$f":"ROUND(D176*ROUND(((1+CALCULADORA!$C$16)^(1/12)-1),6),6)","v":0},0,{"$f":"IF($B177=0,0,G177/POWER(1+CALCULADORA!$C$29,Flujos!$B177/365))","v":0},"2039-02-18",175,{"$f":"+DIAS365($A$2,A177)","v":5325},-1.5974044799804688E-5,0,-1.4737653732299804E-7,-1.4737653732299804E-7]
["2039-03-18",{"$f":"IF(DIAS365(CALCULADORA!$C$27,A178)<0,0,DIAS365(CALCULADORA!$C$27,A178))","v":5155},{"$f":"+HLOOKUP(CALCULADORA!$C$9,Tablas!B:B,Flujos!J178+1,FALSE)","v":0},0,0,{"$f":"ROUND(D177*ROUND(((1+CALCULADORA!$C$16)^(1/12)-1),6),6)","v":0},0,{"$f":"IF($B178=0,0,G178/POWER(1+CALCULADORA!$C$29,Flujos!$B178/365))","v":0},"2039-03-18",176,{"$f":"+DIAS365($A$2,A178)","v":5353},-1.5974044799804688E-5,0,-1.4737653732299804E-7,-1.4737653732299804E-7]
["2039-04-18",{"$f":"IF(DIAS365(CALCULADORA!$C$27,A179)<0,0,DIAS365(CALCULADORA!$C$27,A179))","v":5186},{"$f":"+HLOOKUP(CALCULADORA!$C$9,Tablas!B:B,Flujos!J179+1,FALSE)","v":0},0,0,{"$f":"ROUND(D178*ROUND(((1+CALCULADORA!$C$16)^(1/12)-1),6),6)","v":0},0,{"$f":"IF($B179=0,0,G179/POWER(1+CALCULADORA!$C$29,Flujos!$B179/365))","v":0},"2039-04-18",177,{"$f":"+DIAS365($A$2,A179)","v":5384},-1.5974044799804688E-5,0,-1.4737653732299804E-7,-1.4737653732299804E-7]
["2039-05-18",{"$f":"IF(DIAS365(CALCULADORA!$C$27,A180)<0,0,DIAS365(CALCULADORA!$C$27,A180))","v":5216},{"$f":"+HLOOKUP(CALCULADORA!$C$9,Tablas!B:B,Flujos!J180+1,FALSE)","v":0},0,0,{"$f":"ROUND(D179*ROUND(((1+CALCULADORA!$C$16)^(1/12)-1),6),6)","v":0},0,{"$f":"IF($B180=0,0,G180/POWER(1+CALCULADORA!$C$29,Flujos!$B180/365))","v":0},"2039-05-18",178,{"$f":"+DIAS365($A$2,A180)","v":5414},-1.5974044799804688E-5,0,-1.4737653732299804E-7,-1.4737653732299804E-7]
["2039-06-18",{"$f":"IF(DIAS365(CALCULADORA!$C$27,A181)<0,0,DIAS365(CALCULADORA!$C$27,A181))","v":5247},{"$f":"+HLOOKUP(CALCULADORA!$C$9,Tablas!B:B,Flujos!J181+1,FALSE)","v":0},0,0,{"$f":"ROUND(D180*ROUND(((1+CALCULADORA!$C$16)^(1/12)-1),6),6)","v":0},0,{"$f":"IF($B181=0,0,G181/POWER(1+CALCULADORA!$C$29,Flujos!$B181/365))","v":0},"2039-06-18",179,{"$f":"+DIAS365($A$2,A181)","v":5445},-1.5974044799804688E-5,0,-1.4737653732299804E-7,-1.4737653732299804E-7]
["2039-07-18",{"$f":"IF(DIAS365(CALCULADORA!$C$27,A182)<0,0,DIAS365(CALCULADORA!$C$27,A182))","v":5277},{"$f":"+HLOOKUP(CALCULADORA!$C$9,Tablas!B:B,Flujos!J182+1,FALSE)","v":0},0,0,{"$f":"ROUND(D181*ROUND(((1+CALCULADORA!$C$16)^(1/12)-1),6),6)","v":0},0,{"$f":"IF($B182=0,0,G182/POWER(1+CALCULADORA!$C$29,Flujos!$B182/365))","v":0},"2039-07-18",180,{"$f":"+DIAS365($A$2,A182)","v":5475},-1.5974044799804688E-5,0,-1.4737653732299804E-7,-1.4737653732299804E-7]
[null,null,{"$f":"+SUMIF(B2:B182,\">0\",C2:C182)","v":0.80422329000000015},null,{"$f":"SUM(E2:E182)","v":100.00000000000003},{"$f":"SUM(F2:F182)","v":23.239071000000003},{"$f":"SUM(G2:G182)","v":123.23907099999995},{"$f":"SUM(H2:H182)","v":82.141896439757474},null,null,null,"Totales",{"$f":"SUM(M2:M182)","v":61711871367.216919},{"$f":"SUM(N2:N182)","v":14341262130.28713},76053133497.504059]

{"sheet":"Características","index":2,"n_rows":39,"n_cols":13,"rows_kept":39,"cut":false,"hidden":true,"merged":[[8,0,8,1],[26,0,26,1]]}
["Serie","TIPS N13 A","TIPS N14 A","TIPS N16 A","TIPS N17 A ","TIPS N18 A 2034","TIPS N19 A 2034","TIPS N20 A 2034","TIPS N21 A","TIPS N22 A","TIPS N23 A","TIPS N24 A1 2029","TIPS N24 A2 2039"]
["Nemo MEC","INST10011226","INST10080327","INST10061227","INST10150328","INST15040434","INST15230534","INST15041034","INST13240634","INST070339A","INST15180739","INST15041029","INST15041039"]
["ISIN"]
["Emisión","2016-12-01","2017-03-08","2017-12-06","2018-03-15","2021-02-04","2021-07-23","2021-04-04","2021-06-24","2024-03-07","2024-07-18","2024-10-04","2024-10-04"]
["Vencimiento contractual","2026-12-01","2027-03-08","2027-12-06","2033-03-15","2034-04-04","2034-05-23","2034-10-04","2034-06-24","2039-03-07","2039-07-18","2029-10-04","2039-01-04"]
["Cupón EA",8.3699999999999997E-2,7.7499999999999999E-2,6.3799999999999996E-2,6.5699999999999995E-2,6.83E-2,6.8900000000000003E-2,6.0400000000000002E-2,6.0600000000000001E-2,0.109,0.11650000000000001,0.104,0.10780000000000001]
["Moneda","COP","COP","COP","COP","COP","COP","COP","COP","COP","COP","COP","COP"]
[]
["Cálculo de tasa y precio sucio a partir del limpio"]
["Fecha de liquidación",{"$f":"+CALCULADORA!C27","v":"2025-02-01"}]
["Fecha último pago cupón",{"$f":"+VLOOKUP(B10,Flujos!$A$2:$A$182,1)","v":"2025-01-18"}]
["Valor Par",{"$f":"+VLOOKUP(B11,Flujos!$A$2:$D$182,4)","v":80.422329000000005}]
["Próximo pago de interés",{"$f":"+VLOOKUP(EDATE(B10,1),Flujos!$A$2:$F$182,6)","v":0.74197599999999997}]
["Días corridos",{"$f":"+DAYS360(B11,B10,TRUE)","v":13}]
["Días entre flujos",30]
["Cupón corrido",{"$f":"ROUND(B13/B12*B14/B15*100,4)","v":0.39979999999999999}]
["Precio limpio",{"$f":"+TRUNC(Flujos!H183/VLOOKUP(CALCULADORA!C27,Flujos!A:D,4)*100,3)","v":102.13800000000001}]
["Nominal",{"$f":"+CALCULADORA!C28","v":49630124223}]
["Moneda",1]
["Contravalor",{"$f":"ROUND(B18*B19*(B17+B16)/100,0)","v":50889637516}]
["Precio unitario",{"$f":"TRUNC(B20/B18,5)","v":1.0253699999999999}]
["Precio sucio MEC",{"$f":"TRUNC(B21/B19*100,3)","v":102.53700000000001}]
["Precio sucio modelo",{"$f":"+B22","v":102.53700000000001}]
["Diferencia",{"$f":"+B22-B23","v":0}]
["Tasa de descuento equivalente",{"$f":"TRUNC(CALCULADORA!C29,5)","v":0.10539999999999999}]
[]
["Cálculo de precio limpio y sucio a partir de tasa"]
["Tasa de descuento",{"$f":"TRUNC(CALCULADORA!C29,5)","v":0.10539999999999999}]
["Precio sucio modelo",{"$f":"+B23","v":102.53700000000001}]
["Moneda",{"$f":"+CALCULADORA!$C$43","v":1}]
["Nominal",{"$f":"+CALCULADORA!C28","v":49630124223}]
["Contravalor",{"$f":"+ROUND(B29/100*B31*B30,0)","v":50889240475}]
["Valor Par",{"$f":"+VLOOKUP(B11,Flujos!$A$2:$D$182,4)","v":80.422329000000005}]
["Próximo pago de interés",{"$f":"+VLOOKUP(EDATE(B10,1),Flujos!$A$2:$F$182,6)","v":0.74197599999999997}]
["Días corridos",{"$f":"+DAYS360(B11,B10,TRUE)","v":13}]
["Días entre flujos",30]
["Precio unitario",{"$f":"TRUNC(B32/(B30*B31),5)","v":1.0253699999999999}]
["Cupón corrido",{"$f":"ROUND(B34/B33*B35/B36,6)*100","v":0.39979999999999999}]
["Precio limpio",{"$f":"ROUND((B37-(B38/100))*100,3)","v":102.137}]

{"sheet":"TIR de Tenencia","index":3,"n_rows":65536,"n_cols":17,"rows_kept":4500,"cut":true,"hidden":true,"merged":[],"bounds":{"rows_first":2000,"rows_last":500,"rows_between":2000,"halvings":0}}
[{"$f":"+Flujos!A1","v":"Fecha"},{"$f":"+Flujos!L1","v":"Saldo / Balance"},{"$f":"+Flujos!M1","v":"Pago de Capital"},{"$f":"+Flujos!N1","v":"Pago de Intereses"},{"$f":"+Flujos!O1","v":"Pago Total"},{"$f":"+CALCULADORA!C27","v":"2025-02-01"},"Fecha","Flujo ","Fecha","Flujo 1","TIR",{"$f":"+DAY(A2)","v":18},{"$f":"+MONTH(G2)","v":3},{"$f":"+YEAR(G2)","v":2024},null,{"$f":"MATCH(MAX('TIR de Tenencia'!I:I),'TIR de Tenencia'!I:I,0)","v":13}]
[{"$f":"+Flujos!A2","v":"2024-07-18"},{"$f":"+Flujos!L2","v":61711871367.216919},{"$f":"+Flujos!M2","v":0},{"$f":"+Flujos!N2","v":0},{"$f":"+Flujos!O2","v":0},null,{"$f":"+CALCULADORA!C23","v":"2024-03-07"},{"$f":"-CALCULADORA!C24","v":-15000000000},{"$f":"+G2","v":"2024-03-07"},{"$f":"+H2","v":-15000000000},{"$f":"+XIRR(J2:J9,I2:I9)","v":0.72909463644027728},{"$f":"+L1","v":18},{"$f":"+IF(M1=12,1,M1+1)","v":4},{"$f":"+IF(M2=1,N1+1,N1)","v":2024},null,1,"Enero"]
[{"$f":"+Flujos!A3","v":"2024-08-18"},{"$f":"+Flujos!L3","v":60040560845.151695},{"$f":"+Flujos!M3","v":1671310522.0652249},{"$f":"+Flujos!N3","v":569353725.23394322},{"$f":"+Flujos!O3","v":2240664247.2991681},null,{"$f":"+DATE(N2,M2,L2)","v":"2024-04-18"},{"$f":"IF(G3<CALCULADORA!$C$23,0,IF(CALCULADORA!$C$27>'TIR de Tenencia'!G3,E3,CALCULADORA!$C$33))","v":2240664247.2991681},{"$f":"+IF(H3=H2,\" \",G3)","v":"2024-04-18"},{"$f":"+IF(H3=H2,\" \",H3)","v":2240664247.2991681},null,{"$f":"+L2","v":18},{"$f":"+IF(M2=12,1,M2+1)","v":5},{"$f":"+IF(M3=1,N2+1,N2)","v":2024},null,2,"Febrero"]
[{"$f":"+Flujos!A4","v":"2024-09-18"},{"$f":"+Flujos!L4","v":58287856684.584106},{"$f":"+Flujos!M4","v":1752704160.5675881},{"$f":"+Flujos!N4","v":553934214.35736954},{"$f":"+Flujos!O4","v":2306638374.9249578},null,{"$f":"+DATE(N3,M3,L3)","v":"2024-05-18"},{"$f":"IF(G4<CALCULADORA!$C$23,0,IF(CALCULADORA!$C$27>'TIR de Tenencia'!G4,E4,CALCULADORA!$C$33))","v":2306638374.9249578},{"$f":"+IF(H4=H3,\" \",G4)","v":"2024-05-18"},{"$f":"+IF(H4=H3,\" \",H4)","v":2306638374.9249578},null,18,6,2024,null,3,"Marzo"]
[{"$f":"+Flujos!A5","v":"2024-10-18"},{"$f":"+Flujos!L5","v":56083072953.535263},{"$f":"+Flujos!M5","v":2204783731.048841},{"$f":"+Flujos!N5","v":537763765.77197301},{"$f":"+Flujos!O5","v":2742547496.8208141},null,"2024-06-18",{"$f":"IF(G5<CALCULADORA!$C$23,0,IF(CALCULADORA!$C$27>'TIR de Tenencia'!G5,E5,CALCULADORA!$C$33))","v":2742547496.8208141},{"$f":"+IF(H5=H4,\" \",G5)","v":"2024-06-18"},{"$f":"+IF(H5=H4,\" \",H5)","v":2742547496.8208141},null,18,7,2024,null,4,"Abril"]
[{"$f":"+Flujos!A6","v":"2024-11-18"},{"$f":"+Flujos!L6","v":53834670037.566643},{"$f":"+Flujos!M6","v":2248402915.9686174},{"$f":"+Flujos!N6","v":517422431.06931633},{"$f":"+Flujos!O6","v":2765825347.0379338},null,"2024-07-18",{"$f":"IF(G6<CALCULADORA!$C$23,0,IF(CALCULADORA!$C$27>'TIR de Tenencia'!G6,E6,CALCULADORA!$C$33))","v":2765825347.0379338},"2024-07-18",2765825347.0379338,null,18,8,2024,null,5,"Mayo"]
[{"$f":"+Flujos!A7","v":"2024-12-18"},{"$f":"+Flujos!L7","v":52019754139.473763},{"$f":"+Flujos!M7","v":1814915898.0928795},{"$f":"+Flujos!N7","v":496678665.76658982},{"$f":"+Flujos!O7","v":2311594563.8594694},null,"2024-08-18",{"$f":"IF(G7<CALCULADORA!$C$23,0,IF(CALCULADORA!$C$27>'TIR de Tenencia'!G7,E7,CALCULADORA!$C$33))","v":2311594563.8594694},"2024-08-18",2311594563.8594694,null,18,9,2024,null,6,"Junio"]
[{"$f":"+Flujos!A8","v":"2025-01-18"},{"$f":"+Flujos!L8","v":49630124222.999985},{"$f":"+Flujos!M8","v":2389629916.4737792},{"$f":"+Flujos!N8","v":479934251.69078493},{"$f":"+Flujos!O8","v":2869564168.1645641},null,"2024-09-18",{"$f":"IF(G8<CALCULADORA!$C$23,0,IF(CALCULADORA!$C$27>'TIR de Tenencia'!G8,E8,CALCULADORA!$C$33))","v":2869564168.1645641},"2024-09-18",2869564168.1645641,null,18,10,2024,null,7,"Julio"]
[{"$f":"+Flujos!A9","v":"2025-02-18"},{"$f":"+Flujos!L9","v":46918895231.270226},{"$f":"+Flujos!M9","v":2711228991.7297568},{"$f":"+Flujos!N9","v":457887526.08139783},{"$f":"+Flujos!O9","v":3169116517.8111548},null,"2024-10-18",{"$f":"IF(G9<CALCULADORA!$C$23,0,IF(CALCULADORA!$C$27>'TIR de Tenencia'!G9,E9,CALCULADORA!$C$33))","v":3169116517.8111548},"2024-10-18",3169116517.8111548,null,18,11,2024,null,8,"Agosto"]
[{"$f":"+Flujos!A10","v":"2025-03-18"},{"$f":"+Flujos!L10","v":45157004641.530914},{"$f":"+Flujos!M10","v":1761890589.7393122},{"$f":"+Flujos!N10","v":432873727.4036991},{"$f":"+Flujos!O10","v":2194764317.1430111},null,"2024-11-18",{"$f":"IF(G10<CALCULADORA!$C$23,0,IF(CALCULADORA!$C$27>'TIR de Tenencia'!G10,E10,CALCULADORA!$C$33))","v":2194764317.1430111},"2024-11-18",2194764317.1430111,null,18,12,2024,null,9,"Septiembre"]
[{"$f":"+Flujos!A11","v":"2025-04-18"},{"$f":"+Flujos!L11","v":43457486240.182449},{"$f":"+Flujos!M11","v":1699518401.3484659},{"$f":"+Flujos!N11","v":416618524.82276422},{"$f":"+Flujos!O11","v":2116136926.1712301},null,"2024-12-18",{"$f":"IF(G11<CALCULADORA!$C$23,0,IF(CALCULADORA!$C$27>'TIR de Tenencia'!G11,E11,CALCULADORA!$C$33))","v":2116136926.1712301},"2024-12-18",2116136926.1712301,null,18,{"$f":"+IF(M10=12,1,M10+1)","v":1},2025,null,10,"Octubre"]
[{"$f":"+Flujos!A12","v":"2025-05-18"},{"$f":"+Flujos!L12","v":41818754649.249405},{"$f":"+Flujos!M12","v":1638731590.9330437},{"$f":"+Flujos!N12","v":400938768.05192327},{"$f":"+Flujos!O12","v":2039670358.984967},null,"2025-01-18",{"$f":"IF(G12<CALCULADORA!$C$23,0,IF(CALCULADORA!$C$27>'TIR de Tenencia'!G12,E12,CALCULADORA!$C$33))","v":2039670358.984967},"2025-01-18",2039670358.984967,null,18,2,2025,null,11,"Noviembre"]
[{"$f":"+Flujos!A13","v":"2025-06-18"},{"$f":"+Flujos!L13","v":40238801764.437492},{"$f":"+Flujos!M13","v":1579952884.8119106},{"$f":"+Flujos!N13","v":385819830.39397502},{"$f":"+Flujos!O13","v":1965772715.2058856},null,"2025-02-18",{"$f":"IF(G13<CALCULADORA!$C$23,0,IF(CALCULADORA!$C$27>'TIR de Tenencia'!G13,E13,CALCULADORA!$C$33))","v":50889240475},"2025-02-18",50889240475,null,18,3,2025,null,12,"Diciembre"]
[{"$f":"+Flujos!A14","v":"2025-07-18"},{"$f":"+Flujos!L14","v":38715528147.882805},{"$f":"+Flujos!M14","v":1523273616.5546901},{"$f":"+Flujos!N14","v":371243185.0787003},{"$f":"+Flujos!O14","v":1894516801.6333904},null,"2025-03-18",{"$f":"IF(G14<CALCULADORA!$C$23,0,IF(CALCULADORA!$C$27>'TIR de Tenencia'!G14,E14,CALCULADORA!$C$33))","v":50889240475}," "," ",null,18,4,2025]
[{"$f":"+Flujos!A15","v":"2025-08-18"},{"$f":"+Flujos!L15","v":37247543431.123428},{"$f":"+Flujos!M15","v":1467984716.7593732},{"$f":"+Flujos!N15","v":357189462.69236678},{"$f":"+Flujos!O15","v":1825174179.45174},null,"2025-04-18",{"$f":"IF(G15<CALCULADORA!$C$23,0,IF(CALCULADORA!$C$27>'TIR de Tenencia'!G15,E15,CALCULADORA!$C$33))","v":50889240475}," "," ",null,18,{"$f":"+IF(M14=12,1,M14+1)","v":5},2025]
[{"$f":"+Flujos!A16","v":"2025-09-18"},{"$f":"+Flujos!L16","v":35832095264.696396},{"$f":"+Flujos!M16","v":1415448166.4270341},{"$f":"+Flujos!N16","v":343645835.69554472},{"$f":"+Flujos!O16","v":1759094002.1225789},null,"2025-05-18",{"$f":"IF(G16<CALCULADORA!$C$23,0,IF(CALCULADORA!$C$27>'TIR de Tenencia'!G16,E16,CALCULADORA!$C$33))","v":50889240475}," "," ",null,18,6,2025]
[{"$f":"+Flujos!A17","v":"2025-10-18"},{"$f":"+Flujos!L17","v":34467847586.586601},{"$f":"+Flujos!M17","v":1364247678.1097953},{"$f":"+Flujos!N17","v":330586910.91208893},{"$f":"+Flujos!O17","v":1694834589.0218842},null,"2025-06-18",{"$f":"IF(G17<CALCULADORA!$C$23,0,IF(CALCULADORA!$C$27>'TIR de Tenencia'!G17,E17,CALCULADORA!$C$33))","v":50889240475},{"$f":"+IF(H17=H16,\" \",G17)","v":" "}," ",null,18,7,2025]
[{"$f":"+Flujos!A18","v":"2025-11-18"},{"$f":"+Flujos!L18","v":33153076784.226757},{"$f":"+Flujos!M18","v":1314770802.3598428},{"$f":"+Flujos!N18","v":318000361.833848},{"$f":"+Flujos!O18","v":1632771164.1936908},null,"2025-07-18",{"$f":"IF(G18<CALCULADORA!$C$23,0,IF(CALCULADORA!$C$27>'TIR de Tenencia'!G18,E18,CALCULADORA!$C$33))","v":50889240475}," "," ",null,18,8,2025]
[{"$f":"+Flujos!A19","v":"2025-12-18"},{"$f":"+Flujos!L19","v":31886732521.566196},{"$f":"+Flujos!M19","v":1266344262.6605604},{"$f":"+Flujos!N19","v":305870286.41127604},{"$f":"+Flujos!O19","v":1572214549.0718365},null,"2025-08-18",{"$f":"IF(G19<CALCULADORA!$C$23,0,IF(CALCULADORA!$C$27>'TIR de Tenencia'!G19,E19,CALCULADORA!$C$33))","v":50889240475}," "," ",null,18,9,2025]
[{"$f":"+Flujos!A20","v":"2026-01-18"},{"$f":"+Flujos!L20","v":30665947047.942482},{"$f":"+Flujos!M20","v":1220785473.6237125},{"$f":"+Flujos!N20","v":294186994.24396974},{"$f":"+Flujos!O20","v":1514972467.8676822},null,"2025-09-18",{"$f":"IF(G20<CALCULADORA!$C$23,0,IF(CALCULADORA!$C$27>'TIR de Tenencia'!G20,E20,CALCULADORA!$C$33))","v":50889240475}," "," ",null,18,{"$f":"+IF(M19=12,1,M19+1)","v":10},2025]
[{"$f":"+Flujos!A21","v":"2026-02-18"},{"$f":"+Flujos!L21","v":29489718162.564613},{"$f":"+Flujos!M21","v":1176228885.3778682},{"$f":"+Flujos!N21","v":282924027.46431732},{"$f":"+Flujos!O21","v":1459152912.8421855},null,"2025-10-18",{"$f":"IF(G21<CALCULADORA!$C$23,0,IF(CALCULADORA!$C$27>'TIR de Tenencia'!G21,E21,CALCULADORA!$C$33))","v":50889240475}," "," ",null,18,11,2025]
[{"$f":"+Flujos!A22","v":"2026-03-18"},{"$f":"+Flujos!L22","v":28355932233.838261},{"$f":"+Flujos!M22","v":1133785928.726351},{"$f":"+Flujos!N22","v":272072139.76782113},{"$f":"+Flujos!O22","v":1405858068.4941721},null,"2025-11-18",{"$f":"IF(G22<CALCULADORA!$C$23,0,IF(CALCULADORA!$C$27>'TIR de Tenencia'!G22,E22,CALCULADORA!$C$33))","v":50889240475}," "," ",null,18,12,2025]
[{"$f":"+Flujos!A23","v":"2026-04-18"},{"$f":"+Flujos!L23","v":27263503749.946075},{"$f":"+Flujos!M23","v":1092428483.8921833},{"$f":"+Flujos!N23","v":261611830.78939179},{"$f":"+Flujos!O23","v":1354040314.6815751},null,"2025-12-18",{"$f":"IF(G23<CALCULADORA!$C$23,0,IF(CALCULADORA!$C$27>'TIR de Tenencia'!G23,E23,CALCULADORA!$C$33))","v":50889240475}," "," ",null,18,1,2026]
[{"$f":"+Flujos!A24","v":"2026-05-18"},{"$f":"+Flujos!L24","v":26211437298.402908},{"$f":"+Flujos!M24","v":1052066451.5431688},{"$f":"+Flujos!N24","v":251533085.59700248},{"$f":"+Flujos!O24","v":1303599537.1401713},null,"2026-01-18",{"$f":"IF(G24<CALCULADORA!$C$23,0,IF(CALCULADORA!$C$27>'TIR de Tenencia'!G24,E24,CALCULADORA!$C$33))","v":50889240475}," "," ",null,18,2,2026]
[{"$f":"+Flujos!A25","v":"2026-06-18"},{"$f":"+Flujos!L25","v":25198011117.997608},{"$f":"+Flujos!M25","v":1013426180.4052995},{"$f":"+Flujos!N25","v":241826720.51506522},{"$f":"+Flujos!O25","v":1255252900.9203649},null,"2026-02-18",{"$f":"IF(G25<CALCULADORA!$C$23,0,IF(CALCULADORA!$C$27>'TIR de Tenencia'!G25,E25,CALCULADORA!$C$33))","v":50889240475}," "," ",null,18,3,2026]
[{"$f":"+Flujos!A26","v":"2026-07-18"},{"$f":"+Flujos!L26","v":24222803716.648739},{"$f":"+Flujos!M26","v":975207401.34886825},{"$f":"+Flujos!N26","v":232476850.57464594},{"$f":"+Flujos!O26","v":1207684251.9235141},null,"2026-03-18",{"$f":"IF(G26<CALCULADORA!$C$23,0,IF(CALCULADORA!$C$27>'TIR de Tenencia'!G26,E26,CALCULADORA!$C$33))","v":50889240475}," ",{"$f":"+IF(H26=H25,\" \",H26)","v":" "},null,18,4,2026]
[{"$f":"+Flujos!A27","v":"2026-08-18"},{"$f":"+Flujos!L27","v":23283488556.805756},{"$f":"+Flujos!M27","v":939315159.84298134},{"$f":"+Flujos!N27","v":223479587.08980125},{"$f":"+Flujos!O27","v":1162794746.9327826},null,"2026-04-18",{"$f":"IF(G27<CALCULADORA!$C$23,0,IF(CALCULADORA!$C$27>'TIR de Tenencia'!G27,E27,CALCULADORA!$C$33))","v":50889240475}," "," ",null,18,5,2026]
[{"$f":"+Flujos!A28","v":"2026-09-18"},{"$f":"+Flujos!L28","v":22378853000.196297},{"$f":"+Flujos!M28","v":904635556.60946012},{"$f":"+Flujos!N28","v":214813465.4250899},{"$f":"+Flujos!O28","v":1119449022.03455},null,"2026-05-18",{"$f":"IF(G28<CALCULADORA!$C$23,0,IF(CALCULADORA!$C$27>'TIR de Tenencia'!G28,E28,CALCULADORA!$C$33))","v":50889240475}," "," ",null,18,6,2026]
[{"$f":"+Flujos!A29","v":"2026-10-18"},{"$f":"+Flujos!L29","v":21508098495.204865},{"$f":"+Flujos!M29","v":870754504.99143064},{"$f":"+Flujos!N29","v":206467297.77981102},{"$f":"+Flujos!O29","v":1077221802.7712417},null,"2026-06-18",{"$f":"IF(G29<CALCULADORA!$C$23,0,IF(CALCULADORA!$C$27>'TIR de Tenencia'!G29,E29,CALCULADORA!$C$33))","v":50889240475}," "," ",null,18,7,2026]
[{"$f":"+Flujos!A30","v":"2026-11-18"},{"$f":"+Flujos!L30","v":20669845164.387691},{"$f":"+Flujos!M30","v":838253330.81717217},{"$f":"+Flujos!N30","v":198433716.71676007},{"$f":"+Flujos!O30","v":1036687047.5339322},null,"2026-07-18",{"$f":"IF(G30<CALCULADORA!$C$23,0,IF(CALCULADORA!$C$27>'TIR de Tenencia'!G30,E30,CALCULADORA!$C$33))","v":50889240475}," "," ",null,18,8,2026]
[{"$f":"+Flujos!A31","v":"2026-12-18"},{"$f":"+Flujos!L31","v":19863024775.251411},{"$f":"+Flujos!M31","v":806820389.13628042},{"$f":"+Flujos!N31","v":190699991.48664084},{"$f":"+Flujos!O31","v":997520380.62292123},null,"2026-08-18",{"$f":"IF(G31<CALCULADORA!$C$23,0,IF(CALCULADORA!$C$27>'TIR de Tenencia'!G31,E31,CALCULADORA!$C$33))","v":50889240475}," "," ",null,18,9,2026]
[{"$f":"+Flujos!A32","v":"2027-01-18"},{"$f":"+Flujos!L32","v":19086777681.427879},{"$f":"+Flujos!M32","v":776247093.82353377},{"$f":"+Flujos!N32","v":183256266.57646951},{"$f":"+Flujos!O32","v":959503360.40000331},null,"2026-09-18",{"$f":"IF(G32<CALCULADORA!$C$23,0,IF(CALCULADORA!$C$27>'TIR de Tenencia'!G32,E32,CALCULADORA!$C$33))","v":50889240475}," "," ",null,18,10,2026]
[{"$f":"+Flujos!A33","v":"2027-02-18"},{"$f":"+Flujos!L33","v":18340235596.886955},{"$f":"+Flujos!M33","v":746542084.54092383},{"$f":"+Flujos!N33","v":176094610.88885361},{"$f":"+Flujos!O33","v":922636695.42977738},null,"2026-10-18",{"$f":"IF(G33<CALCULADORA!$C$23,0,IF(CALCULADORA!$C$27>'TIR de Tenencia'!G33,E33,CALCULADORA!$C$33))","v":50889240475}," "," ",null,18,11,2026]
[{"$f":"+Flujos!A34","v":"2027-03-18"},{"$f":"+Flujos!L34","v":17621519395.145508},{"$f":"+Flujos!M34","v":718716201.74144578},{"$f":"+Flujos!N34","v":169207013.61687905},{"$f":"+Flujos!O34","v":887923215.35832477},null,"2026-11-18",{"$f":"IF(G34<CALCULADORA!$C$23,0,IF(CALCULADORA!$C$27>'TIR de Tenencia'!G34,E34,CALCULADORA!$C$33))","v":50889240475}," "," ",null,18,12,2026]
[{"$f":"+Flujos!A35","v":"2027-04-18"},{"$f":"+Flujos!L35","v":16929759555.935976},{"$f":"+Flujos!M35","v":691759839.20953178},{"$f":"+Flujos!N35","v":162576137.93961245},{"$f":"+Flujos!O35","v":854335977.14914417},null,{"$f":"+DATE(N34,M34,L34)","v":"2026-12-18"},{"$f":"IF(G35<CALCULADORA!$C$23,0,IF(CALCULADORA!$C$27>'TIR de Tenencia'!G35,E35,CALCULADORA!$C$33))","v":50889240475}," "," ",null,18,1,2027]
[{"$f":"+Flujos!A36","v":"2027-05-18"},{"$f":"+Flujos!L36","v":16264234667.482075},{"$f":"+Flujos!M36","v":665524888.45390046},{"$f":"+Flujos!N36","v":156193961.66306531},{"$f":"+Flujos!O36","v":821718850.11696577},null,"2027-01-18",{"$f":"IF(G36<CALCULADORA!$C$23,0,IF(CALCULADORA!$C$27>'TIR de Tenencia'!G36,E36,CALCULADORA!$C$33))","v":50889240475},{"$f":"+IF(IF(H36=H35,\" \",G36)=CALCULADORA!C27,'TIR de Tenencia'!G36,CALCULADORA!C27)","v":"2025-02-01"}," ",null,18,2,2027]
[{"$f":"+Flujos!A37","v":"2027-06-18"},{"$f":"+Flujos!L37","v":15624227020.719805},{"$f":"+Flujos!M37","v":640007646.76226997},{"$f":"+Flujos!N37","v":150053829.04218963},{"$f":"+Flujos!O37","v":790061475.80445957},null,"2027-02-18",{"$f":"IF(G37<CALCULADORA!$C$23,0,IF(CALCULADORA!$C$27>'TIR de Tenencia'!G37,E37,CALCULADORA!$C$33))","v":50889240475}," "," ",null,18,3,2027]
[{"$f":"+Flujos!A38","v":"2027-07-18"},{"$f":"+Flujos!L38","v":15009326848.823288},{"$f":"+Flujos!M38","v":614900171.89651775},{"$f":"+Flujos!N38","v":144149118.4931609},{"$f":"+Flujos!O38","v":759049290.38967872},null,"2027-03-18",{"$f":"IF(G38<CALCULADORA!$C$23,0,IF(CALCULADORA!$C$27>'TIR de Tenencia'!G38,E38,CALCULADORA!$C$33))","v":50889240475}," "," ",null,18,4,2027]
[{"$f":"+Flujos!A39","v":"2027-08-18"},{"$f":"+Flujos!L39","v":14417721057.011753},{"$f":"+Flujos!M39","v":591605791.8115344},{"$f":"+Flujos!N39","v":138476049.50724366},{"$f":"+Flujos!O39","v":730081841.31877804},null,"2027-04-18",{"$f":"IF(G39<CALCULADORA!$C$23,0,IF(CALCULADORA!$C$27>'TIR de Tenencia'!G39,E39,CALCULADORA!$C$33))","v":50889240475}," "," ",null,18,5,2027]
[{"$f":"+Flujos!A40","v":"2027-09-18"},{"$f":"+Flujos!L40","v":13848778949.959829},{"$f":"+Flujos!M40","v":568942107.05192387},{"$f":"+Flujos!N40","v":133017894.47199044},{"$f":"+Flujos!O40","v":701960001.52391434},null,"2027-05-18",{"$f":"IF(G40<CALCULADORA!$C$23,0,IF(CALCULADORA!$C$27>'TIR de Tenencia'!G40,E40,CALCULADORA!$C$33))","v":50889240475}," "," ",null,18,6,2027]
[{"$f":"+Flujos!A41","v":"2027-10-18"},{"$f":"+Flujos!L41","v":13301343430.07938},{"$f":"+Flujos!M41","v":547435519.88044882},{"$f":"+Flujos!N41","v":127768834.59232938},{"$f":"+Flujos!O41","v":675204354.4727782},null,"2027-06-18",{"$f":"IF(G41<CALCULADORA!$C$23,0,IF(CALCULADORA!$C$27>'TIR de Tenencia'!G41,E41,CALCULADORA!$C$33))","v":50889240475}," "," ",null,18,7,2027]
[{"$f":"+Flujos!A42","v":"2027-11-18"},{"$f":"+Flujos!L42","v":12775229978.875019},{"$f":"+Flujos!M42","v":526113451.20436174},{"$f":"+Flujos!N42","v":122718194.48591235},{"$f":"+Flujos!O42","v":648831645.69027412},null,"2027-07-18",{"$f":"IF(G42<CALCULADORA!$C$23,0,IF(CALCULADORA!$C$27>'TIR de Tenencia'!G42,E42,CALCULADORA!$C$33))","v":50889240475}," "," ",null,18,8,2027]
[{"$f":"+Flujos!A43","v":"2027-12-18"},{"$f":"+Flujos!L43","v":12269861590.349461},{"$f":"+Flujos!M43","v":505368388.52555805},{"$f":"+Flujos!N43","v":117864271.78510092},{"$f":"+Flujos!O43","v":623232660.31065893},null,"2027-08-18",{"$f":"IF(G43<CALCULADORA!$C$23,0,IF(CALCULADORA!$C$27>'TIR de Tenencia'!G43,E43,CALCULADORA!$C$33))","v":50889240475}," "," ",null,18,9,2027]
[{"$f":"+Flujos!A44","v":"2028-01-18"},{"$f":"+Flujos!L44","v":11784154604.041498},{"$f":"+Flujos!M44","v":485706986.30796283},{"$f":"+Flujos!N44","v":113201743.03256412},{"$f":"+Flujos!O44","v":598908729.34052694},null,"2027-09-18",{"$f":"IF(G44<CALCULADORA!$C$23,0,IF(CALCULADORA!$C$27>'TIR de Tenencia'!G44,E44,CALCULADORA!$C$33))","v":50889240475}," "," ",null,18,10,2027]
[{"$f":"+Flujos!A45","v":"2028-02-18"},{"$f":"+Flujos!L45","v":11317112990.347263},{"$f":"+Flujos!M45","v":467041613.69423437},{"$f":"+Flujos!N45","v":108720610.37688686},{"$f":"+Flujos!O45","v":575762224.07112122},null,"2027-10-18",{"$f":"IF(G45<CALCULADORA!$C$23,0,IF(CALCULADORA!$C$27>'TIR de Tenencia'!G45,E45,CALCULADORA!$C$33))","v":50889240475}," "," ",null,18,11,2027]
[{"$f":"+Flujos!A46","v":"2028-03-18"},{"$f":"+Flujos!L46","v":10867906107.478155},{"$f":"+Flujos!M46","v":449206882.86910868},{"$f":"+Flujos!N46","v":104411684.44894385},{"$f":"+Flujos!O46","v":553618567.31805253},null,"2027-11-18",{"$f":"IF(G46<CALCULADORA!$C$23,0,IF(CALCULADORA!$C$27>'TIR de Tenencia'!G46,E46,CALCULADORA!$C$33))","v":50889240475}," "," ",null,18,12,2027]
[{"$f":"+Flujos!A47","v":"2028-04-18"},{"$f":"+Flujos!L47","v":10436412383.047579},{"$f":"+Flujos!M47","v":431493724.43057644},{"$f":"+Flujos!N47","v":100267301.74759346},{"$f":"+Flujos!O47","v":531761026.17816991},null,"2027-12-18",{"$f":"IF(G47<CALCULADORA!$C$23,0,IF(CALCULADORA!$C$27>'TIR de Tenencia'!G47,E47,CALCULADORA!$C$33))","v":50889240475}," "," ",null,18,1,2028]
[{"$f":"+Flujos!A48","v":"2028-05-18"},{"$f":"+Flujos!L48","v":10021585183.717146},{"$f":"+Flujos!M48","v":414827199.33043212},{"$f":"+Flujos!N48","v":96286340.645996958},{"$f":"+Flujos!O48","v":511113539.9764291},null,"2028-01-18",{"$f":"IF(G48<CALCULADORA!$C$23,0,IF(CALCULADORA!$C$27>'TIR de Tenencia'!G48,E48,CALCULADORA!$C$33))","v":50889240475}," "," ",null,18,2,2028]
[{"$f":"+Flujos!A49","v":"2028-06-18"},{"$f":"+Flujos!L49","v":9622604358.7163887},{"$f":"+Flujos!M49","v":398980825.00075817},{"$f":"+Flujos!N49","v":92459144.904974386},{"$f":"+Flujos!O49","v":491439969.90573257},null,"2028-02-18",{"$f":"IF(G49<CALCULADORA!$C$23,0,IF(CALCULADORA!$C$27>'TIR de Tenencia'!G49,E49,CALCULADORA!$C$33))","v":50889240475}," "," ",null,18,3,2028]
[{"$f":"+Flujos!A50","v":"2028-07-18"},{"$f":"+Flujos!L50","v":9239181096.4873066},{"$f":"+Flujos!M50","v":383423262.22908276},{"$f":"+Flujos!N50","v":88778147.813517407},{"$f":"+Flujos!O50","v":472201410.04260015},null,"2028-03-18",{"$f":"IF(G50<CALCULADORA!$C$23,0,IF(CALCULADORA!$C$27>'TIR de Tenencia'!G50,E50,CALCULADORA!$C$33))","v":50889240475}," "," ",null,18,4,2028]
[{"$f":"+Flujos!A51","v":"2028-08-18"},{"$f":"+Flujos!L51","v":8870178047.2406006},{"$f":"+Flujos!M51","v":369003049.24670517},{"$f":"+Flujos!N51","v":85240684.796191886},{"$f":"+Flujos!O51","v":454243734.04289705},null,"2028-04-18",{"$f":"IF(G51<CALCULADORA!$C$23,0,IF(CALCULADORA!$C$27>'TIR de Tenencia'!G51,E51,CALCULADORA!$C$33))","v":50889240475}," "," ",null,18,5,2028]
[{"$f":"+Flujos!A52","v":"2028-09-18"},{"$f":"+Flujos!L52","v":8515505111.6440773},{"$f":"+Flujos!M52","v":354672935.59652376},{"$f":"+Flujos!N52","v":81836262.663841784},{"$f":"+Flujos!O52","v":436509198.26036555},null,"2028-05-18",{"$f":"IF(G52<CALCULADORA!$C$23,0,IF(CALCULADORA!$C$27>'TIR de Tenencia'!G52,E52,CALCULADORA!$C$33))","v":50889240475}," "," ",null,18,6,2028]
[{"$f":"+Flujos!A53","v":"2028-10-18"},{"$f":"+Flujos!L53","v":8174774739.1455488},{"$f":"+Flujos!M53","v":340730372.49852842},{"$f":"+Flujos!N53","v":78564050.160028249},{"$f":"+Flujos!O53","v":419294422.6585567},null,"2028-06-18",{"$f":"IF(G53<CALCULADORA!$C$23,0,IF(CALCULADORA!$C$27>'TIR de Tenencia'!G53,E53,CALCULADORA!$C$33))","v":50889240475}," "," ",null,18,7,2028]
[{"$f":"+Flujos!A54","v":"2028-11-18"},{"$f":"+Flujos!L54","v":7847868442.9519911},{"$f":"+Flujos!M54","v":326906296.19355816},{"$f":"+Flujos!N54","v":75420471.743356839},{"$f":"+Flujos!O54","v":402326767.93691498},null,"2028-07-18",{"$f":"IF(G54<CALCULADORA!$C$23,0,IF(CALCULADORA!$C$27>'TIR de Tenencia'!G54,E54,CALCULADORA!$C$33))","v":50889240475}," "," ",null,18,8,2028]
[{"$f":"+Flujos!A55","v":"2028-12-18"},{"$f":"+Flujos!L55","v":7533374872.5652351},{"$f":"+Flujos!M55","v":314493570.38675618},{"$f":"+Flujos!N55","v":72404434.254675075},{"$f":"+Flujos!O55","v":386898004.64143127},null,"2028-08-18",{"$f":"IF(G55<CALCULADORA!$C$23,0,IF(CALCULADORA!$C$27>'TIR de Tenencia'!G55,E55,CALCULADORA!$C$33))","v":50889240475}," "," ",null,18,9,2028]
[{"$f":"+Flujos!A56","v":"2029-01-18"},{"$f":"+Flujos!L56","v":7230956464.0489025},{"$f":"+Flujos!M56","v":302418408.51633286},{"$f":"+Flujos!N56","v":69502916.574286863},{"$f":"+Flujos!O56","v":371921325.09061974},null,"2028-09-18",{"$f":"IF(G56<CALCULADORA!$C$23,0,IF(CALCULADORA!$C$27>'TIR de Tenencia'!G56,E56,CALCULADORA!$C$33))","v":50889240475}," "," ",null,18,10,2028]
[{"$f":"+Flujos!A57","v":"2029-02-18"},{"$f":"+Flujos!L57","v":6940416973.6520452},{"$f":"+Flujos!M57","v":290539490.39685726},{"$f":"+Flujos!N57","v":66712804.337315172},{"$f":"+Flujos!O57","v":357252294.73417246},null,"2028-10-18",{"$f":"IF(G57<CALCULADORA!$C$23,0,IF(CALCULADORA!$C$27>'TIR de Tenencia'!G57,E57,CALCULADORA!$C$33))","v":50889240475}," "," ",null,18,11,2028]
[{"$f":"+Flujos!A58","v":"2029-03-18"},{"$f":"+Flujos!L58","v":6660901074.8375139},{"$f":"+Flujos!M58","v":279515898.81453127},{"$f":"+Flujos!N58","v":64032286.998913765},{"$f":"+Flujos!O58","v":343548185.81344503},null,"2028-11-18",{"$f":"IF(G58<CALCULADORA!$C$23,0,IF(CALCULADORA!$C$27>'TIR de Tenencia'!G58,E58,CALCULADORA!$C$33))","v":50889240475}," "," ",null,18,12,2028]
[{"$f":"+Flujos!A59","v":"2029-04-18"},{"$f":"+Flujos!L59","v":6392142172.321002},{"$f":"+Flujos!M59","v":268758902.51651174},{"$f":"+Flujos!N59","v":61453473.316450901},{"$f":"+Flujos!O59","v":330212375.83296263},null,"2028-12-18",{"$f":"IF(G59<CALCULADORA!$C$23,0,IF(CALCULADORA!$C$27>'TIR de Tenencia'!G59,E59,CALCULADORA!$C$33))","v":50889240475}," "," ",null,18,1,2029]
[{"$f":"+Flujos!A60","v":"2029-05-18"},{"$f":"+Flujos!L60","v":6133759503.8561745},{"$f":"+Flujos!M60","v":258382668.46482787},{"$f":"+Flujos!N60","v":58973903.681833565},{"$f":"+Flujos!O60","v":317356572.1466614},null,"2029-01-18",{"$f":"IF(G60<CALCULADORA!$C$23,0,IF(CALCULADORA!$C$27>'TIR de Tenencia'!G60,E60,CALCULADORA!$C$33))","v":50889240475}," "," ",null,18,2,2029]
[{"$f":"+Flujos!A61","v":"2029-06-18"},{"$f":"+Flujos!L61","v":5885398226.1826687},{"$f":"+Flujos!M61","v":248361277.67350551},{"$f":"+Flujos!N61","v":56590065.182577066},{"$f":"+Flujos!O61","v":304951342.85608256},null,"2029-02-18",{"$f":"IF(G61<CALCULADORA!$C$23,0,IF(CALCULADORA!$C$27>'TIR de Tenencia'!G61,E61,CALCULADORA!$C$33))","v":50889240475}," "," ",null,18,3,2029]
[{"$f":"+Flujos!A62","v":"2029-07-18"},{"$f":"+Flujos!L62","v":5646673874.3418674},{"$f":"+Flujos!M62","v":238724351.84080091},{"$f":"+Flujos!N62","v":54298684.034761302},{"$f":"+Flujos!O62","v":293023035.87556219},null,"2029-03-18",{"$f":"IF(G62<CALCULADORA!$C$23,0,IF(CALCULADORA!$C$27>'TIR de Tenencia'!G62,E62,CALCULADORA!$C$33))","v":50889240475}," "," ",null,18,4,2029]
[{"$f":"+Flujos!A63","v":"2029-08-18"},{"$f":"+Flujos!L63","v":5417257524.0593834},{"$f":"+Flujos!M63","v":229416350.28248358},{"$f":"+Flujos!N63","v":52096213.164678067},{"$f":"+Flujos!O63","v":281512563.44716167},null,"2029-04-18",{"$f":"IF(G63<CALCULADORA!$C$23,0,IF(CALCULADORA!$C$27>'TIR de Tenencia'!G63,E63,CALCULADORA!$C$33))","v":50889240475}," "," ",null,18,5,2029]
[{"$f":"+Flujos!A64","v":"2029-09-18"},{"$f":"+Flujos!L64","v":5196649309.1771431},{"$f":"+Flujos!M64","v":220608214.88224071},{"$f":"+Flujos!N64","v":49979617.91697187},{"$f":"+Flujos!O64","v":270587832.79921257},null,"2029-05-18",{"$f":"IF(G64<CALCULADORA!$C$23,0,IF(CALCULADORA!$C$27>'TIR de Tenencia'!G64,E64,CALCULADORA!$C$33))","v":50889240475}," "," ",null,18,6,2029]
[{"$f":"+Flujos!A65","v":"2029-10-18"},{"$f":"+Flujos!L65","v":4984557332.5435781},{"$f":"+Flujos!M65","v":212091976.6335648},{"$f":"+Flujos!N65","v":47944286.526468322},{"$f":"+Flujos!O65","v":260036263.16003311},null,"2029-06-18",{"$f":"IF(G65<CALCULADORA!$C$23,0,IF(CALCULADORA!$C$27>'TIR de Tenencia'!G65,E65,CALCULADORA!$C$33))","v":50889240475}," "," ",null,18,7,2029]
[{"$f":"+Flujos!A66","v":"2029-11-18"},{"$f":"+Flujos!L66","v":4781014918.5692272},{"$f":"+Flujos!M66","v":203542413.97435054},{"$f":"+Flujos!N66","v":45987525.950047053},{"$f":"+Flujos!O66","v":249529939.92439759},null,"2029-07-18",{"$f":"IF(G66<CALCULADORA!$C$23,0,IF(CALCULADORA!$C$27>'TIR de Tenencia'!G66,E66,CALCULADORA!$C$33))","v":50889240475}," "," ",null,18,8,{"$f":"+IF(M66=1,N65+1,N65)","v":2029}]
[{"$f":"+Flujos!A67","v":"2029-12-18"},{"$f":"+Flujos!L67","v":4585627111.2773409},{"$f":"+Flujos!M67","v":195387807.29188651},{"$f":"+Flujos!N67","v":44109643.638719693},{"$f":"+Flujos!O67","v":239497450.93060619},null,{"$f":"+DATE(N66,M66,L66)","v":"2029-08-18"},{"$f":"IF(G67<CALCULADORA!$C$23,0,IF(CALCULADORA!$C$27>'TIR de Tenencia'!G67,E67,CALCULADORA!$C$33))","v":50889240475}," "," ",null,{"$f":"+L66","v":18},{"$f":"+IF(M66=12,1,M66+1)","v":9},2029]
[{"$f":"+Flujos!A68","v":"2030-01-18"},{"$f":"+Flujos!L68","v":4397773706.3606777},{"$f":"+Flujos!M68","v":187853404.91666299},{"$f":"+Flujos!N68","v":42306995.728644744},{"$f":"+Flujos!O68","v":230160400.64530772},null,"2029-09-18",{"$f":"IF(G68<CALCULADORA!$C$23,0,IF(CALCULADORA!$C$27>'TIR de Tenencia'!G68,E68,CALCULADORA!$C$33))","v":50889240475},{"$f":"+IF(H68=H67,\" \",G68)","v":" "},{"$f":"+IF(H68=H67,\" \",H68)","v":" "},null,18,10,2029]
[{"$f":"+Flujos!A69","v":"2030-02-18"},{"$f":"+Flujos!L69","v":4217151698.5308251},{"$f":"+Flujos!M69","v":180622007.82985249},{"$f":"+Flujos!N69","v":40573860.214883611},{"$f":"+Flujos!O69","v":221195868.04473609},null,"2029-10-18",{"$f":"IF(G69<CALCULADORA!$C$23,0,IF(CALCULADORA!$C$27>'TIR de Tenencia'!G69,E69,CALCULADORA!$C$33))","v":50889240475}," "," ",null,18,11,2029]
[{"$f":"+Flujos!A70","v":"2030-03-18"},{"$f":"+Flujos!L70","v":4043495109.6221905},{"$f":"+Flujos!M70","v":173656588.90863475},{"$f":"+Flujos!N70","v":38907441.570645392},{"$f":"+Flujos!O70","v":212564030.47928014},null,"2029-11-18",{"$f":"IF(G70<CALCULADORA!$C$23,0,IF(CALCULADORA!$C$27>'TIR de Tenencia'!G70,E70,CALCULADORA!$C$33))","v":50889240475}," "," ",null,18,12,2029]
[{"$f":"+Flujos!A71","v":"2030-04-18"},{"$f":"+Flujos!L71","v":3876499700.108933},{"$f":"+Flujos!M71","v":166995409.51325735},{"$f":"+Flujos!N71","v":37305285.881374329},{"$f":"+Flujos!O71","v":204300695.39463168},null,"2029-12-18",{"$f":"IF(G71<CALCULADORA!$C$23,0,IF(CALCULADORA!$C$27>'TIR de Tenencia'!G71,E71,CALCULADORA!$C$33))","v":50889240475}," "," ",null,18,1,2030]
[{"$f":"+Flujos!A72","v":"2030-05-18"},{"$f":"+Flujos!L72","v":3715988356.920229},{"$f":"+Flujos!M72","v":160511343.18870386},{"$f":"+Flujos!N72","v":35764586.233205013},{"$f":"+Flujos!O72","v":196275929.42190889},null,"2030-01-18",{"$f":"IF(G72<CALCULADORA!$C$23,0,IF(CALCULADORA!$C$27>'TIR de Tenencia'!G72,E72,CALCULADORA!$C$33))","v":50889240475}," "," ",null,18,2,2030]
[{"$f":"+Flujos!A73","v":"2030-06-18"},{"$f":"+Flujos!L73","v":3561661777.4799476},{"$f":"+Flujos!M73","v":154326579.44028136},{"$f":"+Flujos!N73","v":34283708.580946028},{"$f":"+Flujos!O73","v":188610288.02122739},null,"2030-02-18",{"$f":"IF(G73<CALCULADORA!$C$23,0,IF(CALCULADORA!$C$27>'TIR de Tenencia'!G73,E73,CALCULADORA!$C$33))","v":50889240475}," "," ",null,18,3,2030]
[{"$f":"+Flujos!A74","v":"2030-07-18"},{"$f":"+Flujos!L74","v":3413595867.3898702},{"$f":"+Flujos!M74","v":148065910.09007722},{"$f":"+Flujos!N74","v":32859891.559029996},{"$f":"+Flujos!O74","v":180925801.64910722},null,"2030-03-18",{"$f":"IF(G74<CALCULADORA!$C$23,0,IF(CALCULADORA!$C$27>'TIR de Tenencia'!G74,E74,CALCULADORA!$C$33))","v":50889240475}," "," ",null,18,4,2030]
[{"$f":"+Flujos!A75","v":"2030-08-18"},{"$f":"+Flujos!L75","v":3271358643.5504265},{"$f":"+Flujos!M75","v":142237223.83944359},{"$f":"+Flujos!N75","v":31493835.472538941},{"$f":"+Flujos!O75","v":173731059.31198254},null,"2030-04-18",{"$f":"IF(G75<CALCULADORA!$C$23,0,IF(CALCULADORA!$C$27>'TIR de Tenencia'!G75,E75,CALCULADORA!$C$33))","v":50889240475}," "," ",null,18,5,2030]
[{"$f":"+Flujos!A76","v":"2030-09-18"},{"$f":"+Flujos!L76","v":3123287796.5106397},{"$f":"+Flujos!M76","v":148070847.03978661},{"$f":"+Flujos!N76","v":30181554.845396236},{"$f":"+Flujos!O76","v":178252401.88518286},null,"2030-05-18",{"$f":"IF(G76<CALCULADORA!$C$23,0,IF(CALCULADORA!$C$27>'TIR de Tenencia'!G76,E76,CALCULADORA!$C$33))","v":50889240475}," "," ",null,18,6,2030]
[{"$f":"+Flujos!A77","v":"2030-10-18"},{"$f":"+Flujos!L77","v":2960212942.1853418},{"$f":"+Flujos!M77","v":163074854.32529807},{"$f":"+Flujos!N77","v":28815453.21060716},{"$f":"+Flujos!O77","v":191890307.53590524},null,"2030-06-18",{"$f":"IF(G77<CALCULADORA!$C$23,0,IF(CALCULADORA!$C$27>'TIR de Tenencia'!G77,E77,CALCULADORA!$C$33))","v":50889240475}," "," ",null,18,7,2030]
[{"$f":"+Flujos!A78","v":"2030-11-18"},{"$f":"+Flujos!L78","v":2803303103.8096285},{"$f":"+Flujos!M78","v":156909838.37571311},{"$f":"+Flujos!N78","v":27310924.604601964},{"$f":"+Flujos!O78","v":184220762.98031509},null,"2030-07-18",{"$f":"IF(G78<CALCULADORA!$C$23,0,IF(CALCULADORA!$C$27>'TIR de Tenencia'!G78,E78,CALCULADORA!$C$33))","v":50889240475}," "," ",null,18,8,2030]
[{"$f":"+Flujos!A79","v":"2030-12-18"},{"$f":"+Flujos!L79","v":2652273172.5377836},{"$f":"+Flujos!M79","v":151029931.27184466},{"$f":"+Flujos!N79","v":25863274.435747631},{"$f":"+Flujos!O79","v":176893205.70759228},null,"2030-08-18",{"$f":"IF(G79<CALCULADORA!$C$23,0,IF(CALCULADORA!$C$27>'TIR de Tenencia'!G79,E79,CALCULADORA!$C$33))","v":50889240475}," "," ",null,18,9,2030]
[{"$f":"+Flujos!A80","v":"2031-01-18"},{"$f":"+Flujos!L80","v":2507025643.6130471},{"$f":"+Flujos!M80","v":145247528.92473644},{"$f":"+Flujos!N80","v":24469872.28983359},{"$f":"+Flujos!O80","v":169717401.21457005},null,"2030-09-18",{"$f":"IF(G80<CALCULADORA!$C$23,0,IF(CALCULADORA!$C$27>'TIR de Tenencia'!G80,E80,CALCULADORA!$C$33))","v":50889240475}," "," ",null,18,10,2030]
[{"$f":"+Flujos!A81","v":"2031-02-18"},{"$f":"+Flujos!L81","v":2367282196.495553},{"$f":"+Flujos!M81","v":139743447.11749434},{"$f":"+Flujos!N81","v":23129818.587973971},{"$f":"+Flujos!O81","v":162873265.70546833},null,"2030-10-18",{"$f":"IF(G81<CALCULADORA!$C$23,0,IF(CALCULADORA!$C$27>'TIR de Tenencia'!G81,E81,CALCULADORA!$C$33))","v":50889240475}," "," ",null,18,11,2030]
[{"$f":"+Flujos!A82","v":"2031-03-18"},{"$f":"+Flujos!L82","v":2232687370.8062258},{"$f":"+Flujos!M82","v":134594825.68932745},{"$f":"+Flujos!N82","v":21840545.54486797},{"$f":"+Flujos!O82","v":156435371.23419541},null,"2030-11-18",{"$f":"IF(G82<CALCULADORA!$C$23,0,IF(CALCULADORA!$C$27>'TIR de Tenencia'!G82,E82,CALCULADORA!$C$33))","v":50889240475}," "," ",null,18,12,2030]
[{"$f":"+Flujos!A83","v":"2031-04-18"},{"$f":"+Flujos!L83","v":2103157238.4000058},{"$f":"+Flujos!M83","v":129530132.40621996},{"$f":"+Flujos!N83","v":20598773.68305824},{"$f":"+Flujos!O83","v":150128906.08927819},null,"2030-12-18",{"$f":"IF(G83<CALCULADORA!$C$23,0,IF(CALCULADORA!$C$27>'TIR de Tenencia'!G83,E83,CALCULADORA!$C$33))","v":50889240475}," "," ",null,18,1,2031]
[{"$f":"+Flujos!A84","v":"2031-05-18"},{"$f":"+Flujos!L84","v":1978610339.6066887},{"$f":"+Flujos!M84","v":124546898.79331718},{"$f":"+Flujos!N84","v":19403728.681478452},{"$f":"+Flujos!O84","v":143950627.47479564},null,"2031-01-18",{"$f":"IF(G84<CALCULADORA!$C$23,0,IF(CALCULADORA!$C$27>'TIR de Tenencia'!G84,E84,CALCULADORA!$C$33))","v":50889240475}," "," ",null,18,2,2031]
[{"$f":"+Flujos!A85","v":"2031-06-18"},{"$f":"+Flujos!L85","v":1858694299.6407676},{"$f":"+Flujos!M85","v":119916039.96592122},{"$f":"+Flujos!N85","v":18254658.99321131},{"$f":"+Flujos!O85","v":138170698.95913252},null,"2031-02-18",{"$f":"IF(G85<CALCULADORA!$C$23,0,IF(CALCULADORA!$C$27>'TIR de Tenencia'!G85,E85,CALCULADORA!$C$33))","v":50889240475}," "," ",null,18,3,2031]
[{"$f":"+Flujos!A86","v":"2031-07-18"},{"$f":"+Flujos!L86","v":1764389303.410955},{"$f":"+Flujos!M86","v":94304996.229812533},{"$f":"+Flujos!N86","v":17148313.608485721},{"$f":"+Flujos!O86","v":111453309.83829826},null,"2031-03-18",{"$f":"IF(G86<CALCULADORA!$C$23,0,IF(CALCULADORA!$C$27>'TIR de Tenencia'!G86,E86,CALCULADORA!$C$33))","v":50889240475}," "," ",null,18,4,2031]
[{"$f":"+Flujos!A87","v":"2031-08-18"},{"$f":"+Flujos!L87","v":1653695485.5021505},{"$f":"+Flujos!M87","v":110693817.90880433},{"$f":"+Flujos!N87","v":16278255.71326947},{"$f":"+Flujos!O87","v":126972073.6220738},null,"2031-04-18",{"$f":"IF(G87<CALCULADORA!$C$23,0,IF(CALCULADORA!$C$27>'TIR de Tenencia'!G87,E87,CALCULADORA!$C$33))","v":50889240475}," "," ",null,18,5,2031]
[{"$f":"+Flujos!A88","v":"2031-09-18"},{"$f":"+Flujos!L88","v":1547217205.5264409},{"$f":"+Flujos!M88","v":106478279.97570974},{"$f":"+Flujos!N88","v":15256994.549242841},{"$f":"+Flujos!O88","v":121735274.52495258},null,"2031-05-18",{"$f":"IF(G88<CALCULADORA!$C$23,0,IF(CALCULADORA!$C$27>'TIR de Tenencia'!G88,E88,CALCULADORA!$C$33))","v":50889240475}," "," ",null,18,6,2031]
[{"$f":"+Flujos!A89","v":"2031-10-18"},{"$f":"+Flujos!L89","v":1444809440.5861127},{"$f":"+Flujos!M89","v":102407764.94032812},{"$f":"+Flujos!N89","v":14274625.938186944},{"$f":"+Flujos!O89","v":116682390.87851506},null,"2031-06-18",{"$f":"IF(G89<CALCULADORA!$C$23,0,IF(CALCULADORA!$C$27>'TIR de Tenencia'!G89,E89,CALCULADORA!$C$33))","v":50889240475}," "," ",null,18,7,2031]
[{"$f":"+Flujos!A90","v":"2031-11-18"},{"$f":"+Flujos!L90","v":1346291992.0167739},{"$f":"+Flujos!M90","v":98517448.569338754},{"$f":"+Flujos!N90","v":13329811.898847476},{"$f":"+Flujos!O90","v":111847260.46818623},null,"2031-07-18",{"$f":"IF(G90<CALCULADORA!$C$23,0,IF(CALCULADORA!$C$27>'TIR de Tenencia'!G90,E90,CALCULADORA!$C$33))","v":50889240475}," "," ",null,18,8,2031]
[{"$f":"+Flujos!A91","v":"2031-12-18"},{"$f":"+Flujos!L91","v":1251500706.2405877},{"$f":"+Flujos!M91","v":94791285.776186213},{"$f":"+Flujos!N91","v":12420889.918346755},{"$f":"+Flujos!O91","v":107212175.69453296},null,"2031-08-18",{"$f":"IF(G91<CALCULADORA!$C$23,0,IF(CALCULADORA!$C$27>'TIR de Tenencia'!G91,E91,CALCULADORA!$C$33))","v":50889240475}," "," ",null,18,9,2031]
[{"$f":"+Flujos!A92","v":"2032-01-18"},{"$f":"+Flujos!L92","v":1160526916.8271775},{"$f":"+Flujos!M92","v":90973789.413410157},{"$f":"+Flujos!N92","v":11546345.515775662},{"$f":"+Flujos!O92","v":102520134.92918582},null,"2031-09-18",{"$f":"IF(G92<CALCULADORA!$C$23,0,IF(CALCULADORA!$C$27>'TIR de Tenencia'!G92,E92,CALCULADORA!$C$33))","v":50889240475}," "," ",null,18,10,2031]
[{"$f":"+Flujos!A93","v":"2032-02-18"},{"$f":"+Flujos!L93","v":-1.5974044799804688E-5},{"$f":"+Flujos!M93","v":1160526916.8271935},{"$f":"+Flujos!N93","v":10707021.33464754},{"$f":"+Flujos!O93","v":1171233938.1618412},null,"2031-10-18",{"$f":"IF(G93<CALCULADORA!$C$23,0,IF(CALCULADORA!$C$27>'TIR de Tenencia'!G93,E93,CALCULADORA!$C$33))","v":50889240475}," "," ",null,18,11,2031]
[{"$f":"+Flujos!A94","v":"2032-03-18"},{"$f":"+Flujos!L94","v":-1.5974044799804688E-5},{"$f":"+Flujos!M94","v":0},{"$f":"+Flujos!N94","v":-1.4737653732299804E-7},{"$f":"+Flujos!O94","v":-1.4737653732299804E-7},null,"2031-11-18",{"$f":"IF(G94<CALCULADORA!$C$23,0,IF(CALCULADORA!$C$27>'TIR de Tenencia'!G94,E94,CALCULADORA!$C$33))","v":50889240475}," "," ",null,18,12,2031]
[{"$f":"+Flujos!A95","v":"2032-04-18"},{"$f":"+Flujos!L95","v":-1.5974044799804688E-5},{"$f":"+Flujos!M95","v":0},{"$f":"+Flujos!N95","v":-1.4737653732299804E-7},{"$f":"+Flujos!O95","v":-1.4737653732299804E-7},null,"2031-12-18",{"$f":"IF(G95<CALCULADORA!$C$23,0,IF(CALCULADORA!$C$27>'TIR de Tenencia'!G95,E95,CALCULADORA!$C$33))","v":50889240475}," "," ",null,18,1,2032]
[{"$f":"+Flujos!A96","v":"2032-05-18"},{"$f":"+Flujos!L96","v":-1.5974044799804688E-5},{"$f":"+Flujos!M96","v":0},{"$f":"+Flujos!N96","v":-1.4737653732299804E-7},{"$f":"+Flujos!O96","v":-1.4737653732299804E-7},null,"2032-01-18",{"$f":"IF(G96<CALCULADORA!$C$23,0,IF(CALCULADORA!$C$27>'TIR de Tenencia'!G96,E96,CALCULADORA!$C$33))","v":50889240475}," "," ",null,18,2,2032]
[{"$f":"+Flujos!A97","v":"2032-06-18"},{"$f":"+Flujos!L97","v":-1.5974044799804688E-5},{"$f":"+Flujos!M97","v":0},{"$f":"+Flujos!N97","v":-1.4737653732299804E-7},{"$f":"+Flujos!O97","v":-1.4737653732299804E-7},null,"2032-02-18",{"$f":"IF(G97<CALCULADORA!$C$23,0,IF(CALCULADORA!$C$27>'TIR de Tenencia'!G97,E97,CALCULADORA!$C$33))","v":50889240475}," "," ",null,18,3,2032]
[{"$f":"+Flujos!A98","v":"2032-07-18"},{"$f":"+Flujos!L98","v":-1.5974044799804688E-5},{"$f":"+Flujos!M98","v":0},{"$f":"+Flujos!N98","v":-1.4737653732299804E-7},{"$f":"+Flujos!O98","v":-1.4737653732299804E-7},null,"2032-03-18",{"$f":"IF(G98<CALCULADORA!$C$23,0,IF(CALCULADORA!$C$27>'TIR de Tenencia'!G98,E98,CALCULADORA!$C$33))","v":50889240475}," "," ",null,18,4,2032]
[{"$f":"+Flujos!A99","v":"2032-08-18"},{"$f":"+Flujos!L99","v":-1.5974044799804688E-5},{"$f":"+Flujos!M99","v":0},{"$f":"+Flujos!N99","v":-1.4737653732299804E-7},{"$f":"+Flujos!O99","v":-1.4737653732299804E-7},null,{"$f":"+DATE(N98,M98,L98)","v":"2032-04-18"},{"$f":"IF(G99<CALCULADORA!$C$23,0,IF(CALCULADORA!$C$27>'TIR de Tenencia'!G99,E99,CALCULADORA!$C$33))","v":50889240475}," "," ",null,18,5,2032]
[{"$f":"+Flujos!A100","v":"2032-09-18"},{"$f":"+Flujos!L100","v":-1.5974044799804688E-5},{"$f":"+Flujos!M100","v":0},{"$f":"+Flujos!N100","v":-1.4737653732299804E-7},{"$f":"+Flujos!O100","v":-1.4737653732299804E-7},null,"2032-05-18",{"$f":"IF(G100<CALCULADORA!$C$23,0,IF(CALCULADORA!$C$27>'TIR de Tenencia'!G100,E100,CALCULADORA!$C$33))","v":50889240475}," "," ",null,18,6,2032]
[{"$f":"+Flujos!A101","v":"2032-10-18"},{"$f":"+Flujos!L101","v":-1.5974044799804688E-5},{"$f":"+Flujos!M101","v":0},{"$f":"+Flujos!N101","v":-1.4737653732299804E-7},{"$f":"+Flujos!O101","v":-1.4737653732299804E-7},null,"2032-06-18",{"$f":"IF(G101<CALCULADORA!$C$23,0,IF(CALCULADORA!$C$27>'TIR de Tenencia'!G101,E101,CALCULADORA!$C$33))","v":50889240475}," "," ",null,18,7,2032]
[{"$f":"+Flujos!A102","v":"2032-11-18"},{"$f":"+Flujos!L102","v":-1.5974044799804688E-5},{"$f":"+Flujos!M102","v":0},{"$f":"+Flujos!N102","v":-1.4737653732299804E-7},{"$f":"+Flujos!O102","v":-1.4737653732299804E-7},null,"2032-07-18",{"$f":"IF(G102<CALCULADORA!$C$23,0,IF(CALCULADORA!$C$27>'TIR de Tenencia'!G102,E102,CALCULADORA!$C$33))","v":50889240475}," "," ",null,18,8,2032]
[{"$f":"+Flujos!A103","v":"2032-12-18"},{"$f":"+Flujos!L103","v":-1.5974044799804688E-5},{"$f":"+Flujos!M103","v":0},{"$f":"+Flujos!N103","v":-1.4737653732299804E-7},{"$f":"+Flujos!O103","v":-1.4737653732299804E-7},null,"2032-08-18",{"$f":"IF(G103<CALCULADORA!$C$23,0,IF(CALCULADORA!$C$27>'TIR de Tenencia'!G103,E103,CALCULADORA!$C$33))","v":50889240475}," "," ",null,18,9,2032]
[{"$f":"+Flujos!A104","v":"2033-01-18"},{"$f":"+Flujos!L104","v":-1.5974044799804688E-5},{"$f":"+Flujos!M104","v":0},{"$f":"+Flujos!N104","v":-1.4737653732299804E-7},{"$f":"+Flujos!O104","v":-1.4737653732299804E-7},null,"2032-09-18",{"$f":"IF(G104<CALCULADORA!$C$23,0,IF(CALCULADORA!$C$27>'TIR de Tenencia'!G104,E104,CALCULADORA!$C$33))","v":50889240475}," "," ",null,18,10,2032]
[{"$f":"+Flujos!A105","v":"2033-02-18"},{"$f":"+Flujos!L105","v":-1.5974044799804688E-5},{"$f":"+Flujos!M105","v":0},{"$f":"+Flujos!N105","v":-1.4737653732299804E-7},{"$f":"+Flujos!O105","v":-1.4737653732299804E-7},null,"2032-10-18",{"$f":"IF(G105<CALCULADORA!$C$23,0,IF(CALCULADORA!$C$27>'TIR de Tenencia'!G105,E105,CALCULADORA!$C$33))","v":50889240475}," "," ",null,18,11,2032]
[{"$f":"+Flujos!A106","v":"2033-03-18"},{"$f":"+Flujos!L106","v":-1.5974044799804688E-5},{"$f":"+Flujos!M106","v":0},{"$f":"+Flujos!N106","v":-1.4737653732299804E-7},{"$f":"+Flujos!O106","v":-1.4737653732299804E-7},null,"2032-11-18",{"$f":"IF(G106<CALCULADORA!$C$23,0,IF(CALCULADORA!$C$27>'TIR de Tenencia'!G106,E106,CALCULADORA!$C$33))","v":50889240475}," "," ",null,18,12,2032]
[{"$f":"+Flujos!A107","v":"2033-04-18"},{"$f":"+Flujos!L107","v":-1.5974044799804688E-5},{"$f":"+Flujos!M107","v":0},{"$f":"+Flujos!N107","v":-1.4737653732299804E-7},{"$f":"+Flujos!O107","v":-1.4737653732299804E-7},null,"2032-12-18",{"$f":"IF(G107<CALCULADORA!$C$23,0,IF(CALCULADORA!$C$27>'TIR de Tenencia'!G107,E107,CALCULADORA!$C$33))","v":50889240475}," "," ",null,18,1,2033]
[{"$f":"+Flujos!A108","v":"2033-05-18"},{"$f":"+Flujos!L108","v":-1.5974044799804688E-5},{"$f":"+Flujos!M108","v":0},{"$f":"+Flujos!N108","v":-1.4737653732299804E-7},{"$f":"+Flujos!O108","v":-1.4737653732299804E-7},null,"2033-01-18",{"$f":"IF(G108<CALCULADORA!$C$23,0,IF(CALCULADORA!$C$27>'TIR de Tenencia'!G108,E108,CALCULADORA!$C$33))","v":50889240475}," "," ",null,18,2,2033]
[{"$f":"+Flujos!A109","v":"2033-06-18"},{"$f":"+Flujos!L109","v":-1.5974044799804688E-5},{"$f":"+Flujos!M109","v":0},{"$f":"+Flujos!N109","v":-1.4737653732299804E-7},{"$f":"+Flujos!O109","v":-1.4737653732299804E-7},null,"2033-02-18",{"$f":"IF(G109<CALCULADORA!$C$23,0,IF(CALCULADORA!$C$27>'TIR de Tenencia'!G109,E109,CALCULADORA!$C$33))","v":50889240475}," "," ",null,18,3,2033]
[{"$f":"+Flujos!A110","v":"2033-07-18"},{"$f":"+Flujos!L110","v":-1.5974044799804688E-5},{"$f":"+Flujos!M110","v":0},{"$f":"+Flujos!N110","v":-1.4737653732299804E-7},{"$f":"+Flujos!O110","v":-1.4737653732299804E-7},null,"2033-03-18",{"$f":"IF(G110<CALCULADORA!$C$23,0,IF(CALCULADORA!$C$27>'TIR de Tenencia'!G110,E110,CALCULADORA!$C$33))","v":50889240475}," "," ",null,18,4,2033]
[{"$f":"+Flujos!A111","v":"2033-08-18"},{"$f":"+Flujos!L111","v":-1.5974044799804688E-5},{"$f":"+Flujos!M111","v":0},{"$f":"+Flujos!N111","v":-1.4737653732299804E-7},{"$f":"+Flujos!O111","v":-1.4737653732299804E-7},null,"2033-04-18",{"$f":"IF(G111<CALCULADORA!$C$23,0,IF(CALCULADORA!$C$27>'TIR de Tenencia'!G111,E111,CALCULADORA!$C$33))","v":50889240475}," "," ",null,18,5,{"$f":"+IF(M111=1,N110+1,N110)","v":2033}]
[{"$f":"+Flujos!A112","v":"2033-09-18"},{"$f":"+Flujos!L112","v":-1.5974044799804688E-5},{"$f":"+Flujos!M112","v":0},{"$f":"+Flujos!N112","v":-1.4737653732299804E-7},{"$f":"+Flujos!O112","v":-1.4737653732299804E-7},null,"2033-05-18",{"$f":"IF(G112<CALCULADORA!$C$23,0,IF(CALCULADORA!$C$27>'TIR de Tenencia'!G112,E112,CALCULADORA!$C$33))","v":50889240475}," "," ",null,18,6,2033]
[{"$f":"+Flujos!A113","v":"2033-10-18"},{"$f":"+Flujos!L113","v":-1.5974044799804688E-5},{"$f":"+Flujos!M113","v":0},{"$f":"+Flujos!N113","v":-1.4737653732299804E-7},{"$f":"+Flujos!O113","v":-1.4737653732299804E-7},null,"2033-06-18",{"$f":"IF(G113<CALCULADORA!$C$23,0,IF(CALCULADORA!$C$27>'TIR de Tenencia'!G113,E113,CALCULADORA!$C$33))","v":50889240475}," "," ",null,18,7,2033]
[{"$f":"+Flujos!A114","v":"2033-11-18"},{"$f":"+Flujos!L114","v":-1.5974044799804688E-5},{"$f":"+Flujos!M114","v":0},{"$f":"+Flujos!N114","v":-1.4737653732299804E-7},{"$f":"+Flujos!O114","v":-1.4737653732299804E-7},null,"2033-07-18",{"$f":"IF(G114<CALCULADORA!$C$23,0,IF(CALCULADORA!$C$27>'TIR de Tenencia'!G114,E114,CALCULADORA!$C$33))","v":50889240475}," "," ",null,18,8,2033]
[{"$f":"+Flujos!A115","v":"2033-12-18"},{"$f":"+Flujos!L115","v":-1.5974044799804688E-5},{"$f":"+Flujos!M115","v":0},{"$f":"+Flujos!N115","v":-1.4737653732299804E-7},{"$f":"+Flujos!O115","v":-1.4737653732299804E-7},null,"2033-08-18",{"$f":"IF(G115<CALCULADORA!$C$23,0,IF(CALCULADORA!$C$27>'TIR de Tenencia'!G115,E115,CALCULADORA!$C$33))","v":50889240475}," "," ",null,18,9,2033]
[{"$f":"+Flujos!A116","v":"2034-01-18"},{"$f":"+Flujos!L116","v":-1.5974044799804688E-5},{"$f":"+Flujos!M116","v":0},{"$f":"+Flujos!N116","v":-1.4737653732299804E-7},{"$f":"+Flujos!O116","v":-1.4737653732299804E-7},null,"2033-09-18",{"$f":"IF(G116<CALCULADORA!$C$23,0,IF(CALCULADORA!$C$27>'TIR de Tenencia'!G116,E116,CALCULADORA!$C$33))","v":50889240475}," "," ",null,18,10,2033]
[{"$f":"+Flujos!A117","v":"2034-02-18"},{"$f":"+Flujos!L117","v":-1.5974044799804688E-5},{"$f":"+Flujos!M117","v":0},{"$f":"+Flujos!N117","v":-1.4737653732299804E-7},{"$f":"+Flujos!O117","v":-1.4737653732299804E-7},null,"2033-10-18",{"$f":"IF(G117<CALCULADORA!$C$23,0,IF(CALCULADORA!$C$27>'TIR de Tenencia'!G117,E117,CALCULADORA!$C$33))","v":50889240475}," "," ",null,18,11,2033]
[{"$f":"+Flujos!A118","v":"2034-03-18"},{"$f":"+Flujos!L118","v":-1.5974044799804688E-5},{"$f":"+Flujos!M118","v":0},{"$f":"+Flujos!N118","v":-1.4737653732299804E-7},{"$f":"+Flujos!O118","v":-1.4737653732299804E-7},null,"2033-11-18",{"$f":"IF(G118<CALCULADORA!$C$23,0,IF(CALCULADORA!$C$27>'TIR de Tenencia'!G118,E118,CALCULADORA!$C$33))","v":50889240475}," "," ",null,18,12,2033]
[{"$f":"+Flujos!A119","v":"2034-04-18"},{"$f":"+Flujos!L119","v":-1.5974044799804688E-5},{"$f":"+Flujos!M119","v":0},{"$f":"+Flujos!N119","v":-1.4737653732299804E-7},{"$f":"+Flujos!O119","v":-1.4737653732299804E-7},null,"2033-12-18",{"$f":"IF(G119<CALCULADORA!$C$23,0,IF(CALCULADORA!$C$27>'TIR de Tenencia'!G119,E119,CALCULADORA!$C$33))","v":50889240475}," "," ",null,18,1,2034]
[{"$f":"+Flujos!A120","v":"2034-05-18"},{"$f":"+Flujos!L120","v":-1.5974044799804688E-5},{"$f":"+Flujos!M120","v":0},{"$f":"+Flujos!N120","v":-1.4737653732299804E-7},{"$f":"+Flujos!O120","v":-1.4737653732299804E-7},null,"2034-01-18",{"$f":"IF(G120<CALCULADORA!$C$23,0,IF(CALCULADORA!$C$27>'TIR de Tenencia'!G120,E120,CALCULADORA!$C$33))","v":50889240475}," "," ",null,18,2,2034]
[{"$f":"+Flujos!A121","v":"2034-06-18"},{"$f":"+Flujos!L121","v":-1.5974044799804688E-5},{"$f":"+Flujos!M121","v":0},{"$f":"+Flujos!N121","v":-1.4737653732299804E-7},{"$f":"+Flujos!O121","v":-1.4737653732299804E-7},null,"2034-02-18",{"$f":"IF(G121<CALCULADORA!$C$23,0,IF(CALCULADORA!$C$27>'TIR de Tenencia'!G121,E121,CALCULADORA!$C$33))","v":50889240475}," "," ",null,18,3,2034]
[{"$f":"+Flujos!A122","v":"2034-07-18"},{"$f":"+Flujos!L122","v":-1.5974044799804688E-5},{"$f":"+Flujos!M122","v":0},{"$f":"+Flujos!N122","v":-1.4737653732299804E-7},{"$f":"+Flujos!O122","v":-1.4737653732299804E-7},null,"2034-03-18",{"$f":"IF(G122<CALCULADORA!$C$23,0,IF(CALCULADORA!$C$27>'TIR de Tenencia'!G122,E122,CALCULADORA!$C$33))","v":50889240475}," "," ",null,18,4,2034]
[{"$f":"+Flujos!A123","v":"2034-08-18"},{"$f":"+Flujos!L123","v":-1.5974044799804688E-5},{"$f":"+Flujos!M123","v":0},{"$f":"+Flujos!N123","v":-1.4737653732299804E-7},{"$f":"+Flujos!O123","v":-1.4737653732299804E-7},null,"2034-04-18",{"$f":"IF(G123<CALCULADORA!$C$23,0,IF(CALCULADORA!$C$27>'TIR de Tenencia'!G123,E123,CALCULADORA!$C$33))","v":50889240475}," "," ",null,18,5,2034]
[{"$f":"+Flujos!A124","v":"2034-09-18"},{"$f":"+Flujos!L124","v":-1.5974044799804688E-5},{"$f":"+Flujos!M124","v":0},{"$f":"+Flujos!N124","v":-1.4737653732299804E-7},{"$f":"+Flujos!O124","v":-1.4737653732299804E-7},null,"2034-05-18",{"$f":"IF(G124<CALCULADORA!$C$23,0,IF(CALCULADORA!$C$27>'TIR de Tenencia'!G124,E124,CALCULADORA!$C$33))","v":50889240475}," "," ",null,18,6,2034]
[{"$f":"+Flujos!A125","v":"2034-10-18"},{"$f":"+Flujos!L125","v":-1.5974044799804688E-5},{"$f":"+Flujos!M125","v":0},{"$f":"+Flujos!N125","v":-1.4737653732299804E-7},{"$f":"+Flujos!O125","v":-1.4737653732299804E-7},null,"2034-06-18",{"$f":"IF(G125<CALCULADORA!$C$23,0,IF(CALCULADORA!$C$27>'TIR de Tenencia'!G125,E125,CALCULADORA!$C$33))","v":50889240475}," "," ",null,18,7,2034]
[{"$f":"+Flujos!A126","v":"2034-11-18"},{"$f":"+Flujos!L126","v":-1.5974044799804688E-5},{"$f":"+Flujos!M126","v":0},{"$f":"+Flujos!N126","v":-1.4737653732299804E-7},{"$f":"+Flujos!O126","v":-1.4737653732299804E-7},null,"2034-07-18",{"$f":"IF(G126<CALCULADORA!$C$23,0,IF(CALCULADORA!$C$27>'TIR de Tenencia'!G126,E126,CALCULADORA!$C$33))","v":50889240475}," "," ",null,18,8,2034]
[{"$f":"+Flujos!A127","v":"2034-12-18"},{"$f":"+Flujos!L127","v":-1.5974044799804688E-5},{"$f":"+Flujos!M127","v":0},{"$f":"+Flujos!N127","v":-1.4737653732299804E-7},{"$f":"+Flujos!O127","v":-1.4737653732299804E-7},null,"2034-08-18",{"$f":"IF(G127<CALCULADORA!$C$23,0,IF(CALCULADORA!$C$27>'TIR de Tenencia'!G127,E127,CALCULADORA!$C$33))","v":50889240475}," "," ",null,18,9,2034]
[{"$f":"+Flujos!A128","v":"2035-01-18"},{"$f":"+Flujos!L128","v":-1.5974044799804688E-5},{"$f":"+Flujos!M128","v":0},{"$f":"+Flujos!N128","v":-1.4737653732299804E-7},{"$f":"+Flujos!O128","v":-1.4737653732299804E-7},null,"2034-09-18",{"$f":"IF(G128<CALCULADORA!$C$23,0,IF(CALCULADORA!$C$27>'TIR de Tenencia'!G128,E128,CALCULADORA!$C$33))","v":50889240475}," "," ",null,18,10,2034]
[{"$f":"+Flujos!A129","v":"2035-02-18"},{"$f":"+Flujos!L129","v":-1.5974044799804688E-5},{"$f":"+Flujos!M129","v":0},{"$f":"+Flujos!N129","v":-1.4737653732299804E-7},{"$f":"+Flujos!O129","v":-1.4737653732299804E-7},null,"2034-10-18",{"$f":"IF(G129<CALCULADORA!$C$23,0,IF(CALCULADORA!$C$27>'TIR de Tenencia'!G129,E129,CALCULADORA!$C$33))","v":50889240475}," "," ",null,18,11,2034]
[{"$f":"+Flujos!A130","v":"2035-03-18"},{"$f":"+Flujos!L130","v":-1.5974044799804688E-5},{"$f":"+Flujos!M130","v":0},{"$f":"+Flujos!N130","v":-1.4737653732299804E-7},{"$f":"+Flujos!O130","v":-1.4737653732299804E-7},null,"2034-11-18",{"$f":"IF(G130<CALCULADORA!$C$23,0,IF(CALCULADORA!$C$27>'TIR de Tenencia'!G130,E130,CALCULADORA!$C$33))","v":50889240475}," "," ",null,18,12,2034]
[{"$f":"+Flujos!A131","v":"2035-04-18"},{"$f":"+Flujos!L131","v":-1.5974044799804688E-5},{"$f":"+Flujos!M131","v":0},{"$f":"+Flujos!N131","v":-1.4737653732299804E-7},{"$f":"+Flujos!O131","v":-1.4737653732299804E-7},null,{"$f":"+DATE(N130,M130,L130)","v":"2034-12-18"},{"$f":"IF(G131<CALCULADORA!$C$23,0,IF(CALCULADORA!$C$27>'TIR de Tenencia'!G131,E131,CALCULADORA!$C$33))","v":50889240475}," "," ",null,{"$f":"+L130","v":18},{"$f":"+IF(M130=12,1,M130+1)","v":1},{"$f":"+IF(M131=1,N130+1,N130)","v":2035}]
[{"$f":"+Flujos!A132","v":"2035-05-18"},{"$f":"+Flujos!L132","v":-1.5974044799804688E-5},{"$f":"+Flujos!M132","v":0},{"$f":"+Flujos!N132","v":-1.4737653732299804E-7},{"$f":"+Flujos!O132","v":-1.4737653732299804E-7},null,"2035-01-18",{"$f":"IF(G132<CALCULADORA!$C$23,0,IF(CALCULADORA!$C$27>'TIR de Tenencia'!G132,E132,CALCULADORA!$C$33))","v":50889240475},{"$f":"+IF(H132=H131,\" \",G132)","v":" "},{"$f":"+IF(H132=H131,\" \",H132)","v":" "},null,18,2,2035]
[{"$f":"+Flujos!A133","v":"2035-06-18"},{"$f":"+Flujos!L133","v":-1.5974044799804688E-5},{"$f":"+Flujos!M133","v":0},{"$f":"+Flujos!N133","v":-1.4737653732299804E-7},{"$f":"+Flujos!O133","v":-1.4737653732299804E-7},null,"2035-02-18",{"$f":"IF(G133<CALCULADORA!$C$23,0,IF(CALCULADORA!$C$27>'TIR de Tenencia'!G133,E133,CALCULADORA!$C$33))","v":50889240475}," "," ",null,18,3,2035]
[{"$f":"+Flujos!A134","v":"2035-07-18"},{"$f":"+Flujos!L134","v":-1.5974044799804688E-5},{"$f":"+Flujos!M134","v":0},{"$f":"+Flujos!N134","v":-1.4737653732299804E-7},{"$f":"+Flujos!O134","v":-1.4737653732299804E-7},null,"2035-03-18",{"$f":"IF(G134<CALCULADORA!$C$23,0,IF(CALCULADORA!$C$27>'TIR de Tenencia'!G134,E134,CALCULADORA!$C$33))","v":50889240475}," "," ",null,18,4,2035]
[{"$f":"+Flujos!A135","v":"2035-08-18"},{"$f":"+Flujos!L135","v":-1.5974044799804688E-5},{"$f":"+Flujos!M135","v":0},{"$f":"+Flujos!N135","v":-1.4737653732299804E-7},{"$f":"+Flujos!O135","v":-1.4737653732299804E-7},null,"2035-04-18",{"$f":"IF(G135<CALCULADORA!$C$23,0,IF(CALCULADORA!$C$27>'TIR de Tenencia'!G135,E135,CALCULADORA!$C$33))","v":50889240475}," "," ",null,18,5,2035]
[{"$f":"+Flujos!A136","v":"2035-09-18"},{"$f":"+Flujos!L136","v":-1.5974044799804688E-5},{"$f":"+Flujos!M136","v":0},{"$f":"+Flujos!N136","v":-1.4737653732299804E-7},{"$f":"+Flujos!O136","v":-1.4737653732299804E-7},null,"2035-05-18",{"$f":"IF(G136<CALCULADORA!$C$23,0,IF(CALCULADORA!$C$27>'TIR de Tenencia'!G136,E136,CALCULADORA!$C$33))","v":50889240475}," "," ",null,18,6,2035]
[{"$f":"+Flujos!A137","v":"2035-10-18"},{"$f":"+Flujos!L137","v":-1.5974044799804688E-5},{"$f":"+Flujos!M137","v":0},{"$f":"+Flujos!N137","v":-1.4737653732299804E-7},{"$f":"+Flujos!O137","v":-1.4737653732299804E-7},null,"2035-06-18",{"$f":"IF(G137<CALCULADORA!$C$23,0,IF(CALCULADORA!$C$27>'TIR de Tenencia'!G137,E137,CALCULADORA!$C$33))","v":50889240475}," "," ",null,18,7,2035]
[{"$f":"+Flujos!A138","v":"2035-11-18"},{"$f":"+Flujos!L138","v":-1.5974044799804688E-5},{"$f":"+Flujos!M138","v":0},{"$f":"+Flujos!N138","v":-1.4737653732299804E-7},{"$f":"+Flujos!O138","v":-1.4737653732299804E-7},null,"2035-07-18",{"$f":"IF(G138<CALCULADORA!$C$23,0,IF(CALCULADORA!$C$27>'TIR de Tenencia'!G138,E138,CALCULADORA!$C$33))","v":50889240475}," "," ",null,18,8,2035]
[{"$f":"+Flujos!A139","v":"2035-12-18"},{"$f":"+Flujos!L139","v":-1.5974044799804688E-5},{"$f":"+Flujos!M139","v":0},{"$f":"+Flujos!N139","v":-1.4737653732299804E-7},{"$f":"+Flujos!O139","v":-1.4737653732299804E-7},null,"2035-08-18",{"$f":"IF(G139<CALCULADORA!$C$23,0,IF(CALCULADORA!$C$27>'TIR de Tenencia'!G139,E139,CALCULADORA!$C$33))","v":50889240475}," "," ",null,18,9,2035]
[{"$f":"+Flujos!A140","v":"2036-01-18"},{"$f":"+Flujos!L140","v":-1.5974044799804688E-5},{"$f":"+Flujos!M140","v":0},{"$f":"+Flujos!N140","v":-1.4737653732299804E-7},{"$f":"+Flujos!O140","v":-1.4737653732299804E-7},null,"2035-09-18",{"$f":"IF(G140<CALCULADORA!$C$23,0,IF(CALCULADORA!$C$27>'TIR de Tenencia'!G140,E140,CALCULADORA!$C$33))","v":50889240475}," "," ",null,18,10,2035]
[{"$f":"+Flujos!A141","v":"2036-02-18"},{"$f":"+Flujos!L141","v":-1.5974044799804688E-5},{"$f":"+Flujos!M141","v":0},{"$f":"+Flujos!N141","v":-1.4737653732299804E-7},{"$f":"+Flujos!O141","v":-1.4737653732299804E-7},null,"2035-10-18",{"$f":"IF(G141<CALCULADORA!$C$23,0,IF(CALCULADORA!$C$27>'TIR de Tenencia'!G141,E141,CALCULADORA!$C$33))","v":50889240475}," "," ",null,18,11,2035]
[{"$f":"+Flujos!A142","v":"2036-03-18"},{"$f":"+Flujos!L142","v":-1.5974044799804688E-5},{"$f":"+Flujos!M142","v":0},{"$f":"+Flujos!N142","v":-1.4737653732299804E-7},{"$f":"+Flujos!O142","v":-1.4737653732299804E-7},null,"2035-11-18",{"$f":"IF(G142<CALCULADORA!$C$23,0,IF(CALCULADORA!$C$27>'TIR de Tenencia'!G142,E142,CALCULADORA!$C$33))","v":50889240475}," "," ",null,18,12,2035]
[{"$f":"+Flujos!A143","v":"2036-04-18"},{"$f":"+Flujos!L143","v":-1.5974044799804688E-5},{"$f":"+Flujos!M143","v":0},{"$f":"+Flujos!N143","v":-1.4737653732299804E-7},{"$f":"+Flujos!O143","v":-1.4737653732299804E-7},null,"2035-12-18",{"$f":"IF(G143<CALCULADORA!$C$23,0,IF(CALCULADORA!$C$27>'TIR de Tenencia'!G143,E143,CALCULADORA!$C$33))","v":50889240475}," "," ",null,18,1,2036]
[{"$f":"+Flujos!A144","v":"2036-05-18"},{"$f":"+Flujos!L144","v":-1.5974044799804688E-5},{"$f":"+Flujos!M144","v":0},{"$f":"+Flujos!N144","v":-1.4737653732299804E-7},{"$f":"+Flujos!O144","v":-1.4737653732299804E-7},null,"2036-01-18",{"$f":"IF(G144<CALCULADORA!$C$23,0,IF(CALCULADORA!$C$27>'TIR de Tenencia'!G144,E144,CALCULADORA!$C$33))","v":50889240475}," "," ",null,18,2,2036]
[{"$f":"+Flujos!A145","v":"2036-06-18"},{"$f":"+Flujos!L145","v":-1.5974044799804688E-5},{"$f":"+Flujos!M145","v":0},{"$f":"+Flujos!N145","v":-1.4737653732299804E-7},{"$f":"+Flujos!O145","v":-1.4737653732299804E-7},null,"2036-02-18",{"$f":"IF(G145<CALCULADORA!$C$23,0,IF(CALCULADORA!$C$27>'TIR de Tenencia'!G145,E145,CALCULADORA!$C$33))","v":50889240475}," "," ",null,18,3,2036]
[{"$f":"+Flujos!A146","v":"2036-07-18"},{"$f":"+Flujos!L146","v":-1.5974044799804688E-5},{"$f":"+Flujos!M146","v":0},{"$f":"+Flujos!N146","v":-1.4737653732299804E-7},{"$f":"+Flujos!O146","v":-1.4737653732299804E-7},null,"2036-03-18",{"$f":"IF(G146<CALCULADORA!$C$23,0,IF(CALCULADORA!$C$27>'TIR de Tenencia'!G146,E146,CALCULADORA!$C$33))","v":50889240475}," "," ",null,18,4,2036]
[{"$f":"+Flujos!A147","v":"2036-08-18"},{"$f":"+Flujos!L147","v":-1.5974044799804688E-5},{"$f":"+Flujos!M147","v":0},{"$f":"+Flujos!N147","v":-1.4737653732299804E-7},{"$f":"+Flujos!O147","v":-1.4737653732299804E-7},null,"2036-04-18",{"$f":"IF(G147<CALCULADORA!$C$23,0,IF(CALCULADORA!$C$27>'TIR de Tenencia'!G147,E147,CALCULADORA!$C$33))","v":50889240475}," "," ",null,18,5,2036]
[{"$f":"+Flujos!A148","v":"2036-09-18"},{"$f":"+Flujos!L148","v":-1.5974044799804688E-5},{"$f":"+Flujos!M148","v":0},{"$f":"+Flujos!N148","v":-1.4737653732299804E-7},{"$f":"+Flujos!O148","v":-1.4737653732299804E-7},null,"2036-05-18",{"$f":"IF(G148<CALCULADORA!$C$23,0,IF(CALCULADORA!$C$27>'TIR de Tenencia'!G148,E148,CALCULADORA!$C$33))","v":50889240475}," "," ",null,18,6,2036]
[{"$f":"+Flujos!A149","v":"2036-10-18"},{"$f":"+Flujos!L149","v":-1.5974044799804688E-5},{"$f":"+Flujos!M149","v":0},{"$f":"+Flujos!N149","v":-1.4737653732299804E-7},{"$f":"+Flujos!O149","v":-1.4737653732299804E-7},null,"2036-06-18",{"$f":"IF(G149<CALCULADORA!$C$23,0,IF(CALCULADORA!$C$27>'TIR de Tenencia'!G149,E149,CALCULADORA!$C$33))","v":50889240475}," "," ",null,18,7,2036]
[{"$f":"+Flujos!A150","v":"2036-11-18"},{"$f":"+Flujos!L150","v":-1.5974044799804688E-5},{"$f":"+Flujos!M150","v":0},{"$f":"+Flujos!N150","v":-1.4737653732299804E-7},{"$f":"+Flujos!O150","v":-1.4737653732299804E-7},null,"2036-07-18",{"$f":"IF(G150<CALCULADORA!$C$23,0,IF(CALCULADORA!$C$27>'TIR de Tenencia'!G150,E150,CALCULADORA!$C$33))","v":50889240475}," "," ",null,18,8,2036]
[{"$f":"+Flujos!A151","v":"2036-12-18"},{"$f":"+Flujos!L151","v":-1.5974044799804688E-5},{"$f":"+Flujos!M151","v":0},{"$f":"+Flujos!N151","v":-1.4737653732299804E-7},{"$f":"+Flujos!O151","v":-1.4737653732299804E-7},null,"2036-08-18",{"$f":"IF(G151<CALCULADORA!$C$23,0,IF(CALCULADORA!$C$27>'TIR de Tenencia'!G151,E151,CALCULADORA!$C$33))","v":50889240475}," "," ",null,18,9,2036]
[{"$f":"+Flujos!A152","v":"2037-01-18"},{"$f":"+Flujos!L152","v":-1.5974044799804688E-5},{"$f":"+Flujos!M152","v":0},{"$f":"+Flujos!N152","v":-1.4737653732299804E-7},{"$f":"+Flujos!O152","v":-1.4737653732299804E-7},null,"2036-09-18",{"$f":"IF(G152<CALCULADORA!$C$23,0,IF(CALCULADORA!$C$27>'TIR de Tenencia'!G152,E152,CALCULADORA!$C$33))","v":50889240475}," "," ",null,18,10,2036]
[{"$f":"+Flujos!A153","v":"2037-02-18"},{"$f":"+Flujos!L153","v":-1.5974044799804688E-5},{"$f":"+Flujos!M153","v":0},{"$f":"+Flujos!N153","v":-1.4737653732299804E-7},{"$f":"+Flujos!O153","v":-1.4737653732299804E-7},null,"2036-10-18",{"$f":"IF(G153<CALCULADORA!$C$23,0,IF(CALCULADORA!$C$27>'TIR de Tenencia'!G153,E153,CALCULADORA!$C$33))","v":50889240475}," "," ",null,18,11,2036]
[{"$f":"+Flujos!A154","v":"2037-03-18"},{"$f":"+Flujos!L154","v":-1.5974044799804688E-5},{"$f":"+Flujos!M154","v":0},{"$f":"+Flujos!N154","v":-1.4737653732299804E-7},{"$f":"+Flujos!O154","v":-1.4737653732299804E-7},null,"2036-11-18",{"$f":"IF(G154<CALCULADORA!$C$23,0,IF(CALCULADORA!$C$27>'TIR de Tenencia'!G154,E154,CALCULADORA!$C$33))","v":50889240475}," "," ",null,18,12,2036]
[{"$f":"+Flujos!A155","v":"2037-04-18"},{"$f":"+Flujos!L155","v":-1.5974044799804688E-5},{"$f":"+Flujos!M155","v":0},{"$f":"+Flujos!N155","v":-1.4737653732299804E-7},{"$f":"+Flujos!O155","v":-1.4737653732299804E-7},null,"2036-12-18",{"$f":"IF(G155<CALCULADORA!$C$23,0,IF(CALCULADORA!$C$27>'TIR de Tenencia'!G155,E155,CALCULADORA!$C$33))","v":50889240475}," "," ",null,18,1,2037]
[{"$f":"+Flujos!A156","v":"2037-05-18"},{"$f":"+Flujos!L156","v":-1.5974044799804688E-5},{"$f":"+Flujos!M156","v":0},{"$f":"+Flujos!N156","v":-1.4737653732299804E-7},{"$f":"+Flujos!O156","v":-1.4737653732299804E-7},null,"2037-01-18",{"$f":"IF(G156<CALCULADORA!$C$23,0,IF(CALCULADORA!$C$27>'TIR de Tenencia'!G156,E156,CALCULADORA!$C$33))","v":50889240475}," "," ",null,18,2,2037]
[{"$f":"+Flujos!A157","v":"2037-06-18"},{"$f":"+Flujos!L157","v":-1.5974044799804688E-5},{"$f":"+Flujos!M157","v":0},{"$f":"+Flujos!N157","v":-1.4737653732299804E-7},{"$f":"+Flujos!O157","v":-1.4737653732299804E-7},null,"2037-02-18",{"$f":"IF(G157<CALCULADORA!$C$23,0,IF(CALCULADORA!$C$27>'TIR de Tenencia'!G157,E157,CALCULADORA!$C$33))","v":50889240475}," "," ",null,18,3,2037]
[{"$f":"+Flujos!A158","v":"2037-07-18"},{"$f":"+Flujos!L158","v":-1.5974044799804688E-5},{"$f":"+Flujos!M158","v":0},{"$f":"+Flujos!N158","v":-1.4737653732299804E-7},{"$f":"+Flujos!O158","v":-1.4737653732299804E-7},null,"2037-03-18",{"$f":"IF(G158<CALCULADORA!$C$23,0,IF(CALCULADORA!$C$27>'TIR de Tenencia'!G158,E158,CALCULADORA!$C$33))","v":50889240475}," "," ",null,18,4,2037]
[{"$f":"+Flujos!A159","v":"2037-08-18"},{"$f":"+Flujos!L159","v":-1.5974044799804688E-5},{"$f":"+Flujos!M159","v":0},{"$f":"+Flujos!N159","v":-1.4737653732299804E-7},{"$f":"+Flujos!O159","v":-1.4737653732299804E-7},null,"2037-04-18",{"$f":"IF(G159<CALCULADORA!$C$23,0,IF(CALCULADORA!$C$27>'TIR de Tenencia'!G159,E159,CALCULADORA!$C$33))","v":50889240475}," "," ",null,18,5,2037]
[{"$f":"+Flujos!A160","v":"2037-09-18"},{"$f":"+Flujos!L160","v":-1.5974044799804688E-5},{"$f":"+Flujos!M160","v":0},{"$f":"+Flujos!N160","v":-1.4737653732299804E-7},{"$f":"+Flujos!O160","v":-1.4737653732299804E-7},null,"2037-05-18",{"$f":"IF(G160<CALCULADORA!$C$23,0,IF(CALCULADORA!$C$27>'TIR de Tenencia'!G160,E160,CALCULADORA!$C$33))","v":50889240475}," "," ",null,18,6,2037]
[{"$f":"+Flujos!A161","v":"2037-10-18"},{"$f":"+Flujos!L161","v":-1.5974044799804688E-5},{"$f":"+Flujos!M161","v":0},{"$f":"+Flujos!N161","v":-1.4737653732299804E-7},{"$f":"+Flujos!O161","v":-1.4737653732299804E-7},null,"2037-06-18",{"$f":"IF(G161<CALCULADORA!$C$23,0,IF(CALCULADORA!$C$27>'TIR de Tenencia'!G161,E161,CALCULADORA!$C$33))","v":50889240475}," "," ",null,18,7,2037]
[{"$f":"+Flujos!A162","v":"2037-11-18"},{"$f":"+Flujos!L162","v":-1.5974044799804688E-5},{"$f":"+Flujos!M162","v":0},{"$f":"+Flujos!N162","v":-1.4737653732299804E-7},{"$f":"+Flujos!O162","v":-1.4737653732299804E-7},null,"2037-07-18",{"$f":"IF(G162<CALCULADORA!$C$23,0,IF(CALCULADORA!$C$27>'TIR de Tenencia'!G162,E162,CALCULADORA!$C$33))","v":50889240475}," "," ",null,18,8,2037]
[{"$f":"+Flujos!A163","v":"2037-12-18"},{"$f":"+Flujos!L163","v":-1.5974044799804688E-5},{"$f":"+Flujos!M163","v":0},{"$f":"+Flujos!N163","v":-1.4737653732299804E-7},{"$f":"+Flujos!O163","v":-1.4737653732299804E-7},null,{"$f":"+DATE(N162,M162,L162)","v":"2037-08-18"},{"$f":"IF(G163<CALCULADORA!$C$23,0,IF(CALCULADORA!$C$27>'TIR de Tenencia'!G163,E163,CALCULADORA!$C$33))","v":50889240475}," "," ",null,18,9,2037]
[{"$f":"+Flujos!A164","v":"2038-01-18"},{"$f":"+Flujos!L164","v":-1.5974044799804688E-5},{"$f":"+Flujos!M164","v":0},{"$f":"+Flujos!N164","v":-1.4737653732299804E-7},{"$f":"+Flujos!O164","v":-1.4737653732299804E-7},null,"2037-09-18",{"$f":"IF(G164<CALCULADORA!$C$23,0,IF(CALCULADORA!$C$27>'TIR de Tenencia'!G164,E164,CALCULADORA!$C$33))","v":50889240475}," "," ",null,18,10,2037]
[{"$f":"+Flujos!A165","v":"2038-02-18"},{"$f":"+Flujos!L165","v":-1.5974044799804688E-5},{"$f":"+Flujos!M165","v":0},{"$f":"+Flujos!N165","v":-1.4737653732299804E-7},{"$f":"+Flujos!O165","v":-1.4737653732299804E-7},null,"2037-10-18",{"$f":"IF(G165<CALCULADORA!$C$23,0,IF(CALCULADORA!$C$27>'TIR de Tenencia'!G165,E165,CALCULADORA!$C$33))","v":50889240475}," "," ",null,18,11,2037]
[{"$f":"+Flujos!A166","v":"2038-03-18"},{"$f":"+Flujos!L166","v":-1.5974044799804688E-5},{"$f":"+Flujos!M166","v":0},{"$f":"+Flujos!N166","v":-1.4737653732299804E-7},{"$f":"+Flujos!O166","v":-1.4737653732299804E-7},null,"2037-11-18",{"$f":"IF(G166<CALCULADORA!$C$23,0,IF(CALCULADORA!$C$27>'TIR de Tenencia'!G166,E166,CALCULADORA!$C$33))","v":50889240475}," "," ",null,18,12,2037]
[{"$f":"+Flujos!A167","v":"2038-04-18"},{"$f":"+Flujos!L167","v":-1.5974044799804688E-5},{"$f":"+Flujos!M167","v":0},{"$f":"+Flujos!N167","v":-1.4737653732299804E-7},{"$f":"+Flujos!O167","v":-1.4737653732299804E-7},null,"2037-12-18",{"$f":"IF(G167<CALCULADORA!$C$23,0,IF(CALCULADORA!$C$27>'TIR de Tenencia'!G167,E167,CALCULADORA!$C$33))","v":50889240475}," "," ",null,18,1,2038]
[{"$f":"+Flujos!A168","v":"2038-05-18"},{"$f":"+Flujos!L168","v":-1.5974044799804688E-5},{"$f":"+Flujos!M168","v":0},{"$f":"+Flujos!N168","v":-1.4737653732299804E-7},{"$f":"+Flujos!O168","v":-1.4737653732299804E-7},null,"2038-01-18",{"$f":"IF(G168<CALCULADORA!$C$23,0,IF(CALCULADORA!$C$27>'TIR de Tenencia'!G168,E168,CALCULADORA!$C$33))","v":50889240475}," "," ",null,18,2,2038]
[{"$f":"+Flujos!A169","v":"2038-06-18"},{"$f":"+Flujos!L169","v":-1.5974044799804688E-5},{"$f":"+Flujos!M169","v":0},{"$f":"+Flujos!N169","v":-1.4737653732299804E-7},{"$f":"+Flujos!O169","v":-1.4737653732299804E-7},null,"2038-02-18",{"$f":"IF(G169<CALCULADORA!$C$23,0,IF(CALCULADORA!$C$27>'TIR de Tenencia'!G169,E169,CALCULADORA!$C$33))","v":50889240475}," "," ",null,18,3,2038]
[{"$f":"+Flujos!A170","v":"2038-07-18"},{"$f":"+Flujos!L170","v":-1.5974044799804688E-5},{"$f":"+Flujos!M170","v":0},{"$f":"+Flujos!N170","v":-1.4737653732299804E-7},{"$f":"+Flujos!O170","v":-1.4737653732299804E-7},null,"2038-03-18",{"$f":"IF(G170<CALCULADORA!$C$23,0,IF(CALCULADORA!$C$27>'TIR de Tenencia'!G170,E170,CALCULADORA!$C$33))","v":50889240475}," "," ",null,18,4,2038]
[{"$f":"+Flujos!A171","v":"2038-08-18"},{"$f":"+Flujos!L171","v":-1.5974044799804688E-5},{"$f":"+Flujos!M171","v":0},{"$f":"+Flujos!N171","v":-1.4737653732299804E-7},{"$f":"+Flujos!O171","v":-1.4737653732299804E-7},null,"2038-04-18",{"$f":"IF(G171<CALCULADORA!$C$23,0,IF(CALCULADORA!$C$27>'TIR de Tenencia'!G171,E171,CALCULADORA!$C$33))","v":50889240475}," "," ",null,18,5,2038]
[{"$f":"+Flujos!A172","v":"2038-09-18"},{"$f":"+Flujos!L172","v":-1.5974044799804688E-5},{"$f":"+Flujos!M172","v":0},{"$f":"+Flujos!N172","v":-1.4737653732299804E-7},{"$f":"+Flujos!O172","v":-1.4737653732299804E-7},null,"2038-05-18",{"$f":"IF(G172<CALCULADORA!$C$23,0,IF(CALCULADORA!$C$27>'TIR de Tenencia'!G172,E172,CALCULADORA!$C$33))","v":50889240475}," "," ",null,18,6,2038]
[{"$f":"+Flujos!A173","v":"2038-10-18"},{"$f":"+Flujos!L173","v":-1.5974044799804688E-5},{"$f":"+Flujos!M173","v":0},{"$f":"+Flujos!N173","v":-1.4737653732299804E-7},{"$f":"+Flujos!O173","v":-1.4737653732299804E-7},null,"2038-06-18",{"$f":"IF(G173<CALCULADORA!$C$23,0,IF(CALCULADORA!$C$27>'TIR de Tenencia'!G173,E173,CALCULADORA!$C$33))","v":50889240475}," "," ",null,18,7,2038]
[{"$f":"+Flujos!A174","v":"2038-11-18"},{"$f":"+Flujos!L174","v":-1.5974044799804688E-5},{"$f":"+Flujos!M174","v":0},{"$f":"+Flujos!N174","v":-1.4737653732299804E-7},{"$f":"+Flujos!O174","v":-1.4737653732299804E-7},null,"2038-07-18",{"$f":"IF(G174<CALCULADORA!$C$23,0,IF(CALCULADORA!$C$27>'TIR de Tenencia'!G174,E174,CALCULADORA!$C$33))","v":50889240475}," "," ",null,18,8,2038]
[{"$f":"+Flujos!A175","v":"2038-12-18"},{"$f":"+Flujos!L175","v":-1.5974044799804688E-5},{"$f":"+Flujos!M175","v":0},{"$f":"+Flujos!N175","v":-1.4737653732299804E-7},{"$f":"+Flujos!O175","v":-1.4737653732299804E-7},null,"2038-08-18",{"$f":"IF(G175<CALCULADORA!$C$23,0,IF(CALCULADORA!$C$27>'TIR de Tenencia'!G175,E175,CALCULADORA!$C$33))","v":50889240475}," "," ",null,18,9,2038]
[{"$f":"+Flujos!A176","v":"2039-01-18"},{"$f":"+Flujos!L176","v":-1.5974044799804688E-5},{"$f":"+Flujos!M176","v":0},{"$f":"+Flujos!N176","v":-1.4737653732299804E-7},{"$f":"+Flujos!O176","v":-1.4737653732299804E-7},null,"2038-09-18",{"$f":"IF(G176<CALCULADORA!$C$23,0,IF(CALCULADORA!$C$27>'TIR de Tenencia'!G176,E176,CALCULADORA!$C$33))","v":50889240475}," "," ",null,18,10,2038]
[{"$f":"+Flujos!A177","v":"2039-02-18"},{"$f":"+Flujos!L177","v":-1.5974044799804688E-5},{"$f":"+Flujos!M177","v":0},{"$f":"+Flujos!N177","v":-1.4737653732299804E-7},{"$f":"+Flujos!O177","v":-1.4737653732299804E-7},null,"2038-10-18",{"$f":"IF(G177<CALCULADORA!$C$23,0,IF(CALCULADORA!$C$27>'TIR de Tenencia'!G177,E177,CALCULADORA!$C$33))","v":50889240475}," "," ",null,18,11,2038]
[{"$f":"+Flujos!A178","v":"2039-03-18"},{"$f":"+Flujos!L178","v":-1.5974044799804688E-5},{"$f":"+Flujos!M178","v":0},{"$f":"+Flujos!N178","v":-1.4737653732299804E-7},{"$f":"+Flujos!O178","v":-1.4737653732299804E-7},null,"2038-11-18",{"$f":"IF(G178<CALCULADORA!$C$23,0,IF(CALCULADORA!$C$27>'TIR de Tenencia'!G178,E178,CALCULADORA!$C$33))","v":50889240475}," "," ",null,18,12,2038]
[{"$f":"+Flujos!A179","v":"2039-04-18"},{"$f":"+Flujos!L179","v":-1.5974044799804688E-5},{"$f":"+Flujos!M179","v":0},{"$f":"+Flujos!N179","v":-1.4737653732299804E-7},{"$f":"+Flujos!O179","v":-1.4737653732299804E-7},null,"2038-12-18",{"$f":"IF(G179<CALCULADORA!$C$23,0,IF(CALCULADORA!$C$27>'TIR de Tenencia'!G179,E179,CALCULADORA!$C$33))","v":50889240475}," "," ",null,18,1,2039]
[{"$f":"+Flujos!A180","v":"2039-05-18"},{"$f":"+Flujos!L180","v":-1.5974044799804688E-5},{"$f":"+Flujos!M180","v":0},{"$f":"+Flujos!N180","v":-1.4737653732299804E-7},{"$f":"+Flujos!O180","v":-1.4737653732299804E-7},null,"2039-01-18",{"$f":"IF(G180<CALCULADORA!$C$23,0,IF(CALCULADORA!$C$27>'TIR de Tenencia'!G180,E180,CALCULADORA!$C$33))","v":50889240475}," "," ",null,18,2,2039]
[{"$f":"+Flujos!A181","v":"2039-06-18"},{"$f":"+Flujos!L181","v":-1.5974044799804688E-5},{"$f":"+Flujos!M181","v":0},{"$f":"+Flujos!N181","v":-1.4737653732299804E-7},{"$f":"+Flujos!O181","v":-1.4737653732299804E-7},null,"2039-02-18",{"$f":"IF(G181<CALCULADORA!$C$23,0,IF(CALCULADORA!$C$27>'TIR de Tenencia'!G181,E181,CALCULADORA!$C$33))","v":50889240475}," "," ",null,18,3,2039]
[{"$f":"+Flujos!A182","v":"2039-07-18"},{"$f":"+Flujos!L182","v":-1.5974044799804688E-5},{"$f":"+Flujos!M182","v":0},{"$f":"+Flujos!N182","v":-1.4737653732299804E-7},{"$f":"+Flujos!O182","v":-1.4737653732299804E-7},null,"2039-03-18",{"$f":"IF(G182<CALCULADORA!$C$23,0,IF(CALCULADORA!$C$27>'TIR de Tenencia'!G182,E182,CALCULADORA!$C$33))","v":50889240475}," "," ",null,18,4,2039]
[null,"Totales",{"$f":"SUM(C2:C182)","v":61711871367.216919},14341262130.28713,76053133497.504059]
[null,null,null,null,null,null,null,null,{"$f":"+IF(H184=H183,\" \",H184)","v":" "},null,{"$f":"+MONTH(A184)","v":1},{"$f":"+YEAR(A184)","v":1900}]
[null,null,null,null,null,null,null,null," ",null,1,1900]
[null,null,null,null,null,null,null,null," ",null,1,1900]
[null,null,null,null,null,null,null,null," ",null,1,1900]
[null,null,null,null,null,null,null,null," ",null,1,1900]
[null,null,null,null,null,null,null,null," ",null,1,1900]
[null,null,null,null,null,null,null,null," ",null,1,1900]
[null,null,null,null,null,null,null,null," ",null,1,1900]
[null,null,null,null,null,null,null,null," ",null,1,1900]
[null,null,null,null,null,null,null,null," ",null,1,1900]
[null,null,null,null,null,null,null,null," ",null,1,1900]
[null,null,null,null,null,null,null,null," ",null,1,1900]
[null,null,null,null,null,null,null,null," ",null,1,1900]
[null,null,null,null,null,null,null,null," ",null,1,1900]
[null,null,null,null,null,null,null,null," ",null,1,1900]
[null,null,null,null,null,null,null,null," ",null,1,1900]
[null,null,null,null,null,null,null,null," ",null,1,1900]
[null,null,null,null,null,null,null,null," ",null,1,1900]
[null,null,null,null,null,null,null,null," ",null,1,1900]
[null,null,null,null,null,null,null,null," ",null,1,1900]
[null,null,null,null,null,null,null,null," ",null,1,1900]
[null,null,null,null,null,null,null,null," ",null,1,1900]
[null,null,null,null,null,null,null,null," ",null,1,1900]
[null,null,null,null,null,null,null,null," ",null,1,1900]
[null,null,null,null,null,null,null,null," ",null,1,1900]
[null,null,null,null,null,null,null,null," ",null,1,1900]
[null,null,null,null,null,null,null,null," ",null,1,1900]
[null,null,null,null,null,null,null,null," ",null,1,1900]
[null,null,null,null,null,null,null,null," ",null,1,1900]
[null,null,null,null,null,null,null,null," ",null,1,1900]
[null,null,null,null,null,null,null,null," ",null,1,1900]
[null,null,null,null,null,null,null,null," ",null,1,1900]
[null,null,null,null,null,null,null,null," ",null,1,1900]
[null,null,null,null,null,null,null,null," ",null,1,1900]
[null,null,null,null,null,null,null,null," ",null,1,1900]
[null,null,null,null,null,null,null,null," ",null,1,1900]
[null,null,null,null,null,null,null,null," ",null,1,1900]
[null,null,null,null,null,null,null,null," ",null,1,1900]
[null,null,null,null,null,null,null,null," ",null,1,1900]
[null,null,null,null,null,null,null,null," ",null,1,1900]
[null,null,null,null,null,null,null,null," ",null,1,1900]
[null,null,null,null,null,null,null,null," ",null,1,1900]
[null,null,null,null,null,null,null,null," ",null,1,1900]
[null,null,null,null,null,null,null,null," ",null,1,1900]
[null,null,null,null,null,null,null,null," ",null,1,1900]
[null,null,null,null,null,null,null,null," ",null,1,1900]
[null,null,null,null,null,null,null,null," ",null,1,1900]
[null,null,null,null,null,null,null,null," ",null,1,1900]
[null,null,null,null,null,null,null,null," ",null,1,1900]
[null,null,null,null,null,null,null,null," ",null,1,1900]
[null,null,null,null,null,null,null,null," ",null,1,1900]
[null,null,null,null,null,null,null,null," ",null,1,1900]
[null,null,null,null,null,null,null,null," ",null,1,1900]
[null,null,null,null,null,null,null,null," ",null,1,1900]
[null,null,null,null,null,null,null,null," ",null,1,1900]
[null,null,null,null,null,null,null,null," ",null,1,1900]
[null,null,null,null,null,null,null,null," ",null,1,1900]
[null,null,null,null,null,null,null,null," ",null,1,1900]
[null,null,null,null,null,null,null,null," ",null,1,1900]
[null,null,null,null,null,null,null,null," ",null,1,1900]
[null,null,null,null,null,null,null,null," ",null,1,1900]
[null,null,null,null,null,null,null,null," ",null,1,1900]
[null,null,null,null,null,null,null,null," ",null,1,1900]
[null,null,null,null,null,null,null,null," ",null,1,1900]
[null,null,null,null,null,null,null,null,{"$f":"+IF(H248=H247,\" \",H248)","v":" "},null,{"$f":"+MONTH(A248)","v":1},{"$f":"+YEAR(A248)","v":1900}]
[null,null,null,null,null,null,null,null," ",null,1,1900]
[null,null,null,null,null,null,null,null," ",null,1,1900]
[null,null,null,null,null,null,null,null," ",null,1,1900]
[null,null,null,null,null,null,null,null," ",null,1,1900]
[null,null,null,null,null,null,null,null," ",null,1,1900]
[null,null,null,null,null,null,null,null," ",null,1,1900]
[null,null,null,null,null,null,null,null," ",null,1,1900]
[null,null,null,null,null,null,null,null," ",null,1,1900]
[null,null,null,null,null,null,null,null," ",null,1,1900]
[null,null,null,null,null,null,null,null," ",null,1,1900]
[null,null,null,null,null,null,null,null," ",null,1,1900]
[null,null,null,null,null,null,null,null," ",null,1,1900]
[null,null,null,null,null,null,null,null," ",null,1,1900]
[null,null,null,null,null,null,null,null," ",null,1,1900]
[null,null,null,null,null,null,null,null," ",null,1,1900]
[null,null,null,null,null,null,null,null," ",null,1,1900]
[null,null,null,null,null,null,null,null," ",null,1,1900]
[null,null,null,null,null,null,null,null," ",null,1,1900]
[null,null,null,null,null,null,null,null," ",null,1,1900]
[null,null,null,null,null,null,null,null," ",null,1,1900]
[null,null,null,null,null,null,null,null," ",null,1,1900]
[null,null,null,null,null,null,null,null," ",null,1,1900]
[null,null,null,null,null,null,null,null," ",null,1,1900]
[null,null,null,null,null,null,null,null," ",null,1,1900]
[null,null,null,null,null,null,null,null," ",null,1,1900]
[null,null,null,null,null,null,null,null," ",null,1,1900]
[null,null,null,null,null,null,null,null," ",null,1,1900]
[null,null,null,null,null,null,null,null," ",null,1,1900]
[null,null,null,null,null,null,null,null," ",null,1,1900]
[null,null,null,null,null,null,null,null," ",null,1,1900]
[null,null,null,null,null,null,null,null," ",null,1,1900]
[null,null,null,null,null,null,null,null," ",null,1,1900]
[null,null,null,null,null,null,null,null," ",null,1,1900]
[null,null,null,null,null,null,null,null," ",null,1,1900]
[null,null,null,null,null,null,null,null," ",null,1,1900]
[null,null,null,null,null,null,null,null," ",null,1,1900]
[null,null,null,null,null,null,null,null," ",null,1,1900]
[null,null,null,null,null,null,null,null," ",null,1,1900]
[null,null,null,null,null,null,null,null," ",null,1,1900]
[null,null,null,null,null,null,null,null," ",null,1,1900]
[null,null,null,null,null,null,null,null," ",null,1,1900]
[null,null,null,null,null,null,null,null," ",null,1,1900]
[null,null,null,null,null,null,null,null," ",null,1,1900]
[null,null,null,null,null,null,null,null," ",null,1,1900]
[null,null,null,null,null,null,null,null," ",null,1,1900]
[null,null,null,null,null,null,null,null," ",null,1,1900]
[null,null,null,null,null,null,null,null," ",null,1,1900]
[null,null,null,null,null,null,null,null," ",null,1,1900]
[null,null,null,null,null,null,null,null," ",null,1,1900]
[null,null,null,null,null,null,null,null," ",null,1,1900]
[null,null,null,null,null,null,null,null," ",null,1,1900]
[null,null,null,null,null,null,null,null," ",null,1,1900]
[null,null,null,null,null,null,null,null," ",null,1,1900]
[null,null,null,null,null,null,null,null," ",null,1,1900]
[null,null,null,null,null,null,null,null," ",null,1,1900]
[null,null,null,null,null,null,null,null," ",null,1,1900]
[null,null,null,null,null,null,null,null," ",null,1,1900]
[null,null,null,null,null,null,null,null," ",null,1,1900]
[null,null,null,null,null,null,null,null," ",null,1,1900]
[null,null,null,null,null,null,null,null," ",null,1,1900]
[null,null,null,null,null,null,null,null," ",null,1,1900]
[null,null,null,null,null,null,null,null," ",null,1,1900]
[null,null,null,null,null,null,null,null," ",null,1,1900]
[null,null,null,null,null,null,null,null,{"$f":"+IF(H312=H311,\" \",H312)","v":" "},null,{"$f":"+MONTH(A312)","v":1},{"$f":"+YEAR(A312)","v":1900}]
[null,null,null,null,null,null,null,null," ",null,1,1900]
[null,null,null,null,null,null,null,null," ",null,1,1900]
[null,null,null,null,null,null,null,null," ",null,1,1900]
[null,null,null,null,null,null,null,null," ",null,1,1900]
[null,null,null,null,null,null,null,null," ",null,1,1900]
[null,null,null,null,null,null,null,null," ",null,1,1900]
[null,null,null,null,null,null,null,null," ",null,1,1900]
[null,null,null,null,null,null,null,null," ",null,1,1900]
[null,null,null,null,null,null,null,null," ",null,1,1900]
[null,null,null,null,null,null,null,null," ",null,1,1900]
[null,null,null,null,null,null,null,null," ",null,1,1900]
[null,null,null,null,null,null,null,null," ",null,1,1900]
[null,null,null,null,null,null,null,null," ",null,1,1900]
[null,null,null,null,null,null,null,null," ",null,1,1900]
[null,null,null,null,null,null,null,null," ",null,1,1900]
[null,null,null,null,null,null,null,null," ",null,1,1900]
[null,null,null,null,null,null,null,null," ",null,1,1900]
[null,null,null,null,null,null,null,null," ",null,1,1900]
[null,null,null,null,null,null,null,null," ",null,1,1900]
[null,null,null,null,null,null,null,null," ",null,1,1900]
[null,null,null,null,null,null,null,null," ",null,1,1900]
[null,null,null,null,null,null,null,null," ",null,1,1900]
[null,null,null,null,null,null,null,null," ",null,1,1900]
[null,null,null,null,null,null,null,null," ",null,1,1900]
[null,null,null,null,null,null,null,null," ",null,1,1900]
[null,null,null,null,null,null,null,null," ",null,1,1900]
[null,null,null,null,null,null,null,null," ",null,1,1900]
[null,null,null,null,null,null,null,null," ",null,1,1900]
[null,null,null,null,null,null,null,null," ",null,1,1900]
[null,null,null,null,null,null,null,null," ",null,1,1900]
[null,null,null,null,null,null,null,null," ",null,1,1900]
[null,null,null,null,null,null,null,null," ",null,1,1900]
[null,null,null,null,null,null,null,null," ",null,1,1900]
[null,null,null,null,null,null,null,null," ",null,1,1900]
[null,null,null,null,null,null,null,null," ",null,1,1900]
[null,null,null,null,null,null,null,null," ",null,1,1900]
[null,null,null,null,null,null,null,null," ",null,1,1900]
[null,null,null,null,null,null,null,null," ",null,1,1900]
[null,null,null,null,null,null,null,null," ",null,1,1900]
[null,null,null,null,null,null,null,null," ",null,1,1900]
[null,null,null,null,null,null,null,null," ",null,1,1900]
[null,null,null,null,null,null,null,null," ",null,1,1900]
[null,null,null,null,null,null,null,null," ",null,1,1900]
[null,null,null,null,null,null,null,null," ",null,1,1900]
[null,null,null,null,null,null,null,null," ",null,1,1900]
[null,null,null,null,null,null,null,null," ",null,1,1900]
[null,null,null,null,null,null,null,null," ",null,1,1900]
[null,null,null,null,null,null,null,null," ",null,1,1900]
[null,null,null,null,null,null,null,null," ",null,1,1900]
[null,null,null,null,null,null,null,null," ",null,1,1900]
[null,null,null,null,null,null,null,null," ",null,1,1900]
[null,null,null,null,null,null,null,null," ",null,1,1900]
[null,null,null,null,null,null,null,null," ",null,1,1900]
[null,null,null,null,null,null,null,null," ",null,1,1900]
[null,null,null,null,null,null,null,null," ",null,1,1900]
[null,null,null,null,null,null,null,null," ",null,1,1900]
[null,null,null,null,null,null,null,null," ",null,1,1900]
[null,null,null,null,null,null,null,null," ",null,1,1900]
[null,null,null,null,null,null,null,null," ",null,1,1900]
[null,null,null,null,null,null,null,null," ",null,1,1900]
[null,null,null,null,null,null,null,null," ",null,1,1900]
[null,null,null,null,null,null,null,null," ",null,1,1900]
[null,null,null,null,null,null,null,null," ",null,1,1900]
[null,null,null,null,null,null,null,null,{"$f":"+IF(H376=H375,\" \",H376)","v":" "},null,{"$f":"+MONTH(A376)","v":1},{"$f":"+YEAR(A376)","v":1900}]
[null,null,null,null,null,null,null,null," ",null,1,1900]
[null,null,null,null,null,null,null,null," ",null,1,1900]
[null,null,null,null,null,null,null,null," ",null,1,1900]
[null,null,null,null,null,null,null,null," ",null,1,1900]
[null,null,null,null,null,null,null,null," ",null,1,1900]
[null,null,null,null,null,null,null,null," ",null,1,1900]
[null,null,null,null,null,null,null,null," ",null,1,1900]
[null,null,null,null,null,null,null,null," ",null,1,1900]
[null,null,null,null,null,null,null,null," ",null,1,1900]
[null,null,null,null,null,null,null,null," ",null,1,1900]
[null,null,null,null,null,null,null,null," ",null,1,1900]
[null,null,null,null,null,null,null,null," ",null,1,1900]
[null,null,null,null,null,null,null,null," ",null,1,1900]
[null,null,null,null,null,null,null,null," ",null,1,1900]
[null,null,null,null,null,null,null,null," ",null,1,1900]
[null,null,null,null,null,null,null,null," ",null,1,1900]
[null,null,null,null,null,null,null,null," ",null,1,1900]
[null,null,null,null,null,null,null,null," ",null,1,1900]
[null,null,null,null,null,null,null,null," ",null,1,1900]
[null,null,null,null,null,null,null,null," ",null,1,1900]
[null,null,null,null,null,null,null,null," ",null,1,1900]
[null,null,null,null,null,null,null,null," ",null,1,1900]
[null,null,null,null,null,null,null,null," ",null,1,1900]
[null,null,null,null,null,null,null,null," ",null,1,1900]
[null,null,null,null,null,null,null,null," ",null,1,1900]
[null,null,null,null,null,null,null,null," ",null,1,1900]
[null,null,null,null,null,null,null,null," ",null,1,1900]
[null,null,null,null,null,null,null,null," ",null,1,1900]
[null,null,null,null,null,null,null,null," ",null,1,1900]
[null,null,null,null,null,null,null,null," ",null,1,1900]
[null,null,null,null,null,null,null,null," ",null,1,1900]
[null,null,null,null,null,null,null,null," ",null,1,1900]
[null,null,null,null,null,null,null,null," ",null,1,1900]
[null,null,null,null,null,null,null,null," ",null,1,1900]
[null,null,null,null,null,null,null,null," ",null,1,1900]
[null,null,null,null,null,null,null,null," ",null,1,1900]
[null,null,null,null,null,null,null,null," ",null,1,1900]
[null,null,null,null,null,null,null,null," ",null,1,1900]
[null,null,null,null,null,null,null,null," ",null,1,1900]
[null,null,null,null,null,null,null,null," ",null,1,1900]
[null,null,null,null,null,null,null,null," ",null,1,1900]
[null,null,null,null,null,null,null,null," ",null,1,1900]
[null,null,null,null,null,null,null,null," ",null,1,1900]
[null,null,null,null,null,null,null,null," ",null,1,1900]
[null,null,null,null,null,null,null,null," ",null,1,1900]
[null,null,null,null,null,null,null,null," ",null,1,1900]
[null,null,null,null,null,null,null,null," ",null,1,1900]
[null,null,null,null,null,null,null,null," ",null,1,1900]
[null,null,null,null,null,null,null,null," ",null,1,1900]
[null,null,null,null,null,null,null,null," ",null,1,1900]
[null,null,null,null,null,null,null,null," ",null,1,1900]
[null,null,null,null,null,null,null,null," ",null,1,1900]
[null,null,null,null,null,null,null,null," ",null,1,1900]
[null,null,null,null,null,null,null,null," ",null,1,1900]
[null,null,null,null,null,null,null,null," ",null,1,1900]
[null,null,null,null,null,null,null,null," ",null,1,1900]
[null,null,null,null,null,null,null,null," ",null,1,1900]
[null,null,null,null,null,null,null,null," ",null,1,1900]
[null,null,null,null,null,null,null,null," ",null,1,1900]
[null,null,null,null,null,null,null,null," ",null,1,1900]
[null,null,null,null,null,null,null,null," ",null,1,1900]
[null,null,null,null,null,null,null,null," ",null,1,1900]
[null,null,null,null,null,null,null,null," ",null,1,1900]
[null,null,null,null,null,null,null,null,{"$f":"+IF(H440=H439,\" \",H440)","v":" "},null,{"$f":"+MONTH(A440)","v":1},{"$f":"+YEAR(A440)","v":1900}]
[null,null,null,null,null,null,null,null," ",null,1,1900]
[null,null,null,null,null,null,null,null," ",null,1,1900]
[null,null,null,null,null,null,null,null," ",null,1,1900]
[null,null,null,null,null,null,null,null," ",null,1,1900]
[null,null,null,null,null,null,null,null," ",null,1,1900]
[null,null,null,null,null,null,null,null," ",null,1,1900]
[null,null,null,null,null,null,null,null," ",null,1,1900]
[null,null,null,null,null,null,null,null," ",null,1,1900]
[null,null,null,null,null,null,null,null," ",null,1,1900]
[null,null,null,null,null,null,null,null," ",null,1,1900]
[null,null,null,null,null,null,null,null," ",null,1,1900]
[null,null,null,null,null,null,null,null," ",null,1,1900]
[null,null,null,null,null,null,null,null," ",null,1,1900]
[null,null,null,null,null,null,null,null," ",null,1,1900]
[null,null,null,null,null,null,null,null," ",null,1,1900]
[null,null,null,null,null,null,null,null," ",null,1,1900]
[null,null,null,null,null,null,null,null," ",null,1,1900]
[null,null,null,null,null,null,null,null," ",null,1,1900]
[null,null,null,null,null,null,null,null," ",null,1,1900]
[null,null,null,null,null,null,null,null," ",null,1,1900]
[null,null,null,null,null,null,null,null," ",null,1,1900]
[null,null,null,null,null,null,null,null," ",null,1,1900]
[null,null,null,null,null,null,null,null," ",null,1,1900]
[null,null,null,null,null,null,null,null," ",null,1,1900]
[null,null,null,null,null,null,null,null," ",null,1,1900]
[null,null,null,null,null,null,null,null," ",null,1,1900]
[null,null,null,null,null,null,null,null," ",null,1,1900]
[null,null,null,null,null,null,null,null," ",null,1,1900]
[null,null,null,null,null,null,null,null," ",null,1,1900]
[null,null,null,null,null,null,null,null," ",null,1,1900]
[null,null,null,null,null,null,null,null," ",null,1,1900]
[null,null,null,null,null,null,null,null," ",null,1,1900]
[null,null,null,null,null,null,null,null," ",null,1,1900]
[null,null,null,null,null,null,null,null," ",null,1,1900]
[null,null,null,null,null,null,null,null," ",null,1,1900]
[null,null,null,null,null,null,null,null," ",null,1,1900]
[null,null,null,null,null,null,null,null," ",null,1,1900]
[null,null,null,null,null,null,null,null," ",null,1,1900]
[null,null,null,null,null,null,null,null," ",null,1,1900]
[null,null,null,null,null,null,null,null," ",null,1,1900]
[null,null,null,null,null,null,null,null," ",null,1,1900]
[null,null,null,null,null,null,null,null," ",null,1,1900]
[null,null,null,null,null,null,null,null," ",null,1,1900]
[null,null,null,null,null,null,null,null," ",null,1,1900]
[null,null,null,null,null,null,null,null," ",null,1,1900]
[null,null,null,null,null,null,null,null," ",null,1,1900]
[null,null,null,null,null,null,null,null," ",null,1,1900]
[null,null,null,null,null,null,null,null," ",null,1,1900]
[null,null,null,null,null,null,null,null," ",null,1,1900]
[null,null,null,null,null,null,null,null," ",null,1,1900]
[null,null,null,null,null,null,null,null," ",null,1,1900]
[null,null,null,null,null,null,null,null," ",null,1,1900]
[null,null,null,null,null,null,null,null," ",null,1,1900]
[null,null,null,null,null,null,null,null," ",null,1,1900]
[null,null,null,null,null,null,null,null," ",null,1,1900]
[null,null,null,null,null,null,null,null," ",null,1,1900]
[null,null,null,null,null,null,null,null," ",null,1,1900]
[null,null,null,null,null,null,null,null," ",null,1,1900]
[null,null,null,null,null,null,null,null," ",null,1,1900]
[null,null,null,null,null,null,null,null," ",null,1,1900]
[null,null,null,null,null,null,null,null," ",null,1,1900]
[null,null,null,null,null,null,null,null," ",null,1,1900]
[null,null,null,null,null,null,null,null," ",null,1,1900]
[null,null,null,null,null,null,null,null,{"$f":"+IF(H504=H503,\" \",H504)","v":" "},null,{"$f":"+MONTH(A504)","v":1},{"$f":"+YEAR(A504)","v":1900}]
[null,null,null,null,null,null,null,null," ",null,1,1900]
[null,null,null,null,null,null,null,null," ",null,1,1900]
[null,null,null,null,null,null,null,null," ",null,1,1900]
[null,null,null,null,null,null,null,null," ",null,1,1900]
[null,null,null,null,null,null,null,null," ",null,1,1900]
[null,null,null,null,null,null,null,null," ",null,1,1900]
[null,null,null,null,null,null,null,null," ",null,1,1900]
[null,null,null,null,null,null,null,null," ",null,1,1900]
[null,null,null,null,null,null,null,null," ",null,1,1900]
[null,null,null,null,null,null,null,null," ",null,1,1900]
[null,null,null,null,null,null,null,null," ",null,1,1900]
[null,null,null,null,null,null,null,null," ",null,1,1900]
[null,null,null,null,null,null,null,null," ",null,1,1900]
[null,null,null,null,null,null,null,null," ",null,1,1900]
[null,null,null,null,null,null,null,null," ",null,1,1900]
[null,null,null,null,null,null,null,null," ",null,1,1900]
[null,null,null,null,null,null,null,null," ",null,1,1900]
[null,null,null,null,null,null,null,null," ",null,1,1900]
[null,null,null,null,null,null,null,null," ",null,1,1900]
[null,null,null,null,null,null,null,null," ",null,1,1900]
[null,null,null,null,null,null,null,null," ",null,1,1900]
[null,null,null,null,null,null,null,null," ",null,1,1900]
[null,null,null,null,null,null,null,null," ",null,1,1900]
[null,null,null,null,null,null,null,null," ",null,1,1900]
[null,null,null,null,null,null,null,null," ",null,1,1900]
[null,null,null,null,null,null,null,null," ",null,1,1900]
[null,null,null,null,null,null,null,null," ",null,1,1900]
[null,null,null,null,null,null,null,null," ",null,1,1900]
[null,null,null,null,null,null,null,null," ",null,1,1900]
[null,null,null,null,null,null,null,null," ",null,1,1900]
[null,null,null,null,null,null,null,null," ",null,1,1900]
[null,null,null,null,null,null,null,null," ",null,1,1900]
[null,null,null,null,null,null,null,null," ",null,1,1900]
[null,null,null,null,null,null,null,null," ",null,1,1900]
[null,null,null,null,null,null,null,null," ",null,1,1900]
[null,null,null,null,null,null,null,null," ",null,1,1900]
[null,null,null,null,null,null,null,null," ",null,1,1900]
[null,null,null,null,null,null,null,null," ",null,1,1900]
[null,null,null,null,null,null,null,null," ",null,1,1900]
[null,null,null,null,null,null,null,null," ",null,1,1900]
[null,null,null,null,null,null,null,null," ",null,1,1900]
[null,null,null,null,null,null,null,null," ",null,1,1900]
[null,null,null,null,null,null,null,null," ",null,1,1900]
[null,null,null,null,null,null,null,null," ",null,1,1900]
[null,null,null,null,null,null,null,null," ",null,1,1900]
[null,null,null,null,null,null,null,null," ",null,1,1900]
[null,null,null,null,null,null,null,null," ",null,1,1900]
[null,null,null,null,null,null,null,null," ",null,1,1900]
[null,null,null,null,null,null,null,null," ",null,1,1900]
[null,null,null,null,null,null,null,null," ",null,1,1900]
[null,null,null,null,null,null,null,null," ",null,1,1900]
[null,null,null,null,null,null,null,null," ",null,1,1900]
[null,null,null,null,null,null,null,null," ",null,1,1900]
[null,null,null,null,null,null,null,null," ",null,1,1900]
[null,null,null,null,null,null,null,null," ",null,1,1900]
[null,null,null,null,null,null,null,null," ",null,1,1900]
[null,null,null,null,null,null,null,null," ",null,1,1900]
[null,null,null,null,null,null,null,null," ",null,1,1900]
[null,null,null,null,null,null,null,null," ",null,1,1900]
[null,null,null,null,null,null,null,null," ",null,1,1900]
[null,null,null,null,null,null,null,null," ",null,1,1900]
[null,null,null,null,null,null,null,null," ",null,1,1900]
[null,null,null,null,null,null,null,null," ",null,1,1900]
[null,null,null,null,null,null,null,null,{"$f":"+IF(H568=H567,\" \",H568)","v":" "},null,{"$f":"+MONTH(A568)","v":1},{"$f":"+YEAR(A568)","v":1900}]
[null,null,null,null,null,null,null,null," ",null,1,1900]
[null,null,null,null,null,null,null,null," ",null,1,1900]
[null,null,null,null,null,null,null,null," ",null,1,1900]
[null,null,null,null,null,null,null,null," ",null,1,1900]
[null,null,null,null,null,null,null,null," ",null,1,1900]
[null,null,null,null,null,null,null,null," ",null,1,1900]
[null,null,null,null,null,null,null,null," ",null,1,1900]
[null,null,null,null,null,null,null,null," ",null,1,1900]
[null,null,null,null,null,null,null,null," ",null,1,1900]
[null,null,null,null,null,null,null,null," ",null,1,1900]
[null,null,null,null,null,null,null,null," ",null,1,1900]
[null,null,null,null,null,null,null,null," ",null,1,1900]
[null,null,null,null,null,null,null,null," ",null,1,1900]
[null,null,null,null,null,null,null,null," ",null,1,1900]
[null,null,null,null,null,null,null,null," ",null,1,1900]
[null,null,null,null,null,null,null,null," ",null,1,1900]
[null,null,null,null,null,null,null,null," ",null,1,1900]
[null,null,null,null,null,null,null,null," ",null,1,1900]
[null,null,null,null,null,null,null,null," ",null,1,1900]
[null,null,null,null,null,null,null,null," ",null,1,1900]
[null,null,null,null,null,null,null,null," ",null,1,1900]
[null,null,null,null,null,null,null,null," ",null,1,1900]
[null,null,null,null,null,null,null,null," ",null,1,1900]
[null,null,null,null,null,null,null,null," ",null,1,1900]
[null,null,null,null,null,null,null,null," ",null,1,1900]
[null,null,null,null,null,null,null,null," ",null,1,1900]
[null,null,null,null,null,null,null,null," ",null,1,1900]
[null,null,null,null,null,null,null,null," ",null,1,1900]
[null,null,null,null,null,null,null,null," ",null,1,1900]
[null,null,null,null,null,null,null,null," ",null,1,1900]
[null,null,null,null,null,null,null,null," ",null,1,1900]
[null,null,null,null,null,null,null,null," ",null,1,1900]
[null,null,null,null,null,null,null,null," ",null,1,1900]
[null,null,null,null,null,null,null,null," ",null,1,1900]
[null,null,null,null,null,null,null,null," ",null,1,1900]
[null,null,null,null,null,null,null,null," ",null,1,1900]
[null,null,null,null,null,null,null,null," ",null,1,1900]
[null,null,null,null,null,null,null,null," ",null,1,1900]
[null,null,null,null,null,null,null,null," ",null,1,1900]
[null,null,null,null,null,null,null,null," ",null,1,1900]
[null,null,null,null,null,null,null,null," ",null,1,1900]
[null,null,null,null,null,null,null,null," ",null,1,1900]
[null,null,null,null,null,null,null,null," ",null,1,1900]
[null,null,null,null,null,null,null,null," ",null,1,1900]
[null,null,null,null,null,null,null,null," ",null,1,1900]
[null,null,null,null,null,null,null,null," ",null,1,1900]
[null,null,null,null,null,null,null,null," ",null,1,1900]
[null,null,null,null,null,null,null,null," ",null,1,1900]
[null,null,null,null,null,null,null,null," ",null,1,1900]
[null,null,null,null,null,null,null,null," ",null,1,1900]
[null,null,null,null,null,null,null,null," ",null,1,1900]
[null,null,null,null,null,null,null,null," ",null,1,1900]
[null,null,null,null,null,null,null,null," ",null,1,1900]
[null,null,null,null,null,null,null,null," ",null,1,1900]
[null,null,null,null,null,null,null,null," ",null,1,1900]
[null,null,null,null,null,null,null,null," ",null,1,1900]
[null,null,null,null,null,null,null,null," ",null,1,1900]
[null,null,null,null,null,null,null,null," ",null,1,1900]
[null,null,null,null,null,null,null,null," ",null,1,1900]
[null,null,null,null,null,null,null,null," ",null,1,1900]
[null,null,null,null,null,null,null,null," ",null,1,1900]
[null,null,null,null,null,null,null,null," ",null,1,1900]
[null,null,null,null,null,null,null,null," ",null,1,1900]
[null,null,null,null,null,null,null,null,{"$f":"+IF(H632=H631,\" \",H632)","v":" "},null,{"$f":"+MONTH(A632)","v":1},{"$f":"+YEAR(A632)","v":1900}]
[null,null,null,null,null,null,null,null," ",null,1,1900]
[null,null,null,null,null,null,null,null," ",null,1,1900]
[null,null,null,null,null,null,null,null," ",null,1,1900]
[null,null,null,null,null,null,null,null," ",null,1,1900]
[null,null,null,null,null,null,null,null," ",null,1,1900]
[null,null,null,null,null,null,null,null," ",null,1,1900]
[null,null,null,null,null,null,null,null," ",null,1,1900]
[null,null,null,null,null,null,null,null," ",null,1,1900]
[null,null,null,null,null,null,null,null," ",null,1,1900]
[null,null,null,null,null,null,null,null," ",null,1,1900]
[null,null,null,null,null,null,null,null," ",null,1,1900]
[null,null,null,null,null,null,null,null," ",null,1,1900]
[null,null,null,null,null,null,null,null," ",null,1,1900]
[null,null,null,null,null,null,null,null," ",null,1,1900]
[null,null,null,null,null,null,null,null," ",null,1,1900]
[null,null,null,null,null,null,null,null," ",null,1,1900]
[null,null,null,null,null,null,null,null," ",null,1,1900]
[null,null,null,null,null,null,null,null," ",null,1,1900]
[null,null,null,null,null,null,null,null," ",null,1,1900]
[null,null,null,null,null,null,null,null," ",null,1,1900]
[null,null,null,null,null,null,null,null," ",null,1,1900]
[null,null,null,null,null,null,null,null," ",null,1,1900]
[null,null,null,null,null,null,null,null," ",null,1,1900]
[null,null,null,null,null,null,null,null," ",null,1,1900]
[null,null,null,null,null,null,null,null," ",null,1,1900]
[null,null,null,null,null,null,null,null," ",null,1,1900]
[null,null,null,null,null,null,null,null," ",null,1,1900]
[null,null,null,null,null,null,null,null," ",null,1,1900]
[null,null,null,null,null,null,null,null," ",null,1,1900]
[null,null,null,null,null,null,null,null," ",null,1,1900]
[null,null,null,null,null,null,null,null," ",null,1,1900]
[null,null,null,null,null,null,null,null," ",null,1,1900]
[null,null,null,null,null,null,null,null," ",null,1,1900]
[null,null,null,null,null,null,null,null," ",null,1,1900]
[null,null,null,null,null,null,null,null," ",null,1,1900]
[null,null,null,null,null,null,null,null," ",null,1,1900]
[null,null,null,null,null,null,null,null," ",null,1,1900]
[null,null,null,null,null,null,null,null," ",null,1,1900]
[null,null,null,null,null,null,null,null," ",null,1,1900]
[null,null,null,null,null,null,null,null," ",null,1,1900]
[null,null,null,null,null,null,null,null," ",null,1,1900]
[null,null,null,null,null,null,null,null," ",null,1,1900]
[null,null,null,null,null,null,null,null," ",null,1,1900]
[null,null,null,null,null,null,null,null," ",null,1,1900]
[null,null,null,null,null,null,null,null," ",null,1,1900]
[null,null,null,null,null,null,null,null," ",null,1,1900]
[null,null,null,null,null,null,null,null," ",null,1,1900]
[null,null,null,null,null,null,null,null," ",null,1,1900]
[null,null,null,null,null,null,null,null," ",null,1,1900]
[null,null,null,null,null,null,null,null," ",null,1,1900]
[null,null,null,null,null,null,null,null," ",null,1,1900]
[null,null,null,null,null,null,null,null," ",null,1,1900]
[null,null,null,null,null,null,null,null," ",null,1,1900]
[null,null,null,null,null,null,null,null," ",null,1,1900]
[null,null,null,null,null,null,null,null," ",null,1,1900]
[null,null,null,null,null,null,null,null," ",null,1,1900]
[null,null,null,null,null,null,null,null," ",null,1,1900]
[null,null,null,null,null,null,null,null," ",null,1,1900]
[null,null,null,null,null,null,null,null," ",null,1,1900]
[null,null,null,null,null,null,null,null," ",null,1,1900]
[null,null,null,null,null,null,null,null," ",null,1,1900]
[null,null,null,null,null,null,null,null," ",null,1,1900]
[null,null,null,null,null,null,null,null," ",null,1,1900]
[null,null,null,null,null,null,null,null,{"$f":"+IF(H696=H695,\" \",H696)","v":" "},null,{"$f":"+MONTH(A696)","v":1},{"$f":"+YEAR(A696)","v":1900}]
[null,null,null,null,null,null,null,null," ",null,1,1900]
[null,null,null,null,null,null,null,null," ",null,1,1900]
[null,null,null,null,null,null,null,null," ",null,1,1900]
[null,null,null,null,null,null,null,null," ",null,1,1900]
[null,null,null,null,null,null,null,null," ",null,1,1900]
[null,null,null,null,null,null,null,null," ",null,1,1900]
[null,null,null,null,null,null,null,null," ",null,1,1900]
[null,null,null,null,null,null,null,null," ",null,1,1900]
[null,null,null,null,null,null,null,null," ",null,1,1900]
[null,null,null,null,null,null,null,null," ",null,1,1900]
[null,null,null,null,null,null,null,null," ",null,1,1900]
[null,null,null,null,null,null,null,null," ",null,1,1900]
[null,null,null,null,null,null,null,null," ",null,1,1900]
[null,null,null,null,null,null,null,null," ",null,1,1900]
[null,null,null,null,null,null,null,null," ",null,1,1900]
[null,null,null,null,null,null,null,null," ",null,1,1900]
[null,null,null,null,null,null,null,null," ",null,1,1900]
[null,null,null,null,null,null,null,null," ",null,1,1900]
[null,null,null,null,null,null,null,null," ",null,1,1900]
[null,null,null,null,null,null,null,null," ",null,1,1900]
[null,null,null,null,null,null,null,null," ",null,1,1900]
[null,null,null,null,null,null,null,null," ",null,1,1900]
[null,null,null,null,null,null,null,null," ",null,1,1900]
[null,null,null,null,null,null,null,null," ",null,1,1900]
[null,null,null,null,null,null,null,null," ",null,1,1900]
[null,null,null,null,null,null,null,null," ",null,1,1900]
[null,null,null,null,null,null,null,null," ",null,1,1900]
[null,null,null,null,null,null,null,null," ",null,1,1900]
[null,null,null,null,null,null,null,null," ",null,1,1900]
[null,null,null,null,null,null,null,null," ",null,1,1900]
[null,null,null,null,null,null,null,null," ",null,1,1900]
[null,null,null,null,null,null,null,null," ",null,1,1900]
[null,null,null,null,null,null,null,null," ",null,1,1900]
[null,null,null,null,null,null,null,null," ",null,1,1900]
[null,null,null,null,null,null,null,null," ",null,1,1900]
[null,null,null,null,null,null,null,null," ",null,1,1900]
[null,null,null,null,null,null,null,null," ",null,1,1900]
[null,null,null,null,null,null,null,null," ",null,1,1900]
[null,null,null,null,null,null,null,null," ",null,1,1900]
[null,null,null,null,null,null,null,null," ",null,1,1900]
[null,null,null,null,null,null,null,null," ",null,1,1900]
[null,null,null,null,null,null,null,null," ",null,1,1900]
[null,null,null,null,null,null,null,null," ",null,1,1900]
[null,null,null,null,null,null,null,null," ",null,1,1900]
[null,null,null,null,null,null,null,null," ",null,1,1900]
[null,null,null,null,null,null,null,null," ",null,1,1900]
[null,null,null,null,null,null,null,null," ",null,1,1900]
[null,null,null,null,null,null,null,null," ",null,1,1900]
[null,null,null,null,null,null,null,null," ",null,1,1900]
[null,null,null,null,null,null,null,null," ",null,1,1900]
[null,null,null,null,null,null,null,null," ",null,1,1900]
[null,null,null,null,null,null,null,null," ",null,1,1900]
[null,null,null,null,null,null,null,null," ",null,1,1900]
[null,null,null,null,null,null,null,null," ",null,1,1900]
[null,null,null,null,null,null,null,null," ",null,1,1900]
[null,null,null,null,null,null,null,null," ",null,1,1900]
[null,null,null,null,null,null,null,null," ",null,1,1900]
[null,null,null,null,null,null,null,null," ",null,1,1900]
[null,null,null,null,null,null,null,null," ",null,1,1900]
[null,null,null,null,null,null,null,null," ",null,1,1900]
[null,null,null,null,null,null,null,null," ",null,1,1900]
[null,null,null,null,null,null,null,null," ",null,1,1900]
[null,null,null,null,null,null,null,null," ",null,1,1900]
[null,null,null,null,null,null,null,null,{"$f":"+IF(H760=H759,\" \",H760)","v":" "},null,{"$f":"+MONTH(A760)","v":1},{"$f":"+YEAR(A760)","v":1900}]
[null,null,null,null,null,null,null,null," ",null,1,1900]
[null,null,null,null,null,null,null,null," ",null,1,1900]
[null,null,null,null,null,null,null,null," ",null,1,1900]
[null,null,null,null,null,null,null,null," ",null,1,1900]
[null,null,null,null,null,null,null,null," ",null,1,1900]
[null,null,null,null,null,null,null,null," ",null,1,1900]
[null,null,null,null,null,null,null,null," ",null,1,1900]
[null,null,null,null,null,null,null,null," ",null,1,1900]
[null,null,null,null,null,null,null,null," ",null,1,1900]
[null,null,null,null,null,null,null,null," ",null,1,1900]
[null,null,null,null,null,null,null,null," ",null,1,1900]
[null,null,null,null,null,null,null,null," ",null,1,1900]
[null,null,null,null,null,null,null,null," ",null,1,1900]
[null,null,null,null,null,null,null,null," ",null,1,1900]
[null,null,null,null,null,null,null,null," ",null,1,1900]
[null,null,null,null,null,null,null,null," ",null,1,1900]
[null,null,null,null,null,null,null,null," ",null,1,1900]
[null,null,null,null,null,null,null,null," ",null,1,1900]
[null,null,null,null,null,null,null,null," ",null,1,1900]
[null,null,null,null,null,null,null,null," ",null,1,1900]
[null,null,null,null,null,null,null,null," ",null,1,1900]
[null,null,null,null,null,null,null,null," ",null,1,1900]
[null,null,null,null,null,null,null,null," ",null,1,1900]
[null,null,null,null,null,null,null,null," ",null,1,1900]
[null,null,null,null,null,null,null,null," ",null,1,1900]
[null,null,null,null,null,null,null,null," ",null,1,1900]
[null,null,null,null,null,null,null,null," ",null,1,1900]
[null,null,null,null,null,null,null,null," ",null,1,1900]
[null,null,null,null,null,null,null,null," ",null,1,1900]
[null,null,null,null,null,null,null,null," ",null,1,1900]
[null,null,null,null,null,null,null,null," ",null,1,1900]
[null,null,null,null,null,null,null,null," ",null,1,1900]
[null,null,null,null,null,null,null,null," ",null,1,1900]
[null,null,null,null,null,null,null,null," ",null,1,1900]
[null,null,null,null,null,null,null,null," ",null,1,1900]
[null,null,null,null,null,null,null,null," ",null,1,1900]
[null,null,null,null,null,null,null,null," ",null,1,1900]
[null,null,null,null,null,null,null,null," ",null,1,1900]
[null,null,null,null,null,null,null,null," ",null,1,1900]
[null,null,null,null,null,null,null,null," ",null,1,1900]
[null,null,null,null,null,null,null,null," ",null,1,1900]
[null,null,null,null,null,null,null,null," ",null,1,1900]
[null,null,null,null,null,null,null,null," ",null,1,1900]
[null,null,null,null,null,null,null,null," ",null,1,1900]
[null,null,null,null,null,null,null,null," ",null,1,1900]
[null,null,null,null,null,null,null,null," ",null,1,1900]
[null,null,null,null,null,null,null,null," ",null,1,1900]
[null,null,null,null,null,null,null,null," ",null,1,1900]
[null,null,null,null,null,null,null,null," ",null,1,1900]
[null,null,null,null,null,null,null,null," ",null,1,1900]
[null,null,null,null,null,null,null,null," ",null,1,1900]
[null,null,null,null,null,null,null,null," ",null,1,1900]
[null,null,null,null,null,null,null,null," ",null,1,1900]
[null,null,null,null,null,null,null,null," ",null,1,1900]
[null,null,null,null,null,null,null,null," ",null,1,1900]
[null,null,null,null,null,null,null,null," ",null,1,1900]
[null,null,null,null,null,null,null,null," ",null,1,1900]
[null,null,null,null,null,null,null,null," ",null,1,1900]
[null,null,null,null,null,null,null,null," ",null,1,1900]
[null,null,null,null,null,null,null,null," ",null,1,1900]
[null,null,null,null,null,null,null,null," ",null,1,1900]
[null,null,null,null,null,null,null,null," ",null,1,1900]
[null,null,null,null,null,null,null,null," ",null,1,1900]
[null,null,null,null,null,null,null,null,{"$f":"+IF(H824=H823,\" \",H824)","v":" "},null,{"$f":"+MONTH(A824)","v":1},{"$f":"+YEAR(A824)","v":1900}]
[null,null,null,null,null,null,null,null," ",null,1,1900]
[null,null,null,null,null,null,null,null," ",null,1,1900]
[null,null,null,null,null,null,null,null," ",null,1,1900]
[null,null,null,null,null,null,null,null," ",null,1,1900]
[null,null,null,null,null,null,null,null," ",null,1,1900]
[null,null,null,null,null,null,null,null," ",null,1,1900]
[null,null,null,null,null,null,null,null," ",null,1,1900]
[null,null,null,null,null,null,null,null," ",null,1,1900]
[null,null,null,null,null,null,null,null," ",null,1,1900]
[null,null,null,null,null,null,null,null," ",null,1,1900]
[null,null,null,null,null,null,null,null," ",null,1,1900]
[null,null,null,null,null,null,null,null," ",null,1,1900]
[null,null,null,null,null,null,null,null," ",null,1,1900]
[null,null,null,null,null,null,null,null," ",null,1,1900]
[null,null,null,null,null,null,null,null," ",null,1,1900]
[null,null,null,null,null,null,null,null," ",null,1,1900]
[null,null,null,null,null,null,null,null," ",null,1,1900]
[null,null,null,null,null,null,null,null," ",null,1,1900]
[null,null,null,null,null,null,null,null," ",null,1,1900]
[null,null,null,null,null,null,null,null," ",null,1,1900]
[null,null,null,null,null,null,null,null," ",null,1,1900]
[null,null,null,null,null,null,null,null," ",null,1,1900]
[null,null,null,null,null,null,null,null," ",null,1,1900]
[null,null,null,null,null,null,null,null," ",null,1,1900]
[null,null,null,null,null,null,null,null," ",null,1,1900]
[null,null,null,null,null,null,null,null," ",null,1,1900]
[null,null,null,null,null,null,null,null," ",null,1,1900]
[null,null,null,null,null,null,null,null," ",null,1,1900]
[null,null,null,null,null,null,null,null," ",null,1,1900]
[null,null,null,null,null,null,null,null," ",null,1,1900]
[null,null,null,null,null,null,null,null," ",null,1,1900]
[null,null,null,null,null,null,null,null," ",null,1,1900]
[null,null,null,null,null,null,null,null," ",null,1,1900]
[null,null,null,null,null,null,null,null," ",null,1,1900]
[null,null,null,null,null,null,null,null," ",null,1,1900]
[null,null,null,null,null,null,null,null," ",null,1,1900]
[null,null,null,null,null,null,null,null," ",null,1,1900]
[null,null,null,null,null,null,null,null," ",null,1,1900]
[null,null,null,null,null,null,null,null," ",null,1,1900]
[null,null,null,null,null,null,null,null," ",null,1,1900]
[null,null,null,null,null,null,null,null," ",null,1,1900]
[null,null,null,null,null,null,null,null," ",null,1,1900]
[null,null,null,null,null,null,null,null," ",null,1,1900]
[null,null,null,null,null,null,null,null," ",null,1,1900]
[null,null,null,null,null,null,null,null," ",null,1,1900]
[null,null,null,null,null,null,null,null," ",null,1,1900]
[null,null,null,null,null,null,null,null," ",null,1,1900]
[null,null,null,null,null,null,null,null," ",null,1,1900]
[null,null,null,null,null,null,null,null," ",null,1,1900]
[null,null,null,null,null,null,null,null," ",null,1,1900]
[null,null,null,null,null,null,null,null," ",null,1,1900]
[null,null,null,null,null,null,null,null," ",null,1,1900]
[null,null,null,null,null,null,null,null," ",null,1,1900]
[null,null,null,null,null,null,null,null," ",null,1,1900]
[null,null,null,null,null,null,null,null," ",null,1,1900]
[null,null,null,null,null,null,null,null," ",null,1,1900]
[null,null,null,null,null,null,null,null," ",null,1,1900]
[null,null,null,null,null,null,null,null," ",null,1,1900]
[null,null,null,null,null,null,null,null," ",null,1,1900]
[null,null,null,null,null,null,null,null," ",null,1,1900]
[null,null,null,null,null,null,null,null," ",null,1,1900]
[null,null,null,null,null,null,null,null," ",null,1,1900]
[null,null,null,null,null,null,null,null," ",null,1,1900]
[null,null,null,null,null,null,null,null,{"$f":"+IF(H888=H887,\" \",H888)","v":" "},null,{"$f":"+MONTH(A888)","v":1},{"$f":"+YEAR(A888)","v":1900}]
[null,null,null,null,null,null,null,null," ",null,1,1900]
[null,null,null,null,null,null,null,null," ",null,1,1900]
[null,null,null,null,null,null,null,null," ",null,1,1900]
[null,null,null,null,null,null,null,null," ",null,1,1900]
[null,null,null,null,null,null,null,null," ",null,1,1900]
[null,null,null,null,null,null,null,null," ",null,1,1900]
[null,null,null,null,null,null,null,null," ",null,1,1900]
[null,null,null,null,null,null,null,null," ",null,1,1900]
[null,null,null,null,null,null,null,null," ",null,1,1900]
[null,null,null,null,null,null,null,null," ",null,1,1900]
[null,null,null,null,null,null,null,null," ",null,1,1900]
[null,null,null,null,null,null,null,null," ",null,1,1900]
[null,null,null,null,null,null,null,null," ",null,1,1900]
[null,null,null,null,null,null,null,null," ",null,1,1900]
[null,null,null,null,null,null,null,null," ",null,1,1900]
[null,null,null,null,null,null,null,null," ",null,1,1900]
[null,null,null,null,null,null,null,null," ",null,1,1900]
[null,null,null,null,null,null,null,null," ",null,1,1900]
[null,null,null,null,null,null,null,null," ",null,1,1900]
[null,null,null,null,null,null,null,null," ",null,1,1900]
[null,null,null,null,null,null,null,null," ",null,1,1900]
[null,null,null,null,null,null,null,null," ",null,1,1900]
[null,null,null,null,null,null,null,null," ",null,1,1900]
[null,null,null,null,null,null,null,null," ",null,1,1900]
[null,null,null,null,null,null,null,null," ",null,1,1900]
[null,null,null,null,null,null,null,null," ",null,1,1900]
[null,null,null,null,null,null,null,null," ",null,1,1900]
[null,null,null,null,null,null,null,null," ",null,1,1900]
[null,null,null,null,null,null,null,null," ",null,1,1900]
[null,null,null,null,null,null,null,null," ",null,1,1900]
[null,null,null,null,null,null,null,null," ",null,1,1900]
[null,null,null,null,null,null,null,null," ",null,1,1900]
[null,null,null,null,null,null,null,null," ",null,1,1900]
[null,null,null,null,null,null,null,null," ",null,1,1900]
[null,null,null,null,null,null,null,null," ",null,1,1900]
[null,null,null,null,null,null,null,null," ",null,1,1900]
[null,null,null,null,null,null,null,null," ",null,1,1900]
[null,null,null,null,null,null,null,null," ",null,1,1900]
[null,null,null,null,null,null,null,null," ",null,1,1900]
[null,null,null,null,null,null,null,null," ",null,1,1900]
[null,null,null,null,null,null,null,null," ",null,1,1900]
[null,null,null,null,null,null,null,null," ",null,1,1900]
[null,null,null,null,null,null,null,null," ",null,1,1900]
[null,null,null,null,null,null,null,null," ",null,1,1900]
[null,null,null,null,null,null,null,null," ",null,1,1900]
[null,null,null,null,null,null,null,null," ",null,1,1900]
[null,null,null,null,null,null,null,null," ",null,1,1900]
[null,null,null,null,null,null,null,null," ",null,1,1900]
[null,null,null,null,null,null,null,null," ",null,1,1900]
[null,null,null,null,null,null,null,null," ",null,1,1900]
[null,null,null,null,null,null,null,null," ",null,1,1900]
[null,null,null,null,null,null,null,null," ",null,1,1900]
[null,null,null,null,null,null,null,null," ",null,1,1900]
[null,null,null,null,null,null,null,null," ",null,1,1900]
[null,null,null,null,null,null,null,null," ",null,1,1900]
[null,null,null,null,null,null,null,null," ",null,1,1900]
[null,null,null,null,null,null,null,null," ",null,1,1900]
[null,null,null,null,null,null,null,null," ",null,1,1900]
[null,null,null,null,null,null,null,null," ",null,1,1900]
[null,null,null,null,null,null,null,null," ",null,1,1900]
[null,null,null,null,null,null,null,null," ",null,1,1900]
[null,null,null,null,null,null,null,null," ",null,1,1900]
[null,null,null,null,null,null,null,null," ",null,1,1900]
[null,null,null,null,null,null,null,null,{"$f":"+IF(H952=H951,\" \",H952)","v":" "},null,{"$f":"+MONTH(A952)","v":1},{"$f":"+YEAR(A952)","v":1900}]
[null,null,null,null,null,null,null,null," ",null,1,1900]
[null,null,null,null,null,null,null,null," ",null,1,1900]
[null,null,null,null,null,null,null,null," ",null,1,1900]
[null,null,null,null,null,null,null,null," ",null,1,1900]
[null,null,null,null,null,null,null,null," ",null,1,1900]
[null,null,null,null,null,null,null,null," ",null,1,1900]
[null,null,null,null,null,null,null,null," ",null,1,1900]
[null,null,null,null,null,null,null,null," ",null,1,1900]
[null,null,null,null,null,null,null,null," ",null,1,1900]
[null,null,null,null,null,null,null,null," ",null,1,1900]
[null,null,null,null,null,null,null,null," ",null,1,1900]
[null,null,null,null,null,null,null,null," ",null,1,1900]
[null,null,null,null,null,null,null,null," ",null,1,1900]
[null,null,null,null,null,null,null,null," ",null,1,1900]
[null,null,null,null,null,null,null,null," ",null,1,1900]
[null,null,null,null,null,null,null,null," ",null,1,1900]
[null,null,null,null,null,null,null,null," ",null,1,1900]
[null,null,null,null,null,null,null,null," ",null,1,1900]
[null,null,null,null,null,null,null,null," ",null,1,1900]
[null,null,null,null,null,null,null,null," ",null,1,1900]
[null,null,null,null,null,null,null,null," ",null,1,1900]
[null,null,null,null,null,null,null,null," ",null,1,1900]
[null,null,null,null,null,null,null,null," ",null,1,1900]
[null,null,null,null,null,null,null,null," ",null,1,1900]
[null,null,null,null,null,null,null,null," ",null,1,1900]
[null,null,null,null,null,null,null,null," ",null,1,1900]
[null,null,null,null,null,null,null,null," ",null,1,1900]
[null,null,null,null,null,null,null,null," ",null,1,1900]
[null,null,null,null,null,null,null,null," ",null,1,1900]
[null,null,null,null,null,null,null,null," ",null,1,1900]
[null,null,null,null,null,null,null,null," ",null,1,1900]
[null,null,null,null,null,null,null,null," ",null,1,1900]
[null,null,null,null,null,null,null,null," ",null,1,1900]
[null,null,null,null,null,null,null,null," ",null,1,1900]
[null,null,null,null,null,null,null,null," ",null,1,1900]
[null,null,null,null,null,null,null,null," ",null,1,1900]
[null,null,null,null,null,null,null,null," ",null,1,1900]
[null,null,null,null,null,null,null,null," ",null,1,1900]
[null,null,null,null,null,null,null,null," ",null,1,1900]
[null,null,null,null,null,null,null,null," ",null,1,1900]
[null,null,null,null,null,null,null,null," ",null,1,1900]
[null,null,null,null,null,null,null,null," ",null,1,1900]
[null,null,null,null,null,null,null,null," ",null,1,1900]
[null,null,null,null,null,null,null,null," ",null,1,1900]
[null,null,null,null,null,null,null,null," ",null,1,1900]
[null,null,null,null,null,null,null,null," ",null,1,1900]
[null,null,null,null,null,null,null,null," ",null,1,1900]
[null,null,null,null,null,null,null,null," ",null,1,1900]
[null,null,null,null,null,null,null,null," ",null,1,1900]
[null,null,null,null,null,null,null,null," ",null,1,1900]
[null,null,null,null,null,null,null,null," ",null,1,1900]
[null,null,null,null,null,null,null,null," ",null,1,1900]
[null,null,null,null,null,null,null,null," ",null,1,1900]
[null,null,null,null,null,null,null,null," ",null,1,1900]
[null,null,null,null,null,null,null,null," ",null,1,1900]
[null,null,null,null,null,null,null,null," ",null,1,1900]
[null,null,null,null,null,null,null,null," ",null,1,1900]
[null,null,null,null,null,null,null,null," ",null,1,1900]
[null,null,null,null,null,null,null,null," ",null,1,1900]
[null,null,null,null,null,null,null,null," ",null,1,1900]
[null,null,null,null,null,null,null,null," ",null,1,1900]
[null,null,null,null,null,null,null,null," ",null,1,1900]
[null,null,null,null,null,null,null,null," ",null,1,1900]
[null,null,null,null,null,null,null,null,{"$f":"+IF(H1016=H1015,\" \",H1016)","v":" "},null,{"$f":"+MONTH(A1016)","v":1},{"$f":"+YEAR(A1016)","v":1900}]
[null,null,null,null,null,null,null,null," ",null,1,1900]
[null,null,null,null,null,null,null,null," ",null,1,1900]
[null,null,null,null,null,null,null,null," ",null,1,1900]
[null,null,null,null,null,null,null,null," ",null,1,1900]
[null,null,null,null,null,null,null,null," ",null,1,1900]
[null,null,null,null,null,null,null,null," ",null,1,1900]
[null,null,null,null,null,null,null,null," ",null,1,1900]
[null,null,null,null,null,null,null,null," ",null,1,1900]
[null,null,null,null,null,null,null,null," ",null,1,1900]
[null,null,null,null,null,null,null,null," ",null,1,1900]
[null,null,null,null,null,null,null,null," ",null,1,1900]
[null,null,null,null,null,null,null,null," ",null,1,1900]
[null,null,null,null,null,null,null,null," ",null,1,1900]
[null,null,null,null,null,null,null,null," ",null,1,1900]
[null,null,null,null,null,null,null,null," ",null,1,1900]
[null,null,null,null,null,null,null,null," ",null,1,1900]
[null,null,null,null,null,null,null,null," ",null,1,1900]
[null,null,null,null,null,null,null,null," ",null,1,1900]
[null,null,null,null,null,null,null,null," ",null,1,1900]
[null,null,null,null,null,null,null,null," ",null,1,1900]
[null,null,null,null,null,null,null,null," ",null,1,1900]
[null,null,null,null,null,null,null,null," ",null,1,1900]
[null,null,null,null,null,null,null,null," ",null,1,1900]
[null,null,null,null,null,null,null,null," ",null,1,1900]
[null,null,null,null,null,null,null,null," ",null,1,1900]
[null,null,null,null,null,null,null,null," ",null,1,1900]
[null,null,null,null,null,null,null,null," ",null,1,1900]
[null,null,null,null,null,null,null,null," ",null,1,1900]
[null,null,null,null,null,null,null,null," ",null,1,1900]
[null,null,null,null,null,null,null,null," ",null,1,1900]
[null,null,null,null,null,null,null,null," ",null,1,1900]
[null,null,null,null,null,null,null,null," ",null,1,1900]
[null,null,null,null,null,null,null,null," ",null,1,1900]
[null,null,null,null,null,null,null,null," ",null,1,1900]
[null,null,null,null,null,null,null,null," ",null,1,1900]
[null,null,null,null,null,null,null,null," ",null,1,1900]
[null,null,null,null,null,null,null,null," ",null,1,1900]
[null,null,null,null,null,null,null,null," ",null,1,1900]
[null,null,null,null,null,null,null,null," ",null,1,1900]
[null,null,null,null,null,null,null,null," ",null,1,1900]
[null,null,null,null,null,null,null,null," ",null,1,1900]
[null,null,null,null,null,null,null,null," ",null,1,1900]
[null,null,null,null,null,null,null,null," ",null,1,1900]
[null,null,null,null,null,null,null,null," ",null,1,1900]
[null,null,null,null,null,null,null,null," ",null,1,1900]
[null,null,null,null,null,null,null,null," ",null,1,1900]
[null,null,null,null,null,null,null,null," ",null,1,1900]
[null,null,null,null,null,null,null,null," ",null,1,1900]
[null,null,null,null,null,null,null,null," ",null,1,1900]
[null,null,null,null,null,null,null,null," ",null,1,1900]
[null,null,null,null,null,null,null,null," ",null,1,1900]
[null,null,null,null,null,null,null,null," ",null,1,1900]
[null,null,null,null,null,null,null,null," ",null,1,1900]
[null,null,null,null,null,null,null,null," ",null,1,1900]
[null,null,null,null,null,null,null,null," ",null,1,1900]
[null,null,null,null,null,null,null,null," ",null,1,1900]
[null,null,null,null,null,null,null,null," ",null,1,1900]
[null,null,null,null,null,null,null,null," ",null,1,1900]
[null,null,null,null,null,null,null,null," ",null,1,1900]
[null,null,null,null,null,null,null,null," ",null,1,1900]
[null,null,null,null,null,null,null,null," ",null,1,1900]
[null,null,null,null,null,null,null,null," ",null,1,1900]
[null,null,null,null,null,null,null,null," ",null,1,1900]
[null,null,null,null,null,null,null,null,{"$f":"+IF(H1080=H1079,\" \",H1080)","v":" "},null,{"$f":"+MONTH(A1080)","v":1},{"$f":"+YEAR(A1080)","v":1900}]
[null,null,null,null,null,null,null,null," ",null,1,1900]
[null,null,null,null,null,null,null,null," ",null,1,1900]
[null,null,null,null,null,null,null,null," ",null,1,1900]
[null,null,null,null,null,null,null,null," ",null,1,1900]
[null,null,null,null,null,null,null,null," ",null,1,1900]
[null,null,null,null,null,null,null,null," ",null,1,1900]
[null,null,null,null,null,null,null,null," ",null,1,1900]
[null,null,null,null,null,null,null,null," ",null,1,1900]
[null,null,null,null,null,null,null,null," ",null,1,1900]
[null,null,null,null,null,null,null,null," ",null,1,1900]
[null,null,null,null,null,null,null,null," ",null,1,1900]
[null,null,null,null,null,null,null,null," ",null,1,1900]
[null,null,null,null,null,null,null,null," ",null,1,1900]
[null,null,null,null,null,null,null,null," ",null,1,1900]
[null,null,null,null,null,null,null,null," ",null,1,1900]
[null,null,null,null,null,null,null,null," ",null,1,1900]
[null,null,null,null,null,null,null,null," ",null,1,1900]
[null,null,null,null,null,null,null,null," ",null,1,1900]
[null,null,null,null,null,null,null,null," ",null,1,1900]
[null,null,null,null,null,null,null,null," ",null,1,1900]
[null,null,null,null,null,null,null,null," ",null,1,1900]
[null,null,null,null,null,null,null,null," ",null,1,1900]
[null,null,null,null,null,null,null,null," ",null,1,1900]
[null,null,null,null,null,null,null,null," ",null,1,1900]
[null,null,null,null,null,null,null,null," ",null,1,1900]
[null,null,null,null,null,null,null,null," ",null,1,1900]
[null,null,null,null,null,null,null,null," ",null,1,1900]
[null,null,null,null,null,null,null,null," ",null,1,1900]
[null,null,null,null,null,null,null,null," ",null,1,1900]
[null,null,null,null,null,null,null,null," ",null,1,1900]
[null,null,null,null,null,null,null,null," ",null,1,1900]
[null,null,null,null,null,null,null,null," ",null,1,1900]
[null,null,null,null,null,null,null,null," ",null,1,1900]
[null,null,null,null,null,null,null,null," ",null,1,1900]
[null,null,null,null,null,null,null,null," ",null,1,1900]
[null,null,null,null,null,null,null,null," ",null,1,1900]
[null,null,null,null,null,null,null,null," ",null,1,1900]
[null,null,null,null,null,null,null,null," ",null,1,1900]
[null,null,null,null,null,null,null,null," ",null,1,1900]
[null,null,null,null,null,null,null,null," ",null,1,1900]
[null,null,null,null,null,null,null,null," ",null,1,1900]
[null,null,null,null,null,null,null,null," ",null,1,1900]
[null,null,null,null,null,null,null,null," ",null,1,1900]
[null,null,null,null,null,null,null,null," ",null,1,1900]
[null,null,null,null,null,null,null,null," ",null,1,1900]
[null,null,null,null,null,null,null,null," ",null,1,1900]
[null,null,null,null,null,null,null,null," ",null,1,1900]
[null,null,null,null,null,null,null,null," ",null,1,1900]
[null,null,null,null,null,null,null,null," ",null,1,1900]
[null,null,null,null,null,null,null,null," ",null,1,1900]
[null,null,null,null,null,null,null,null," ",null,1,1900]
[null,null,null,null,null,null,null,null," ",null,1,1900]
[null,null,null,null,null,null,null,null," ",null,1,1900]
[null,null,null,null,null,null,null,null," ",null,1,1900]
[null,null,null,null,null,null,null,null," ",null,1,1900]
[null,null,null,null,null,null,null,null," ",null,1,1900]
[null,null,null,null,null,null,null,null," ",null,1,1900]
[null,null,null,null,null,null,null,null," ",null,1,1900]
[null,null,null,null,null,null,null,null," ",null,1,1900]
[null,null,null,null,null,null,null,null," ",null,1,1900]
[null,null,null,null,null,null,null,null," ",null,1,1900]
[null,null,null,null,null,null,null,null," ",null,1,1900]
[null,null,null,null,null,null,null,null," ",null,1,1900]
[null,null,null,null,null,null,null,null,{"$f":"+IF(H1144=H1143,\" \",H1144)","v":" "},null,{"$f":"+MONTH(A1144)","v":1},{"$f":"+YEAR(A1144)","v":1900}]
[null,null,null,null,null,null,null,null," ",null,1,1900]
[null,null,null,null,null,null,null,null," ",null,1,1900]
[null,null,null,null,null,null,null,null," ",null,1,1900]
[null,null,null,null,null,null,null,null," ",null,1,1900]
[null,null,null,null,null,null,null,null," ",null,1,1900]
[null,null,null,null,null,null,null,null," ",null,1,1900]
[null,null,null,null,null,null,null,null," ",null,1,1900]
[null,null,null,null,null,null,null,null," ",null,1,1900]
[null,null,null,null,null,null,null,null," ",null,1,1900]
[null,null,null,null,null,null,null,null," ",null,1,1900]
[null,null,null,null,null,null,null,null," ",null,1,1900]
[null,null,null,null,null,null,null,null," ",null,1,1900]
[null,null,null,null,null,null,null,null," ",null,1,1900]
[null,null,null,null,null,null,null,null," ",null,1,1900]
[null,null,null,null,null,null,null,null," ",null,1,1900]
[null,null,null,null,null,null,null,null," ",null,1,1900]
[null,null,null,null,null,null,null,null," ",null,1,1900]
[null,null,null,null,null,null,null,null," ",null,1,1900]
[null,null,null,null,null,null,null,null," ",null,1,1900]
[null,null,null,null,null,null,null,null," ",null,1,1900]
[null,null,null,null,null,null,null,null," ",null,1,1900]
[null,null,null,null,null,null,null,null," ",null,1,1900]
[null,null,null,null,null,null,null,null," ",null,1,1900]
[null,null,null,null,null,null,null,null," ",null,1,1900]
[null,null,null,null,null,null,null,null," ",null,1,1900]
[null,null,null,null,null,null,null,null," ",null,1,1900]
[null,null,null,null,null,null,null,null," ",null,1,1900]
[null,null,null,null,null,null,null,null," ",null,1,1900]
[null,null,null,null,null,null,null,null," ",null,1,1900]
[null,null,null,null,null,null,null,null," ",null,1,1900]
[null,null,null,null,null,null,null,null," ",null,1,1900]
[null,null,null,null,null,null,null,null," ",null,1,1900]
[null,null,null,null,null,null,null,null," ",null,1,1900]
[null,null,null,null,null,null,null,null," ",null,1,1900]
[null,null,null,null,null,null,null,null," ",null,1,1900]
[null,null,null,null,null,null,null,null," ",null,1,1900]
[null,null,null,null,null,null,null,null," ",null,1,1900]
[null,null,null,null,null,null,null,null," ",null,1,1900]
[null,null,null,null,null,null,null,null," ",null,1,1900]
[null,null,null,null,null,null,null,null," ",null,1,1900]
[null,null,null,null,null,null,null,null," ",null,1,1900]
[null,null,null,null,null,null,null,null," ",null,1,1900]
[null,null,null,null,null,null,null,null," ",null,1,1900]
[null,null,null,null,null,null,null,null," ",null,1,1900]
[null,null,null,null,null,null,null,null," ",null,1,1900]
[null,null,null,null,null,null,null,null," ",null,1,1900]
[null,null,null,null,null,null,null,null," ",null,1,1900]
[null,null,null,null,null,null,null,null," ",null,1,1900]
[null,null,null,null,null,null,null,null," ",null,1,1900]
[null,null,null,null,null,null,null,null," ",null,1,1900]
[null,null,null,null,null,null,null,null," ",null,1,1900]
[null,null,null,null,null,null,null,null," ",null,1,1900]
[null,null,null,null,null,null,null,null," ",null,1,1900]
[null,null,null,null,null,null,null,null," ",null,1,1900]
[null,null,null,null,null,null,null,null," ",null,1,1900]
[null,null,null,null,null,null,null,null," ",null,1,1900]
[null,null,null,null,null,null,null,null," ",null,1,1900]
[null,null,null,null,null,null,null,null," ",null,1,1900]
[null,null,null,null,null,null,null,null," ",null,1,1900]
[null,null,null,null,null,null,null,null," ",null,1,1900]
[null,null,null,null,null,null,null,null," ",null,1,1900]
[null,null,null,null,null,null,null,null," ",null,1,1900]
[null,null,null,null,null,null,null,null," ",null,1,1900]
[null,null,null,null,null,null,null,null,{"$f":"+IF(H1208=H1207,\" \",H1208)","v":" "},null,{"$f":"+MONTH(A1208)","v":1},{"$f":"+YEAR(A1208)","v":1900}]
[null,null,null,null,null,null,null,null," ",null,1,1900]
[null,null,null,null,null,null,null,null," ",null,1,1900]
[null,null,null,null,null,null,null,null," ",null,1,1900]
[null,null,null,null,null,null,null,null," ",null,1,1900]
[null,null,null,null,null,null,null,null," ",null,1,1900]
[null,null,null,null,null,null,null,null," ",null,1,1900]
[null,null,null,null,null,null,null,null," ",null,1,1900]
[null,null,null,null,null,null,null,null," ",null,1,1900]
[null,null,null,null,null,null,null,null," ",null,1,1900]
[null,null,null,null,null,null,null,null," ",null,1,1900]
[null,null,null,null,null,null,null,null," ",null,1,1900]
[null,null,null,null,null,null,null,null," ",null,1,1900]
[null,null,null,null,null,null,null,null," ",null,1,1900]
[null,null,null,null,null,null,null,null," ",null,1,1900]
[null,null,null,null,null,null,null,null," ",null,1,1900]
[null,null,null,null,null,null,null,null," ",null,1,1900]
[null,null,null,null,null,null,null,null," ",null,1,1900]
[null,null,null,null,null,null,null,null," ",null,1,1900]
[null,null,null,null,null,null,null,null," ",null,1,1900]
[null,null,null,null,null,null,null,null," ",null,1,1900]
[null,null,null,null,null,null,null,null," ",null,1,1900]
[null,null,null,null,null,null,null,null," ",null,1,1900]
[null,null,null,null,null,null,null,null," ",null,1,1900]
[null,null,null,null,null,null,null,null," ",null,1,1900]
[null,null,null,null,null,null,null,null," ",null,1,1900]
[null,null,null,null,null,null,null,null," ",null,1,1900]
[null,null,null,null,null,null,null,null," ",null,1,1900]
[null,null,null,null,null,null,null,null," ",null,1,1900]
[null,null,null,null,null,null,null,null," ",null,1,1900]
[null,null,null,null,null,null,null,null," ",null,1,1900]
[null,null,null,null,null,null,null,null," ",null,1,1900]
[null,null,null,null,null,null,null,null," ",null,1,1900]
[null,null,null,null,null,null,null,null," ",null,1,1900]
[null,null,null,null,null,null,null,null," ",null,1,1900]
[null,null,null,null,null,null,null,null," ",null,1,1900]
[null,null,null,null,null,null,null,null," ",null,1,1900]
[null,null,null,null,null,null,null,null," ",null,1,1900]
[null,null,null,null,null,null,null,null," ",null,1,1900]
[null,null,null,null,null,null,null,null," ",null,1,1900]
[null,null,null,null,null,null,null,null," ",null,1,1900]
[null,null,null,null,null,null,null,null," ",null,1,1900]
[null,null,null,null,null,null,null,null," ",null,1,1900]
[null,null,null,null,null,null,null,null," ",null,1,1900]
[null,null,null,null,null,null,null,null," ",null,1,1900]
[null,null,null,null,null,null,null,null," ",null,1,1900]
[null,null,null,null,null,null,null,null," ",null,1,1900]
[null,null,null,null,null,null,null,null," ",null,1,1900]
[null,null,null,null,null,null,null,null," ",null,1,1900]
[null,null,null,null,null,null,null,null," ",null,1,1900]
[null,null,null,null,null,null,null,null," ",null,1,1900]
[null,null,null,null,null,null,null,null," ",null,1,1900]
[null,null,null,null,null,null,null,null," ",null,1,1900]
[null,null,null,null,null,null,null,null," ",null,1,1900]
[null,null,null,null,null,null,null,null," ",null,1,1900]
[null,null,null,null,null,null,null,null," ",null,1,1900]
[null,null,null,null,null,null,null,null," ",null,1,1900]
[null,null,null,null,null,null,null,null," ",null,1,1900]
[null,null,null,null,null,null,null,null," ",null,1,1900]
[null,null,null,null,null,null,null,null," ",null,1,1900]
[null,null,null,null,null,null,null,null," ",null,1,1900]
[null,null,null,null,null,null,null,null," ",null,1,1900]
[null,null,null,null,null,null,null,null," ",null,1,1900]
[null,null,null,null,null,null,null,null," ",null,1,1900]
[null,null,null,null,null,null,null,null,{"$f":"+IF(H1272=H1271,\" \",H1272)","v":" "},null,{"$f":"+MONTH(A1272)","v":1},{"$f":"+YEAR(A1272)","v":1900}]
[null,null,null,null,null,null,null,null," ",null,1,1900]
[null,null,null,null,null,null,null,null," ",null,1,1900]
[null,null,null,null,null,null,null,null," ",null,1,1900]
[null,null,null,null,null,null,null,null," ",null,1,1900]
[null,null,null,null,null,null,null,null," ",null,1,1900]
[null,null,null,null,null,null,null,null," ",null,1,1900]
[null,null,null,null,null,null,null,null," ",null,1,1900]
[null,null,null,null,null,null,null,null," ",null,1,1900]
[null,null,null,null,null,null,null,null," ",null,1,1900]
[null,null,null,null,null,null,null,null," ",null,1,1900]
[null,null,null,null,null,null,null,null," ",null,1,1900]
[null,null,null,null,null,null,null,null," ",null,1,1900]
[null,null,null,null,null,null,null,null," ",null,1,1900]
[null,null,null,null,null,null,null,null," ",null,1,1900]
[null,null,null,null,null,null,null,null," ",null,1,1900]
[null,null,null,null,null,null,null,null," ",null,1,1900]
[null,null,null,null,null,null,null,null," ",null,1,1900]
[null,null,null,null,null,null,null,null," ",null,1,1900]
[null,null,null,null,null,null,null,null," ",null,1,1900]
[null,null,null,null,null,null,null,null," ",null,1,1900]
[null,null,null,null,null,null,null,null," ",null,1,1900]
[null,null,null,null,null,null,null,null," ",null,1,1900]
[null,null,null,null,null,null,null,null," ",null,1,1900]
[null,null,null,null,null,null,null,null," ",null,1,1900]
[null,null,null,null,null,null,null,null," ",null,1,1900]
[null,null,null,null,null,null,null,null," ",null,1,1900]
[null,null,null,null,null,null,null,null," ",null,1,1900]
[null,null,null,null,null,null,null,null," ",null,1,1900]
[null,null,null,null,null,null,null,null," ",null,1,1900]
[null,null,null,null,null,null,null,null," ",null,1,1900]
[null,null,null,null,null,null,null,null," ",null,1,1900]
[null,null,null,null,null,null,null,null," ",null,1,1900]
[null,null,null,null,null,null,null,null," ",null,1,1900]
[null,null,null,null,null,null,null,null," ",null,1,1900]
[null,null,null,null,null,null,null,null," ",null,1,1900]
[null,null,null,null,null,null,null,null," ",null,1,1900]
[null,null,null,null,null,null,null,null," ",null,1,1900]
[null,null,null,null,null,null,null,null," ",null,1,1900]
[null,null,null,null,null,null,null,null," ",null,1,1900]
[null,null,null,null,null,null,null,null," ",null,1,1900]
[null,null,null,null,null,null,null,null," ",null,1,1900]
[null,null,null,null,null,null,null,null," ",null,1,1900]
[null,null,null,null,null,null,null,null," ",null,1,1900]
[null,null,null,null,null,null,null,null," ",null,1,1900]
[null,null,null,null,null,null,null,null," ",null,1,1900]
[null,null,null,null,null,null,null,null," ",null,1,1900]
[null,null,null,null,null,null,null,null," ",null,1,1900]
[null,null,null,null,null,null,null,null," ",null,1,1900]
[null,null,null,null,null,null,null,null," ",null,1,1900]
[null,null,null,null,null,null,null,null," ",null,1,1900]
[null,null,null,null,null,null,null,null," ",null,1,1900]
[null,null,null,null,null,null,null,null," ",null,1,1900]
[null,null,null,null,null,null,null,null," ",null,1,1900]
[null,null,null,null,null,null,null,null," ",null,1,1900]
[null,null,null,null,null,null,null,null," ",null,1,1900]
[null,null,null,null,null,null,null,null," ",null,1,1900]
[null,null,null,null,null,null,null,null," ",null,1,1900]
[null,null,null,null,null,null,null,null," ",null,1,1900]
[null,null,null,null,null,null,null,null," ",null,1,1900]
[null,null,null,null,null,null,null,null," ",null,1,1900]
[null,null,null,null,null,null,null,null," ",null,1,1900]
[null,null,null,null,null,null,null,null," ",null,1,1900]
[null,null,null,null,null,null,null,null," ",null,1,1900]
[null,null,null,null,null,null,null,null,{"$f":"+IF(H1336=H1335,\" \",H1336)","v":" "},null,{"$f":"+MONTH(A1336)","v":1},{"$f":"+YEAR(A1336)","v":1900}]
[null,null,null,null,null,null,null,null," ",null,1,1900]
[null,null,null,null,null,null,null,null," ",null,1,1900]
[null,null,null,null,null,null,null,null," ",null,1,1900]
[null,null,null,null,null,null,null,null," ",null,1,1900]
[null,null,null,null,null,null,null,null," ",null,1,1900]
[null,null,null,null,null,null,null,null," ",null,1,1900]
[null,null,null,null,null,null,null,null," ",null,1,1900]
[null,null,null,null,null,null,null,null," ",null,1,1900]
[null,null,null,null,null,null,null,null," ",null,1,1900]
[null,null,null,null,null,null,null,null," ",null,1,1900]
[null,null,null,null,null,null,null,null," ",null,1,1900]
[null,null,null,null,null,null,null,null," ",null,1,1900]
[null,null,null,null,null,null,null,null," ",null,1,1900]
[null,null,null,null,null,null,null,null," ",null,1,1900]
[null,null,null,null,null,null,null,null," ",null,1,1900]
[null,null,null,null,null,null,null,null," ",null,1,1900]
[null,null,null,null,null,null,null,null," ",null,1,1900]
[null,null,null,null,null,null,null,null," ",null,1,1900]
[null,null,null,null,null,null,null,null," ",null,1,1900]
[null,null,null,null,null,null,null,null," ",null,1,1900]
[null,null,null,null,null,null,null,null," ",null,1,1900]
[null,null,null,null,null,null,null,null," ",null,1,1900]
[null,null,null,null,null,null,null,null," ",null,1,1900]
[null,null,null,null,null,null,null,null," ",null,1,1900]
[null,null,null,null,null,null,null,null," ",null,1,1900]
[null,null,null,null,null,null,null,null," ",null,1,1900]
[null,null,null,null,null,null,null,null," ",null,1,1900]
[null,null,null,null,null,null,null,null," ",null,1,1900]
[null,null,null,null,null,null,null,null," ",null,1,1900]
[null,null,null,null,null,null,null,null," ",null,1,1900]
[null,null,null,null,null,null,null,null," ",null,1,1900]
[null,null,null,null,null,null,null,null," ",null,1,1900]
[null,null,null,null,null,null,null,null," ",null,1,1900]
[null,null,null,null,null,null,null,null," ",null,1,1900]
[null,null,null,null,null,null,null,null," ",null,1,1900]
[null,null,null,null,null,null,null,null," ",null,1,1900]
[null,null,null,null,null,null,null,null," ",null,1,1900]
[null,null,null,null,null,null,null,null," ",null,1,1900]
[null,null,null,null,null,null,null,null," ",null,1,1900]
[null,null,null,null,null,null,null,null," ",null,1,1900]
[null,null,null,null,null,null,null,null," ",null,1,1900]
[null,null,null,null,null,null,null,null," ",null,1,1900]
[null,null,null,null,null,null,null,null," ",null,1,1900]
[null,null,null,null,null,null,null,null," ",null,1,1900]
[null,null,null,null,null,null,null,null," ",null,1,1900]
[null,null,null,null,null,null,null,null," ",null,1,1900]
[null,null,null,null,null,null,null,null," ",null,1,1900]
[null,null,null,null,null,null,null,null," ",null,1,1900]
[null,null,null,null,null,null,null,null," ",null,1,1900]
[null,null,null,null,null,null,null,null," ",null,1,1900]
[null,null,null,null,null,null,null,null," ",null,1,1900]
[null,null,null,null,null,null,null,null," ",null,1,1900]
[null,null,null,null,null,null,null,null," ",null,1,1900]
[null,null,null,null,null,null,null,null," ",null,1,1900]
[null,null,null,null,null,null,null,null," ",null,1,1900]
[null,null,null,null,null,null,null,null," ",null,1,1900]
[null,null,null,null,null,null,null,null," ",null,1,1900]
[null,null,null,null,null,null,null,null," ",null,1,1900]
[null,null,null,null,null,null,null,null," ",null,1,1900]
[null,null,null,null,null,null,null,null," ",null,1,1900]
[null,null,null,null,null,null,null,null," ",null,1,1900]
[null,null,null,null,null,null,null,null," ",null,1,1900]
[null,null,null,null,null,null,null,null," ",null,1,1900]
[null,null,null,null,null,null,null,null,{"$f":"+IF(H1400=H1399,\" \",H1400)","v":" "},null,{"$f":"+MONTH(A1400)","v":1},{"$f":"+YEAR(A1400)","v":1900}]
[null,null,null,null,null,null,null,null," ",null,1,1900]
[null,null,null,null,null,null,null,null," ",null,1,1900]
[null,null,null,null,null,null,null,null," ",null,1,1900]
[null,null,null,null,null,null,null,null," ",null,1,1900]
[null,null,null,null,null,null,null,null," ",null,1,1900]
[null,null,null,null,null,null,null,null," ",null,1,1900]
[null,null,null,null,null,null,null,null," ",null,1,1900]
[null,null,null,null,null,null,null,null," ",null,1,1900]
[null,null,null,null,null,null,null,null," ",null,1,1900]
[null,null,null,null,null,null,null,null," ",null,1,1900]
[null,null,null,null,null,null,null,null," ",null,1,1900]
[null,null,null,null,null,null,null,null," ",null,1,1900]
[null,null,null,null,null,null,null,null," ",null,1,1900]
[null,null,null,null,null,null,null,null," ",null,1,1900]
[null,null,null,null,null,null,null,null," ",null,1,1900]
[null,null,null,null,null,null,null,null," ",null,1,1900]
[null,null,null,null,null,null,null,null," ",null,1,1900]
[null,null,null,null,null,null,null,null," ",null,1,1900]
[null,null,null,null,null,null,null,null," ",null,1,1900]
[null,null,null,null,null,null,null,null," ",null,1,1900]
[null,null,null,null,null,null,null,null," ",null,1,1900]
[null,null,null,null,null,null,null,null," ",null,1,1900]
[null,null,null,null,null,null,null,null," ",null,1,1900]
[null,null,null,null,null,null,null,null," ",null,1,1900]
[null,null,null,null,null,null,null,null," ",null,1,1900]
[null,null,null,null,null,null,null,null," ",null,1,1900]
[null,null,null,null,null,null,null,null," ",null,1,1900]
[null,null,null,null,null,null,null,null," ",null,1,1900]
[null,null,null,null,null,null,null,null," ",null,1,1900]
[null,null,null,null,null,null,null,null," ",null,1,1900]
[null,null,null,null,null,null,null,null," ",null,1,1900]
[null,null,null,null,null,null,null,null," ",null,1,1900]
[null,null,null,null,null,null,null,null," ",null,1,1900]
[null,null,null,null,null,null,null,null," ",null,1,1900]
[null,null,null,null,null,null,null,null," ",null,1,1900]
[null,null,null,null,null,null,null,null," ",null,1,1900]
[null,null,null,null,null,null,null,null," ",null,1,1900]
[null,null,null,null,null,null,null,null," ",null,1,1900]
[null,null,null,null,null,null,null,null," ",null,1,1900]
[null,null,null,null,null,null,null,null," ",null,1,1900]
[null,null,null,null,null,null,null,null," ",null,1,1900]
[null,null,null,null,null,null,null,null," ",null,1,1900]
[null,null,null,null,null,null,null,null," ",null,1,1900]
[null,null,null,null,null,null,null,null," ",null,1,1900]
[null,null,null,null,null,null,null,null," ",null,1,1900]
[null,null,null,null,null,null,null,null," ",null,1,1900]
[null,null,null,null,null,null,null,null," ",null,1,1900]
[null,null,null,null,null,null,null,null," ",null,1,1900]
[null,null,null,null,null,null,null,null," ",null,1,1900]
[null,null,null,null,null,null,null,null," ",null,1,1900]
[null,null,null,null,null,null,null,null," ",null,1,1900]
[null,null,null,null,null,null,null,null," ",null,1,1900]
[null,null,null,null,null,null,null,null," ",null,1,1900]
[null,null,null,null,null,null,null,null," ",null,1,1900]
[null,null,null,null,null,null,null,null," ",null,1,1900]
[null,null,null,null,null,null,null,null," ",null,1,1900]
[null,null,null,null,null,null,null,null," ",null,1,1900]
[null,null,null,null,null,null,null,null," ",null,1,1900]
[null,null,null,null,null,null,null,null," ",null,1,1900]
[null,null,null,null,null,null,null,null," ",null,1,1900]
[null,null,null,null,null,null,null,null," ",null,1,1900]
[null,null,null,null,null,null,null,null," ",null,1,1900]
[null,null,null,null,null,null,null,null," ",null,1,1900]
[null,null,null,null,null,null,null,null,{"$f":"+IF(H1464=H1463,\" \",H1464)","v":" "},null,{"$f":"+MONTH(A1464)","v":1},{"$f":"+YEAR(A1464)","v":1900}]
[null,null,null,null,null,null,null,null," ",null,1,1900]
[null,null,null,null,null,null,null,null," ",null,1,1900]
[null,null,null,null,null,null,null,null," ",null,1,1900]
[null,null,null,null,null,null,null,null," ",null,1,1900]
[null,null,null,null,null,null,null,null," ",null,1,1900]
[null,null,null,null,null,null,null,null," ",null,1,1900]
[null,null,null,null,null,null,null,null," ",null,1,1900]
[null,null,null,null,null,null,null,null," ",null,1,1900]
[null,null,null,null,null,null,null,null," ",null,1,1900]
[null,null,null,null,null,null,null,null," ",null,1,1900]
[null,null,null,null,null,null,null,null," ",null,1,1900]
[null,null,null,null,null,null,null,null," ",null,1,1900]
[null,null,null,null,null,null,null,null," ",null,1,1900]
[null,null,null,null,null,null,null,null," ",null,1,1900]
[null,null,null,null,null,null,null,null," ",null,1,1900]
[null,null,null,null,null,null,null,null," ",null,1,1900]
[null,null,null,null,null,null,null,null," ",null,1,1900]
[null,null,null,null,null,null,null,null," ",null,1,1900]
[null,null,null,null,null,null,null,null," ",null,1,1900]
[null,null,null,null,null,null,null,null," ",null,1,1900]
[null,null,null,null,null,null,null,null," ",null,1,1900]
[null,null,null,null,null,null,null,null," ",null,1,1900]
[null,null,null,null,null,null,null,null," ",null,1,1900]
[null,null,null,null,null,null,null,null," ",null,1,1900]
[null,null,null,null,null,null,null,null," ",null,1,1900]
[null,null,null,null,null,null,null,null," ",null,1,1900]
[null,null,null,null,null,null,null,null," ",null,1,1900]
[null,null,null,null,null,null,null,null," ",null,1,1900]
[null,null,null,null,null,null,null,null," ",null,1,1900]
[null,null,null,null,null,null,null,null," ",null,1,1900]
[null,null,null,null,null,null,null,null," ",null,1,1900]
[null,null,null,null,null,null,null,null," ",null,1,1900]
[null,null,null,null,null,null,null,null," ",null,1,1900]
[null,null,null,null,null,null,null,null," ",null,1,1900]
[null,null,null,null,null,null,null,null," ",null,1,1900]
[null,null,null,null,null,null,null,null," ",null,1,1900]
[null,null,null,null,null,null,null,null," ",null,1,1900]
[null,null,null,null,null,null,null,null," ",null,1,1900]
[null,null,null,null,null,null,null,null," ",null,1,1900]
[null,null,null,null,null,null,null,null," ",null,1,1900]
[null,null,null,null,null,null,null,null," ",null,1,1900]
[null,null,null,null,null,null,null,null," ",null,1,1900]
[null,null,null,null,null,null,null,null," ",null,1,1900]
[null,null,null,null,null,null,null,null," ",null,1,1900]
[null,null,null,null,null,null,null,null," ",null,1,1900]
[null,null,null,null,null,null,null,null," ",null,1,1900]
[null,null,null,null,null,null,null,null," ",null,1,1900]
[null,null,null,null,null,null,null,null," ",null,1,1900]
[null,null,null,null,null,null,null,null," ",null,1,1900]
[null,null,null,null,null,null,null,null," ",null,1,1900]
[null,null,null,null,null,null,null,null," ",null,1,1900]
[null,null,null,null,null,null,null,null," ",null,1,1900]
[null,null,null,null,null,null,null,null," ",null,1,1900]
[null,null,null,null,null,null,null,null," ",null,1,1900]
[null,null,null,null,null,null,null,null," ",null,1,1900]
[null,null,null,null,null,null,null,null," ",null,1,1900]
[null,null,null,null,null,null,null,null," ",null,1,1900]
[null,null,null,null,null,null,null,null," ",null,1,1900]
[null,null,null,null,null,null,null,null," ",null,1,1900]
[null,null,null,null,null,null,null,null," ",null,1,1900]
[null,null,null,null,null,null,null,null," ",null,1,1900]
[null,null,null,null,null,null,null,null," ",null,1,1900]
[null,null,null,null,null,null,null,null," ",null,1,1900]
[null,null,null,null,null,null,null,null,{"$f":"+IF(H1528=H1527,\" \",H1528)","v":" "},null,{"$f":"+MONTH(A1528)","v":1},{"$f":"+YEAR(A1528)","v":1900}]
[null,null,null,null,null,null,null,null," ",null,1,1900]
[null,null,null,null,null,null,null,null," ",null,1,1900]
[null,null,null,null,null,null,null,null," ",null,1,1900]
[null,null,null,null,null,null,null,null," ",null,1,1900]
[null,null,null,null,null,null,null,null," ",null,1,1900]
[null,null,null,null,null,null,null,null," ",null,1,1900]
[null,null,null,null,null,null,null,null," ",null,1,1900]
[null,null,null,null,null,null,null,null," ",null,1,1900]
[null,null,null,null,null,null,null,null," ",null,1,1900]
[null,null,null,null,null,null,null,null," ",null,1,1900]
[null,null,null,null,null,null,null,null," ",null,1,1900]
[null,null,null,null,null,null,null,null," ",null,1,1900]
[null,null,null,null,null,null,null,null," ",null,1,1900]
[null,null,null,null,null,null,null,null," ",null,1,1900]
[null,null,null,null,null,null,null,null," ",null,1,1900]
[null,null,null,null,null,null,null,null," ",null,1,1900]
[null,null,null,null,null,null,null,null," ",null,1,1900]
[null,null,null,null,null,null,null,null," ",null,1,1900]
[null,null,null,null,null,null,null,null," ",null,1,1900]
[null,null,null,null,null,null,null,null," ",null,1,1900]
[null,null,null,null,null,null,null,null," ",null,1,1900]
[null,null,null,null,null,null,null,null," ",null,1,1900]
[null,null,null,null,null,null,null,null," ",null,1,1900]
[null,null,null,null,null,null,null,null," ",null,1,1900]
[null,null,null,null,null,null,null,null," ",null,1,1900]
[null,null,null,null,null,null,null,null," ",null,1,1900]
[null,null,null,null,null,null,null,null," ",null,1,1900]
[null,null,null,null,null,null,null,null," ",null,1,1900]
[null,null,null,null,null,null,null,null," ",null,1,1900]
[null,null,null,null,null,null,null,null," ",null,1,1900]
[null,null,null,null,null,null,null,null," ",null,1,1900]
[null,null,null,null,null,null,null,null," ",null,1,1900]
[null,null,null,null,null,null,null,null," ",null,1,1900]
[null,null,null,null,null,null,null,null," ",null,1,1900]
[null,null,null,null,null,null,null,null," ",null,1,1900]
[null,null,null,null,null,null,null,null," ",null,1,1900]
[null,null,null,null,null,null,null,null," ",null,1,1900]
[null,null,null,null,null,null,null,null," ",null,1,1900]
[null,null,null,null,null,null,null,null," ",null,1,1900]
[null,null,null,null,null,null,null,null," ",null,1,1900]
[null,null,null,null,null,null,null,null," ",null,1,1900]
[null,null,null,null,null,null,null,null," ",null,1,1900]
[null,null,null,null,null,null,null,null," ",null,1,1900]
[null,null,null,null,null,null,null,null," ",null,1,1900]
[null,null,null,null,null,null,null,null," ",null,1,1900]
[null,null,null,null,null,null,null,null," ",null,1,1900]
[null,null,null,null,null,null,null,null," ",null,1,1900]
[null,null,null,null,null,null,null,null," ",null,1,1900]
[null,null,null,null,null,null,null,null," ",null,1,1900]
[null,null,null,null,null,null,null,null," ",null,1,1900]
[null,null,null,null,null,null,null,null," ",null,1,1900]
[null,null,null,null,null,null,null,null," ",null,1,1900]
[null,null,null,null,null,null,null,null," ",null,1,1900]
[null,null,null,null,null,null,null,null," ",null,1,1900]
[null,null,null,null,null,null,null,null," ",null,1,1900]
[null,null,null,null,null,null,null,null," ",null,1,1900]
[null,null,null,null,null,null,null,null," ",null,1,1900]
[null,null,null,null,null,null,null,null," ",null,1,1900]
[null,null,null,null,null,null,null,null," ",null,1,1900]
[null,null,null,null,null,null,null,null," ",null,1,1900]
[null,null,null,null,null,null,null,null," ",null,1,1900]
[null,null,null,null,null,null,null,null," ",null,1,1900]
[null,null,null,null,null,null,null,null," ",null,1,1900]
[null,null,null,null,null,null,null,null,{"$f":"+IF(H1592=H1591,\" \",H1592)","v":" "},null,{"$f":"+MONTH(A1592)","v":1},{"$f":"+YEAR(A1592)","v":1900}]
[null,null,null,null,null,null,null,null," ",null,1,1900]
[null,null,null,null,null,null,null,null," ",null,1,1900]
[null,null,null,null,null,null,null,null," ",null,1,1900]
[null,null,null,null,null,null,null,null," ",null,1,1900]
[null,null,null,null,null,null,null,null," ",null,1,1900]
[null,null,null,null,null,null,null,null," ",null,1,1900]
[null,null,null,null,null,null,null,null," ",null,1,1900]
[null,null,null,null,null,null,null,null," ",null,1,1900]
[null,null,null,null,null,null,null,null," ",null,1,1900]
[null,null,null,null,null,null,null,null," ",null,1,1900]
[null,null,null,null,null,null,null,null," ",null,1,1900]
[null,null,null,null,null,null,null,null," ",null,1,1900]
[null,null,null,null,null,null,null,null," ",null,1,1900]
[null,null,null,null,null,null,null,null," ",null,1,1900]
[null,null,null,null,null,null,null,null," ",null,1,1900]
[null,null,null,null,null,null,null,null," ",null,1,1900]
[null,null,null,null,null,null,null,null," ",null,1,1900]
[null,null,null,null,null,null,null,null," ",null,1,1900]
[null,null,null,null,null,null,null,null," ",null,1,1900]
[null,null,null,null,null,null,null,null," ",null,1,1900]
[null,null,null,null,null,null,null,null," ",null,1,1900]
[null,null,null,null,null,null,null,null," ",null,1,1900]
[null,null,null,null,null,null,null,null," ",null,1,1900]
[null,null,null,null,null,null,null,null," ",null,1,1900]
[null,null,null,null,null,null,null,null," ",null,1,1900]
[null,null,null,null,null,null,null,null," ",null,1,1900]
[null,null,null,null,null,null,null,null," ",null,1,1900]
[null,null,null,null,null,null,null,null," ",null,1,1900]
[null,null,null,null,null,null,null,null," ",null,1,1900]
[null,null,null,null,null,null,null,null," ",null,1,1900]
[null,null,null,null,null,null,null,null," ",null,1,1900]
[null,null,null,null,null,null,null,null," ",null,1,1900]
[null,null,null,null,null,null,null,null," ",null,1,1900]
[null,null,null,null,null,null,null,null," ",null,1,1900]
[null,null,null,null,null,null,null,null," ",null,1,1900]
[null,null,null,null,null,null,null,null," ",null,1,1900]
[null,null,null,null,null,null,null,null," ",null,1,1900]
[null,null,null,null,null,null,null,null," ",null,1,1900]
[null,null,null,null,null,null,null,null," ",null,1,1900]
[null,null,null,null,null,null,null,null," ",null,1,1900]
[null,null,null,null,null,null,null,null," ",null,1,1900]
[null,null,null,null,null,null,null,null," ",null,1,1900]
[null,null,null,null,null,null,null,null," ",null,1,1900]
[null,null,null,null,null,null,null,null," ",null,1,1900]
[null,null,null,null,null,null,null,null," ",null,1,1900]
[null,null,null,null,null,null,null,null," ",null,1,1900]
[null,null,null,null,null,null,null,null," ",null,1,1900]
[null,null,null,null,null,null,null,null," ",null,1,1900]
[null,null,null,null,null,null,null,null," ",null,1,1900]
[null,null,null,null,null,null,null,null," ",null,1,1900]
[null,null,null,null,null,null,null,null," ",null,1,1900]
[null,null,null,null,null,null,null,null," ",null,1,1900]
[null,null,null,null,null,null,null,null," ",null,1,1900]
[null,null,null,null,null,null,null,null," ",null,1,1900]
[null,null,null,null,null,null,null,null," ",null,1,1900]
[null,null,null,null,null,null,null,null," ",null,1,1900]
[null,null,null,null,null,null,null,null," ",null,1,1900]
[null,null,null,null,null,null,null,null," ",null,1,1900]
[null,null,null,null,null,null,null,null," ",null,1,1900]
[null,null,null,null,null,null,null,null," ",null,1,1900]
[null,null,null,null,null,null,null,null," ",null,1,1900]
[null,null,null,null,null,null,null,null," ",null,1,1900]
[null,null,null,null,null,null,null,null," ",null,1,1900]
[null,null,null,null,null,null,null,null,{"$f":"+IF(H1656=H1655,\" \",H1656)","v":" "},null,{"$f":"+MONTH(A1656)","v":1},{"$f":"+YEAR(A1656)","v":1900}]
[null,null,null,null,null,null,null,null," ",null,1,1900]
[null,null,null,null,null,null,null,null," ",null,1,1900]
[null,null,null,null,null,null,null,null," ",null,1,1900]
[null,null,null,null,null,null,null,null," ",null,1,1900]
[null,null,null,null,null,null,null,null," ",null,1,1900]
[null,null,null,null,null,null,null,null," ",null,1,1900]
[null,null,null,null,null,null,null,null," ",null,1,1900]
[null,null,null,null,null,null,null,null," ",null,1,1900]
[null,null,null,null,null,null,null,null," ",null,1,1900]
[null,null,null,null,null,null,null,null," ",null,1,1900]
[null,null,null,null,null,null,null,null," ",null,1,1900]
[null,null,null,null,null,null,null,null," ",null,1,1900]
[null,null,null,null,null,null,null,null," ",null,1,1900]
[null,null,null,null,null,null,null,null," ",null,1,1900]
[null,null,null,null,null,null,null,null," ",null,1,1900]
[null,null,null,null,null,null,null,null," ",null,1,1900]
[null,null,null,null,null,null,null,null," ",null,1,1900]
[null,null,null,null,null,null,null,null," ",null,1,1900]
[null,null,null,null,null,null,null,null," ",null,1,1900]
[null,null,null,null,null,null,null,null," ",null,1,1900]
[null,null,null,null,null,null,null,null," ",null,1,1900]
[null,null,null,null,null,null,null,null," ",null,1,1900]
[null,null,null,null,null,null,null,null," ",null,1,1900]
[null,null,null,null,null,null,null,null," ",null,1,1900]
[null,null,null,null,null,null,null,null," ",null,1,1900]
[null,null,null,null,null,null,null,null," ",null,1,1900]
[null,null,null,null,null,null,null,null," ",null,1,1900]
[null,null,null,null,null,null,null,null," ",null,1,1900]
[null,null,null,null,null,null,null,null," ",null,1,1900]
[null,null,null,null,null,null,null,null," ",null,1,1900]
[null,null,null,null,null,null,null,null," ",null,1,1900]
[null,null,null,null,null,null,null,null," ",null,1,1900]
[null,null,null,null,null,null,null,null," ",null,1,1900]
[null,null,null,null,null,null,null,null," ",null,1,1900]
[null,null,null,null,null,null,null,null," ",null,1,1900]
[null,null,null,null,null,null,null,null," ",null,1,1900]
[null,null,null,null,null,null,null,null," ",null,1,1900]
[null,null,null,null,null,null,null,null," ",null,1,1900]
[null,null,null,null,null,null,null,null," ",null,1,1900]
[null,null,null,null,null,null,null,null," ",null,1,1900]
[null,null,null,null,null,null,null,null," ",null,1,1900]
[null,null,null,null,null,null,null,null," ",null,1,1900]
[null,null,null,null,null,null,null,null," ",null,1,1900]
[null,null,null,null,null,null,null,null," ",null,1,1900]
[null,null,null,null,null,null,null,null," ",null,1,1900]
[null,null,null,null,null,null,null,null," ",null,1,1900]
[null,null,null,null,null,null,null,null," ",null,1,1900]
[null,null,null,null,null,null,null,null," ",null,1,1900]
[null,null,null,null,null,null,null,null," ",null,1,1900]
[null,null,null,null,null,null,null,null," ",null,1,1900]
[null,null,null,null,null,null,null,null," ",null,1,1900]
[null,null,null,null,null,null,null,null," ",null,1,1900]
[null,null,null,null,null,null,null,null," ",null,1,1900]
[null,null,null,null,null,null,null,null," ",null,1,1900]
[null,null,null,null,null,null,null,null," ",null,1,1900]
[null,null,null,null,null,null,null,null," ",null,1,1900]
[null,null,null,null,null,null,null,null," ",null,1,1900]
[null,null,null,null,null,null,null,null," ",null,1,1900]
[null,null,null,null,null,null,null,null," ",null,1,1900]
[null,null,null,null,null,null,null,null," ",null,1,1900]
[null,null,null,null,null,null,null,null," ",null,1,1900]
[null,null,null,null,null,null,null,null," ",null,1,1900]
[null,null,null,null,null,null,null,null," ",null,1,1900]
[null,null,null,null,null,null,null,null,{"$f":"+IF(H1720=H1719,\" \",H1720)","v":" "},null,{"$f":"+MONTH(A1720)","v":1},{"$f":"+YEAR(A1720)","v":1900}]
[null,null,null,null,null,null,null,null," ",null,1,1900]
[null,null,null,null,null,null,null,null," ",null,1,1900]
[null,null,null,null,null,null,null,null," ",null,1,1900]
[null,null,null,null,null,null,null,null," ",null,1,1900]
[null,null,null,null,null,null,null,null," ",null,1,1900]
[null,null,null,null,null,null,null,null," ",null,1,1900]
[null,null,null,null,null,null,null,null," ",null,1,1900]
[null,null,null,null,null,null,null,null," ",null,1,1900]
[null,null,null,null,null,null,null,null," ",null,1,1900]
[null,null,null,null,null,null,null,null," ",null,1,1900]
[null,null,null,null,null,null,null,null," ",null,1,1900]
[null,null,null,null,null,null,null,null," ",null,1,1900]
[null,null,null,null,null,null,null,null," ",null,1,1900]
[null,null,null,null,null,null,null,null," ",null,1,1900]
[null,null,null,null,null,null,null,null," ",null,1,1900]
[null,null,null,null,null,null,null,null," ",null,1,1900]
[null,null,null,null,null,null,null,null," ",null,1,1900]
[null,null,null,null,null,null,null,null," ",null,1,1900]
[null,null,null,null,null,null,null,null," ",null,1,1900]
[null,null,null,null,null,null,null,null," ",null,1,1900]
[null,null,null,null,null,null,null,null," ",null,1,1900]
[null,null,null,null,null,null,null,null," ",null,1,1900]
[null,null,null,null,null,null,null,null," ",null,1,1900]
[null,null,null,null,null,null,null,null," ",null,1,1900]
[null,null,null,null,null,null,null,null," ",null,1,1900]
[null,null,null,null,null,null,null,null," ",null,1,1900]
[null,null,null,null,null,null,null,null," ",null,1,1900]
[null,null,null,null,null,null,null,null," ",null,1,1900]
[null,null,null,null,null,null,null,null," ",null,1,1900]
[null,null,null,null,null,null,null,null," ",null,1,1900]
[null,null,null,null,null,null,null,null," ",null,1,1900]
[null,null,null,null,null,null,null,null," ",null,1,1900]
[null,null,null,null,null,null,null,null," ",null,1,1900]
[null,null,null,null,null,null,null,null," ",null,1,1900]
[null,null,null,null,null,null,null,null," ",null,1,1900]
[null,null,null,null,null,null,null,null," ",null,1,1900]
[null,null,null,null,null,null,null,null," ",null,1,1900]
[null,null,null,null,null,null,null,null," ",null,1,1900]
[null,null,null,null,null,null,null,null," ",null,1,1900]
[null,null,null,null,null,null,null,null," ",null,1,1900]
[null,null,null,null,null,null,null,null," ",null,1,1900]
[null,null,null,null,null,null,null,null," ",null,1,1900]
[null,null,null,null,null,null,null,null," ",null,1,1900]
[null,null,null,null,null,null,null,null," ",null,1,1900]
[null,null,null,null,null,null,null,null," ",null,1,1900]
[null,null,null,null,null,null,null,null," ",null,1,1900]
[null,null,null,null,null,null,null,null," ",null,1,1900]
[null,null,null,null,null,null,null,null," ",null,1,1900]
[null,null,null,null,null,null,null,null," ",null,1,1900]
[null,null,null,null,null,null,null,null," ",null,1,1900]
[null,null,null,null,null,null,null,null," ",null,1,1900]
[null,null,null,null,null,null,null,null," ",null,1,1900]
[null,null,null,null,null,null,null,null," ",null,1,1900]
[null,null,null,null,null,null,null,null," ",null,1,1900]
[null,null,null,null,null,null,null,null," ",null,1,1900]
[null,null,null,null,null,null,null,null," ",null,1,1900]
[null,null,null,null,null,null,null,null," ",null,1,1900]
[null,null,null,null,null,null,null,null," ",null,1,1900]
[null,null,null,null,null,null,null,null," ",null,1,1900]
[null,null,null,null,null,null,null,null," ",null,1,1900]
[null,null,null,null,null,null,null,null," ",null,1,1900]
[null,null,null,null,null,null,null,null," ",null,1,1900]
[null,null,null,null,null,null,null,null," ",null,1,1900]
[null,null,null,null,null,null,null,null,{"$f":"+IF(H1784=H1783,\" \",H1784)","v":" "},null,{"$f":"+MONTH(A1784)","v":1},{"$f":"+YEAR(A1784)","v":1900}]
[null,null,null,null,null,null,null,null," ",null,1,1900]
[null,null,null,null,null,null,null,null," ",null,1,1900]
[null,null,null,null,null,null,null,null," ",null,1,1900]
[null,null,null,null,null,null,null,null," ",null,1,1900]
[null,null,null,null,null,null,null,null," ",null,1,1900]
[null,null,null,null,null,null,null,null," ",null,1,1900]
[null,null,null,null,null,null,null,null," ",null,1,1900]
[null,null,null,null,null,null,null,null," ",null,1,1900]
[null,null,null,null,null,null,null,null," ",null,1,1900]
[null,null,null,null,null,null,null,null," ",null,1,1900]
[null,null,null,null,null,null,null,null," ",null,1,1900]
[null,null,null,null,null,null,null,null," ",null,1,1900]
[null,null,null,null,null,null,null,null," ",null,1,1900]
[null,null,null,null,null,null,null,null," ",null,1,1900]
[null,null,null,null,null,null,null,null," ",null,1,1900]
[null,null,null,null,null,null,null,null," ",null,1,1900]
[null,null,null,null,null,null,null,null," ",null,1,1900]
[null,null,null,null,null,null,null,null," ",null,1,1900]
[null,null,null,null,null,null,null,null," ",null,1,1900]
[null,null,null,null,null,null,null,null," ",null,1,1900]
[null,null,null,null,null,null,null,null," ",null,1,1900]
[null,null,null,null,null,null,null,null," ",null,1,1900]
[null,null,null,null,null,null,null,null," ",null,1,1900]
[null,null,null,null,null,null,null,null," ",null,1,1900]
[null,null,null,null,null,null,null,null," ",null,1,1900]
[null,null,null,null,null,null,null,null," ",null,1,1900]
[null,null,null,null,null,null,null,null," ",null,1,1900]
[null,null,null,null,null,null,null,null," ",null,1,1900]
[null,null,null,null,null,null,null,null," ",null,1,1900]
[null,null,null,null,null,null,null,null," ",null,1,1900]
[null,null,null,null,null,null,null,null," ",null,1,1900]
[null,null,null,null,null,null,null,null," ",null,1,1900]
[null,null,null,null,null,null,null,null," ",null,1,1900]
[null,null,null,null,null,null,null,null," ",null,1,1900]
[null,null,null,null,null,null,null,null," ",null,1,1900]
[null,null,null,null,null,null,null,null," ",null,1,1900]
[null,null,null,null,null,null,null,null," ",null,1,1900]
[null,null,null,null,null,null,null,null," ",null,1,1900]
[null,null,null,null,null,null,null,null," ",null,1,1900]
[null,null,null,null,null,null,null,null," ",null,1,1900]
[null,null,null,null,null,null,null,null," ",null,1,1900]
[null,null,null,null,null,null,null,null," ",null,1,1900]
[null,null,null,null,null,null,null,null," ",null,1,1900]
[null,null,null,null,null,null,null,null," ",null,1,1900]
[null,null,null,null,null,null,null,null," ",null,1,1900]
[null,null,null,null,null,null,null,null," ",null,1,1900]
[null,null,null,null,null,null,null,null," ",null,1,1900]
[null,null,null,null,null,null,null,null," ",null,1,1900]
[null,null,null,null,null,null,null,null," ",null,1,1900]
[null,null,null,null,null,null,null,null," ",null,1,1900]
[null,null,null,null,null,null,null,null," ",null,1,1900]
[null,null,null,null,null,null,null,null," ",null,1,1900]
[null,null,null,null,null,null,null,null," ",null,1,1900]
[null,null,null,null,null,null,null,null," ",null,1,1900]
[null,null,null,null,null,null,null,null," ",null,1,1900]
[null,null,null,null,null,null,null,null," ",null,1,1900]
[null,null,null,null,null,null,null,null," ",null,1,1900]
[null,null,null,null,null,null,null,null," ",null,1,1900]
[null,null,null,null,null,null,null,null," ",null,1,1900]
[null,null,null,null,null,null,null,null," ",null,1,1900]
[null,null,null,null,null,null,null,null," ",null,1,1900]
[null,null,null,null,null,null,null,null," ",null,1,1900]
[null,null,null,null,null,null,null,null," ",null,1,1900]
[null,null,null,null,null,null,null,null,{"$f":"+IF(H1848=H1847,\" \",H1848)","v":" "},null,{"$f":"+MONTH(A1848)","v":1},{"$f":"+YEAR(A1848)","v":1900}]
[null,null,null,null,null,null,null,null," ",null,1,1900]
[null,null,null,null,null,null,null,null," ",null,1,1900]
[null,null,null,null,null,null,null,null," ",null,1,1900]
[null,null,null,null,null,null,null,null," ",null,1,1900]
[null,null,null,null,null,null,null,null," ",null,1,1900]
[null,null,null,null,null,null,null,null," ",null,1,1900]
[null,null,null,null,null,null,null,null," ",null,1,1900]
[null,null,null,null,null,null,null,null," ",null,1,1900]
[null,null,null,null,null,null,null,null," ",null,1,1900]
[null,null,null,null,null,null,null,null," ",null,1,1900]
[null,null,null,null,null,null,null,null," ",null,1,1900]
[null,null,null,null,null,null,null,null," ",null,1,1900]
[null,null,null,null,null,null,null,null," ",null,1,1900]
[null,null,null,null,null,null,null,null," ",null,1,1900]
[null,null,null,null,null,null,null,null," ",null,1,1900]
[null,null,null,null,null,null,null,null," ",null,1,1900]
[null,null,null,null,null,null,null,null," ",null,1,1900]
[null,null,null,null,null,null,null,null," ",null,1,1900]
[null,null,null,null,null,null,null,null," ",null,1,1900]
[null,null,null,null,null,null,null,null," ",null,1,1900]
[null,null,null,null,null,null,null,null," ",null,1,1900]
[null,null,null,null,null,null,null,null," ",null,1,1900]
[null,null,null,null,null,null,null,null," ",null,1,1900]
[null,null,null,null,null,null,null,null," ",null,1,1900]
[null,null,null,null,null,null,null,null," ",null,1,1900]
[null,null,null,null,null,null,null,null," ",null,1,1900]
[null,null,null,null,null,null,null,null," ",null,1,1900]
[null,null,null,null,null,null,null,null," ",null,1,1900]
[null,null,null,null,null,null,null,null," ",null,1,1900]
[null,null,null,null,null,null,null,null," ",null,1,1900]
[null,null,null,null,null,null,null,null," ",null,1,1900]
[null,null,null,null,null,null,null,null," ",null,1,1900]
[null,null,null,null,null,null,null,null," ",null,1,1900]
[null,null,null,null,null,null,null,null," ",null,1,1900]
[null,null,null,null,null,null,null,null," ",null,1,1900]
[null,null,null,null,null,null,null,null," ",null,1,1900]
[null,null,null,null,null,null,null,null," ",null,1,1900]
[null,null,null,null,null,null,null,null," ",null,1,1900]
[null,null,null,null,null,null,null,null," ",null,1,1900]
[null,null,null,null,null,null,null,null," ",null,1,1900]
[null,null,null,null,null,null,null,null," ",null,1,1900]
[null,null,null,null,null,null,null,null," ",null,1,1900]
[null,null,null,null,null,null,null,null," ",null,1,1900]
[null,null,null,null,null,null,null,null," ",null,1,1900]
[null,null,null,null,null,null,null,null," ",null,1,1900]
[null,null,null,null,null,null,null,null," ",null,1,1900]
[null,null,null,null,null,null,null,null," ",null,1,1900]
[null,null,null,null,null,null,null,null," ",null,1,1900]
[null,null,null,null,null,null,null,null," ",null,1,1900]
[null,null,null,null,null,null,null,null," ",null,1,1900]
[null,null,null,null,null,null,null,null," ",null,1,1900]
[null,null,null,null,null,null,null,null," ",null,1,1900]
[null,null,null,null,null,null,null,null," ",null,1,1900]
[null,null,null,null,null,null,null,null," ",null,1,1900]
[null,null,null,null,null,null,null,null," ",null,1,1900]
[null,null,null,null,null,null,null,null," ",null,1,1900]
[null,null,null,null,null,null,null,null," ",null,1,1900]
[null,null,null,null,null,null,null,null," ",null,1,1900]
[null,null,null,null,null,null,null,null," ",null,1,1900]
[null,null,null,null,null,null,null,null," ",null,1,1900]
[null,null,null,null,null,null,null,null," ",null,1,1900]
[null,null,null,null,null,null,null,null," ",null,1,1900]
[null,null,null,null,null,null,null,null," ",null,1,1900]
[null,null,null,null,null,null,null,null,{"$f":"+IF(H1912=H1911,\" \",H1912)","v":" "},null,{"$f":"+MONTH(A1912)","v":1},{"$f":"+YEAR(A1912)","v":1900}]
[null,null,null,null,null,null,null,null," ",null,1,1900]
[null,null,null,null,null,null,null,null," ",null,1,1900]
[null,null,null,null,null,null,null,null," ",null,1,1900]
[null,null,null,null,null,null,null,null," ",null,1,1900]
[null,null,null,null,null,null,null,null," ",null,1,1900]
[null,null,null,null,null,null,null,null," ",null,1,1900]
[null,null,null,null,null,null,null,null," ",null,1,1900]
[null,null,null,null,null,null,null,null," ",null,1,1900]
[null,null,null,null,null,null,null,null," ",null,1,1900]
[null,null,null,null,null,null,null,null," ",null,1,1900]
[null,null,null,null,null,null,null,null," ",null,1,1900]
[null,null,null,null,null,null,null,null," ",null,1,1900]
[null,null,null,null,null,null,null,null," ",null,1,1900]
[null,null,null,null,null,null,null,null," ",null,1,1900]
[null,null,null,null,null,null,null,null," ",null,1,1900]
[null,null,null,null,null,null,null,null," ",null,1,1900]
[null,null,null,null,null,null,null,null," ",null,1,1900]
[null,null,null,null,null,null,null,null," ",null,1,1900]
[null,null,null,null,null,null,null,null," ",null,1,1900]
[null,null,null,null,null,null,null,null," ",null,1,1900]
[null,null,null,null,null,null,null,null," ",null,1,1900]
[null,null,null,null,null,null,null,null," ",null,1,1900]
[null,null,null,null,null,null,null,null," ",null,1,1900]
[null,null,null,null,null,null,null,null," ",null,1,1900]
[null,null,null,null,null,null,null,null," ",null,1,1900]
[null,null,null,null,null,null,null,null," ",null,1,1900]
[null,null,null,null,null,null,null,null," ",null,1,1900]
[null,null,null,null,null,null,null,null," ",null,1,1900]
[null,null,null,null,null,null,null,null," ",null,1,1900]
[null,null,null,null,null,null,null,null," ",null,1,1900]
[null,null,null,null,null,null,null,null," ",null,1,1900]
[null,null,null,null,null,null,null,null," ",null,1,1900]
[null,null,null,null,null,null,null,null," ",null,1,1900]
[null,null,null,null,null,null,null,null," ",null,1,1900]
[null,null,null,null,null,null,null,null," ",null,1,1900]
[null,null,null,null,null,null,null,null," ",null,1,1900]
[null,null,null,null,null,null,null,null," ",null,1,1900]
[null,null,null,null,null,null,null,null," ",null,1,1900]
[null,null,null,null,null,null,null,null," ",null,1,1900]
[null,null,null,null,null,null,null,null," ",null,1,1900]
[null,null,null,null,null,null,null,null," ",null,1,1900]
[null,null,null,null,null,null,null,null," ",null,1,1900]
[null,null,null,null,null,null,null,null," ",null,1,1900]
[null,null,null,null,null,null,null,null," ",null,1,1900]
[null,null,null,null,null,null,null,null," ",null,1,1900]
[null,null,null,null,null,null,null,null," ",null,1,1900]
[null,null,null,null,null,null,null,null," ",null,1,1900]
[null,null,null,null,null,null,null,null," ",null,1,1900]
[null,null,null,null,null,null,null,null," ",null,1,1900]
[null,null,null,null,null,null,null,null," ",null,1,1900]
[null,null,null,null,null,null,null,null," ",null,1,1900]
[null,null,null,null,null,null,null,null," ",null,1,1900]
[null,null,null,null,null,null,null,null," ",null,1,1900]
[null,null,null,null,null,null,null,null," ",null,1,1900]
[null,null,null,null,null,null,null,null," ",null,1,1900]
[null,null,null,null,null,null,null,null," ",null,1,1900]
[null,null,null,null,null,null,null,null," ",null,1,1900]
[null,null,null,null,null,null,null,null," ",null,1,1900]
[null,null,null,null,null,null,null,null," ",null,1,1900]
[null,null,null,null,null,null,null,null," ",null,1,1900]
[null,null,null,null,null,null,null,null," ",null,1,1900]
[null,null,null,null,null,null,null,null," ",null,1,1900]
[null,null,null,null,null,null,null,null," ",null,1,1900]
[null,null,null,null,null,null,null,null,{"$f":"+IF(H1976=H1975,\" \",H1976)","v":" "},null,{"$f":"+MONTH(A1976)","v":1},{"$f":"+YEAR(A1976)","v":1900}]
[null,null,null,null,null,null,null,null," ",null,1,1900]
[null,null,null,null,null,null,null,null," ",null,1,1900]
[null,null,null,null,null,null,null,null," ",null,1,1900]
[null,null,null,null,null,null,null,null," ",null,1,1900]
[null,null,null,null,null,null,null,null," ",null,1,1900]
[null,null,null,null,null,null,null,null," ",null,1,1900]
[null,null,null,null,null,null,null,null," ",null,1,1900]
[null,null,null,null,null,null,null,null," ",null,1,1900]
[null,null,null,null,null,null,null,null," ",null,1,1900]
[null,null,null,null,null,null,null,null," ",null,1,1900]
[null,null,null,null,null,null,null,null," ",null,1,1900]
[null,null,null,null,null,null,null,null," ",null,1,1900]
[null,null,null,null,null,null,null,null," ",null,1,1900]
[null,null,null,null,null,null,null,null," ",null,1,1900]
[null,null,null,null,null,null,null,null," ",null,1,1900]
[null,null,null,null,null,null,null,null," ",null,1,1900]
[null,null,null,null,null,null,null,null," ",null,1,1900]
[null,null,null,null,null,null,null,null," ",null,1,1900]
[null,null,null,null,null,null,null,null," ",null,1,1900]
[null,null,null,null,null,null,null,null," ",null,1,1900]
[null,null,null,null,null,null,null,null," ",null,1,1900]
[null,null,null,null,null,null,null,null," ",null,1,1900]
[null,null,null,null,null,null,null,null," ",null,1,1900]
[null,null,null,null,null,null,null,null," ",null,1,1900]
[null,null,null,null,null,null,null,null," ",null,1,1900]
[null,null,null,null,null,null,null,null," ",null,1,1900]
[null,null,null,null,null,null,null,null," ",null,1,1900]
[null,null,null,null,null,null,null,null," ",null,1,1900]
[null,null,null,null,null,null,null,null," ",null,1,1900]
[null,null,null,null,null,null,null,null," ",null,1,1900]
[null,null,null,null,null,null,null,null," ",null,1,1900]
[null,null,null,null,null,null,null,null," ",null,1,1900]
[null,null,null,null,null,null,null,null," ",null,1,1900]
[null,null,null,null,null,null,null,null," ",null,1,1900]
[null,null,null,null,null,null,null,null," ",null,1,1900]
[null,null,null,null,null,null,null,null," ",null,1,1900]
[null,null,null,null,null,null,null,null," ",null,1,1900]
[null,null,null,null,null,null,null,null," ",null,1,1900]
[null,null,null,null,null,null,null,null," ",null,1,1900]
[null,null,null,null,null,null,null,null," ",null,1,1900]
[null,null,null,null,null,null,null,null," ",null,1,1900]
[null,null,null,null,null,null,null,null," ",null,1,1900]
[null,null,null,null,null,null,null,null," ",null,1,1900]
[null,null,null,null,null,null,null,null," ",null,1,1900]
[null,null,null,null,null,null,null,null," ",null,1,1900]
[null,null,null,null,null,null,null,null," ",null,1,1900]
[null,null,null,null,null,null,null,null," ",null,1,1900]
[null,null,null,null,null,null,null,null," ",null,1,1900]
[null,null,null,null,null,null,null,null," ",null,1,1900]
[null,null,null,null,null,null,null,null," ",null,1,1900]
[null,null,null,null,null,null,null,null," ",null,1,1900]
[null,null,null,null,null,null,null,null," ",null,1,1900]
[null,null,null,null,null,null,null,null," ",null,1,1900]
[null,null,null,null,null,null,null,null," ",null,1,1900]
[null,null,null,null,null,null,null,null," ",null,1,1900]
[null,null,null,null,null,null,null,null," ",null,1,1900]
[null,null,null,null,null,null,null,null," ",null,1,1900]
[null,null,null,null,null,null,null,null," ",null,1,1900]
[null,null,null,null,null,null,null,null," ",null,1,1900]
[null,null,null,null,null,null,null,null," ",null,1,1900]
[null,null,null,null,null,null,null,null," ",null,1,1900]
[null,null,null,null,null,null,null,null," ",null,1,1900]
[null,null,null,null,null,null,null,null," ",null,1,1900]
[null,null,null,null,null,null,null,null," ",null,1,1900]
[null,null,null,null,null,null,null,null," ",null,1,1900]
[null,null,null,null,null,null,null,null," ",null,1,1900]
[null,null,null,null,null,null,null,null," ",null,1,1900]
[null,null,null,null,null,null,null,null," ",null,1,1900]
[null,null,null,null,null,null,null,null," ",null,1,1900]
[null,null,null,null,null,null,null,null," ",null,1,1900]
[null,null,null,null,null,null,null,null," ",null,1,1900]
[null,null,null,null,null,null,null,null," ",null,1,1900]
[null,null,null,null,null,null,null,null," ",null,1,1900]
[null,null,null,null,null,null,null,null," ",null,1,1900]
[null,null,null,null,null,null,null,null," ",null,1,1900]
[null,null,null,null,null,null,null,null," ",null,1,1900]
[null,null,null,null,null,null,null,null," ",null,1,1900]
[null,null,null,null,null,null,null,null," ",null,1,1900]
[null,null,null,null,null,null,null,null," ",null,1,1900]
[null,null,null,null,null,null,null,null," ",null,1,1900]
[null,null,null,null,null,null,null,null," ",null,1,1900]
[null,null,null,null,null,null,null,null," ",null,1,1900]
[null,null,null,null,null,null,null,null," ",null,1,1900]
[null,null,null,null,null,null,null,null," ",null,1,1900]
[null,null,null,null,null,null,null,null," ",null,1,1900]
[null,null,null,null,null,null,null,null," ",null,1,1900]
[null,null,null,null,null,null,null,null," ",null,1,1900]
[null,null,null,null,null,null,null,null," ",null,1,1900]
[null,null,null,null,null,null,null,null," ",null,1,1900]
[null,null,null,null,null,null,null,null," ",null,1,1900]
[null,null,null,null,null,null,null,null," ",null,1,1900]
[null,null,null,null,null,null,null,null," ",null,1,1900]
[null,null,null,null,null,null,null,null," ",null,1,1900]
[null,null,null,null,null,null,null,null," ",null,1,1900]
[null,null,null,null,null,null,null,null," ",null,1,1900]
[null,null,null,null,null,null,null,null," ",null,1,1900]
[null,null,null,null,null,null,null,null," ",null,1,1900]
[null,null,null,null,null,null,null,null," ",null,1,1900]
[null,null,null,null,null,null,null,null," ",null,1,1900]
[null,null,null,null,null,null,null,null," ",null,1,1900]
[null,null,null,null,null,null,null,null," ",null,1,1900]
[null,null,null,null,null,null,null,null," ",null,1,1900]
[null,null,null,null,null,null,null,null," ",null,1,1900]
[null,null,null,null,null,null,null,null," ",null,1,1900]
[null,null,null,null,null,null,null,null," ",null,1,1900]
[null,null,null,null,null,null,null,null," ",null,1,1900]
[null,null,null,null,null,null,null,null," ",null,1,1900]
[null,null,null,null,null,null,null,null," ",null,1,1900]
[null,null,null,null,null,null,null,null," ",null,1,1900]
[null,null,null,null,null,null,null,null," ",null,1,1900]
[null,null,null,null,null,null,null,null," ",null,1,1900]
[null,null,null,null,null,null,null,null," ",null,1,1900]
[null,null,null,null,null,null,null,null," ",null,1,1900]
[null,null,null,null,null,null,null,null," ",null,1,1900]
[null,null,null,null,null,null,null,null,{"$f":"+IF(H4856=H4855,\" \",H4856)","v":" "},null,{"$f":"+MONTH(A4856)","v":1},{"$f":"+YEAR(A4856)","v":1900}]
[null,null,null,null,null,null,null,null," ",null,1,1900]
[null,null,null,null,null,null,null,null," ",null,1,1900]
[null,null,null,null,null,null,null,null," ",null,1,1900]
[null,null,null,null,null,null,null,null," ",null,1,1900]
[null,null,null,null,null,null,null,null," ",null,1,1900]
[null,null,null,null,null,null,null,null," ",null,1,1900]
[null,null,null,null,null,null,null,null," ",null,1,1900]
[null,null,null,null,null,null,null,null," ",null,1,1900]
[null,null,null,null,null,null,null,null," ",null,1,1900]
[null,null,null,null,null,null,null,null," ",null,1,1900]
[null,null,null,null,null,null,null,null," ",null,1,1900]
[null,null,null,null,null,null,null,null," ",null,1,1900]
[null,null,null,null,null,null,null,null," ",null,1,1900]
[null,null,null,null,null,null,null,null," ",null,1,1900]
[null,null,null,null,null,null,null,null," ",null,1,1900]
[null,null,null,null,null,null,null,null," ",null,1,1900]
[null,null,null,null,null,null,null,null," ",null,1,1900]
[null,null,null,null,null,null,null,null," ",null,1,1900]
[null,null,null,null,null,null,null,null," ",null,1,1900]
[null,null,null,null,null,null,null,null," ",null,1,1900]
[null,null,null,null,null,null,null,null," ",null,1,1900]
[null,null,null,null,null,null,null,null,{"$f":"+IF(H5560=H5559,\" \",H5560)","v":" "},null,{"$f":"+MONTH(A5560)","v":1},{"$f":"+YEAR(A5560)","v":1900}]
[null,null,null,null,null,null,null,null," ",null,1,1900]
[null,null,null,null,null,null,null,null," ",null,1,1900]
[null,null,null,null,null,null,null,null," ",null,1,1900]
[null,null,null,null,null,null,null,null," ",null,1,1900]
[null,null,null,null,null,null,null,null," ",null,1,1900]
[null,null,null,null,null,null,null,null," ",null,1,1900]
[null,null,null,null,null,null,null,null," ",null,1,1900]
[null,null,null,null,null,null,null,null," ",null,1,1900]
[null,null,null,null,null,null,null,null,{"$f":"+IF(H5816=H5815,\" \",H5816)","v":" "},null,{"$f":"+MONTH(A5816)","v":1},{"$f":"+YEAR(A5816)","v":1900}]
[null,null,null,null,null,null,null,null," ",null,1,1900]
[null,null,null,null,null,null,null,null," ",null,1,1900]
[null,null,null,null,null,null,null,null," ",null,1,1900]
[null,null,null,null,null,null,null,null," ",null,1,1900]
[null,null,null,null,null,null,null,null," ",null,1,1900]
[null,null,null,null,null,null,null,null," ",null,1,1900]
[null,null,null,null,null,null,null,null," ",null,1,1900]
[null,null,null,null,null,null,null,null," ",null,1,1900]
[null,null,null,null,null,null,null,null," ",null,1,1900]
[null,null,null,null,null,null,null,null," ",null,1,1900]
[null,null,null,null,null,null,null,null," ",null,1,1900]
[null,null,null,null,null,null,null,null," ",null,1,1900]
[null,null,null,null,null,null,null,null," ",null,1,1900]
[null,null,null,null,null,null,null,null," ",null,1,1900]
[null,null,null,null,null,null,null,null," ",null,1,1900]
[null,null,null,null,null,null,null,null," ",null,1,1900]
[null,null,null,null,null,null,null,null," ",null,1,1900]
[null,null,null,null,null,null,null,null," ",null,1,1900]
[null,null,null,null,null,null,null,null," ",null,1,1900]
[null,null,null,null,null,null,null,null," ",null,1,1900]
[null,null,null,null,null,null,null,null," ",null,1,1900]
[null,null,null,null,null,null,null,null," ",null,1,1900]
[null,null,null,null,null,null,null,null," ",null,1,1900]
[null,null,null,null,null,null,null,null,{"$f":"+IF(H6584=H6583,\" \",H6584)","v":" "},null,{"$f":"+MONTH(A6584)","v":1},{"$f":"+YEAR(A6584)","v":1900}]
[null,null,null,null,null,null,null,null," ",null,1,1900]
[null,null,null,null,null,null,null,null," ",null,1,1900]
[null,null,null,null,null,null,null,null," ",null,1,1900]
[null,null,null,null,null,null,null,null," ",null,1,1900]
[null,null,null,null,null,null,null,null," ",null,1,1900]
[null,null,null,null,null,null,null,null," ",null,1,1900]
[null,null,null,null,null,null,null,null," ",null,1,1900]
[null,null,null,null,null,null,null,null," ",null,1,1900]
[null,null,null,null,null,null,null,null," ",null,1,1900]
[null,null,null,null,null,null,null,null," ",null,1,1900]
[null,null,null,null,null,null,null,null," ",null,1,1900]
[null,null,null,null,null,null,null,null," ",null,1,1900]
[null,null,null,null,null,null,null,null," ",null,1,1900]
[null,null,null,null,null,null,null,null," ",null,1,1900]
[null,null,null,null,null,null,null,null," ",null,1,1900]
[null,null,null,null,null,null,null,null," ",null,1,1900]
[null,null,null,null,null,null,null,null," ",null,1,1900]
[null,null,null,null,null,null,null,null," ",null,1,1900]
[null,null,null,null,null,null,null,null," ",null,1,1900]
[null,null,null,null,null,null,null,null," ",null,1,1900]
[null,null,null,null,null,null,null,null," ",null,1,1900]
[null,null,null,null,null,null,null,null," ",null,1,1900]
[null,null,null,null,null,null,null,null," ",null,1,1900]
[null,null,null,null,null,null,null,null," ",null,1,1900]
[null,null,null,null,null,null,null,null," ",null,1,1900]
[null,null,null,null,null,null,null,null," ",null,1,1900]
[null,null,null,null,null,null,null,null," ",null,1,1900]
[null,null,null,null,null,null,null,null," ",null,1,1900]
[null,null,null,null,null,null,null,null," ",null,1,1900]
[null,null,null,null,null,null,null,null," ",null,1,1900]
[null,null,null,null,null,null,null,null," ",null,1,1900]
[null,null,null,null,null,null,null,null," ",null,1,1900]
[null,null,null,null,null,null,null,null," ",null,1,1900]
[null,null,null,null,null,null,null,null," ",null,1,1900]
[null,null,null,null,null,null,null,null," ",null,1,1900]
[null,null,null,null,null,null,null,null," ",null,1,1900]
[null,null,null,null,null,null,null,null," ",null,1,1900]
[null,null,null,null,null,null,null,null," ",null,1,1900]
[null,null,null,null,null,null,null,null," ",null,1,1900]
[null,null,null,null,null,null,null,null," ",null,1,1900]
[null,null,null,null,null,null,null,null," ",null,1,1900]
[null,null,null,null,null,null,null,null," ",null,1,1900]
[null,null,null,null,null,null,null,null," ",null,1,1900]
[null,null,null,null,null,null,null,null," ",null,1,1900]
[null,null,null,null,null,null,null,null," ",null,1,1900]
[null,null,null,null,null,null,null,null," ",null,1,1900]
[null,null,null,null,null,null,null,null," ",null,1,1900]
[null,null,null,null,null,null,null,null," ",null,1,1900]
[null,null,null,null,null,null,null,null," ",null,1,1900]
[null,null,null,null,null,null,null,null," ",null,1,1900]
[null,null,null,null,null,null,null,null," ",null,1,1900]
[null,null,null,null,null,null,null,null," ",null,1,1900]
[null,null,null,null,null,null,null,null," ",null,1,1900]
[null,null,null,null,null,null,null,null," ",null,1,1900]
[null,null,null,null,null,null,null,null," ",null,1,1900]
[null,null,null,null,null,null,null,null," ",null,1,1900]
[null,null,null,null,null,null,null,null," ",null,1,1900]
[null,null,null,null,null,null,null,null," ",null,1,1900]
[null,null,null,null,null,null,null,null," ",null,1,1900]
[null,null,null,null,null,null,null,null," ",null,1,1900]
[null,null,null,null,null,null,null,null," ",null,1,1900]
[null,null,null,null,null,null,null,null," ",null,1,1900]
[null,null,null,null,null,null,null,null," ",null,1,1900]
[null,null,null,null,null,null,null,null," ",null,1,1900]
[null,null,null,null,null,null,null,null," ",null,1,1900]
[null,null,null,null,null,null,null,null," ",null,1,1900]
[null,null,null,null,null,null,null,null," ",null,1,1900]
[null,null,null,null,null,null,null,null," ",null,1,1900]
[null,null,null,null,null,null,null,null,{"$f":"+IF(H8760=H8759,\" \",H8760)","v":" "},null,{"$f":"+MONTH(A8760)","v":1},{"$f":"+YEAR(A8760)","v":1900}]
[null,null,null,null,null,null,null,null," ",null,1,1900]
[null,null,null,null,null,null,null,null," ",null,1,1900]
[null,null,null,null,null,null,null,null," ",null,1,1900]
[null,null,null,null,null,null,null,null," ",null,1,1900]
[null,null,null,null,null,null,null,null," ",null,1,1900]
[null,null,null,null,null,null,null,null," ",null,1,1900]
[null,null,null,null,null,null,null,null," ",null,1,1900]
[null,null,null,null,null,null,null,null," ",null,1,1900]
[null,null,null,null,null,null,null,null," ",null,1,1900]
[null,null,null,null,null,null,null,null," ",null,1,1900]
[null,null,null,null,null,null,null,null," ",null,1,1900]
[null,null,null,null,null,null,null,null," ",null,1,1900]
[null,null,null,null,null,null,null,null," ",null,1,1900]
[null,null,null,null,null,null,null,null," ",null,1,1900]
[null,null,null,null,null,null,null,null," ",null,1,1900]
[null,null,null,null,null,null,null,null," ",null,1,1900]
[null,null,null,null,null,null,null,null," ",null,1,1900]
[null,null,null,null,null,null,null,null," ",null,1,1900]
[null,null,null,null,null,null,null,null," ",null,1,1900]
[null,null,null,null,null,null,null,null," ",null,1,1900]
[null,null,null,null,null,null,null,null," ",null,1,1900]
[null,null,null,null,null,null,null,null," ",null,1,1900]
[null,null,null,null,null,null,null,null," ",null,1,1900]
[null,null,null,null,null,null,null,null," ",null,1,1900]
[null,null,null,null,null,null,null,null," ",null,1,1900]
[null,null,null,null,null,null,null,null,{"$f":"+IF(H9592=H9591,\" \",H9592)","v":" "},null,{"$f":"+MONTH(A9592)","v":1},{"$f":"+YEAR(A9592)","v":1900}]
[null,null,null,null,null,null,null,null," ",null,1,1900]
[null,null,null,null,null,null,null,null," ",null,1,1900]
[null,null,null,null,null,null,null,null," ",null,1,1900]
[null,null,null,null,null,null,null,null," ",null,1,1900]
[null,null,null,null,null,null,null,null," ",null,1,1900]
[null,null,null,null,null,null,null,null," ",null,1,1900]
[null,null,null,null,null,null,null,null," ",null,1,1900]
[null,null,null,null,null,null,null,null," ",null,1,1900]
[null,null,null,null,null,null,null,null," ",null,1,1900]
[null,null,null,null,null,null,null,null," ",null,1,1900]
[null,null,null,null,null,null,null,null," ",null,1,1900]
[null,null,null,null,null,null,null,null," ",null,1,1900]
[null,null,null,null,null,null,null,null," ",null,1,1900]
[null,null,null,null,null,null,null,null," ",null,1,1900]
[null,null,null,null,null,null,null,null," ",null,1,1900]
[null,null,null,null,null,null,null,null," ",null,1,1900]
[null,null,null,null,null,null,null,null," ",null,1,1900]
[null,null,null,null,null,null,null,null," ",null,1,1900]
[null,null,null,null,null,null,null,null," ",null,1,1900]
[null,null,null,null,null,null,null,null," ",null,1,1900]
[null,null,null,null,null,null,null,null," ",null,1,1900]
[null,null,null,null,null,null,null,null," ",null,1,1900]
[null,null,null,null,null,null,null,null," ",null,1,1900]
[null,null,null,null,null,null,null,null," ",null,1,1900]
[null,null,null,null,null,null,null,null," ",null,1,1900]
[null,null,null,null,null,null,null,null," ",null,1,1900]
[null,null,null,null,null,null,null,null," ",null,1,1900]
[null,null,null,null,null,null,null,null," ",null,1,1900]
[null,null,null,null,null,null,null,null," ",null,1,1900]
[null,null,null,null,null,null,null,null," ",null,1,1900]
[null,null,null,null,null,null,null,null," ",null,1,1900]
[null,null,null,null,null,null,null,null," ",null,1,1900]
[null,null,null,null,null,null,null,null,{"$f":"+IF(H10616=H10615,\" \",H10616)","v":" "},null,{"$f":"+MONTH(A10616)","v":1},{"$f":"+YEAR(A10616)","v":1900}]
[null,null,null,null,null,null,null,null," ",null,1,1900]
[null,null,null,null,null,null,null,null," ",null,1,1900]
[null,null,null,null,null,null,null,null," ",null,1,1900]
[null,null,null,null,null,null,null,null," ",null,1,1900]
[null,null,null,null,null,null,null,null," ",null,1,1900]
[null,null,null,null,null,null,null,null," ",null,1,1900]
[null,null,null,null,null,null,null,null," ",null,1,1900]
[null,null,null,null,null,null,null,null," ",null,1,1900]
[null,null,null,null,null,null,null,null," ",null,1,1900]
[null,null,null,null,null,null,null,null," ",null,1,1900]
[null,null,null,null,null,null,null,null," ",null,1,1900]
[null,null,null,null,null,null,null,null," ",null,1,1900]
[null,null,null,null,null,null,null,null," ",null,1,1900]
[null,null,null,null,null,null,null,null," ",null,1,1900]
[null,null,null,null,null,null,null,null," ",null,1,1900]
[null,null,null,null,null,null,null,null," ",null,1,1900]
[null,null,null,null,null,null,null,null," ",null,1,1900]
[null,null,null,null,null,null,null,null," ",null,1,1900]
[null,null,null,null,null,null,null,null," ",null,1,1900]
[null,null,null,null,null,null,null,null," ",null,1,1900]
[null,null,null,null,null,null,null,null," ",null,1,1900]
[null,null,null,null,null,null,null,null," ",null,1,1900]
[null,null,null,null,null,null,null,null," ",null,1,1900]
[null,null,null,null,null,null,null,null," ",null,1,1900]
[null,null,null,null,null,null,null,null," ",null,1,1900]
[null,null,null,null,null,null,null,null," ",null,1,1900]
[null,null,null,null,null,null,null,null," ",null,1,1900]
[null,null,null,null,null,null,null,null," ",null,1,1900]
[null,null,null,null,null,null,null,null," ",null,1,1900]
[null,null,null,null,null,null,null,null," ",null,1,1900]
[null,null,null,null,null,null,null,null," ",null,1,1900]
[null,null,null,null,null,null,null,null," ",null,1,1900]
[null,null,null,null,null,null,null,null," ",null,1,1900]
[null,null,null,null,null,null,null,null," ",null,1,1900]
[null,null,null,null,null,null,null,null," ",null,1,1900]
[null,null,null,null,null,null,null,null," ",null,1,1900]
[null,null,null,null,null,null,null,null," ",null,1,1900]
[null,null,null,null,null,null,null,null," ",null,1,1900]
[null,null,null,null,null,null,null,null," ",null,1,1900]
[null,null,null,null,null,null,null,null," ",null,1,1900]
[null,null,null,null,null,null,null,null," ",null,1,1900]
[null,null,null,null,null,null,null,null," ",null,1,1900]
[null,null,null,null,null,null,null,null," ",null,1,1900]
[null,null,null,null,null,null,null,null," ",null,1,1900]
[null,null,null,null,null,null,null,null," ",null,1,1900]
[null,null,null,null,null,null,null,null," ",null,1,1900]
[null,null,null,null,null,null,null,null," ",null,1,1900]
[null,null,null,null,null,null,null,null," ",null,1,1900]
[null,null,null,null,null,null,null,null," ",null,1,1900]
[null,null,null,null,null,null,null,null," ",null,1,1900]
[null,null,null,null,null,null,null,null," ",null,1,1900]
[null,null,null,null,null,null,null,null," ",null,1,1900]
[null,null,null,null,null,null,null,null," ",null,1,1900]
[null,null,null,null,null,null,null,null," ",null,1,1900]
[null,null,null,null,null,null,null,null," ",null,1,1900]
[null,null,null,null,null,null,null,null," ",null,1,1900]
[null,null,null,null,null,null,null,null," ",null,1,1900]
[null,null,null,null,null,null,null,null," ",null,1,1900]
[null,null,null,null,null,null,null,null," ",null,1,1900]
[null,null,null,null,null,null,null,null," ",null,1,1900]
[null,null,null,null,null,null,null,null," ",null,1,1900]
[null,null,null,null,null,null,null,null," ",null,1,1900]
[null,null,null,null,null,null,null,null," ",null,1,1900]
[null,null,null,null,null,null,null,null," ",null,1,1900]
[null,null,null,null,null,null,null,null," ",null,1,1900]
[null,null,null,null,null,null,null,null," ",null,1,1900]
[null,null,null,null,null,null,null,null," ",null,1,1900]
[null,null,null,null,null,null,null,null," ",null,1,1900]
[null,null,null,null,null,null,null,null," ",null,1,1900]
[null,null,null,null,null,null,null,null," ",null,1,1900]
[null,null,null,null,null,null,null,null," ",null,1,1900]
[null,null,null,null,null,null,null,null," ",null,1,1900]
[null,null,null,null,null,null,null,null," ",null,1,1900]
[null,null,null,null,null,null,null,null," ",null,1,1900]
[null,null,null,null,null,null,null,null," ",null,1,1900]
[null,null,null,null,null,null,null,null," ",null,1,1900]
[null,null,null,null,null,null,null,null," ",null,1,1900]
[null,null,null,null,null,null,null,null," ",null,1,1900]
[null,null,null,null,null,null,null,null," ",null,1,1900]
[null,null,null,null,null,null,null,null," ",null,1,1900]
[null,null,null,null,null,null,null,null," ",null,1,1900]
[null,null,null,null,null,null,null,null," ",null,1,1900]
[null,null,null,null,null,null,null,null," ",null,1,1900]
[null,null,null,null,null,null,null,null," ",null,1,1900]
[null,null,null,null,null,null,null,null," ",null,1,1900]
[null,null,null,null,null,null,null,null," ",null,1,1900]
[null,null,null,null,null,null,null,null," ",null,1,1900]
[null,null,null,null,null,null,null,null," ",null,1,1900]
[null,null,null,null,null,null,null,null," ",null,1,1900]
[null,null,null,null,null,null,null,null," ",null,1,1900]
[null,null,null,null,null,null,null,null," ",null,1,1900]
[null,null,null,null,null,null,null,null," ",null,1,1900]
[null,null,null,null,null,null,null,null," ",null,1,1900]
[null,null,null,null,null,null,null,null," ",null,1,1900]
[null,null,null,null,null,null,null,null," ",null,1,1900]
[null,null,null,null,null,null,null,null," ",null,1,1900]
[null,null,null,null,null,null,null,null," ",null,1,1900]
[null,null,null,null,null,null,null,null," ",null,1,1900]
[null,null,null,null,null,null,null,null," ",null,1,1900]
[null,null,null,null,null,null,null,null," ",null,1,1900]
[null,null,null,null,null,null,null,null," ",null,1,1900]
[null,null,null,null,null,null,null,null," ",null,1,1900]
[null,null,null,null,null,null,null,null," ",null,1,1900]
[null,null,null,null,null,null,null,null," ",null,1,1900]
[null,null,null,null,null,null,null,null," ",null,1,1900]
[null,null,null,null,null,null,null,null," ",null,1,1900]
[null,null,null,null,null,null,null,null," ",null,1,1900]
[null,null,null,null,null,null,null,null," ",null,1,1900]
[null,null,null,null,null,null,null,null," ",null,1,1900]
[null,null,null,null,null,null,null,null," ",null,1,1900]
[null,null,null,null,null,null,null,null," ",null,1,1900]
[null,null,null,null,null,null,null,null," ",null,1,1900]
[null,null,null,null,null,null,null,null," ",null,1,1900]
[null,null,null,null,null,null,null,null," ",null,1,1900]
[null,null,null,null,null,null,null,null," ",null,1,1900]
[null,null,null,null,null,null,null,null," ",null,1,1900]
[null,null,null,null,null,null,null,null," ",null,1,1900]
[null,null,null,null,null,null,null,null," ",null,1,1900]
[null,null,null,null,null,null,null,null," ",null,1,1900]
[null,null,null,null,null,null,null,null," ",null,1,1900]
[null,null,null,null,null,null,null,null," ",null,1,1900]
[null,null,null,null,null,null,null,null," ",null,1,1900]
[null,null,null,null,null,null,null,null," ",null,1,1900]
[null,null,null,null,null,null,null,null," ",null,1,1900]
[null,null,null,null,null,null,null,null," ",null,1,1900]
[null,null,null,null,null,null,null,null," ",null,1,1900]
[null,null,null,null,null,null,null,null," ",null,1,1900]
[null,null,null,null,null,null,null,null," ",null,1,1900]
[null,null,null,null,null,null,null,null," ",null,1,1900]
[null,null,null,null,null,null,null,null," ",null,1,1900]
[null,null,null,null,null,null,null,null," ",null,1,1900]
[null,null,null,null,null,null,null,null," ",null,1,1900]
[null,null,null,null,null,null,null,null," ",null,1,1900]
[null,null,null,null,null,null,null,null," ",null,1,1900]
[null,null,null,null,null,null,null,null," ",null,1,1900]
[null,null,null,null,null,null,null,null," ",null,1,1900]
[null,null,null,null,null,null,null,null," ",null,1,1900]
[null,null,null,null,null,null,null,null," ",null,1,1900]
[null,null,null,null,null,null,null,null," ",null,1,1900]
[null,null,null,null,null,null,null,null," ",null,1,1900]
[null,null,null,null,null,null,null,null," ",null,1,1900]
[null,null,null,null,null,null,null,null," ",null,1,1900]
[null,null,null,null,null,null,null,null," ",null,1,1900]
[null,null,null,null,null,null,null,null,{"$f":"+IF(H15160=H15159,\" \",H15160)","v":" "},null,{"$f":"+MONTH(A15160)","v":1},{"$f":"+YEAR(A15160)","v":1900}]
[null,null,null,null,null,null,null,null," ",null,1,1900]
[null,null,null,null,null,null,null,null," ",null,1,1900]
[null,null,null,null,null,null,null,null," ",null,1,1900]
[null,null,null,null,null,null,null,null," ",null,1,1900]
[null,null,null,null,null,null,null,null," ",null,1,1900]
[null,null,null,null,null,null,null,null," ",null,1,1900]
[null,null,null,null,null,null,null,null," ",null,1,1900]
[null,null,null,null,null,null,null,null," ",null,1,1900]
[null,null,null,null,null,null,null,null," ",null,1,1900]
[null,null,null,null,null,null,null,null," ",null,1,1900]
[null,null,null,null,null,null,null,null," ",null,1,1900]
[null,null,null,null,null,null,null,null," ",null,1,1900]
[null,null,null,null,null,null,null,null," ",null,1,1900]
[null,null,null,null,null,null,null,null," ",null,1,1900]
[null,null,null,null,null,null,null,null," ",null,1,1900]
[null,null,null,null,null,null,null,null," ",null,1,1900]
[null,null,null,null,null,null,null,null," ",null,1,1900]
[null,null,null,null,null,null,null,null," ",null,1,1900]
[null,null,null,null,null,null,null,null," ",null,1,1900]
[null,null,null,null,null,null,null,null," ",null,1,1900]
[null,null,null,null,null,null,null,null," ",null,1,1900]
[null,null,null,null,null,null,null,null," ",null,1,1900]
[null,null,null,null,null,null,null,null," ",null,1,1900]
[null,null,null,null,null,null,null,null," ",null,1,1900]
[null,null,null,null,null,null,null,null," ",null,1,1900]
[null,null,null,null,null,null,null,null," ",null,1,1900]
[null,null,null,null,null,null,null,null," ",null,1,1900]
[null,null,null,null,null,null,null,null," ",null,1,1900]
[null,null,null,null,null,null,null,null," ",null,1,1900]
[null,null,null,null,null,null,null,null," ",null,1,1900]
[null,null,null,null,null,null,null,null," ",null,1,1900]
[null,null,null,null,null,null,null,null," ",null,1,1900]
[null,null,null,null,null,null,null,null," ",null,1,1900]
[null,null,null,null,null,null,null,null," ",null,1,1900]
[null,null,null,null,null,null,null,null," ",null,1,1900]
[null,null,null,null,null,null,null,null," ",null,1,1900]
[null,null,null,null,null,null,null,null," ",null,1,1900]
[null,null,null,null,null,null,null,null," ",null,1,1900]
[null,null,null,null,null,null,null,null," ",null,1,1900]
[null,null,null,null,null,null,null,null," ",null,1,1900]
[null,null,null,null,null,null,null,null," ",null,1,1900]
[null,null,null,null,null,null,null,null," ",null,1,1900]
[null,null,null,null,null,null,null,null," ",null,1,1900]
[null,null,null,null,null,null,null,null," ",null,1,1900]
[null,null,null,null,null,null,null,null," ",null,1,1900]
[null,null,null,null,null,null,null,null," ",null,1,1900]
[null,null,null,null,null,null,null,null," ",null,1,1900]
[null,null,null,null,null,null,null,null," ",null,1,1900]
[null,null,null,null,null,null,null,null," ",null,1,1900]
[null,null,null,null,null,null,null,null," ",null,1,1900]
[null,null,null,null,null,null,null,null," ",null,1,1900]
[null,null,null,null,null,null,null,null," ",null,1,1900]
[null,null,null,null,null,null,null,null," ",null,1,1900]
[null,null,null,null,null,null,null,null," ",null,1,1900]
[null,null,null,null,null,null,null,null," ",null,1,1900]
[null,null,null,null,null,null,null,null," ",null,1,1900]
[null,null,null,null,null,null,null,null," ",null,1,1900]
[null,null,null,null,null,null,null,null," ",null,1,1900]
[null,null,null,null,null,null,null,null," ",null,1,1900]
[null,null,null,null,null,null,null,null," ",null,1,1900]
[null,null,null,null,null,null,null,null," ",null,1,1900]
[null,null,null,null,null,null,null,null," ",null,1,1900]
[null,null,null,null,null,null,null,null," ",null,1,1900]
[null,null,null,null,null,null,null,null," ",null,1,1900]
[null,null,null,null,null,null,null,null," ",null,1,1900]
[null,null,null,null,null,null,null,null," ",null,1,1900]
[null,null,null,null,null,null,null,null," ",null,1,1900]
[null,null,null,null,null,null,null,null," ",null,1,1900]
[null,null,null,null,null,null,null,null," ",null,1,1900]
[null,null,null,null,null,null,null,null," ",null,1,1900]
[null,null,null,null,null,null,null,null," ",null,1,1900]
[null,null,null,null,null,null,null,null," ",null,1,1900]
[null,null,null,null,null,null,null,null," ",null,1,1900]
[null,null,null,null,null,null,null,null," ",null,1,1900]
[null,null,null,null,null,null,null,null," ",null,1,1900]
[null,null,null,null,null,null,null,null," ",null,1,1900]
[null,null,null,null,null,null,null,null," ",null,1,1900]
[null,null,null,null,null,null,null,null," ",null,1,1900]
[null,null,null,null,null,null,null,null," ",null,1,1900]
[null,null,null,null,null,null,null,null," ",null,1,1900]
[null,null,null,null,null,null,null,null," ",null,1,1900]
[null,null,null,null,null,null,null,null," ",null,1,1900]
[null,null,null,null,null,null,null,null," ",null,1,1900]
[null,null,null,null,null,null,null,null," ",null,1,1900]
[null,null,null,null,null,null,null,null," ",null,1,1900]
[null,null,null,null,null,null,null,null," ",null,1,1900]
[null,null,null,null,null,null,null,null," ",null,1,1900]
[null,null,null,null,null,null,null,null," ",null,1,1900]
[null,null,null,null,null,null,null,null," ",null,1,1900]
[null,null,null,null,null,null,null,null," ",null,1,1900]
[null,null,null,null,null,null,null,null," ",null,1,1900]
[null,null,null,null,null,null,null,null," ",null,1,1900]
[null,null,null,null,null,null,null,null," ",null,1,1900]
[null,null,null,null,null,null,null,null," ",null,1,1900]
[null,null,null,null,null,null,null,null,{"$f":"+IF(H18168=H18167,\" \",H18168)","v":" "},null,{"$f":"+MONTH(A18168)","v":1},{"$f":"+YEAR(A18168)","v":1900}]
[null,null,null,null,null,null,null,null," ",null,1,1900]
[null,null,null,null,null,null,null,null," ",null,1,1900]
[null,null,null,null,null,null,null,null," ",null,1,1900]
[null,null,null,null,null,null,null,null," ",null,1,1900]
[null,null,null,null,null,null,null,null," ",null,1,1900]
[null,null,null,null,null,null,null,null," ",null,1,1900]
[null,null,null,null,null,null,null,null," ",null,1,1900]
[null,null,null,null,null,null,null,null," ",null,1,1900]
[null,null,null,null,null,null,null,null," ",null,1,1900]
[null,null,null,null,null,null,null,null," ",null,1,1900]
[null,null,null,null,null,null,null,null," ",null,1,1900]
[null,null,null,null,null,null,null,null," ",null,1,1900]
[null,null,null,null,null,null,null,null," ",null,1,1900]
[null,null,null,null,null,null,null,null," ",null,1,1900]
[null,null,null,null,null,null,null,null," ",null,1,1900]
[null,null,null,null,null,null,null,null," ",null,1,1900]
[null,null,null,null,null,null,null,null," ",null,1,1900]
[null,null,null,null,null,null,null,null," ",null,1,1900]
[null,null,null,null,null,null,null,null," ",null,1,1900]
[null,null,null,null,null,null,null,null," ",null,1,1900]
[null,null,null,null,null,null,null,null," ",null,1,1900]
[null,null,null,null,null,null,null,null," ",null,1,1900]
[null,null,null,null,null,null,null,null," ",null,1,1900]
[null,null,null,null,null,null,null,null," ",null,1,1900]
[null,null,null,null,null,null,null,null," ",null,1,1900]
[null,null,null,null,null,null,null,null," ",null,1,1900]
[null,null,null,null,null,null,null,null," ",null,1,1900]
[null,null,null,null,null,null,null,null," ",null,1,1900]
[null,null,null,null,null,null,null,null," ",null,1,1900]
[null,null,null,null,null,null,null,null," ",null,1,1900]
[null,null,null,null,null,null,null,null," ",null,1,1900]
[null,null,null,null,null,null,null,null," ",null,1,1900]
[null,null,null,null,null,null,null,null,{"$f":"+IF(H19192=H19191,\" \",H19192)","v":" "},null,{"$f":"+MONTH(A19192)","v":1},{"$f":"+YEAR(A19192)","v":1900}]
[null,null,null,null,null,null,null,null," ",null,1,1900]
[null,null,null,null,null,null,null,null," ",null,1,1900]
[null,null,null,null,null,null,null,null," ",null,1,1900]
[null,null,null,null,null,null,null,null," ",null,1,1900]
[null,null,null,null,null,null,null,null," ",null,1,1900]
[null,null,null,null,null,null,null,null," ",null,1,1900]
[null,null,null,null,null,null,null,null," ",null,1,1900]
[null,null,null,null,null,null,null,null," ",null,1,1900]
[null,null,null,null,null,null,null,null," ",null,1,1900]
[null,null,null,null,null,null,null,null," ",null,1,1900]
[null,null,null,null,null,null,null,null," ",null,1,1900]
[null,null,null,null,null,null,null,null," ",null,1,1900]
[null,null,null,null,null,null,null,null," ",null,1,1900]
[null,null,null,null,null,null,null,null," ",null,1,1900]
[null,null,null,null,null,null,null,null," ",null,1,1900]
[null,null,null,null,null,null,null,null," ",null,1,1900]
[null,null,null,null,null,null,null,null," ",null,1,1900]
[null,null,null,null,null,null,null,null," ",null,1,1900]
[null,null,null,null,null,null,null,null," ",null,1,1900]
[null,null,null,null,null,null,null,null," ",null,1,1900]
[null,null,null,null,null,null,null,null," ",null,1,1900]
[null,null,null,null,null,null,null,null," ",null,1,1900]
[null,null,null,null,null,null,null,null," ",null,1,1900]
[null,null,null,null,null,null,null,null," ",null,1,1900]
[null,null,null,null,null,null,null,null," ",null,1,1900]
[null,null,null,null,null,null,null,null," ",null,1,1900]
[null,null,null,null,null,null,null,null," ",null,1,1900]
[null,null,null,null,null,null,null,null," ",null,1,1900]
[null,null,null,null,null,null,null,null," ",null,1,1900]
[null,null,null,null,null,null,null,null," ",null,1,1900]
[null,null,null,null,null,null,null,null," ",null,1,1900]
[null,null,null,null,null,null,null,null," ",null,1,1900]
[null,null,null,null,null,null,null,null," ",null,1,1900]
[null,null,null,null,null,null,null,null," ",null,1,1900]
[null,null,null,null,null,null,null,null," ",null,1,1900]
[null,null,null,null,null,null,null,null," ",null,1,1900]
[null,null,null,null,null,null,null,null," ",null,1,1900]
[null,null,null,null,null,null,null,null," ",null,1,1900]
[null,null,null,null,null,null,null,null,{"$f":"+IF(H20408=H20407,\" \",H20408)","v":" "},null,{"$f":"+MONTH(A20408)","v":1},{"$f":"+YEAR(A20408)","v":1900}]
[null,null,null,null,null,null,null,null," ",null,1,1900]
[null,null,null,null,null,null,null,null," ",null,1,1900]
[null,null,null,null,null,null,null,null," ",null,1,1900]
[null,null,null,null,null,null,null,null," ",null,1,1900]
[null,null,null,null,null,null,null,null," ",null,1,1900]
[null,null,null,null,null,null,null,null," ",null,1,1900]
[null,null,null,null,null,null,null,null," ",null,1,1900]
[null,null,null,null,null,null,null,null," ",null,1,1900]
[null,null,null,null,null,null,null,null," ",null,1,1900]
[null,null,null,null,null,null,null,null," ",null,1,1900]
[null,null,null,null,null,null,null,null," ",null,1,1900]
[null,null,null,null,null,null,null,null," ",null,1,1900]
[null,null,null,null,null,null,null,null," ",null,1,1900]
[null,null,null,null,null,null,null,null," ",null,1,1900]
[null,null,null,null,null,null,null,null," ",null,1,1900]
[null,null,null,null,null,null,null,null," ",null,1,1900]
[null,null,null,null,null,null,null,null," ",null,1,1900]
[null,null,null,null,null,null,null,null," ",null,1,1900]
[null,null,null,null,null,null,null,null," ",null,1,1900]
[null,null,null,null,null,null,null,null," ",null,1,1900]
[null,null,null,null,null,null,null,null," ",null,1,1900]
[null,null,null,null,null,null,null,null," ",null,1,1900]
[null,null,null,null,null,null,null,null," ",null,1,1900]
[null,null,null,null,null,null,null,null," ",null,1,1900]
[null,null,null,null,null,null,null,null," ",null,1,1900]
[null,null,null,null,null,null,null,null," ",null,1,1900]
[null,null,null,null,null,null,null,null," ",null,1,1900]
[null,null,null,null,null,null,null,null," ",null,1,1900]
[null,null,null,null,null,null,null,null," ",null,1,1900]
[null,null,null,null,null,null,null,null," ",null,1,1900]
[null,null,null,null,null,null,null,null," ",null,1,1900]
[null,null,null,null,null,null,null,null," ",null,1,1900]
[null,null,null,null,null,null,null,null," ",null,1,1900]
[null,null,null,null,null,null,null,null," ",null,1,1900]
[null,null,null,null,null,null,null,null," ",null,1,1900]
[null,null,null,null,null,null,null,null," ",null,1,1900]
[null,null,null,null,null,null,null,null," ",null,1,1900]
[null,null,null,null,null,null,null,null," ",null,1,1900]
[null,null,null,null,null,null,null,null," ",null,1,1900]
[null,null,null,null,null,null,null,null," ",null,1,1900]
[null,null,null,null,null,null,null,null," ",null,1,1900]
[null,null,null,null,null,null,null,null," ",null,1,1900]
[null,null,null,null,null,null,null,null," ",null,1,1900]
[null,null,null,null,null,null,null,null," ",null,1,1900]
[null,null,null,null,null,null,null,null," ",null,1,1900]
[null,null,null,null,null,null,null,null," ",null,1,1900]
[null,null,null,null,null,null,null,null," ",null,1,1900]
[null,null,null,null,null,null,null,null," ",null,1,1900]
[null,null,null,null,null,null,null,null," ",null,1,1900]
[null,null,null,null,null,null,null,null," ",null,1,1900]
[null,null,null,null,null,null,null,null," ",null,1,1900]
[null,null,null,null,null,null,null,null," ",null,1,1900]
[null,null,null,null,null,null,null,null," ",null,1,1900]
[null,null,null,null,null,null,null,null," ",null,1,1900]
[null,null,null,null,null,null,null,null," ",null,1,1900]
[null,null,null,null,null,null,null,null," ",null,1,1900]
[null,null,null,null,null,null,null,null," ",null,1,1900]
[null,null,null,null,null,null,null,null," ",null,1,1900]
[null,null,null,null,null,null,null,null," ",null,1,1900]
[null,null,null,null,null,null,null,null," ",null,1,1900]
[null,null,null,null,null,null,null,null," ",null,1,1900]
[null,null,null,null,null,null,null,null,{"$f":"+IF(H22392=H22391,\" \",H22392)","v":" "},null,{"$f":"+MONTH(A22392)","v":1},{"$f":"+YEAR(A22392)","v":1900}]
[null,null,null,null,null,null,null,null," ",null,1,1900]
[null,null,null,null,null,null,null,null," ",null,1,1900]
[null,null,null,null,null,null,null,null," ",null,1,1900]
[null,null,null,null,null,null,null,null," ",null,1,1900]
[null,null,null,null,null,null,null,null," ",null,1,1900]
[null,null,null,null,null,null,null,null," ",null,1,1900]
[null,null,null,null,null,null,null,null," ",null,1,1900]
[null,null,null,null,null,null,null,null," ",null,1,1900]
[null,null,null,null,null,null,null,null," ",null,1,1900]
[null,null,null,null,null,null,null,null," ",null,1,1900]
[null,null,null,null,null,null,null,null," ",null,1,1900]
[null,null,null,null,null,null,null,null," ",null,1,1900]
[null,null,null,null,null,null,null,null," ",null,1,1900]
[null,null,null,null,null,null,null,null," ",null,1,1900]
[null,null,null,null,null,null,null,null," ",null,1,1900]
[null,null,null,null,null,null,null,null," ",null,1,1900]
[null,null,null,null,null,null,null,null," ",null,1,1900]
[null,null,null,null,null,null,null,null," ",null,1,1900]
[null,null,null,null,null,null,null,null," ",null,1,1900]
[null,null,null,null,null,null,null,null," ",null,1,1900]
[null,null,null,null,null,null,null,null," ",null,1,1900]
[null,null,null,null,null,null,null,null," ",null,1,1900]
[null,null,null,null,null,null,null,null," ",null,1,1900]
[null,null,null,null,null,null,null,null," ",null,1,1900]
[null,null,null,null,null,null,null,null," ",null,1,1900]
[null,null,null,null,null,null,null,null," ",null,1,1900]
[null,null,null,null,null,null,null,null," ",null,1,1900]
[null,null,null,null,null,null,null,null," ",null,1,1900]
[null,null,null,null,null,null,null,null," ",null,1,1900]
[null,null,null,null,null,null,null,null," ",null,1,1900]
[null,null,null,null,null,null,null,null,{"$f":"+IF(H23352=H23351,\" \",H23352)","v":" "},null,{"$f":"+MONTH(A23352)","v":1},{"$f":"+YEAR(A23352)","v":1900}]
[null,null,null,null,null,null,null,null," ",null,1,1900]
[null,null,null,null,null,null,null,null," ",null,1,1900]
[null,null,null,null,null,null,null,null," ",null,1,1900]
[null,null,null,null,null,null,null,null," ",null,1,1900]
[null,null,null,null,null,null,null,null," ",null,1,1900]
[null,null,null,null,null,null,null,null," ",null,1,1900]
[null,null,null,null,null,null,null,null," ",null,1,1900]
[null,null,null,null,null,null,null,null," ",null,1,1900]
[null,null,null,null,null,null,null,null," ",null,1,1900]
[null,null,null,null,null,null,null,null," ",null,1,1900]
[null,null,null,null,null,null,null,null," ",null,1,1900]
[null,null,null,null,null,null,null,null," ",null,1,1900]
[null,null,null,null,null,null,null,null," ",null,1,1900]
[null,null,null,null,null,null,null,null," ",null,1,1900]
[null,null,null,null,null,null,null,null," ",null,1,1900]
[null,null,null,null,null,null,null,null," ",null,1,1900]
[null,null,null,null,null,null,null,null," ",null,1,1900]
[null,null,null,null,null,null,null,null," ",null,1,1900]
[null,null,null,null,null,null,null,null," ",null,1,1900]
[null,null,null,null,null,null,null,null," ",null,1,1900]
[null,null,null,null,null,null,null,null," ",null,1,1900]
[null,null,null,null,null,null,null,null," ",null,1,1900]
[null,null,null,null,null,null,null,null," ",null,1,1900]
[null,null,null,null,null,null,null,null," ",null,1,1900]
[null,null,null,null,null,null,null,null," ",null,1,1900]
[null,null,null,null,null,null,null,null," ",null,1,1900]
[null,null,null,null,null,null,null,null," ",null,1,1900]
[null,null,null,null,null,null,null,null," ",null,1,1900]
[null,null,null,null,null,null,null,null," ",null,1,1900]
[null,null,null,null,null,null,null,null," ",null,1,1900]
[null,null,null,null,null,null,null,null," ",null,1,1900]
[null,null,null,null,null,null,null,null," ",null,1,1900]
[null,null,null,null,null,null,null,null," ",null,1,1900]
[null,null,null,null,null,null,null,null," ",null,1,1900]
[null,null,null,null,null,null,null,null," ",null,1,1900]
[null,null,null,null,null,null,null,null," ",null,1,1900]
[null,null,null,null,null,null,null,null," ",null,1,1900]
[null,null,null,null,null,null,null,null," ",null,1,1900]
[null,null,null,null,null,null,null,null," ",null,1,1900]
[null,null,null,null,null,null,null,null," ",null,1,1900]
[null,null,null,null,null,null,null,null," ",null,1,1900]
[null,null,null,null,null,null,null,null," ",null,1,1900]
[null,null,null,null,null,null,null,null," ",null,1,1900]
[null,null,null,null,null,null,null,null," ",null,1,1900]
[null,null,null,null,null,null,null,null," ",null,1,1900]
[null,null,null,null,null,null,null,null," ",null,1,1900]
[null,null,null,null,null,null,null,null," ",null,1,1900]
[null,null,null,null,null,null,null,null," ",null,1,1900]
[null,null,null,null,null,null,null,null," ",null,1,1900]
[null,null,null,null,null,null,null,null," ",null,1,1900]
[null,null,null,null,null,null,null,null," ",null,1,1900]
[null,null,null,null,null,null,null,null," ",null,1,1900]
[null,null,null,null,null,null,null,null," ",null,1,1900]
[null,null,null,null,null,null,null,null," ",null,1,1900]
[null,null,null,null,null,null,null,null," ",null,1,1900]
[null,null,null,null,null,null,null,null," ",null,1,1900]
[null,null,null,null,null,null,null,null," ",null,1,1900]
[null,null,null,null,null,null,null,null," ",null,1,1900]
[null,null,null,null,null,null,null,null," ",null,1,1900]
[null,null,null,null,null,null,null,null," ",null,1,1900]
[null,null,null,null,null,null,null,null," ",null,1,1900]
[null,null,null,null,null,null,null,null," ",null,1,1900]
[null,null,null,null,null,null,null,null," ",null,1,1900]
[null,null,null,null,null,null,null,null," ",null,1,1900]
[null,null,null,null,null,null,null,null," ",null,1,1900]
[null,null,null,null,null,null,null,null," ",null,1,1900]
[null,null,null,null,null,null,null,null," ",null,1,1900]
[null,null,null,null,null,null,null,null," ",null,1,1900]
[null,null,null,null,null,null,null,null," ",null,1,1900]
[null,null,null,null,null,null,null,null," ",null,1,1900]
[null,null,null,null,null,null,null,null," ",null,1,1900]
[null,null,null,null,null,null,null,null," ",null,1,1900]
[null,null,null,null,null,null,null,null," ",null,1,1900]
[null,null,null,null,null,null,null,null," ",null,1,1900]
[null,null,null,null,null,null,null,null," ",null,1,1900]
[null,null,null,null,null,null,null,null," ",null,1,1900]
[null,null,null,null,null,null,null,null," ",null,1,1900]
[null,null,null,null,null,null,null,null," ",null,1,1900]
[null,null,null,null,null,null,null,null," ",null,1,1900]
[null,null,null,null,null,null,null,null," ",null,1,1900]
[null,null,null,null,null,null,null,null," ",null,1,1900]
[null,null,null,null,null,null,null,null," ",null,1,1900]
[null,null,null,null,null,null,null,null," ",null,1,1900]
[null,null,null,null,null,null,null,null," ",null,1,1900]
[null,null,null,null,null,null,null,null," ",null,1,1900]
[null,null,null,null,null,null,null,null," ",null,1,1900]
[null,null,null,null,null,null,null,null," ",null,1,1900]
[null,null,null,null,null,null,null,null," ",null,1,1900]
[null,null,null,null,null,null,null,null," ",null,1,1900]
[null,null,null,null,null,null,null,null," ",null,1,1900]
[null,null,null,null,null,null,null,null," ",null,1,1900]
[null,null,null,null,null,null,null,null," ",null,1,1900]
[null,null,null,null,null,null,null,null,{"$f":"+IF(H26296=H26295,\" \",H26296)","v":" "},null,{"$f":"+MONTH(A26296)","v":1},{"$f":"+YEAR(A26296)","v":1900}]
[null,null,null,null,null,null,null,null," ",null,1,1900]
[null,null,null,null,null,null,null,null," ",null,1,1900]
[null,null,null,null,null,null,null,null," ",null,1,1900]
[null,null,null,null,null,null,null,null," ",null,1,1900]
[null,null,null,null,null,null,null,null," ",null,1,1900]
[null,null,null,null,null,null,null,null," ",null,1,1900]
[null,null,null,null,null,null,null,null," ",null,1,1900]
[null,null,null,null,null,null,null,null," ",null,1,1900]
[null,null,null,null,null,null,null,null," ",null,1,1900]
[null,null,null,null,null,null,null,null," ",null,1,1900]
[null,null,null,null,null,null,null,null," ",null,1,1900]
[null,null,null,null,null,null,null,null," ",null,1,1900]
[null,null,null,null,null,null,null,null," ",null,1,1900]
[null,null,null,null,null,null,null,null," ",null,1,1900]
[null,null,null,null,null,null,null,null," ",null,1,1900]
[null,null,null,null,null,null,null,null," ",null,1,1900]
[null,null,null,null,null,null,null,null," ",null,1,1900]
[null,null,null,null,null,null,null,null," ",null,1,1900]
[null,null,null,null,null,null,null,null," ",null,1,1900]
[null,null,null,null,null,null,null,null," ",null,1,1900]
[null,null,null,null,null,null,null,null," ",null,1,1900]
[null,null,null,null,null,null,null,null," ",null,1,1900]
[null,null,null,null,null,null,null,null," ",null,1,1900]
[null,null,null,null,null,null,null,null," ",null,1,1900]
[null,null,null,null,null,null,null,null," ",null,1,1900]
[null,null,null,null,null,null,null,null," ",null,1,1900]
[null,null,null,null,null,null,null,null," ",null,1,1900]
[null,null,null,null,null,null,null,null," ",null,1,1900]
[null,null,null,null,null,null,null,null," ",null,1,1900]
[null,null,null,null,null,null,null,null," ",null,1,1900]
[null,null,null,null,null,null,null,null,{"$f":"+IF(H27256=H27255,\" \",H27256)","v":" "},null,{"$f":"+MONTH(A27256)","v":1},{"$f":"+YEAR(A27256)","v":1900}]
[null,null,null,null,null,null,null,null," ",null,1,1900]
[null,null,null,null,null,null,null,null," ",null,1,1900]
[null,null,null,null,null,null,null,null," ",null,1,1900]
[null,null,null,null,null,null,null,null," ",null,1,1900]
[null,null,null,null,null,null,null,null," ",null,1,1900]
[null,null,null,null,null,null,null,null," ",null,1,1900]
[null,null,null,null,null,null,null,null," ",null,1,1900]
[null,null,null,null,null,null,null,null," ",null,1,1900]
[null,null,null,null,null,null,null,null," ",null,1,1900]
[null,null,null,null,null,null,null,null," ",null,1,1900]
[null,null,null,null,null,null,null,null," ",null,1,1900]
[null,null,null,null,null,null,null,null," ",null,1,1900]
[null,null,null,null,null,null,null,null," ",null,1,1900]
[null,null,null,null,null,null,null,null," ",null,1,1900]
[null,null,null,null,null,null,null,null," ",null,1,1900]
[null,null,null,null,null,null,null,null,{"$f":"+IF(H27768=H27767,\" \",H27768)","v":" "},null,{"$f":"+MONTH(A27768)","v":1},{"$f":"+YEAR(A27768)","v":1900}]
[null,null,null,null,null,null,null,null," ",null,1,1900]
[null,null,null,null,null,null,null,null," ",null,1,1900]
[null,null,null,null,null,null,null,null," ",null,1,1900]
[null,null,null,null,null,null,null,null," ",null,1,1900]
[null,null,null,null,null,null,null,null," ",null,1,1900]
[null,null,null,null,null,null,null,null," ",null,1,1900]
[null,null,null,null,null,null,null,null," ",null,1,1900]
[null,null,null,null,null,null,null,null," ",null,1,1900]
[null,null,null,null,null,null,null,null," ",null,1,1900]
[null,null,null,null,null,null,null,null," ",null,1,1900]
[null,null,null,null,null,null,null,null," ",null,1,1900]
[null,null,null,null,null,null,null,null," ",null,1,1900]
[null,null,null,null,null,null,null,null," ",null,1,1900]
[null,null,null,null,null,null,null,null," ",null,1,1900]
[null,null,null,null,null,null,null,null," ",null,1,1900]
[null,null,null,null,null,null,null,null," ",null,1,1900]
[null,null,null,null,null,null,null,null," ",null,1,1900]
[null,null,null,null,null,null,null,null," ",null,1,1900]
[null,null,null,null,null,null,null,null," ",null,1,1900]
[null,null,null,null,null,null,null,null," ",null,1,1900]
[null,null,null,null,null,null,null,null," ",null,1,1900]
[null,null,null,null,null,null,null,null," ",null,1,1900]
[null,null,null,null,null,null,null,null," ",null,1,1900]
[null,null,null,null,null,null,null,null," ",null,1,1900]
[null,null,null,null,null,null,null,null," ",null,1,1900]
[null,null,null,null,null,null,null,null," ",null,1,1900]
[null,null,null,null,null,null,null,null," ",null,1,1900]
[null,null,null,null,null,null,null,null," ",null,1,1900]
[null,null,null,null,null,null,null,null," ",null,1,1900]
[null,null,null,null,null,null,null,null," ",null,1,1900]
[null,null,null,null,null,null,null,null," ",null,1,1900]
[null,null,null,null,null,null,null,null," ",null,1,1900]
[null,null,null,null,null,null,null,null," ",null,1,1900]
[null,null,null,null,null,null,null,null," ",null,1,1900]
[null,null,null,null,null,null,null,null," ",null,1,1900]
[null,null,null,null,null,null,null,null," ",null,1,1900]
[null,null,null,null,null,null,null,null," ",null,1,1900]
[null,null,null,null,null,null,null,null," ",null,1,1900]
[null,null,null,null,null,null,null,null," ",null,1,1900]
[null,null,null,null,null,null,null,null," ",null,1,1900]
[null,null,null,null,null,null,null,null," ",null,1,1900]
[null,null,null,null,null,null,null,null," ",null,1,1900]
[null,null,null,null,null,null,null,null," ",null,1,1900]
[null,null,null,null,null,null,null,null," ",null,1,1900]
[null,null,null,null,null,null,null,null," ",null,1,1900]
[null,null,null,null,null,null,null,null," ",null,1,1900]
[null,null,null,null,null,null,null,null," ",null,1,1900]
[null,null,null,null,null,null,null,null," ",null,1,1900]
[null,null,null,null,null,null,null,null," ",null,1,1900]
[null,null,null,null,null,null,null,null," ",null,1,1900]
[null,null,null,null,null,null,null,null," ",null,1,1900]
[null,null,null,null,null,null,null,null," ",null,1,1900]
[null,null,null,null,null,null,null,null," ",null,1,1900]
[null,null,null,null,null,null,null,null," ",null,1,1900]
[null,null,null,null,null,null,null,null," ",null,1,1900]
[null,null,null,null,null,null,null,null," ",null,1,1900]
[null,null,null,null,null,null,null,null," ",null,1,1900]
[null,null,null,null,null,null,null,null," ",null,1,1900]
[null,null,null,null,null,null,null,null," ",null,1,1900]
[null,null,null,null,null,null,null,null," ",null,1,1900]
[null,null,null,null,null,null,null,null," ",null,1,1900]
[null,null,null,null,null,null,null,null," ",null,1,1900]
[null,null,null,null,null,null,null,null," ",null,1,1900]
[null,null,null,null,null,null,null,null," ",null,1,1900]
[null,null,null,null,null,null,null,null," ",null,1,1900]
[null,null,null,null,null,null,null,null," ",null,1,1900]
[null,null,null,null,null,null,null,null," ",null,1,1900]
[null,null,null,null,null,null,null,null," ",null,1,1900]
[null,null,null,null,null,null,null,null," ",null,1,1900]
[null,null,null,null,null,null,null,null," ",null,1,1900]
[null,null,null,null,null,null,null,null," ",null,1,1900]
[null,null,null,null,null,null,null,null," ",null,1,1900]
[null,null,null,null,null,null,null,null," ",null,1,1900]
[null,null,null,null,null,null,null,null," ",null,1,1900]
[null,null,null,null,null,null,null,null," ",null,1,1900]
[null,null,null,null,null,null,null,null," ",null,1,1900]
[null,null,null,null,null,null,null,null," ",null,1,1900]
[null,null,null,null,null,null,null,null," ",null,1,1900]
[null,null,null,null,null,null,null,null," ",null,1,1900]
[null,null,null,null,null,null,null,null," ",null,1,1900]
[null,null,null,null,null,null,null,null," ",null,1,1900]
[null,null,null,null,null,null,null,null," ",null,1,1900]
[null,null,null,null,null,null,null,null," ",null,1,1900]
[null,null,null,null,null,null,null,null," ",null,1,1900]
[null,null,null,null,null,null,null,null," ",null,1,1900]
[null,null,null,null,null,null,null,null," ",null,1,1900]
[null,null,null,null,null,null,null,null," ",null,1,1900]
[null,null,null,null,null,null,null,null," ",null,1,1900]
[null,null,null,null,null,null,null,null," ",null,1,1900]
[null,null,null,null,null,null,null,null," ",null,1,1900]
[null,null,null,null,null,null,null,null," ",null,1,1900]
[null,null,null,null,null,null,null,null," ",null,1,1900]
[null,null,null,null,null,null,null,null," ",null,1,1900]
[null,null,null,null,null,null,null,null," ",null,1,1900]
[null,null,null,null,null,null,null,null," ",null,1,1900]
[null,null,null,null,null,null,null,null," ",null,1,1900]
[null,null,null,null,null,null,null,null," ",null,1,1900]
[null,null,null,null,null,null,null,null," ",null,1,1900]
[null,null,null,null,null,null,null,null," ",null,1,1900]
[null,null,null,null,null,null,null,null," ",null,1,1900]
[null,null,null,null,null,null,null,null," ",null,1,1900]
[null,null,null,null,null,null,null,null," ",null,1,1900]
[null,null,null,null,null,null,null,null," ",null,1,1900]
[null,null,null,null,null,null,null,null," ",null,1,1900]
[null,null,null,null,null,null,null,null," ",null,1,1900]
[null,null,null,null,null,null,null,null," ",null,1,1900]
[null,null,null,null,null,null,null,null," ",null,1,1900]
[null,null,null,null,null,null,null,null," ",null,1,1900]
[null,null,null,null,null,null,null,null," ",null,1,1900]
[null,null,null,null,null,null,null,null," ",null,1,1900]
[null,null,null,null,null,null,null,null," ",null,1,1900]
[null,null,null,null,null,null,null,null," ",null,1,1900]
[null,null,null,null,null,null,null,null," ",null,1,1900]
[null,null,null,null,null,null,null,null," ",null,1,1900]
[null,null,null,null,null,null,null,null," ",null,1,1900]
[null,null,null,null,null,null,null,null," ",null,1,1900]
[null,null,null,null,null,null,null,null," ",null,1,1900]
[null,null,null,null,null,null,null,null," ",null,1,1900]
[null,null,null,null,null,null,null,null," ",null,1,1900]
[null,null,null,null,null,null,null,null," ",null,1,1900]
[null,null,null,null,null,null,null,null," ",null,1,1900]
[null,null,null,null,null,null,null,null," ",null,1,1900]
[null,null,null,null,null,null,null,null," ",null,1,1900]
[null,null,null,null,null,null,null,null," ",null,1,1900]
[null,null,null,null,null,null,null,null," ",null,1,1900]
[null,null,null,null,null,null,null,null," ",null,1,1900]
[null,null,null,null,null,null,null,null," ",null,1,1900]
[null,null,null,null,null,null,null,null," ",null,1,1900]
[null,null,null,null,null,null,null,null," ",null,1,1900]
[null,null,null,null,null,null,null,null," ",null,1,1900]
[null,null,null,null,null,null,null,null," ",null,1,1900]
[null,null,null,null,null,null,null,null," ",null,1,1900]
[null,null,null,null,null,null,null,null," ",null,1,1900]
[null,null,null,null,null,null,null,null," ",null,1,1900]
[null,null,null,null,null,null,null,null," ",null,1,1900]
[null,null,null,null,null,null,null,null," ",null,1,1900]
[null,null,null,null,null,null,null,null," ",null,1,1900]
[null,null,null,null,null,null,null,null," ",null,1,1900]
[null,null,null,null,null,null,null,null," ",null,1,1900]
[null,null,null,null,null,null,null,null," ",null,1,1900]
[null,null,null,null,null,null,null,null," ",null,1,1900]
[null,null,null,null,null,null,null,null," ",null,1,1900]
[null,null,null,null,null,null,null,null," ",null,1,1900]
[null,null,null,null,null,null,null,null," ",null,1,1900]
[null,null,null,null,null,null,null,null," ",null,1,1900]
[null,null,null,null,null,null,null,null," ",null,1,1900]
[null,null,null,null,null,null,null,null," ",null,1,1900]
[null,null,null,null,null,null,null,null," ",null,1,1900]
[null,null,null,null,null,null,null,null," ",null,1,1900]
[null,null,null,null,null,null,null,null," ",null,1,1900]
[null,null,null,null,null,null,null,null," ",null,1,1900]
[null,null,null,null,null,null,null,null," ",null,1,1900]
[null,null,null,null,null,null,null,null," ",null,1,1900]
[null,null,null,null,null,null,null,null," ",null,1,1900]
[null,null,null,null,null,null,null,null," ",null,1,1900]
[null,null,null,null,null,null,null,null," ",null,1,1900]
[null,null,null,null,null,null,null,null," ",null,1,1900]
[null,null,null,null,null,null,null,null," ",null,1,1900]
[null,null,null,null,null,null,null,null," ",null,1,1900]
[null,null,null,null,null,null,null,null," ",null,1,1900]
[null,null,null,null,null,null,null,null," ",null,1,1900]
[null,null,null,null,null,null,null,null," ",null,1,1900]
[null,null,null,null,null,null,null,null," ",null,1,1900]
[null,null,null,null,null,null,null,null," ",null,1,1900]
[null,null,null,null,null,null,null,null," ",null,1,1900]
[null,null,null,null,null,null,null,null," ",null,1,1900]
[null,null,null,null,null,null,null,null," ",null,1,1900]
[null,null,null,null,null,null,null,null," ",null,1,1900]
[null,null,null,null,null,null,null,null," ",null,1,1900]
[null,null,null,null,null,null,null,null," ",null,1,1900]
[null,null,null,null,null,null,null,null," ",null,1,1900]
[null,null,null,null,null,null,null,null," ",null,1,1900]
[null,null,null,null,null,null,null,null," ",null,1,1900]
[null,null,null,null,null,null,null,null," ",null,1,1900]
[null,null,null,null,null,null,null,null," ",null,1,1900]
[null,null,null,null,null,null,null,null," ",null,1,1900]
[null,null,null,null,null,null,null,null," ",null,1,1900]
[null,null,null,null,null,null,null,null," ",null,1,1900]
[null,null,null,null,null,null,null,null," ",null,1,1900]
[null,null,null,null,null,null,null,null," ",null,1,1900]
[null,null,null,null,null,null,null,null," ",null,1,1900]
[null,null,null,null,null,null,null,null," ",null,1,1900]
[null,null,null,null,null,null,null,null," ",null,1,1900]
[null,null,null,null,null,null,null,null," ",null,1,1900]
[null,null,null,null,null,null,null,null," ",null,1,1900]
[null,null,null,null,null,null,null,null," ",null,1,1900]
[null,null,null,null,null,null,null,null," ",null,1,1900]
[null,null,null,null,null,null,null,null," ",null,1,1900]
[null,null,null,null,null,null,null,null," ",null,1,1900]
[null,null,null,null,null,null,null,null," ",null,1,1900]
[null,null,null,null,null,null,null,null," ",null,1,1900]
[null,null,null,null,null,null,null,null," ",null,1,1900]
[null,null,null,null,null,null,null,null," ",null,1,1900]
[null,null,null,null,null,null,null,null," ",null,1,1900]
[null,null,null,null,null,null,null,null," ",null,1,1900]
[null,null,null,null,null,null,null,null," ",null,1,1900]
[null,null,null,null,null,null,null,null," ",null,1,1900]
[null,null,null,null,null,null,null,null," ",null,1,1900]
[null,null,null,null,null,null,null,null," ",null,1,1900]
[null,null,null,null,null,null,null,null," ",null,1,1900]
[null,null,null,null,null,null,null,null," ",null,1,1900]
[null,null,null,null,null,null,null,null," ",null,1,1900]
[null,null,null,null,null,null,null,null," ",null,1,1900]
[null,null,null,null,null,null,null,null," ",null,1,1900]
[null,null,null,null,null,null,null,null," ",null,1,1900]
[null,null,null,null,null,null,null,null," ",null,1,1900]
[null,null,null,null,null,null,null,null," ",null,1,1900]
[null,null,null,null,null,null,null,null," ",null,1,1900]
[null,null,null,null,null,null,null,null," ",null,1,1900]
[null,null,null,null,null,null,null,null," ",null,1,1900]
[null,null,null,null,null,null,null,null," ",null,1,1900]
[null,null,null,null,null,null,null,null," ",null,1,1900]
[null,null,null,null,null,null,null,null," ",null,1,1900]
[null,null,null,null,null,null,null,null," ",null,1,1900]
[null,null,null,null,null,null,null,null," ",null,1,1900]
[null,null,null,null,null,null,null,null," ",null,1,1900]
[null,null,null,null,null,null,null,null," ",null,1,1900]
[null,null,null,null,null,null,null,null," ",null,1,1900]
[null,null,null,null,null,null,null,null," ",null,1,1900]
[null,null,null,null,null,null,null,null," ",null,1,1900]
[null,null,null,null,null,null,null,null," ",null,1,1900]
[null,null,null,null,null,null,null,null," ",null,1,1900]
[null,null,null,null,null,null,null,null," ",null,1,1900]
[null,null,null,null,null,null,null,null," ",null,1,1900]
[null,null,null,null,null,null,null,null," ",null,1,1900]
[null,null,null,null,null,null,null,null," ",null,1,1900]
[null,null,null,null,null,null,null,null," ",null,1,1900]
[null,null,null,null,null,null,null,null," ",null,1,1900]
[null,null,null,null,null,null,null,null," ",null,1,1900]
[null,null,null,null,null,null,null,null," ",null,1,1900]
[null,null,null,null,null,null,null,null," ",null,1,1900]
[null,null,null,null,null,null,null,null," ",null,1,1900]
[null,null,null,null,null,null,null,null," ",null,1,1900]
[null,null,null,null,null,null,null,null," ",null,1,1900]
[null,null,null,null,null,null,null,null," ",null,1,1900]
[null,null,null,null,null,null,null,null," ",null,1,1900]
[null,null,null,null,null,null,null,null," ",null,1,1900]
[null,null,null,null,null,null,null,null," ",null,1,1900]
[null,null,null,null,null,null,null,null," ",null,1,1900]
[null,null,null,null,null,null,null,null," ",null,1,1900]
[null,null,null,null,null,null,null,null," ",null,1,1900]
[null,null,null,null,null,null,null,null," ",null,1,1900]
[null,null,null,null,null,null,null,null," ",null,1,1900]
[null,null,null,null,null,null,null,null," ",null,1,1900]
[null,null,null,null,null,null,null,null," ",null,1,1900]
[null,null,null,null,null,null,null,null," ",null,1,1900]
[null,null,null,null,null,null,null,null," ",null,1,1900]
[null,null,null,null,null,null,null,null," ",null,1,1900]
[null,null,null,null,null,null,null,null," ",null,1,1900]
[null,null,null,null,null,null,null,null," ",null,1,1900]
[null,null,null,null,null,null,null,null," ",null,1,1900]
[null,null,null,null,null,null,null,null," ",null,1,1900]
[null,null,null,null,null,null,null,null," ",null,1,1900]
[null,null,null,null,null,null,null,null," ",null,1,1900]
[null,null,null,null,null,null,null,null," ",null,1,1900]
[null,null,null,null,null,null,null,null," ",null,1,1900]
[null,null,null,null,null,null,null,null," ",null,1,1900]
[null,null,null,null,null,null,null,null," ",null,1,1900]
[null,null,null,null,null,null,null,null," ",null,1,1900]
[null,null,null,null,null,null,null,null," ",null,1,1900]
[null,null,null,null,null,null,null,null," ",null,1,1900]
[null,null,null,null,null,null,null,null," ",null,1,1900]
[null,null,null,null,null,null,null,null," ",null,1,1900]
[null,null,null,null,null,null,null,null," ",null,1,1900]
[null,null,null,null,null,null,null,null," ",null,1,1900]
[null,null,null,null,null,null,null,null," ",null,1,1900]
[null,null,null,null,null,null,null,null," ",null,1,1900]
[null,null,null,null,null,null,null,null," ",null,1,1900]
[null,null,null,null,null,null,null,null," ",null,1,1900]
[null,null,null,null,null,null,null,null," ",null,1,1900]
[null,null,null,null,null,null,null,null," ",null,1,1900]
[null,null,null,null,null,null,null,null," ",null,1,1900]
[null,null,null,null,null,null,null,null," ",null,1,1900]
[null,null,null,null,null,null,null,null," ",null,1,1900]
[null,null,null,null,null,null,null,null," ",null,1,1900]
[null,null,null,null,null,null,null,null," ",null,1,1900]
[null,null,null,null,null,null,null,null," ",null,1,1900]
[null,null,null,null,null,null,null,null," ",null,1,1900]
[null,null,null,null,null,null,null,null," ",null,1,1900]
[null,null,null,null,null,null,null,null," ",null,1,1900]
[null,null,null,null,null,null,null,null," ",null,1,1900]
[null,null,null,null,null,null,null,null," ",null,1,1900]
[null,null,null,null,null,null,null,null," ",null,1,1900]
[null,null,null,null,null,null,null,null," ",null,1,1900]
[null,null,null,null,null,null,null,null," ",null,1,1900]
[null,null,null,null,null,null,null,null," ",null,1,1900]
[null,null,null,null,null,null,null,null," ",null,1,1900]
[null,null,null,null,null,null,null,null," ",null,1,1900]
[null,null,null,null,null,null,null,null," ",null,1,1900]
[null,null,null,null,null,null,null,null," ",null,1,1900]
[null,null,null,null,null,null,null,null," ",null,1,1900]
[null,null,null,null,null,null,null,null," ",null,1,1900]
[null,null,null,null,null,null,null,null," ",null,1,1900]
[null,null,null,null,null,null,null,null," ",null,1,1900]
[null,null,null,null,null,null,null,null," ",null,1,1900]
[null,null,null,null,null,null,null,null," ",null,1,1900]
[null,null,null,null,null,null,null,null," ",null,1,1900]
[null,null,null,null,null,null,null,null," ",null,1,1900]
[null,null,null,null,null,null,null,null," ",null,1,1900]
[null,null,null,null,null,null,null,null," ",null,1,1900]
[null,null,null,null,null,null,null,null," ",null,1,1900]
[null,null,null,null,null,null,null,null," ",null,1,1900]
[null,null,null,null,null,null,null,null," ",null,1,1900]
[null,null,null,null,null,null,null,null," ",null,1,1900]
[null,null,null,null,null,null,null,null," ",null,1,1900]
[null,null,null,null,null,null,null,null," ",null,1,1900]
[null,null,null,null,null,null,null,null," ",null,1,1900]
[null,null,null,null,null,null,null,null," ",null,1,1900]
[null,null,null,null,null,null,null,null," ",null,1,1900]
[null,null,null,null,null,null,null,null," ",null,1,1900]
[null,null,null,null,null,null,null,null," ",null,1,1900]
[null,null,null,null,null,null,null,null," ",null,1,1900]
[null,null,null,null,null,null,null,null," ",null,1,1900]
[null,null,null,null,null,null,null,null," ",null,1,1900]
[null,null,null,null,null,null,null,null," ",null,1,1900]
[null,null,null,null,null,null,null,null," ",null,1,1900]
[null,null,null,null,null,null,null,null," ",null,1,1900]
[null,null,null,null,null,null,null,null," ",null,1,1900]
[null,null,null,null,null,null,null,null," ",null,1,1900]
[null,null,null,null,null,null,null,null," ",null,1,1900]
[null,null,null,null,null,null,null,null," ",null,1,1900]
[null,null,null,null,null,null,null,null," ",null,1,1900]
[null,null,null,null,null,null,null,null,{"$f":"+IF(H37944=H37943,\" \",H37944)","v":" "},null,{"$f":"+MONTH(A37944)","v":1},{"$f":"+YEAR(A37944)","v":1900}]
[null,null,null,null,null,null,null,null," ",null,1,1900]
[null,null,null,null,null,null,null,null," ",null,1,1900]
[null,null,null,null,null,null,null,null," ",null,1,1900]
[null,null,null,null,null,null,null,null," ",null,1,1900]
[null,null,null,null,null,null,null,null," ",null,1,1900]
[null,null,null,null,null,null,null,null," ",null,1,1900]
[null,null,null,null,null,null,null,null," ",null,1,1900]
[null,null,null,null,null,null,null,null," ",null,1,1900]
[null,null,null,null,null,null,null,null," ",null,1,1900]
[null,null,null,null,null,null,null,null," ",null,1,1900]
[null,null,null,null,null,null,null,null," ",null,1,1900]
[null,null,null,null,null,null,null,null," ",null,1,1900]
[null,null,null,null,null,null,null,null," ",null,1,1900]
[null,null,null,null,null,null,null,null," ",null,1,1900]
[null,null,null,null,null,null,null,null," ",null,1,1900]
[null,null,null,null,null,null,null,null," ",null,1,1900]
[null,null,null,null,null,null,null,null," ",null,1,1900]
[null,null,null,null,null,null,null,null," ",null,1,1900]
[null,null,null,null,null,null,null,null," ",null,1,1900]
[null,null,null,null,null,null,null,null," ",null,1,1900]
[null,null,null,null,null,null,null,null," ",null,1,1900]
[null,null,null,null,null,null,null,null," ",null,1,1900]
[null,null,null,null,null,null,null,null," ",null,1,1900]
[null,null,null,null,null,null,null,null," ",null,1,1900]
[null,null,null,null,null,null,null,null," ",null,1,1900]
[null,null,null,null,null,null,null,null," ",null,1,1900]
[null,null,null,null,null,null,null,null," ",null,1,1900]
[null,null,null,null,null,null,null,null," ",null,1,1900]
[null,null,null,null,null,null,null,null," ",null,1,1900]
[null,null,null,null,null,null,null,null," ",null,1,1900]
[null,null,null,null,null,null,null,null," ",null,1,1900]
[null,null,null,null,null,null,null,null," ",null,1,1900]
[null,null,null,null,null,null,null,null," ",null,1,1900]
[null,null,null,null,null,null,null,null," ",null,1,1900]
[null,null,null,null,null,null,null,null," ",null,1,1900]
[null,null,null,null,null,null,null,null," ",null,1,1900]
[null,null,null,null,null,null,null,null," ",null,1,1900]
[null,null,null,null,null,null,null,null," ",null,1,1900]
[null,null,null,null,null,null,null,null," ",null,1,1900]
[null,null,null,null,null,null,null,null," ",null,1,1900]
[null,null,null,null,null,null,null,null," ",null,1,1900]
[null,null,null,null,null,null,null,null," ",null,1,1900]
[null,null,null,null,null,null,null,null," ",null,1,1900]
[null,null,null,null,null,null,null,null," ",null,1,1900]
[null,null,null,null,null,null,null,null," ",null,1,1900]
[null,null,null,null,null,null,null,null," ",null,1,1900]
[null,null,null,null,null,null,null,null," ",null,1,1900]
[null,null,null,null,null,null,null,null," ",null,1,1900]
[null,null,null,null,null,null,null,null," ",null,1,1900]
[null,null,null,null,null,null,null,null," ",null,1,1900]
[null,null,null,null,null,null,null,null," ",null,1,1900]
[null,null,null,null,null,null,null,null," ",null,1,1900]
[null,null,null,null,null,null,null,null," ",null,1,1900]
[null,null,null,null,null,null,null,null," ",null,1,1900]
[null,null,null,null,null,null,null,null," ",null,1,1900]
[null,null,null,null,null,null,null,null," ",null,1,1900]
[null,null,null,null,null,null,null,null," ",null,1,1900]
[null,null,null,null,null,null,null,null," ",null,1,1900]
[null,null,null,null,null,null,null,null,{"$f":"+IF(H39800=H39799,\" \",H39800)","v":" "},null,{"$f":"+MONTH(A39800)","v":1},{"$f":"+YEAR(A39800)","v":1900}]
[null,null,null,null,null,null,null,null," ",null,1,1900]
[null,null,null,null,null,null,null,null," ",null,1,1900]
[null,null,null,null,null,null,null,null," ",null,1,1900]
[null,null,null,null,null,null,null,null," ",null,1,1900]
[null,null,null,null,null,null,null,null," ",null,1,1900]
[null,null,null,null,null,null,null,null," ",null,1,1900]
[null,null,null,null,null,null,null,null," ",null,1,1900]
[null,null,null,null,null,null,null,null," ",null,1,1900]
[null,null,null,null,null,null,null,null," ",null,1,1900]
[null,null,null,null,null,null,null,null," ",null,1,1900]
[null,null,null,null,null,null,null,null," ",null,1,1900]
[null,null,null,null,null,null,null,null," ",null,1,1900]
[null,null,null,null,null,null,null,null," ",null,1,1900]
[null,null,null,null,null,null,null,null," ",null,1,1900]
[null,null,null,null,null,null,null,null," ",null,1,1900]
[null,null,null,null,null,null,null,null," ",null,1,1900]
[null,null,null,null,null,null,null,null," ",null,1,1900]
[null,null,null,null,null,null,null,null," ",null,1,1900]
[null,null,null,null,null,null,null,null," ",null,1,1900]
[null,null,null,null,null,null,null,null," ",null,1,1900]
[null,null,null,null,null,null,null,null," ",null,1,1900]
[null,null,null,null,null,null,null,null," ",null,1,1900]
[null,null,null,null,null,null,null,null," ",null,1,1900]
[null,null,null,null,null,null,null,null," ",null,1,1900]
[null,null,null,null,null,null,null,null," ",null,1,1900]
[null,null,null,null,null,null,null,null," ",null,1,1900]
[null,null,null,null,null,null,null,null," ",null,1,1900]
[null,null,null,null,null,null,null,null," ",null,1,1900]
[null,null,null,null,null,null,null,null," ",null,1,1900]
[null,null,null,null,null,null,null,null," ",null,1,1900]
[null,null,null,null,null,null,null,null," ",null,1,1900]
[null,null,null,null,null,null,null,null," ",null,1,1900]
[null,null,null,null,null,null,null,null," ",null,1,1900]
[null,null,null,null,null,null,null,null,{"$f":"+IF(H40888=H40887,\" \",H40888)","v":" "},null,{"$f":"+MONTH(A40888)","v":1},{"$f":"+YEAR(A40888)","v":1900}]
[null,null,null,null,null,null,null,null," ",null,1,1900]
[null,null,null,null,null,null,null,null," ",null,1,1900]
[null,null,null,null,null,null,null,null," ",null,1,1900]
[null,null,null,null,null,null,null,null," ",null,1,1900]
[null,null,null,null,null,null,null,null," ",null,1,1900]
[null,null,null,null,null,null,null,null," ",null,1,1900]
[null,null,null,null,null,null,null,null," ",null,1,1900]
[null,null,null,null,null,null,null,null," ",null,1,1900]
[null,null,null,null,null,null,null,null," ",null,1,1900]
[null,null,null,null,null,null,null,null," ",null,1,1900]
[null,null,null,null,null,null,null,null," ",null,1,1900]
[null,null,null,null,null,null,null,null," ",null,1,1900]
[null,null,null,null,null,null,null,null," ",null,1,1900]
[null,null,null,null,null,null,null,null," ",null,1,1900]
[null,null,null,null,null,null,null,null," ",null,1,1900]
[null,null,null,null,null,null,null,null," ",null,1,1900]
[null,null,null,null,null,null,null,null," ",null,1,1900]
[null,null,null,null,null,null,null,null," ",null,1,1900]
[null,null,null,null,null,null,null,null," ",null,1,1900]
[null,null,null,null,null,null,null,null," ",null,1,1900]
[null,null,null,null,null,null,null,null," ",null,1,1900]
[null,null,null,null,null,null,null,null," ",null,1,1900]
[null,null,null,null,null,null,null,null," ",null,1,1900]
[null,null,null,null,null,null,null,null," ",null,1,1900]
[null,null,null,null,null,null,null,null," ",null,1,1900]
[null,null,null,null,null,null,null,null," ",null,1,1900]
[null,null,null,null,null,null,null,null," ",null,1,1900]
[null,null,null,null,null,null,null,null," ",null,1,1900]
[null,null,null,null,null,null,null,null," ",null,1,1900]
[null,null,null,null,null,null,null,null," ",null,1,1900]
[null,null,null,null,null,null,null,null,{"$f":"+IF(H41848=H41847,\" \",H41848)","v":" "},null,{"$f":"+MONTH(A41848)","v":1},{"$f":"+YEAR(A41848)","v":1900}]
[null,null,null,null,null,null,null,null," ",null,1,1900]
[null,null,null,null,null,null,null,null," ",null,1,1900]
[null,null,null,null,null,null,null,null," ",null,1,1900]
[null,null,null,null,null,null,null,null," ",null,1,1900]
[null,null,null,null,null,null,null,null," ",null,1,1900]
[null,null,null,null,null,null,null,null," ",null,1,1900]
[null,null,null,null,null,null,null,null," ",null,1,1900]
[null,null,null,null,null,null,null,null," ",null,1,1900]
[null,null,null,null,null,null,null,null," ",null,1,1900]
[null,null,null,null,null,null,null,null," ",null,1,1900]
[null,null,null,null,null,null,null,null," ",null,1,1900]
[null,null,null,null,null,null,null,null," ",null,1,1900]
[null,null,null,null,null,null,null,null," ",null,1,1900]
[null,null,null,null,null,null,null,null," ",null,1,1900]
[null,null,null,null,null,null,null,null," ",null,1,1900]
[null,null,null,null,null,null,null,null," ",null,1,1900]
[null,null,null,null,null,null,null,null," ",null,1,1900]
[null,null,null,null,null,null,null,null," ",null,1,1900]
[null,null,null,null,null,null,null,null," ",null,1,1900]
[null,null,null,null,null,null,null,null," ",null,1,1900]
[null,null,null,null,null,null,null,null," ",null,1,1900]
[null,null,null,null,null,null,null,null," ",null,1,1900]
[null,null,null,null,null,null,null,null," ",null,1,1900]
[null,null,null,null,null,null,null,null," ",null,1,1900]
[null,null,null,null,null,null,null,null," ",null,1,1900]
[null,null,null,null,null,null,null,null," ",null,1,1900]
[null,null,null,null,null,null,null,null," ",null,1,1900]
[null,null,null,null,null,null,null,null," ",null,1,1900]
[null,null,null,null,null,null,null,null," ",null,1,1900]
[null,null,null,null,null,null,null,null," ",null,1,1900]
[null,null,null,null,null,null,null,null," ",null,1,1900]
[null,null,null,null,null,null,null,null," ",null,1,1900]
[null,null,null,null,null,null,null,null," ",null,1,1900]
[null,null,null,null,null,null,null,null," ",null,1,1900]
[null,null,null,null,null,null,null,null," ",null,1,1900]
[null,null,null,null,null,null,null,null," ",null,1,1900]
[null,null,null,null,null,null,null,null," ",null,1,1900]
[null,null,null,null,null,null,null,null," ",null,1,1900]
[null,null,null,null,null,null,null,null," ",null,1,1900]
[null,null,null,null,null,null,null,null," ",null,1,1900]
[null,null,null,null,null,null,null,null," ",null,1,1900]
[null,null,null,null,null,null,null,null," ",null,1,1900]
[null,null,null,null,null,null,null,null," ",null,1,1900]
[null,null,null,null,null,null,null,null," ",null,1,1900]
[null,null,null,null,null,null,null,null," ",null,1,1900]
[null,null,null,null,null,null,null,null," ",null,1,1900]
[null,null,null,null,null,null,null,null," ",null,1,1900]
[null,null,null,null,null,null,null,null," ",null,1,1900]
[null,null,null,null,null,null,null,null," ",null,1,1900]
[null,null,null,null,null,null,null,null," ",null,1,1900]
[null,null,null,null,null,null,null,null," ",null,1,1900]
[null,null,null,null,null,null,null,null," ",null,1,1900]
[null,null,null,null,null,null,null,null," ",null,1,1900]
[null,null,null,null,null,null,null,null," ",null,1,1900]
[null,null,null,null,null,null,null,null," ",null,1,1900]
[null,null,null,null,null,null,null,null," ",null,1,1900]
[null,null,null,null,null,null,null,null," ",null,1,1900]
[null,null,null,null,null,null,null,null," ",null,1,1900]
[null,null,null,null,null,null,null,null," ",null,1,1900]
[null,null,null,null,null,null,null,null," ",null,1,1900]
[null,null,null,null,null,null,null,null," ",null,1,1900]
[null,null,null,null,null,null,null,null," ",null,1,1900]
[null,null,null,null,null,null,null,null,{"$f":"+IF(H43832=H43831,\" \",H43832)","v":" "},null,{"$f":"+MONTH(A43832)","v":1},{"$f":"+YEAR(A43832)","v":1900}]
[null,null,null,null,null,null,null,null," ",null,1,1900]
[null,null,null,null,null,null,null,null," ",null,1,1900]
[null,null,null,null,null,null,null,null," ",null,1,1900]
[null,null,null,null,null,null,null,null," ",null,1,1900]
[null,null,null,null,null,null,null,null," ",null,1,1900]
[null,null,null,null,null,null,null,null," ",null,1,1900]
[null,null,null,null,null,null,null,null," ",null,1,1900]
[null,null,null,null,null,null,null,null," ",null,1,1900]
[null,null,null,null,null,null,null,null," ",null,1,1900]
[null,null,null,null,null,null,null,null," ",null,1,1900]
[null,null,null,null,null,null,null,null," ",null,1,1900]
[null,null,null,null,null,null,null,null," ",null,1,1900]
[null,null,null,null,null,null,null,null," ",null,1,1900]
[null,null,null,null,null,null,null,null," ",null,1,1900]
[null,null,null,null,null,null,null,null," ",null,1,1900]
[null,null,null,null,null,null,null,null," ",null,1,1900]
[null,null,null,null,null,null,null,null," ",null,1,1900]
[null,null,null,null,null,null,null,null," ",null,1,1900]
[null,null,null,null,null,null,null,null," ",null,1,1900]
[null,null,null,null,null,null,null,null," ",null,1,1900]
[null,null,null,null,null,null,null,null," ",null,1,1900]
[null,null,null,null,null,null,null,null," ",null,1,1900]
[null,null,null,null,null,null,null,null," ",null,1,1900]
[null,null,null,null,null,null,null,null," ",null,1,1900]
[null,null,null,null,null,null,null,null," ",null,1,1900]
[null,null,null,null,null,null,null,null," ",null,1,1900]
[null,null,null,null,null,null,null,null," ",null,1,1900]
[null,null,null,null,null,null,null,null," ",null,1,1900]
[null,null,null,null,null,null,null,null," ",null,1,1900]
[null,null,null,null,null,null,null,null,{"$f":"+IF(H44792=H44791,\" \",H44792)","v":" "},null,{"$f":"+MONTH(A44792)","v":1},{"$f":"+YEAR(A44792)","v":1900}]
[null,null,null,null,null,null,null,null," ",null,1,1900]
[null,null,null,null,null,null,null,null," ",null,1,1900]
[null,null,null,null,null,null,null,null," ",null,1,1900]
[null,null,null,null,null,null,null,null," ",null,1,1900]
[null,null,null,null,null,null,null,null," ",null,1,1900]
[null,null,null,null,null,null,null,null," ",null,1,1900]
[null,null,null,null,null,null,null,null," ",null,1,1900]
[null,null,null,null,null,null,null,null," ",null,1,1900]
[null,null,null,null,null,null,null,null," ",null,1,1900]
[null,null,null,null,null,null,null,null," ",null,1,1900]
[null,null,null,null,null,null,null,null," ",null,1,1900]
[null,null,null,null,null,null,null,null," ",null,1,1900]
[null,null,null,null,null,null,null,null," ",null,1,1900]
[null,null,null,null,null,null,null,null," ",null,1,1900]
[null,null,null,null,null,null,null,null," ",null,1,1900]
[null,null,null,null,null,null,null,null," ",null,1,1900]
[null,null,null,null,null,null,null,null," ",null,1,1900]
[null,null,null,null,null,null,null,null," ",null,1,1900]
[null,null,null,null,null,null,null,null," ",null,1,1900]
[null,null,null,null,null,null,null,null," ",null,1,1900]
[null,null,null,null,null,null,null,null," ",null,1,1900]
[null,null,null,null,null,null,null,null," ",null,1,1900]
[null,null,null,null,null,null,null,null," ",null,1,1900]
[null,null,null,null,null,null,null,null," ",null,1,1900]
[null,null,null,null,null,null,null,null," ",null,1,1900]
[null,null,null,null,null,null,null,null," ",null,1,1900]
[null,null,null,null,null,null,null,null," ",null,1,1900]
[null,null,null,null,null,null,null,null," ",null,1,1900]
[null,null,null,null,null,null,null,null," ",null,1,1900]
[null,null,null,null,null,null,null,null," ",null,1,1900]
[null,null,null,null,null,null,null,null,{"$f":"+IF(H45752=H45751,\" \",H45752)","v":" "},null,{"$f":"+MONTH(A45752)","v":1},{"$f":"+YEAR(A45752)","v":1900}]
[null,null,null,null,null,null,null,null," ",null,1,1900]
[null,null,null,null,null,null,null,null," ",null,1,1900]
[null,null,null,null,null,null,null,null," ",null,1,1900]
[null,null,null,null,null,null,null,null," ",null,1,1900]
[null,null,null,null,null,null,null,null," ",null,1,1900]
[null,null,null,null,null,null,null,null," ",null,1,1900]
[null,null,null,null,null,null,null,null," ",null,1,1900]
[null,null,null,null,null,null,null,null," ",null,1,1900]
[null,null,null,null,null,null,null,null," ",null,1,1900]
[null,null,null,null,null,null,null,null," ",null,1,1900]
[null,null,null,null,null,null,null,null," ",null,1,1900]
[null,null,null,null,null,null,null,null," ",null,1,1900]
[null,null,null,null,null,null,null,null," ",null,1,1900]
[null,null,null,null,null,null,null,null," ",null,1,1900]
[null,null,null,null,null,null,null,null," ",null,1,1900]
[null,null,null,null,null,null,null,null," ",null,1,1900]
[null,null,null,null,null,null,null,null," ",null,1,1900]
[null,null,null,null,null,null,null,null," ",null,1,1900]
[null,null,null,null,null,null,null,null," ",null,1,1900]
[null,null,null,null,null,null,null,null," ",null,1,1900]
[null,null,null,null,null,null,null,null," ",null,1,1900]
[null,null,null,null,null,null,null,null," ",null,1,1900]
[null,null,null,null,null,null,null,null," ",null,1,1900]
[null,null,null,null,null,null,null,null," ",null,1,1900]
[null,null,null,null,null,null,null,null," ",null,1,1900]
[null,null,null,null,null,null,null,null," ",null,1,1900]
[null,null,null,null,null,null,null,null," ",null,1,1900]
[null,null,null,null,null,null,null,null," ",null,1,1900]
[null,null,null,null,null,null,null,null," ",null,1,1900]
[null,null,null,null,null,null,null,null," ",null,1,1900]
[null,null,null,null,null,null,null,null," ",null,1,1900]
[null,null,null,null,null,null,null,null," ",null,1,1900]
[null,null,null,null,null,null,null,null," ",null,1,1900]
[null,null,null,null,null,null,null,null," ",null,1,1900]
[null,null,null,null,null,null,null,null," ",null,1,1900]
[null,null,null,null,null,null,null,null," ",null,1,1900]
[null,null,null,null,null,null,null,null," ",null,1,1900]
[null,null,null,null,null,null,null,null," ",null,1,1900]
[null,null,null,null,null,null,null,null," ",null,1,1900]
[null,null,null,null,null,null,null,null," ",null,1,1900]
[null,null,null,null,null,null,null,null," ",null,1,1900]
[null,null,null,null,null,null,null,null," ",null,1,1900]
[null,null,null,null,null,null,null,null," ",null,1,1900]
[null,null,null,null,null,null,null,null," ",null,1,1900]
[null,null,null,null,null,null,null,null," ",null,1,1900]
[null,null,null,null,null,null,null,null," ",null,1,1900]
[null,null,null,null,null,null,null,null," ",null,1,1900]
[null,null,null,null,null,null,null,null," ",null,1,1900]
[null,null,null,null,null,null,null,null," ",null,1,1900]
[null,null,null,null,null,null,null,null," ",null,1,1900]
[null,null,null,null,null,null,null,null," ",null,1,1900]
[null,null,null,null,null,null,null,null," ",null,1,1900]
[null,null,null,null,null,null,null,null," ",null,1,1900]
[null,null,null,null,null,null,null,null," ",null,1,1900]
[null,null,null,null,null,null,null,null," ",null,1,1900]
[null,null,null,null,null,null,null,null," ",null,1,1900]
[null,null,null,null,null,null,null,null," ",null,1,1900]
[null,null,null,null,null,null,null,null," ",null,1,1900]
[null,null,null,null,null,null,null,null," ",null,1,1900]
[null,null,null,null,null,null,null,null," ",null,1,1900]
[null,null,null,null,null,null,null,null," ",null,1,1900]
[null,null,null,null,null,null,null,null," ",null,1,1900]
[null,null,null,null,null,null,null,null," ",null,1,1900]
[null,null,null,null,null,null,null,null," ",null,1,1900]
[null,null,null,null,null,null,null,null," ",null,1,1900]
[null,null,null,null,null,null,null,null," ",null,1,1900]
[null,null,null,null,null,null,null,null," ",null,1,1900]
[null,null,null,null,null,null,null,null," ",null,1,1900]
[null,null,null,null,null,null,null,null," ",null,1,1900]
[null,null,null,null,null,null,null,null," ",null,1,1900]
[null,null,null,null,null,null,null,null," ",null,1,1900]
[null,null,null,null,null,null,null,null," ",null,1,1900]
[null,null,null,null,null,null,null,null," ",null,1,1900]
[null,null,null,null,null,null,null,null," ",null,1,1900]
[null,null,null,null,null,null,null,null," ",null,1,1900]
[null,null,null,null,null,null,null,null," ",null,1,1900]
[null,null,null,null,null,null,null,null," ",null,1,1900]
[null,null,null,null,null,null,null,null," ",null,1,1900]
[null,null,null,null,null,null,null,null," ",null,1,1900]
[null,null,null,null,null,null,null,null," ",null,1,1900]
[null,null,null,null,null,null,null,null," ",null,1,1900]
[null,null,null,null,null,null,null,null," ",null,1,1900]
[null,null,null,null,null,null,null,null," ",null,1,1900]
[null,null,null,null,null,null,null,null," ",null,1,1900]
[null,null,null,null,null,null,null,null," ",null,1,1900]
[null,null,null,null,null,null,null,null," ",null,1,1900]
[null,null,null,null,null,null,null,null," ",null,1,1900]
[null,null,null,null,null,null,null,null," ",null,1,1900]
[null,null,null,null,null,null,null,null," ",null,1,1900]
[null,null,null,null,null,null,null,null," ",null,1,1900]
[null,null,null,null,null,null,null,null," ",null,1,1900]
[null,null,null,null,null,null,null,null," ",null,1,1900]
[null,null,null,null,null,null,null,null," ",null,1,1900]
[null,null,null,null,null,null,null,null," ",null,1,1900]
[null,null,null,null,null,null,null,null," ",null,1,1900]
[null,null,null,null,null,null,null,null," ",null,1,1900]
[null,null,null,null,null,null,null,null," ",null,1,1900]
[null,null,null,null,null,null,null,null," ",null,1,1900]
[null,null,null,null,null,null,null,null," ",null,1,1900]
[null,null,null,null,null,null,null,null," ",null,1,1900]
[null,null,null,null,null,null,null,null," ",null,1,1900]
[null,null,null,null,null,null,null,null," ",null,1,1900]
[null,null,null,null,null,null,null,null," ",null,1,1900]
[null,null,null,null,null,null,null,null," ",null,1,1900]
[null,null,null,null,null,null,null,null," ",null,1,1900]
[null,null,null,null,null,null,null,null," ",null,1,1900]
[null,null,null,null,null,null,null,null," ",null,1,1900]
[null,null,null,null,null,null,null,null," ",null,1,1900]
[null,null,null,null,null,null,null,null," ",null,1,1900]
[null,null,null,null,null,null,null,null," ",null,1,1900]
[null,null,null,null,null,null,null,null," ",null,1,1900]
[null,null,null,null,null,null,null,null," ",null,1,1900]
[null,null,null,null,null,null,null,null," ",null,1,1900]
[null,null,null,null,null,null,null,null," ",null,1,1900]
[null,null,null,null,null,null,null,null," ",null,1,1900]
[null,null,null,null,null,null,null,null," ",null,1,1900]
[null,null,null,null,null,null,null,null," ",null,1,1900]
[null,null,null,null,null,null,null,null," ",null,1,1900]
[null,null,null,null,null,null,null,null," ",null,1,1900]
[null,null,null,null,null,null,null,null," ",null,1,1900]
[null,null,null,null,null,null,null,null," ",null,1,1900]
[null,null,null,null,null,null,null,null," ",null,1,1900]
[null,null,null,null,null,null,null,null," ",null,1,1900]
[null,null,null,null,null,null,null,null," ",null,1,1900]
[null,null,null,null,null,null,null,null," ",null,1,1900]
[null,null,null,null,null,null,null,null," ",null,1,1900]
[null,null,null,null,null,null,null,null," ",null,1,1900]
[null,null,null,null,null,null,null,null," ",null,1,1900]
[null,null,null,null,null,null,null,null," ",null,1,1900]
[null,null,null,null,null,null,null,null," ",null,1,1900]
[null,null,null,null,null,null,null,null," ",null,1,1900]
[null,null,null,null,null,null,null,null," ",null,1,1900]
[null,null,null,null,null,null,null,null," ",null,1,1900]
[null,null,null,null,null,null,null,null," ",null,1,1900]
[null,null,null,null,null,null,null,null," ",null,1,1900]
[null,null,null,null,null,null,null,null," ",null,1,1900]
[null,null,null,null,null,null,null,null," ",null,1,1900]
[null,null,null,null,null,null,null,null," ",null,1,1900]
[null,null,null,null,null,null,null,null," ",null,1,1900]
[null,null,null,null,null,null,null,null," ",null,1,1900]
[null,null,null,null,null,null,null,null," ",null,1,1900]
[null,null,null,null,null,null,null,null," ",null,1,1900]
[null,null,null,null,null,null,null,null," ",null,1,1900]
[null,null,null,null,null,null,null,null," ",null,1,1900]
[null,null,null,null,null,null,null,null," ",null,1,1900]
[null,null,null,null,null,null,null,null," ",null,1,1900]
[null,null,null,null,null,null,null,null," ",null,1,1900]
[null,null,null,null,null,null,null,null," ",null,1,1900]
[null,null,null,null,null,null,null,null," ",null,1,1900]
[null,null,null,null,null,null,null,null," ",null,1,1900]
[null,null,null,null,null,null,null,null," ",null,1,1900]
[null,null,null,null,null,null,null,null," ",null,1,1900]
[null,null,null,null,null,null,null,null," ",null,1,1900]
[null,null,null,null,null,null,null,null," ",null,1,1900]
[null,null,null,null,null,null,null,null," ",null,1,1900]
[null,null,null,null,null,null,null,null," ",null,1,1900]
[null,null,null,null,null,null,null,null," ",null,1,1900]
[null,null,null,null,null,null,null,null," ",null,1,1900]
[null,null,null,null,null,null,null,null," ",null,1,1900]
[null,null,null,null,null,null,null,null," ",null,1,1900]
[null,null,null,null,null,null,null,null," ",null,1,1900]
[null,null,null,null,null,null,null,null," ",null,1,1900]
[null,null,null,null,null,null,null,null," ",null,1,1900]
[null,null,null,null,null,null,null,null," ",null,1,1900]
[null,null,null,null,null,null,null,null," ",null,1,1900]
[null,null,null,null,null,null,null,null," ",null,1,1900]
[null,null,null,null,null,null,null,null," ",null,1,1900]
[null,null,null,null,null,null,null,null," ",null,1,1900]
[null,null,null,null,null,null,null,null," ",null,1,1900]
[null,null,null,null,null,null,null,null," ",null,1,1900]
[null,null,null,null,null,null,null,null," ",null,1,1900]
[null,null,null,null,null,null,null,null," ",null,1,1900]
[null,null,null,null,null,null,null,null," ",null,1,1900]
[null,null,null,null,null,null,null,null," ",null,1,1900]
[null,null,null,null,null,null,null,null," ",null,1,1900]
[null,null,null,null,null,null,null,null," ",null,1,1900]
[null,null,null,null,null,null,null,null," ",null,1,1900]
[null,null,null,null,null,null,null,null," ",null,1,1900]
[null,null,null,null,null,null,null,null," ",null,1,1900]
[null,null,null,null,null,null,null,null," ",null,1,1900]
[null,null,null,null,null,null,null,null," ",null,1,1900]
[null,null,null,null,null,null,null,null," ",null,1,1900]
[null,null,null,null,null,null,null,null," ",null,1,1900]
[null,null,null,null,null,null,null,null," ",null,1,1900]
[null,null,null,null,null,null,null,null," ",null,1,1900]
[null,null,null,null,null,null,null,null," ",null,1,1900]
[null,null,null,null,null,null,null,null," ",null,1,1900]
[null,null,null,null,null,null,null,null," ",null,1,1900]
[null,null,null,null,null,null,null,null," ",null,1,1900]
[null,null,null,null,null,null,null,null," ",null,1,1900]
[null,null,null,null,null,null,null,null," ",null,1,1900]
[null,null,null,null,null,null,null,null," ",null,1,1900]
[null,null,null,null,null,null,null,null," ",null,1,1900]
[null,null,null,null,null,null,null,null," ",null,1,1900]
[null,null,null,null,null,null,null,null," ",null,1,1900]
[null,null,null,null,null,null,null,null," ",null,1,1900]
[null,null,null,null,null,null,null,null," ",null,1,1900]
[null,null,null,null,null,null,null,null," ",null,1,1900]
[null,null,null,null,null,null,null,null," ",null,1,1900]
[null,null,null,null,null,null,null,null," ",null,1,1900]
[null,null,null,null,null,null,null,null," ",null,1,1900]
[null,null,null,null,null,null,null,null," ",null,1,1900]
[null,null,null,null,null,null,null,null," ",null,1,1900]
[null,null,null,null,null,null,null,null," ",null,1,1900]
[null,null,null,null,null,null,null,null," ",null,1,1900]
[null,null,null,null,null,null,null,null," ",null,1,1900]
[null,null,null,null,null,null,null,null," ",null,1,1900]
[null,null,null,null,null,null,null,null," ",null,1,1900]
[null,null,null,null,null,null,null,null," ",null,1,1900]
[null,null,null,null,null,null,null,null," ",null,1,1900]
[null,null,null,null,null,null,null,null,{"$f":"+IF(H52408=H52407,\" \",H52408)","v":" "},null,{"$f":"+MONTH(A52408)","v":1},{"$f":"+YEAR(A52408)","v":1900}]
[null,null,null,null,null,null,null,null," ",null,1,1900]
[null,null,null,null,null,null,null,null," ",null,1,1900]
[null,null,null,null,null,null,null,null," ",null,1,1900]
[null,null,null,null,null,null,null,null," ",null,1,1900]
[null,null,null,null,null,null,null,null," ",null,1,1900]
[null,null,null,null,null,null,null,null," ",null,1,1900]
[null,null,null,null,null,null,null,null," ",null,1,1900]
[null,null,null,null,null,null,null,null," ",null,1,1900]
[null,null,null,null,null,null,null,null," ",null,1,1900]
[null,null,null,null,null,null,null,null," ",null,1,1900]
[null,null,null,null,null,null,null,null," ",null,1,1900]
[null,null,null,null,null,null,null,null," ",null,1,1900]
[null,null,null,null,null,null,null,null," ",null,1,1900]
[null,null,null,null,null,null,null,null," ",null,1,1900]
[null,null,null,null,null,null,null,null," ",null,1,1900]
[null,null,null,null,null,null,null,null," ",null,1,1900]
[null,null,null,null,null,null,null,null," ",null,1,1900]
[null,null,null,null,null,null,null,null," ",null,1,1900]
[null,null,null,null,null,null,null,null," ",null,1,1900]
[null,null,null,null,null,null,null,null," ",null,1,1900]
[null,null,null,null,null,null,null,null," ",null,1,1900]
[null,null,null,null,null,null,null,null," ",null,1,1900]
[null,null,null,null,null,null,null,null," ",null,1,1900]
[null,null,null,null,null,null,null,null," ",null,1,1900]
[null,null,null,null,null,null,null,null," ",null,1,1900]
[null,null,null,null,null,null,null,null," ",null,1,1900]
[null,null,null,null,null,null,null,null," ",null,1,1900]
[null,null,null,null,null,null,null,null," ",null,1,1900]
[null,null,null,null,null,null,null,null," ",null,1,1900]
[null,null,null,null,null,null,null,null," ",null,1,1900]
[null,null,null,null,null,null,null,null," ",null,1,1900]
[null,null,null,null,null,null,null,null," ",null,1,1900]
[null,null,null,null,null,null,null,null," ",null,1,1900]
[null,null,null,null,null,null,null,null," ",null,1,1900]
[null,null,null,null,null,null,null,null," ",null,1,1900]
[null,null,null,null,null,null,null,null," ",null,1,1900]
[null,null,null,null,null,null,null,null," ",null,1,1900]
[null,null,null,null,null,null,null,null," ",null,1,1900]
[null,null,null,null,null,null,null,null," ",null,1,1900]
[null,null,null,null,null,null,null,null," ",null,1,1900]
[null,null,null,null,null,null,null,null," ",null,1,1900]
[null,null,null,null,null,null,null,null," ",null,1,1900]
[null,null,null,null,null,null,null,null," ",null,1,1900]
[null,null,null,null,null,null,null,null," ",null,1,1900]
[null,null,null,null,null,null,null,null," ",null,1,1900]
[null,null,null,null,null,null,null,null," ",null,1,1900]
[null,null,null,null,null,null,null,null," ",null,1,1900]
[null,null,null,null,null,null,null,null," ",null,1,1900]
[null,null,null,null,null,null,null,null," ",null,1,1900]
[null,null,null,null,null,null,null,null," ",null,1,1900]
[null,null,null,null,null,null,null,null," ",null,1,1900]
[null,null,null,null,null,null,null,null," ",null,1,1900]
[null,null,null,null,null,null,null,null," ",null,1,1900]
[null,null,null,null,null,null,null,null," ",null,1,1900]
[null,null,null,null,null,null,null,null," ",null,1,1900]
[null,null,null,null,null,null,null,null," ",null,1,1900]
[null,null,null,null,null,null,null,null," ",null,1,1900]
[null,null,null,null,null,null,null,null," ",null,1,1900]
[null,null,null,null,null,null,null,null," ",null,1,1900]
[null,null,null,null,null,null,null,null," ",null,1,1900]
[null,null,null,null,null,null,null,null," ",null,1,1900]
[null,null,null,null,null,null,null,null," ",null,1,1900]
[null,null,null,null,null,null,null,null," ",null,1,1900]
[null,null,null,null,null,null,null,null," ",null,1,1900]
[null,null,null,null,null,null,null,null," ",null,1,1900]
[null,null,null,null,null,null,null,null," ",null,1,1900]
[null,null,null,null,null,null,null,null," ",null,1,1900]
[null,null,null,null,null,null,null,null," ",null,1,1900]
[null,null,null,null,null,null,null,null," ",null,1,1900]
[null,null,null,null,null,null,null,null," ",null,1,1900]
[null,null,null,null,null,null,null,null," ",null,1,1900]
[null,null,null,null,null,null,null,null," ",null,1,1900]
[null,null,null,null,null,null,null,null," ",null,1,1900]
[null,null,null,null,null,null,null,null," ",null,1,1900]
[null,null,null,null,null,null,null,null," ",null,1,1900]
[null,null,null,null,null,null,null,null," ",null,1,1900]
[null,null,null,null,null,null,null,null," ",null,1,1900]
[null,null,null,null,null,null,null,null," ",null,1,1900]
[null,null,null,null,null,null,null,null," ",null,1,1900]
[null,null,null,null,null,null,null,null," ",null,1,1900]
[null,null,null,null,null,null,null,null," ",null,1,1900]
[null,null,null,null,null,null,null,null," ",null,1,1900]
[null,null,null,null,null,null,null,null," ",null,1,1900]
[null,null,null,null,null,null,null,null," ",null,1,1900]
[null,null,null,null,null,null,null,null," ",null,1,1900]
[null,null,null,null,null,null,null,null," ",null,1,1900]
[null,null,null,null,null,null,null,null," ",null,1,1900]
[null,null,null,null,null,null,null,null," ",null,1,1900]
[null,null,null,null,null,null,null,null," ",null,1,1900]
[null,null,null,null,null,null,null,null," ",null,1,1900]
[null,null,null,null,null,null,null,null," ",null,1,1900]
[null,null,null,null,null,null,null,null," ",null,1,1900]
[null,null,null,null,null,null,null,null," ",null,1,1900]
[null,null,null,null,null,null,null,null," ",null,1,1900]
[null,null,null,null,null,null,null,null," ",null,1,1900]
[null,null,null,null,null,null,null,null," ",null,1,1900]
[null,null,null,null,null,null,null,null,{"$f":"+IF(H55480=H55479,\" \",H55480)","v":" "},null,{"$f":"+MONTH(A55480)","v":1},{"$f":"+YEAR(A55480)","v":1900}]
[null,null,null,null,null,null,null,null," ",null,1,1900]
[null,null,null,null,null,null,null,null," ",null,1,1900]
[null,null,null,null,null,null,null,null," ",null,1,1900]
[null,null,null,null,null,null,null,null," ",null,1,1900]
[null,null,null,null,null,null,null,null," ",null,1,1900]
[null,null,null,null,null,null,null,null," ",null,1,1900]
[null,null,null,null,null,null,null,null," ",null,1,1900]
[null,null,null,null,null,null,null,null," ",null,1,1900]
[null,null,null,null,null,null,null,null," ",null,1,1900]
[null,null,null,null,null,null,null,null," ",null,1,1900]
[null,null,null,null,null,null,null,null," ",null,1,1900]
[null,null,null,null,null,null,null,null," ",null,1,1900]
[null,null,null,null,null,null,null,null," ",null,1,1900]
[null,null,null,null,null,null,null,null," ",null,1,1900]
[null,null,null,null,null,null,null,null," ",null,1,1900]
[null,null,null,null,null,null,null,null," ",null,1,1900]
[null,null,null,null,null,null,null,null," ",null,1,1900]
[null,null,null,null,null,null,null,null," ",null,1,1900]
[null,null,null,null,null,null,null,null," ",null,1,1900]
[null,null,null,null,null,null,null,null," ",null,1,1900]
[null,null,null,null,null,null,null,null," ",null,1,1900]
[null,null,null,null,null,null,null,null," ",null,1,1900]
[null,null,null,null,null,null,null,null," ",null,1,1900]
[null,null,null,null,null,null,null,null," ",null,1,1900]
[null,null,null,null,null,null,null,null," ",null,1,1900]
[null,null,null,null,null,null,null,null," ",null,1,1900]
[null,null,null,null,null,null,null,null," ",null,1,1900]
[null,null,null,null,null,null,null,null," ",null,1,1900]
[null,null,null,null,null,null,null,null," ",null,1,1900]
[null,null,null,null,null,null,null,null," ",null,1,1900]
[null,null,null,null,null,null,null,null,{"$f":"+IF(H56440=H56439,\" \",H56440)","v":" "},null,{"$f":"+MONTH(A56440)","v":1},{"$f":"+YEAR(A56440)","v":1900}]
[null,null,null,null,null,null,null,null," ",null,1,1900]
[null,null,null,null,null,null,null,null," ",null,1,1900]
[null,null,null,null,null,null,null,null," ",null,1,1900]
[null,null,null,null,null,null,null,null," ",null,1,1900]
[null,null,null,null,null,null,null,null," ",null,1,1900]
[null,null,null,null,null,null,null,null," ",null,1,1900]
[null,null,null,null,null,null,null,null," ",null,1,1900]
[null,null,null,null,null,null,null,null," ",null,1,1900]
[null,null,null,null,null,null,null,null," ",null,1,1900]
[null,null,null,null,null,null,null,null," ",null,1,1900]
[null,null,null,null,null,null,null,null," ",null,1,1900]
[null,null,null,null,null,null,null,null," ",null,1,1900]
[null,null,null,null,null,null,null,null," ",null,1,1900]
[null,null,null,null,null,null,null,null," ",null,1,1900]
[null,null,null,null,null,null,null,null," ",null,1,1900]
[null,null,null,null,null,null,null,null," ",null,1,1900]
[null,null,null,null,null,null,null,null," ",null,1,1900]
[null,null,null,null,null,null,null,null," ",null,1,1900]
[null,null,null,null,null,null,null,null," ",null,1,1900]
[null,null,null,null,null,null,null,null," ",null,1,1900]
[null,null,null,null,null,null,null,null," ",null,1,1900]
[null,null,null,null,null,null,null,null," ",null,1,1900]
[null,null,null,null,null,null,null,null," ",null,1,1900]
[null,null,null,null,null,null,null,null," ",null,1,1900]
[null,null,null,null,null,null,null,null," ",null,1,1900]
[null,null,null,null,null,null,null,null," ",null,1,1900]
[null,null,null,null,null,null,null,null," ",null,1,1900]
[null,null,null,null,null,null,null,null," ",null,1,1900]
[null,null,null,null,null,null,null,null," ",null,1,1900]
[null,null,null,null,null,null,null,null," ",null,1,1900]
[null,null,null,null,null,null,null,null," ",null,1,1900]
[null,null,null,null,null,null,null,null," ",null,1,1900]
[null,null,null,null,null,null,null,null," ",null,1,1900]
[null,null,null,null,null,null,null,null," ",null,1,1900]
[null,null,null,null,null,null,null,null," ",null,1,1900]
[null,null,null,null,null,null,null,null," ",null,1,1900]
[null,null,null,null,null,null,null,null," ",null,1,1900]
[null,null,null,null,null,null,null,null," ",null,1,1900]
[null,null,null,null,null,null,null,null," ",null,1,1900]
[null,null,null,null,null,null,null,null," ",null,1,1900]
[null,null,null,null,null,null,null,null," ",null,1,1900]
[null,null,null,null,null,null,null,null," ",null,1,1900]
[null,null,null,null,null,null,null,null," ",null,1,1900]
[null,null,null,null,null,null,null,null," ",null,1,1900]
[null,null,null,null,null,null,null,null," ",null,1,1900]
[null,null,null,null,null,null,null,null," ",null,1,1900]
[null,null,null,null,null,null,null,null," ",null,1,1900]
[null,null,null,null,null,null,null,null," ",null,1,1900]
[null,null,null,null,null,null,null,null," ",null,1,1900]
[null,null,null,null,null,null,null,null," ",null,1,1900]
[null,null,null,null,null,null,null,null," ",null,1,1900]
[null,null,null,null,null,null,null,null," ",null,1,1900]
[null,null,null,null,null,null,null,null," ",null,1,1900]
[null,null,null,null,null,null,null,null," ",null,1,1900]
[null,null,null,null,null,null,null,null," ",null,1,1900]
[null,null,null,null,null,null,null,null," ",null,1,1900]
[null,null,null,null,null,null,null,null," ",null,1,1900]
[null,null,null,null,null,null,null,null," ",null,1,1900]
[null,null,null,null,null,null,null,null," ",null,1,1900]
[null,null,null,null,null,null,null,null," ",null,1,1900]
[null,null,null,null,null,null,null,null," ",null,1,1900]
[null,null,null,null,null,null,null,null," ",null,1,1900]
[null,null,null,null,null,null,null,null," ",null,1,1900]
[null,null,null,null,null,null,null,null," ",null,1,1900]
[null,null,null,null,null,null,null,null," ",null,1,1900]
[null,null,null,null,null,null,null,null," ",null,1,1900]
[null,null,null,null,null,null,null,null," ",null,1,1900]
[null,null,null,null,null,null,null,null," ",null,1,1900]
[null,null,null,null,null,null,null,null," ",null,1,1900]
[null,null,null,null,null,null,null,null," ",null,1,1900]
[null,null,null,null,null,null,null,null," ",null,1,1900]
[null,null,null,null,null,null,null,null," ",null,1,1900]
[null,null,null,null,null,null,null,null," ",null,1,1900]
[null,null,null,null,null,null,null,null," ",null,1,1900]
[null,null,null,null,null,null,null,null," ",null,1,1900]
[null,null,null,null,null,null,null,null," ",null,1,1900]
[null,null,null,null,null,null,null,null," ",null,1,1900]
[null,null,null,null,null,null,null,null," ",null,1,1900]
[null,null,null,null,null,null,null,null," ",null,1,1900]
[null,null,null,null,null,null,null,null," ",null,1,1900]
[null,null,null,null,null,null,null,null," ",null,1,1900]
[null,null,null,null,null,null,null,null," ",null,1,1900]
[null,null,null,null,null,null,null,null," ",null,1,1900]
[null,null,null,null,null,null,null,null," ",null,1,1900]
[null,null,null,null,null,null,null,null," ",null,1,1900]
[null,null,null,null,null,null,null,null," ",null,1,1900]
[null,null,null,null,null,null,null,null," ",null,1,1900]
[null,null,null,null,null,null,null,null," ",null,1,1900]
[null,null,null,null,null,null,null,null," ",null,1,1900]
[null,null,null,null,null,null,null,null," ",null,1,1900]
[null,null,null,null,null,null,null,null," ",null,1,1900]
[null,null,null,null,null,null,null,null," ",null,1,1900]
[null,null,null,null,null,null,null,null,{"$f":"+IF(H59384=H59383,\" \",H59384)","v":" "},null,{"$f":"+MONTH(A59384)","v":1},{"$f":"+YEAR(A59384)","v":1900}]
[null,null,null,null,null,null,null,null," ",null,1,1900]
[null,null,null,null,null,null,null,null," ",null,1,1900]
[null,null,null,null,null,null,null,null," ",null,1,1900]
[null,null,null,null,null,null,null,null," ",null,1,1900]
[null,null,null,null,null,null,null,null," ",null,1,1900]
[null,null,null,null,null,null,null,null," ",null,1,1900]
[null,null,null,null,null,null,null,null," ",null,1,1900]
[null,null,null,null,null,null,null,null," ",null,1,1900]
[null,null,null,null,null,null,null,null," ",null,1,1900]
[null,null,null,null,null,null,null,null," ",null,1,1900]
[null,null,null,null,null,null,null,null," ",null,1,1900]
[null,null,null,null,null,null,null,null," ",null,1,1900]
[null,null,null,null,null,null,null,null," ",null,1,1900]
[null,null,null,null,null,null,null,null," ",null,1,1900]
[null,null,null,null,null,null,null,null," ",null,1,1900]
[null,null,null,null,null,null,null,null," ",null,1,1900]
[null,null,null,null,null,null,null,null," ",null,1,1900]
[null,null,null,null,null,null,null,null," ",null,1,1900]
[null,null,null,null,null,null,null,null," ",null,1,1900]
[null,null,null,null,null,null,null,null," ",null,1,1900]
[null,null,null,null,null,null,null,null," ",null,1,1900]
[null,null,null,null,null,null,null,null," ",null,1,1900]
[null,null,null,null,null,null,null,null," ",null,1,1900]
[null,null,null,null,null,null,null,null," ",null,1,1900]
[null,null,null,null,null,null,null,null," ",null,1,1900]
[null,null,null,null,null,null,null,null," ",null,1,1900]
[null,null,null,null,null,null,null,null," ",null,1,1900]
[null,null,null,null,null,null,null,null," ",null,1,1900]
[null,null,null,null,null,null,null,null," ",null,1,1900]
[null,null,null,null,null,null,null,null," ",null,1,1900]
[null,null,null,null,null,null,null,null,{"$f":"+IF(H60344=H60343,\" \",H60344)","v":" "},null,{"$f":"+MONTH(A60344)","v":1},{"$f":"+YEAR(A60344)","v":1900}]
[null,null,null,null,null,null,null,null," ",null,1,1900]
[null,null,null,null,null,null,null,null," ",null,1,1900]
[null,null,null,null,null,null,null,null," ",null,1,1900]
[null,null,null,null,null,null,null,null," ",null,1,1900]
[null,null,null,null,null,null,null,null," ",null,1,1900]
[null,null,null,null,null,null,null,null," ",null,1,1900]
[null,null,null,null,null,null,null,null," ",null,1,1900]
[null,null,null,null,null,null,null,null," ",null,1,1900]
[null,null,null,null,null,null,null,null," ",null,1,1900]
[null,null,null,null,null,null,null,null," ",null,1,1900]
[null,null,null,null,null,null,null,null," ",null,1,1900]
[null,null,null,null,null,null,null,null," ",null,1,1900]
[null,null,null,null,null,null,null,null," ",null,1,1900]
[null,null,null,null,null,null,null,null," ",null,1,1900]
[null,null,null,null,null,null,null,null," ",null,1,1900]
[null,null,null,null,null,null,null,null," ",null,1,1900]
[null,null,null,null,null,null,null,null," ",null,1,1900]
[null,null,null,null,null,null,null,null," ",null,1,1900]
[null,null,null,null,null,null,null,null," ",null,1,1900]
[null,null,null,null,null,null,null,null,{"$f":"+IF(H60984=H60983,\" \",H60984)","v":" "},null,{"$f":"+MONTH(A60984)","v":1},{"$f":"+YEAR(A60984)","v":1900}]
[null,null,null,null,null,null,null,null," ",null,1,1900]
[null,null,null,null,null,null,null,null," ",null,1,1900]
[null,null,null,null,null,null,null,null," ",null,1,1900]
[null,null,null,null,null,null,null,null," ",null,1,1900]
[null,null,null,null,null,null,null,null," ",null,1,1900]
[null,null,null,null,null,null,null,null," ",null,1,1900]
[null,null,null,null,null,null,null,null," ",null,1,1900]
[null,null,null,null,null,null,null,null," ",null,1,1900]
[null,null,null,null,null,null,null,null," ",null,1,1900]
[null,null,null,null,null,null,null,null," ",null,1,1900]
[null,null,null,null,null,null,null,null," ",null,1,1900]
[null,null,null,null,null,null,null,null," ",null,1,1900]
[null,null,null,null,null,null,null,null," ",null,1,1900]
[null,null,null,null,null,null,null,null," ",null,1,1900]
[null,null,null,null,null,null,null,null," ",null,1,1900]
[null,null,null,null,null,null,null,null," ",null,1,1900]
[null,null,null,null,null,null,null,null," ",null,1,1900]
[null,null,null,null,null,null,null,null," ",null,1,1900]
[null,null,null,null,null,null,null,null," ",null,1,1900]
[null,null,null,null,null,null,null,null," ",null,1,1900]
[null,null,null,null,null,null,null,null," ",null,1,1900]
[null,null,null,null,null,null,null,null," ",null,1,1900]
[null,null,null,null,null,null,null,null," ",null,1,1900]
[null,null,null,null,null,null,null,null," ",null,1,1900]
[null,null,null,null,null,null,null,null," ",null,1,1900]
[null,null,null,null,null,null,null,null," ",null,1,1900]
[null,null,null,null,null,null,null,null," ",null,1,1900]
[null,null,null,null,null,null,null,null," ",null,1,1900]
[null,null,null,null,null,null,null,null," ",null,1,1900]
[null,null,null,null,null,null,null,null," ",null,1,1900]
[null,null,null,null,null,null,null,null," ",null,1,1900]
[null,null,null,null,null,null,null,null," ",null,1,1900]
[null,null,null,null,null,null,null,null," ",null,1,1900]
[null,null,null,null,null,null,null,null," ",null,1,1900]
[null,null,null,null,null,null,null,null," ",null,1,1900]
[null,null,null,null,null,null,null,null," ",null,1,1900]
[null,null,null,null,null,null,null,null," ",null,1,1900]
[null,null,null,null,null,null,null,null," ",null,1,1900]
[null,null,null,null,null,null,null,null," ",null,1,1900]
[null,null,null,null,null,null,null,null," ",null,1,1900]
[null,null,null,null,null,null,null,null," ",null,1,1900]
[null,null,null,null,null,null,null,null," ",null,1,1900]
[null,null,null,null,null,null,null,null," ",null,1,1900]
[null,null,null,null,null,null,null,null," ",null,1,1900]
[null,null,null,null,null,null,null,null," ",null,1,1900]
[null,null,null,null,null,null,null,null," ",null,1,1900]
[null,null,null,null,null,null,null,null," ",null,1,1900]
[null,null,null,null,null,null,null,null," ",null,1,1900]
[null,null,null,null,null,null,null,null," ",null,1,1900]
[null,null,null,null,null,null,null,null," ",null,1,1900]
[null,null,null,null,null,null,null,null," ",null,1,1900]
[null,null,null,null,null,null,null,null," ",null,1,1900]
[null,null,null,null,null,null,null,null," ",null,1,1900]
[null,null,null,null,null,null,null,null," ",null,1,1900]
[null,null,null,null,null,null,null,null," ",null,1,1900]
[null,null,null,null,null,null,null,null," ",null,1,1900]
[null,null,null,null,null,null,null,null," ",null,1,1900]
[null,null,null,null,null,null,null,null," ",null,1,1900]
[null,null,null,null,null,null,null,null," ",null,1,1900]
[null,null,null,null,null,null,null,null," ",null,1,1900]
[null,null,null,null,null,null,null,null," ",null,1,1900]
[null,null,null,null,null,null,null,null," ",null,1,1900]
[null,null,null,null,null,null,null,null," ",null,1,1900]
[null,null,null,null,null,null,null,null," ",null,1,1900]
[null,null,null,null,null,null,null,null," ",null,1,1900]
[null,null,null,null,null,null,null,null," ",null,1,1900]
[null,null,null,null,null,null,null,null," ",null,1,1900]
[null,null,null,null,null,null,null,null," ",null,1,1900]
[null,null,null,null,null,null,null,null," ",null,1,1900]
[null,null,null,null,null,null,null,null," ",null,1,1900]
[null,null,null,null,null,null,null,null," ",null,1,1900]
[null,null,null,null,null,null,null,null," ",null,1,1900]
[null,null,null,null,null,null,null,null,{"$f":"+IF(H63288=H63287,\" \",H63288)","v":" "},null,{"$f":"+MONTH(A63288)","v":1},{"$f":"+YEAR(A63288)","v":1900}]
[null,null,null,null,null,null,null,null," ",null,1,1900]
[null,null,null,null,null,null,null,null," ",null,1,1900]
[null,null,null,null,null,null,null,null," ",null,1,1900]
[null,null,null,null,null,null,null,null," ",null,1,1900]
[null,null,null,null,null,null,null,null," ",null,1,1900]
[null,null,null,null,null,null,null,null," ",null,1,1900]
[null,null,null,null,null,null,null,null," ",null,1,1900]
[null,null,null,null,null,null,null,null," ",null,1,1900]
[null,null,null,null,null,null,null,null," ",null,1,1900]
[null,null,null,null,null,null,null,null," ",null,1,1900]
[null,null,null,null,null,null,null,null," ",null,1,1900]
[null,null,null,null,null,null,null,null," ",null,1,1900]
[null,null,null,null,null,null,null,null," ",null,1,1900]
[null,null,null,null,null,null,null,null," ",null,1,1900]
[null,null,null,null,null,null,null,null," ",null,1,1900]
[null,null,null,null,null,null,null,null," ",null,1,1900]
[null,null,null,null,null,null,null,null," ",null,1,1900]
[null,null,null,null,null,null,null,null," ",null,1,1900]
[null,null,null,null,null,null,null,null," ",null,1,1900]
[null,null,null,null,null,null,null,null," ",null,1,1900]
[null,null,null,null,null,null,null,null," ",null,1,1900]
[null,null,null,null,null,null,null,null,{"$f":"+IF(H63992=H63991,\" \",H63992)","v":" "},null,{"$f":"+MONTH(A63992)","v":1},{"$f":"+YEAR(A63992)","v":1900}]
[null,null,null,null,null,null,null,null," ",null,1,1900]
[null,null,null,null,null,null,null,null," ",null,1,1900]
[null,null,null,null,null,null,null,null," ",null,1,1900]
[null,null,null,null,null,null,null,null," ",null,1,1900]
[null,null,null,null,null,null,null,null," ",null,1,1900]
[null,null,null,null,null,null,null,null," ",null,1,1900]
[null,null,null,null,null,null,null,null," ",null,1,1900]
[null,null,null,null,null,null,null,null," ",null,1,1900]
[null,null,null,null,null,null,null,null," ",null,1,1900]
[null,null,null,null,null,null,null,null," ",null,1,1900]
[null,null,null,null,null,null,null,null," ",null,1,1900]
[null,null,null,null,null,null,null,null," ",null,1,1900]
[null,null,null,null,null,null,null,null," ",null,1,1900]
[null,null,null,null,null,null,null,null," ",null,1,1900]
[null,null,null,null,null,null,null,null," ",null,1,1900]
[null,null,null,null,null,null,null,null," ",null,1,1900]
[null,null,null,null,null,null,null,null," ",null,1,1900]
[null,null,null,null,null,null,null,null," ",null,1,1900]
[null,null,null,null,null,null,null,null," ",null,1,1900]
[null,null,null,null,null,null,null,null," ",null,1,1900]
[null,null,null,null,null,null,null,null," ",null,1,1900]
[null,null,null,null,null,null,null,null," ",null,1,1900]
[null,null,null,null,null,null,null,null," ",null,1,1900]
[null,null,null,null,null,null,null,null," ",null,1,1900]
[null,null,null,null,null,null,null,null," ",null,1,1900]
[null,null,null,null,null,null,null,null," ",null,1,1900]
[null,null,null,null,null,null,null,null," ",null,1,1900]
[null,null,null,null,null,null,null,null," ",null,1,1900]
[null,null,null,null,null,null,null,null," ",null,1,1900]
[null,null,null,null,null,null,null,null," ",null,1,1900]
[null,null,null,null,null,null,null,null," ",null,1,1900]
[null,null,null,null,null,null,null,null," ",null,1,1900]
[null,null,null,null,null,null,null,null," ",null,1,1900]
[null,null,null,null,null,null,null,null," ",null,1,1900]
[null,null,null,null,null,null,null,null," ",null,1,1900]
[null,null,null,null,null,null,null,null," ",null,1,1900]
[null,null,null,null,null,null,null,null," ",null,1,1900]
[null,null,null,null,null,null,null,null," ",null,1,1900]
[null,null,null,null,null,null,null,null," ",null,1,1900]
[null,null,null,null,null,null,null,null," ",null,1,1900]
[null,null,null,null,null,null,null,null," ",null,1,1900]
[null,null,null,null,null,null,null,null," ",null,1,1900]
[null,null,null,null,null,null,null,null," ",null,1,1900]
[null,null,null,null,null,null,null,null," ",null,1,1900]
[null,null,null,null,null,null,null,null," ",null,1,1900]
[null,null,null,null,null,null,null,null," ",null,1,1900]
[null,null,null,null,null,null,null,null," ",null,1,1900]
[null,null,null,null,null,null,null,null," ",null,1,1900]
[null,null,null,null,null,null,null,null," ",null,1,1900]
[null,null,null,null,null,null,null,null," ",null,1,1900]
[null,null,null,null,null,null,null,null," ",null,1,1900]
[null,null,null,null,null,null,null,null," ",null,1,1900]
[null,null,null,null,null,null,null,null," ",null,1,1900]
[null,null,null,null,null,null,null,null," ",null,1,1900]
[null,null,null,null,null,null,null,null," ",null,1,1900]
[null,null,null,null,null,null,null,null," ",null,1,1900]
[null,null,null,null,null,null,null,null," ",null,1,1900]
[null,null,null,null,null,null,null,null," ",null,1,1900]
[null,null,null,null,null,null,null,null," ",null,1,1900]
[null,null,null,null,null,null,null,null," ",null,1,1900]
[null,null,null,null,null,null,null,null," ",null,1,1900]
[null,null,null,null,null,null,null,null," ",null,1,1900]
[null,null,null,null,null,null,null,null," ",null,1,1900]
[null,null,null,null,null,null,null,null," ",null,1,1900]
[null,null,null,null,null,null,null,null," ",null,1,1900]
[null,null,null,null,null,null,null,null," ",null,1,1900]
[null,null,null,null,null,null,null,null," ",null,1,1900]
[null,null,null,null,null,null,null,null," ",null,1,1900]
[null,null,null,null,null,null,null,null," ",null,1,1900]
[null,null,null,null,null,null,null,null," ",null,1,1900]
[null,null,null,null,null,null,null,null," ",null,1,1900]
[null,null,null,null,null,null,null,null," ",null,1,1900]
[null,null,null,null,null,null,null,null," ",null,1,1900]
[null,null,null,null,null,null,null,null," ",null,1,1900]
[null,null,null,null,null,null,null,null," ",null,1,1900]
[null,null,null,null,null,null,null,null," ",null,1,1900]
[null,null,null,null,null,null,null,null,{"$f":"+IF(H65080=H65079,\" \",H65080)","v":" "},null,{"$f":"+MONTH(A65080)","v":1},{"$f":"+YEAR(A65080)","v":1900}]
[null,null,null,null,null,null,null,null," ",null,1,1900]
[null,null,null,null,null,null,null,null," ",null,1,1900]
[null,null,null,null,null,null,null,null," ",null,1,1900]
[null,null,null,null,null,null,null,null," ",null,1,1900]
[null,null,null,null,null,null,null,null," ",null,1,1900]
[null,null,null,null,null,null,null,null," ",null,1,1900]
[null,null,null,null,null,null,null,null," ",null,1,1900]
[null,null,null,null,null,null,null,null," ",null,1,1900]
[null,null,null,null,null,null,null,null," ",null,1,1900]
[null,null,null,null,null,null,null,null," ",null,1,1900]
[null,null,null,null,null,null,null,null," ",null,1,1900]
[null,null,null,null,null,null,null,null," ",null,1,1900]
[null,null,null,null,null,null,null,null," ",null,1,1900]
[null,null,null,null,null,null,null,null," ",null,1,1900]
[null,null,null,null,null,null,null,null," ",null,1,1900]
[null,null,null,null,null,null,null,null," ",null,1,1900]
[null,null,null,null,null,null,null,null," ",null,1,1900]
[null,null,null,null,null,null,null,null," ",null,1,1900]
[null,null,null,null,null,null,null,null," ",null,1,1900]
[null,null,null,null,null,null,null,null," ",null,1,1900]
[null,null,null,null,null,null,null,null," ",null,1,1900]
[null,null,null,null,null,null,null,null," ",null,1,1900]
[null,null,null,null,null,null,null,null," ",null,1,1900]
[null,null,null,null,null,null,null,null," ",null,1,1900]
[null,null,null,null,null,null,null,null," ",null,1,1900]
[null,null,null,null,null,null,null,null," ",null,1,1900]
[null,null,null,null,null,null,null,null," ",null,1,1900]
[null,null,null,null,null,null,null,null," ",null,1,1900]
[null,null,null,null,null,null,null,null," ",null,1,1900]
[null,null,null,null,null,null,null,null," ",null,1,1900]
[null,null,null,null,null,null,null,null," ",null,1,1900]
[null,null,null,null,null,null,null,null," ",null,1,1900]
[null,null,null,null,null,null,null,null," ",null,1,1900]
[null,null,null,null,null,null,null,null," ",null,1,1900]
[null,null,null,null,null,null,null,null," ",null,1,1900]
[null,null,null,null,null,null,null,null," ",null,1,1900]
[null,null,null,null,null,null,null,null," ",null,1,1900]
[null,null,null,null,null,null,null,null," ",null,1,1900]
[null,null,null,null,null,null,null,null," ",null,1,1900]
[null,null,null,null,null,null,null,null," ",null,1,1900]
[null,null,null,null,null,null,null,null," ",null,1,1900]
[null,null,null,null,null,null,null,null," ",null,1,1900]
[null,null,null,null,null,null,null,null," ",null,1,1900]
[null,null,null,null,null,null,null,null," ",null,1,1900]
[null,null,null,null,null,null,null,null," ",null,1,1900]
[null,null,null,null,null,null,null,null," ",null,1,1900]
[null,null,null,null,null,null,null,null," ",null,1,1900]
[null,null,null,null,null,null,null,null," ",null,1,1900]
[null,null,null,null,null,null,null,null," ",null,1,1900]
[null,null,null,null,null,null,null,null," ",null,1,1900]
[null,null,null,null,null,null,null,null," ",null,1,1900]
[null,null,null,null,null,null,null,null," ",null,1,1900]
[null,null,null,null,null,null,null,null," ",null,1,1900]
[null,null,null,null,null,null,null,null," ",null,1,1900]
[null,null,null,null,null,null,null,null," ",null,1,1900]
[null,null,null,null,null,null,null,null," ",null,1,1900]
[null,null,null,null,null,null,null,null," ",null,1,1900]
[null,null,null,null,null,null,null,null," ",null,1,1900]
[null,null,null,null,null,null,null,null," ",null,1,1900]
[null,null,null,null,null,null,null,null," ",null,1,1900]
[null,null,null,null,null,null,null,null," ",null,1,1900]
[null,null,null,null,null,null,null,null," ",null,1,1900]
[null,null,null,null,null,null,null,null," ",null,1,1900]
[null,null,null,null,null,null,null,null,{"$f":"+IF(H65144=H65143,\" \",H65144)","v":" "},null,{"$f":"+MONTH(A65144)","v":1},{"$f":"+YEAR(A65144)","v":1900}]
[null,null,null,null,null,null,null,null," ",null,1,1900]
[null,null,null,null,null,null,null,null," ",null,1,1900]
[null,null,null,null,null,null,null,null," ",null,1,1900]
[null,null,null,null,null,null,null,null," ",null,1,1900]
[null,null,null,null,null,null,null,null," ",null,1,1900]
[null,null,null,null,null,null,null,null," ",null,1,1900]
[null,null,null,null,null,null,null,null," ",null,1,1900]
[null,null,null,null,null,null,null,null," ",null,1,1900]
[null,null,null,null,null,null,null,null," ",null,1,1900]
[null,null,null,null,null,null,null,null," ",null,1,1900]
[null,null,null,null,null,null,null,null," ",null,1,1900]
[null,null,null,null,null,null,null,null," ",null,1,1900]
[null,null,null,null,null,null,null,null," ",null,1,1900]
[null,null,null,null,null,null,null,null," ",null,1,1900]
[null,null,null,null,null,null,null,null," ",null,1,1900]
[null,null,null,null,null,null,null,null," ",null,1,1900]
[null,null,null,null,null,null,null,null," ",null,1,1900]
[null,null,null,null,null,null,null,null," ",null,1,1900]
[null,null,null,null,null,null,null,null," ",null,1,1900]
[null,null,null,null,null,null,null,null," ",null,1,1900]
[null,null,null,null,null,null,null,null," ",null,1,1900]
[null,null,null,null,null,null,null,null," ",null,1,1900]
[null,null,null,null,null,null,null,null," ",null,1,1900]
[null,null,null,null,null,null,null,null," ",null,1,1900]
[null,null,null,null,null,null,null,null," ",null,1,1900]
[null,null,null,null,null,null,null,null," ",null,1,1900]
[null,null,null,null,null,null,null,null," ",null,1,1900]
[null,null,null,null,null,null,null,null," ",null,1,1900]
[null,null,null,null,null,null,null,null," ",null,1,1900]
[null,null,null,null,null,null,null,null," ",null,1,1900]
[null,null,null,null,null,null,null,null," ",null,1,1900]
[null,null,null,null,null,null,null,null," ",null,1,1900]
[null,null,null,null,null,null,null,null," ",null,1,1900]
[null,null,null,null,null,null,null,null," ",null,1,1900]
[null,null,null,null,null,null,null,null," ",null,1,1900]
[null,null,null,null,null,null,null,null," ",null,1,1900]
[null,null,null,null,null,null,null,null," ",null,1,1900]
[null,null,null,null,null,null,null,null," ",null,1,1900]
[null,null,null,null,null,null,null,null," ",null,1,1900]
[null,null,null,null,null,null,null,null," ",null,1,1900]
[null,null,null,null,null,null,null,null," ",null,1,1900]
[null,null,null,null,null,null,null,null," ",null,1,1900]
[null,null,null,null,null,null,null,null," ",null,1,1900]
[null,null,null,null,null,null,null,null," ",null,1,1900]
[null,null,null,null,null,null,null,null," ",null,1,1900]
[null,null,null,null,null,null,null,null," ",null,1,1900]
[null,null,null,null,null,null,null,null," ",null,1,1900]
[null,null,null,null,null,null,null,null," ",null,1,1900]
[null,null,null,null,null,null,null,null," ",null,1,1900]
[null,null,null,null,null,null,null,null," ",null,1,1900]
[null,null,null,null,null,null,null,null," ",null,1,1900]
[null,null,null,null,null,null,null,null," ",null,1,1900]
[null,null,null,null,null,null,null,null," ",null,1,1900]
[null,null,null,null,null,null,null,null," ",null,1,1900]
[null,null,null,null,null,null,null,null," ",null,1,1900]
[null,null,null,null,null,null,null,null," ",null,1,1900]
[null,null,null,null,null,null,null,null," ",null,1,1900]
[null,null,null,null,null,null,null,null," ",null,1,1900]
[null,null,null,null,null,null,null,null," ",null,1,1900]
[null,null,null,null,null,null,null,null," ",null,1,1900]
[null,null,null,null,null,null,null,null," ",null,1,1900]
[null,null,null,null,null,null,null,null," ",null,1,1900]
[null,null,null,null,null,null,null,null," ",null,1,1900]
[null,null,null,null,null,null,null,null,{"$f":"+IF(H65208=H65207,\" \",H65208)","v":" "},null,{"$f":"+MONTH(A65208)","v":1},{"$f":"+YEAR(A65208)","v":1900}]
[null,null,null,null,null,null,null,null," ",null,1,1900]
[null,null,null,null,null,null,null,null," ",null,1,1900]
[null,null,null,null,null,null,null,null," ",null,1,1900]
[null,null,null,null,null,null,null,null," ",null,1,1900]
[null,null,null,null,null,null,null,null," ",null,1,1900]
[null,null,null,null,null,null,null,null," ",null,1,1900]
[null,null,null,null,null,null,null,null," ",null,1,1900]
[null,null,null,null,null,null,null,null," ",null,1,1900]
[null,null,null,null,null,null,null,null," ",null,1,1900]
[null,null,null,null,null,null,null,null," ",null,1,1900]
[null,null,null,null,null,null,null,null," ",null,1,1900]
[null,null,null,null,null,null,null,null," ",null,1,1900]
[null,null,null,null,null,null,null,null," ",null,1,1900]
[null,null,null,null,null,null,null,null," ",null,1,1900]
[null,null,null,null,null,null,null,null," ",null,1,1900]
[null,null,null,null,null,null,null,null," ",null,1,1900]
[null,null,null,null,null,null,null,null," ",null,1,1900]
[null,null,null,null,null,null,null,null," ",null,1,1900]
[null,null,null,null,null,null,null,null," ",null,1,1900]
[null,null,null,null,null,null,null,null," ",null,1,1900]
[null,null,null,null,null,null,null,null," ",null,1,1900]
[null,null,null,null,null,null,null,null," ",null,1,1900]
[null,null,null,null,null,null,null,null," ",null,1,1900]
[null,null,null,null,null,null,null,null," ",null,1,1900]
[null,null,null,null,null,null,null,null," ",null,1,1900]
[null,null,null,null,null,null,null,null," ",null,1,1900]
[null,null,null,null,null,null,null,null," ",null,1,1900]
[null,null,null,null,null,null,null,null," ",null,1,1900]
[null,null,null,null,null,null,null,null," ",null,1,1900]
[null,null,null,null,null,null,null,null," ",null,1,1900]
[null,null,null,null,null,null,null,null," ",null,1,1900]
[null,null,null,null,null,null,null,null," ",null,1,1900]
[null,null,null,null,null,null,null,null," ",null,1,1900]
[null,null,null,null,null,null,null,null," ",null,1,1900]
[null,null,null,null,null,null,null,null," ",null,1,1900]
[null,null,null,null,null,null,null,null," ",null,1,1900]
[null,null,null,null,null,null,null,null," ",null,1,1900]
[null,null,null,null,null,null,null,null," ",null,1,1900]
[null,null,null,null,null,null,null,null," ",null,1,1900]
[null,null,null,null,null,null,null,null," ",null,1,1900]
[null,null,null,null,null,null,null,null," ",null,1,1900]
[null,null,null,null,null,null,null,null," ",null,1,1900]
[null,null,null,null,null,null,null,null," ",null,1,1900]
[null,null,null,null,null,null,null,null," ",null,1,1900]
[null,null,null,null,null,null,null,null," ",null,1,1900]
[null,null,null,null,null,null,null,null," ",null,1,1900]
[null,null,null,null,null,null,null,null," ",null,1,1900]
[null,null,null,null,null,null,null,null," ",null,1,1900]
[null,null,null,null,null,null,null,null," ",null,1,1900]
[null,null,null,null,null,null,null,null," ",null,1,1900]
[null,null,null,null,null,null,null,null," ",null,1,1900]
[null,null,null,null,null,null,null,null," ",null,1,1900]
[null,null,null,null,null,null,null,null," ",null,1,1900]
[null,null,null,null,null,null,null,null," ",null,1,1900]
[null,null,null,null,null,null,null,null," ",null,1,1900]
[null,null,null,null,null,null,null,null," ",null,1,1900]
[null,null,null,null,null,null,null,null," ",null,1,1900]
[null,null,null,null,null,null,null,null," ",null,1,1900]
[null,null,null,null,null,null,null,null," ",null,1,1900]
[null,null,null,null,null,null,null,null," ",null,1,1900]
[null,null,null,null,null,null,null,null," ",null,1,1900]
[null,null,null,null,null,null,null,null," ",null,1,1900]
[null,null,null,null,null,null,null,null," ",null,1,1900]
[null,null,null,null,null,null,null,null,{"$f":"+IF(H65272=H65271,\" \",H65272)","v":" "},null,{"$f":"+MONTH(A65272)","v":1},{"$f":"+YEAR(A65272)","v":1900}]
[null,null,null,null,null,null,null,null," ",null,1,1900]
[null,null,null,null,null,null,null,null," ",null,1,1900]
[null,null,null,null,null,null,null,null," ",null,1,1900]
[null,null,null,null,null,null,null,null," ",null,1,1900]
[null,null,null,null,null,null,null,null," ",null,1,1900]
[null,null,null,null,null,null,null,null," ",null,1,1900]
[null,null,null,null,null,null,null,null," ",null,1,1900]
[null,null,null,null,null,null,null,null," ",null,1,1900]
[null,null,null,null,null,null,null,null," ",null,1,1900]
[null,null,null,null,null,null,null,null," ",null,1,1900]
[null,null,null,null,null,null,null,null," ",null,1,1900]
[null,null,null,null,null,null,null,null," ",null,1,1900]
[null,null,null,null,null,null,null,null," ",null,1,1900]
[null,null,null,null,null,null,null,null," ",null,1,1900]
[null,null,null,null,null,null,null,null," ",null,1,1900]
[null,null,null,null,null,null,null,null," ",null,1,1900]
[null,null,null,null,null,null,null,null," ",null,1,1900]
[null,null,null,null,null,null,null,null," ",null,1,1900]
[null,null,null,null,null,null,null,null," ",null,1,1900]
[null,null,null,null,null,null,null,null," ",null,1,1900]
[null,null,null,null,null,null,null,null," ",null,1,1900]
[null,null,null,null,null,null,null,null," ",null,1,1900]
[null,null,null,null,null,null,null,null," ",null,1,1900]
[null,null,null,null,null,null,null,null," ",null,1,1900]
[null,null,null,null,null,null,null,null," ",null,1,1900]
[null,null,null,null,null,null,null,null," ",null,1,1900]
[null,null,null,null,null,null,null,null," ",null,1,1900]
[null,null,null,null,null,null,null,null," ",null,1,1900]
[null,null,null,null,null,null,null,null," ",null,1,1900]
[null,null,null,null,null,null,null,null," ",null,1,1900]
[null,null,null,null,null,null,null,null," ",null,1,1900]
[null,null,null,null,null,null,null,null," ",null,1,1900]
[null,null,null,null,null,null,null,null," ",null,1,1900]
[null,null,null,null,null,null,null,null," ",null,1,1900]
[null,null,null,null,null,null,null,null," ",null,1,1900]
[null,null,null,null,null,null,null,null," ",null,1,1900]
[null,null,null,null,null,null,null,null," ",null,1,1900]
[null,null,null,null,null,null,null,null," ",null,1,1900]
[null,null,null,null,null,null,null,null," ",null,1,1900]
[null,null,null,null,null,null,null,null," ",null,1,1900]
[null,null,null,null,null,null,null,null," ",null,1,1900]
[null,null,null,null,null,null,null,null," ",null,1,1900]
[null,null,null,null,null,null,null,null," ",null,1,1900]
[null,null,null,null,null,null,null,null," ",null,1,1900]
[null,null,null,null,null,null,null,null," ",null,1,1900]
[null,null,null,null,null,null,null,null," ",null,1,1900]
[null,null,null,null,null,null,null,null," ",null,1,1900]
[null,null,null,null,null,null,null,null," ",null,1,1900]
[null,null,null,null,null,null,null,null," ",null,1,1900]
[null,null,null,null,null,null,null,null," ",null,1,1900]
[null,null,null,null,null,null,null,null," ",null,1,1900]
[null,null,null,null,null,null,null,null," ",null,1,1900]
[null,null,null,null,null,null,null,null," ",null,1,1900]
[null,null,null,null,null,null,null,null," ",null,1,1900]
[null,null,null,null,null,null,null,null," ",null,1,1900]
[null,null,null,null,null,null,null,null," ",null,1,1900]
[null,null,null,null,null,null,null,null," ",null,1,1900]
[null,null,null,null,null,null,null,null," ",null,1,1900]
[null,null,null,null,null,null,null,null," ",null,1,1900]
[null,null,null,null,null,null,null,null," ",null,1,1900]
[null,null,null,null,null,null,null,null," ",null,1,1900]
[null,null,null,null,null,null,null,null," ",null,1,1900]
[null,null,null,null,null,null,null,null," ",null,1,1900]
[null,null,null,null,null,null,null,null,{"$f":"+IF(H65336=H65335,\" \",H65336)","v":" "},null,{"$f":"+MONTH(A65336)","v":1},{"$f":"+YEAR(A65336)","v":1900}]
[null,null,null,null,null,null,null,null," ",null,1,1900]
[null,null,null,null,null,null,null,null," ",null,1,1900]
[null,null,null,null,null,null,null,null," ",null,1,1900]
[null,null,null,null,null,null,null,null," ",null,1,1900]
[null,null,null,null,null,null,null,null," ",null,1,1900]
[null,null,null,null,null,null,null,null," ",null,1,1900]
[null,null,null,null,null,null,null,null," ",null,1,1900]
[null,null,null,null,null,null,null,null," ",null,1,1900]
[null,null,null,null,null,null,null,null," ",null,1,1900]
[null,null,null,null,null,null,null,null," ",null,1,1900]
[null,null,null,null,null,null,null,null," ",null,1,1900]
[null,null,null,null,null,null,null,null," ",null,1,1900]
[null,null,null,null,null,null,null,null," ",null,1,1900]
[null,null,null,null,null,null,null,null," ",null,1,1900]
[null,null,null,null,null,null,null,null," ",null,1,1900]
[null,null,null,null,null,null,null,null," ",null,1,1900]
[null,null,null,null,null,null,null,null," ",null,1,1900]
[null,null,null,null,null,null,null,null," ",null,1,1900]
[null,null,null,null,null,null,null,null," ",null,1,1900]
[null,null,null,null,null,null,null,null," ",null,1,1900]
[null,null,null,null,null,null,null,null," ",null,1,1900]
[null,null,null,null,null,null,null,null," ",null,1,1900]
[null,null,null,null,null,null,null,null," ",null,1,1900]
[null,null,null,null,null,null,null,null," ",null,1,1900]
[null,null,null,null,null,null,null,null," ",null,1,1900]
[null,null,null,null,null,null,null,null," ",null,1,1900]
[null,null,null,null,null,null,null,null," ",null,1,1900]
[null,null,null,null,null,null,null,null," ",null,1,1900]
[null,null,null,null,null,null,null,null," ",null,1,1900]
[null,null,null,null,null,null,null,null," ",null,1,1900]
[null,null,null,null,null,null,null,null," ",null,1,1900]
[null,null,null,null,null,null,null,null," ",null,1,1900]
[null,null,null,null,null,null,null,null," ",null,1,1900]
[null,null,null,null,null,null,null,null," ",null,1,1900]
[null,null,null,null,null,null,null,null," ",null,1,1900]
[null,null,null,null,null,null,null,null," ",null,1,1900]
[null,null,null,null,null,null,null,null," ",null,1,1900]
[null,null,null,null,null,null,null,null," ",null,1,1900]
[null,null,null,null,null,null,null,null," ",null,1,1900]
[null,null,null,null,null,null,null,null," ",null,1,1900]
[null,null,null,null,null,null,null,null," ",null,1,1900]
[null,null,null,null,null,null,null,null," ",null,1,1900]
[null,null,null,null,null,null,null,null," ",null,1,1900]
[null,null,null,null,null,null,null,null," ",null,1,1900]
[null,null,null,null,null,null,null,null," ",null,1,1900]
[null,null,null,null,null,null,null,null," ",null,1,1900]
[null,null,null,null,null,null,null,null," ",null,1,1900]
[null,null,null,null,null,null,null,null," ",null,1,1900]
[null,null,null,null,null,null,null,null," ",null,1,1900]
[null,null,null,null,null,null,null,null," ",null,1,1900]
[null,null,null,null,null,null,null,null," ",null,1,1900]
[null,null,null,null,null,null,null,null," ",null,1,1900]
[null,null,null,null,null,null,null,null," ",null,1,1900]
[null,null,null,null,null,null,null,null," ",null,1,1900]
[null,null,null,null,null,null,null,null," ",null,1,1900]
[null,null,null,null,null,null,null,null," ",null,1,1900]
[null,null,null,null,null,null,null,null," ",null,1,1900]
[null,null,null,null,null,null,null,null," ",null,1,1900]
[null,null,null,null,null,null,null,null," ",null,1,1900]
[null,null,null,null,null,null,null,null," ",null,1,1900]
[null,null,null,null,null,null,null,null," ",null,1,1900]
[null,null,null,null,null,null,null,null," ",null,1,1900]
[null,null,null,null,null,null,null,null," ",null,1,1900]
[null,null,null,null,null,null,null,null,{"$f":"+IF(H65400=H65399,\" \",H65400)","v":" "},null,{"$f":"+MONTH(A65400)","v":1},{"$f":"+YEAR(A65400)","v":1900}]
[null,null,null,null,null,null,null,null," ",null,1,1900]
[null,null,null,null,null,null,null,null," ",null,1,1900]
[null,null,null,null,null,null,null,null," ",null,1,1900]
[null,null,null,null,null,null,null,null," ",null,1,1900]
[null,null,null,null,null,null,null,null," ",null,1,1900]
[null,null,null,null,null,null,null,null," ",null,1,1900]
[null,null,null,null,null,null,null,null," ",null,1,1900]
[null,null,null,null,null,null,null,null," ",null,1,1900]
[null,null,null,null,null,null,null,null," ",null,1,1900]
[null,null,null,null,null,null,null,null," ",null,1,1900]
[null,null,null,null,null,null,null,null," ",null,1,1900]
[null,null,null,null,null,null,null,null," ",null,1,1900]
[null,null,null,null,null,null,null,null," ",null,1,1900]
[null,null,null,null,null,null,null,null," ",null,1,1900]
[null,null,null,null,null,null,null,null," ",null,1,1900]
[null,null,null,null,null,null,null,null," ",null,1,1900]
[null,null,null,null,null,null,null,null," ",null,1,1900]
[null,null,null,null,null,null,null,null," ",null,1,1900]
[null,null,null,null,null,null,null,null," ",null,1,1900]
[null,null,null,null,null,null,null,null," ",null,1,1900]
[null,null,null,null,null,null,null,null," ",null,1,1900]
[null,null,null,null,null,null,null,null," ",null,1,1900]
[null,null,null,null,null,null,null,null," ",null,1,1900]
[null,null,null,null,null,null,null,null," ",null,1,1900]
[null,null,null,null,null,null,null,null," ",null,1,1900]
[null,null,null,null,null,null,null,null," ",null,1,1900]
[null,null,null,null,null,null,null,null," ",null,1,1900]
[null,null,null,null,null,null,null,null," ",null,1,1900]
[null,null,null,null,null,null,null,null," ",null,1,1900]
[null,null,null,null,null,null,null,null," ",null,1,1900]
[null,null,null,null,null,null,null,null," ",null,1,1900]
[null,null,null,null,null,null,null,null," ",null,1,1900]
[null,null,null,null,null,null,null,null," ",null,1,1900]
[null,null,null,null,null,null,null,null," ",null,1,1900]
[null,null,null,null,null,null,null,null," ",null,1,1900]
[null,null,null,null,null,null,null,null," ",null,1,1900]
[null,null,null,null,null,null,null,null," ",null,1,1900]
[null,null,null,null,null,null,null,null," ",null,1,1900]
[null,null,null,null,null,null,null,null," ",null,1,1900]
[null,null,null,null,null,null,null,null," ",null,1,1900]
[null,null,null,null,null,null,null,null," ",null,1,1900]
[null,null,null,null,null,null,null,null," ",null,1,1900]
[null,null,null,null,null,null,null,null," ",null,1,1900]
[null,null,null,null,null,null,null,null," ",null,1,1900]
[null,null,null,null,null,null,null,null," ",null,1,1900]
[null,null,null,null,null,null,null,null," ",null,1,1900]
[null,null,null,null,null,null,null,null," ",null,1,1900]
[null,null,null,null,null,null,null,null," ",null,1,1900]
[null,null,null,null,null,null,null,null," ",null,1,1900]
[null,null,null,null,null,null,null,null," ",null,1,1900]
[null,null,null,null,null,null,null,null," ",null,1,1900]
[null,null,null,null,null,null,null,null," ",null,1,1900]
[null,null,null,null,null,null,null,null," ",null,1,1900]
[null,null,null,null,null,null,null,null," ",null,1,1900]
[null,null,null,null,null,null,null,null," ",null,1,1900]
[null,null,null,null,null,null,null,null," ",null,1,1900]
[null,null,null,null,null,null,null,null," ",null,1,1900]
[null,null,null,null,null,null,null,null," ",null,1,1900]
[null,null,null,null,null,null,null,null," ",null,1,1900]
[null,null,null,null,null,null,null,null," ",null,1,1900]
[null,null,null,null,null,null,null,null," ",null,1,1900]
[null,null,null,null,null,null,null,null," ",null,1,1900]
[null,null,null,null,null,null,null,null," ",null,1,1900]
[null,null,null,null,null,null,null,null,{"$f":"+IF(H65464=H65463,\" \",H65464)","v":" "},null,{"$f":"+MONTH(A65464)","v":1},{"$f":"+YEAR(A65464)","v":1900}]
[null,null,null,null,null,null,null,null," ",null,1,1900]
[null,null,null,null,null,null,null,null," ",null,1,1900]
[null,null,null,null,null,null,null,null," ",null,1,1900]
[null,null,null,null,null,null,null,null," ",null,1,1900]
[null,null,null,null,null,null,null,null," ",null,1,1900]
[null,null,null,null,null,null,null,null," ",null,1,1900]
[null,null,null,null,null,null,null,null," ",null,1,1900]
[null,null,null,null,null,null,null,null," ",null,1,1900]
[null,null,null,null,null,null,null,null," ",null,1,1900]
[null,null,null,null,null,null,null,null," ",null,1,1900]
[null,null,null,null,null,null,null,null," ",null,1,1900]
[null,null,null,null,null,null,null,null," ",null,1,1900]
[null,null,null,null,null,null,null,null," ",null,1,1900]
[null,null,null,null,null,null,null,null," ",null,1,1900]
[null,null,null,null,null,null,null,null," ",null,1,1900]
[null,null,null,null,null,null,null,null," ",null,1,1900]
[null,null,null,null,null,null,null,null," ",null,1,1900]
[null,null,null,null,null,null,null,null," ",null,1,1900]
[null,null,null,null,null,null,null,null," ",null,1,1900]
[null,null,null,null,null,null,null,null," ",null,1,1900]
[null,null,null,null,null,null,null,null," ",null,1,1900]
[null,null,null,null,null,null,null,null," ",null,1,1900]
[null,null,null,null,null,null,null,null," ",null,1,1900]
[null,null,null,null,null,null,null,null," ",null,1,1900]
[null,null,null,null,null,null,null,null," ",null,1,1900]
[null,null,null,null,null,null,null,null," ",null,1,1900]
[null,null,null,null,null,null,null,null," ",null,1,1900]
[null,null,null,null,null,null,null,null," ",null,1,1900]
[null,null,null,null,null,null,null,null," ",null,1,1900]
[null,null,null,null,null,null,null,null," ",null,1,1900]
[null,null,null,null,null,null,null,null," ",null,1,1900]
[null,null,null,null,null,null,null,null," ",null,1,1900]
[null,null,null,null,null,null,null,null," ",null,1,1900]
[null,null,null,null,null,null,null,null," ",null,1,1900]
[null,null,null,null,null,null,null,null," ",null,1,1900]
[null,null,null,null,null,null,null,null," ",null,1,1900]
[null,null,null,null,null,null,null,null," ",null,1,1900]
[null,null,null,null,null,null,null,null," ",null,1,1900]
[null,null,null,null,null,null,null,null," ",null,1,1900]
[null,null,null,null,null,null,null,null," ",null,1,1900]
[null,null,null,null,null,null,null,null," ",null,1,1900]
[null,null,null,null,null,null,null,null," ",null,1,1900]
[null,null,null,null,null,null,null,null," ",null,1,1900]
[null,null,null,null,null,null,null,null," ",null,1,1900]
[null,null,null,null,null,null,null,null," ",null,1,1900]
[null,null,null,null,null,null,null,null," ",null,1,1900]
[null,null,null,null,null,null,null,null," ",null,1,1900]
[null,null,null,null,null,null,null,null," ",null,1,1900]
[null,null,null,null,null,null,null,null," ",null,1,1900]
[null,null,null,null,null,null,null,null," ",null,1,1900]
[null,null,null,null,null,null,null,null," ",null,1,1900]
[null,null,null,null,null,null,null,null," ",null,1,1900]
[null,null,null,null,null,null,null,null," ",null,1,1900]
[null,null,null,null,null,null,null,null," ",null,1,1900]
[null,null,null,null,null,null,null,null," ",null,1,1900]
[null,null,null,null,null,null,null,null," ",null,1,1900]
[null,null,null,null,null,null,null,null," ",null,1,1900]
[null,null,null,null,null,null,null,null," ",null,1,1900]
[null,null,null,null,null,null,null,null," ",null,1,1900]
[null,null,null,null,null,null,null,null," ",null,1,1900]
[null,null,null,null,null,null,null,null," ",null,1,1900]
[null,null,null,null,null,null,null,null," ",null,1,1900]
[null,null,null,null,null,null,null,null," ",null,1,1900]
[null,null,null,null,null,null,null,null,{"$f":"+IF(H65528=H65527,\" \",H65528)","v":" "},null,{"$f":"+MONTH(A65528)","v":1},{"$f":"+YEAR(A65528)","v":1900}]
[null,null,null,null,null,null,null,null," ",null,1,1900]
[null,null,null,null,null,null,null,null," ",null,1,1900]
[null,null,null,null,null,null,null,null," ",null,1,1900]
[null,null,null,null,null,null,null,null," ",null,1,1900]
[null,null,null,null,null,null,null,null," ",null,1,1900]
[null,null,null,null,null,null,null,null," ",null,1,1900]
[null,null,null,null,null,null,null,null," ",null,1,1900]
[null,null,null,null,null,null,null,null," ",null,1,1900]

{"sheet":"Tabla de Amortizacion","index":4,"n_rows":238,"n_cols":16,"rows_kept":238,"cut":false,"hidden":true,"merged":[]}
["FECHA","Tabla de Amortización Valoración",null,null,"Tabla de Amortización Valoración","Tabla de Amortización Valoración","Tabla de Amortización Valoración","Tabla de Amortización Valoración","Tabla de Amortización Valoración","Tabla de Amortización Valoración","Tabla de Amortización Valoración","Tabla de Amortización Valoración","Tabla de Amortización Valoración","Tabla de Amortización Valoración","Tabla de Amortización Valoración","Tabla de Amortización Valoración"]
[null,{"$f":"+CALCULADORA!C9","v":"TIPS N23 A"},null,null,{"$f":"+Características!$B$1","v":"TIPS N13 A"},{"$f":"+Características!$C$1","v":"TIPS N14 A"},{"$f":"+Características!$D$1","v":"TIPS N16 A"},{"$f":"+Características!$E$1","v":"TIPS N17 A "},{"$f":"+Características!$F$1","v":"TIPS N18 A 2034"},{"$f":"+Características!$G$1","v":"TIPS N19 A 2034"},{"$f":"+Características!$H$1","v":"TIPS N20 A 2034"},{"$f":"+Características!$I$1","v":"TIPS N21 A"},{"$f":"+Características!$J$1","v":"TIPS N22 A"},{"$f":"+Características!$K$1","v":"TIPS N23 A"},{"$f":"+Características!$L$1","v":"TIPS N24 A1 2029"},{"$f":"+Características!$M$1","v":"TIPS N24 A2 2039"}]
[{"$f":"+Flujos!A3","v":"2024-08-18"},{"$f":"+VLOOKUP(A3,$D$2:$N$182,MATCH($B$2,$D$2:$N$2,0),FALSE)","v":2.7082479999999999E-2},null,{"$f":"+A3","v":"2024-08-18"},2.044998E-2,1.368171E-2,2.356776E-2,3.5719420000000002E-2,6.0585700000000001E-3,1.8470449999999999E-2,1.5852499999999999E-2,1.952549E-2,1.6192459999999999E-2,2.7082479999999999E-2,0.12284325,0]
[{"$f":"+Flujos!A4","v":"2024-09-18"},2.8401409999999998E-2,null,{"$f":"+A4","v":"2024-09-18"},1.389231E-2,1.183556E-2,2.1333459999999999E-2,2.457022E-2,2.3651200000000001E-2,2.3920009999999998E-2,2.892144E-2,2.8349989999999999E-2,2.3941299999999999E-2,2.8401409999999998E-2,0.19176649000000001,0]
[{"$f":"+Flujos!A5","v":"2024-10-18"},3.5727059999999998E-2,null,"2024-10-18",1.675198E-2,1.424274E-2,2.8972950000000001E-2,1.9941199999999999E-2,2.1211420000000002E-2,2.116353E-2,2.2593709999999999E-2,2.6544970000000001E-2,3.1747900000000003E-2,3.5727059999999998E-2,0.24227602000000001,0]
[{"$f":"+Flujos!A6","v":"2024-11-18"},3.6433880000000002E-2,null,"2024-11-18",1.2046009999999999E-2,1.511885E-2,2.2232120000000001E-2,1.9175480000000002E-2,2.364436E-2,1.8441679999999998E-2,2.618229E-2,2.6772089999999998E-2,2.6725740000000001E-2,3.6433880000000002E-2,0.13186379000000001,0]
[{"$f":"+Flujos!A7","v":"2024-12-18"},2.940951E-2,null,"2024-12-18",1.1631290000000001E-2,1.6405940000000001E-2,2.0472480000000001E-2,1.949236E-2,2.091759E-2,2.0026140000000001E-2,2.214692E-2,2.1764450000000001E-2,4.1147740000000002E-2,2.940951E-2,0.15357615999999999,0]
[{"$f":"+Flujos!A8","v":"2025-01-18"},3.8722369999999999E-2,null,"2025-01-18",1.4076129999999999E-2,1.8205949999999999E-2,2.0605370000000001E-2,2.337156E-2,2.529812E-2,1.9208960000000001E-2,1.9387060000000001E-2,1.8318210000000001E-2,4.541162E-2,3.8722369999999999E-2,0.14201388000000001,0]
[{"$f":"+Flujos!A9","v":"2025-02-18"},4.3933670000000001E-2,null,"2025-02-18",1.7421610000000001E-2,2.362088E-2,2.115641E-2,1.787675E-2,1.8347929999999998E-2,1.5680800000000002E-2,1.8843970000000002E-2,1.7947040000000001E-2,6.4206719999999995E-2,4.3933670000000001E-2,1.566041E-2,4.911277E-2]
[{"$f":"+Flujos!A10","v":"2025-03-18"},2.8550269999999999E-2,null,"2025-03-18",1.1869869999999999E-2,2.330254E-2,1.8384040000000001E-2,2.2570940000000001E-2,1.9172640000000001E-2,2.0310040000000001E-2,2.1297779999999999E-2,1.6100360000000001E-2,5.4080129999999997E-2,2.8550269999999999E-2,0,7.0155670000000003E-2]
[{"$f":"+Flujos!A11","v":"2025-04-18"},2.7539569999999999E-2,null,"2025-04-18",2.1252409999999999E-2,2.4576779999999999E-2,2.119569E-2,1.7767649999999999E-2,1.7974150000000001E-2,1.6536180000000001E-2,1.3285740000000001E-2,1.46862E-2,6.3884350000000006E-2,2.7539569999999999E-2,0,6.5009269999999994E-2]
[{"$f":"+Flujos!A12","v":"2025-05-18"},2.6554560000000001E-2,null,"2025-05-18",1.9961240000000002E-2,2.2522159999999999E-2,2.337674E-2,1.5618150000000001E-2,1.9270700000000002E-2,1.068205E-2,1.759811E-2,1.427731E-2,5.0150350000000003E-2,2.6554560000000001E-2,0,6.0240490000000001E-2]
[{"$f":"+Flujos!A13","v":"2025-06-18"},2.5602090000000001E-2,null,"2025-06-18",1.495962E-2,2.172866E-2,1.3761489999999999E-2,1.8432879999999999E-2,1.051969E-2,1.6515800000000001E-2,1.624602E-2,1.730595E-2,4.4251770000000003E-2,2.5602090000000001E-2,0,5.5821750000000003E-2]
[{"$f":"+Flujos!A14","v":"2025-07-18"},2.468364E-2,null,"2025-07-18",1.775622E-2,1.924675E-2,1.6983749999999999E-2,1.6710599999999999E-2,2.197584E-2,1.4296379999999999E-2,1.6708049999999999E-2,1.3769160000000001E-2,2.649572E-2,2.468364E-2,0,5.1725170000000001E-2]
[{"$f":"+Flujos!A15","v":"2025-08-18"},2.3787719999999998E-2,null,"2025-08-18",1.8611860000000001E-2,1.9525130000000002E-2,2.2644000000000001E-2,2.2426769999999999E-2,1.6990290000000002E-2,9.2338899999999998E-3,1.450048E-2,1.483369E-2,2.521938E-2,2.3787719999999998E-2,0,4.7925990000000002E-2]
[{"$f":"+Flujos!A16","v":"2025-09-18"},2.2936399999999999E-2,null,"2025-09-18",1.496187E-2,2.0719410000000001E-2,1.870053E-2,2.25063E-2,1.325195E-2,1.499669E-2,1.5946399999999999E-2,1.2893119999999999E-2,2.3989610000000001E-2,2.2936399999999999E-2,0,4.4406399999999999E-2]
[{"$f":"+Flujos!A17","v":"2025-10-18"},2.2106730000000002E-2,null,"2025-10-18",1.7624560000000001E-2,2.070901E-2,2.4248749999999999E-2,1.9816029999999998E-2,1.007138E-2,1.3574630000000001E-2,1.5689140000000001E-2,1.178352E-2,2.2819320000000001E-2,2.2106730000000002E-2,0,4.1143899999999997E-2]
[{"$f":"+Flujos!A18","v":"2025-11-18"},2.1304989999999999E-2,null,"2025-11-18",1.28802E-2,1.8533919999999999E-2,1.7172840000000002E-2,1.604535E-2,2.0831140000000001E-2,1.483513E-2,1.0757579999999999E-2,1.0406540000000001E-2,2.1706309999999999E-2,2.1304989999999999E-2,0,3.811759E-2]
[{"$f":"+Flujos!A19","v":"2025-12-18"},2.052027E-2,null,"2025-12-18",1.380986E-2,1.6179430000000002E-2,1.614614E-2,1.9134999999999999E-2,1.3145280000000001E-2,8.0742499999999998E-3,1.3540730000000001E-2,1.3268179999999999E-2,2.06468E-2,2.052027E-2,0,3.5313690000000002E-2]
[{"$f":"+Flujos!A20","v":"2026-01-18"},1.9782020000000001E-2,null,"2026-01-18",1.3265330000000001E-2,1.960572E-2,1.8706239999999999E-2,1.850661E-2,1.4647490000000001E-2,1.361384E-2,1.276501E-2,1.4011529999999999E-2,1.9638739999999998E-2,1.9782020000000001E-2,0,3.2712440000000002E-2]
[{"$f":"+Flujos!A21","v":"2026-02-18"},1.9060009999999999E-2,null,"2026-02-18",1.1979409999999999E-2,1.7750999999999999E-2,2.8286200000000001E-2,1.4477179999999999E-2,1.006517E-2,1.0196190000000001E-2,1.161447E-2,1.3735590000000001E-2,1.867999E-2,1.9060009999999999E-2,0,3.0300669999999998E-2]
[{"$f":"+Flujos!A22","v":"2026-03-18"},1.837225E-2,null,"2026-03-18",1.272617E-2,2.01187E-2,1.3298590000000001E-2,1.654485E-2,1.054455E-2,1.032425E-2,1.331859E-2,1.4403030000000001E-2,1.7769099999999999E-2,1.837225E-2,0,2.8062030000000002E-2]
[{"$f":"+Flujos!A23","v":"2026-04-18"},1.7702079999999999E-2,null,"2026-04-18",1.5305620000000001E-2,1.8283549999999999E-2,1.814356E-2,1.6617989999999999E-2,9.9220100000000002E-3,1.2419660000000001E-2,9.4992199999999992E-3,1.2226229999999999E-2,1.6902520000000001E-2,1.7702079999999999E-2,0,2.5984690000000001E-2]
[{"$f":"+Flujos!A24","v":"2026-05-18"},1.704804E-2,null,"2026-05-18",1.3349410000000001E-2,1.320268E-2,1.595792E-2,1.9382199999999999E-2,9.9906600000000002E-3,8.7410700000000001E-3,1.038323E-2,1.260328E-2,1.6080440000000001E-2,1.704804E-2,0,2.4061320000000001E-2]
[{"$f":"+Flujos!A25","v":"2026-06-18"},1.64219E-2,null,"2026-06-18",1.343126E-2,1.7294859999999999E-2,1.6811010000000001E-2,2.416772E-2,9.3998799999999993E-3,8.3459099999999998E-3,1.4400960000000001E-2,1.0628820000000001E-2,1.5296509999999999E-2,1.64219E-2,0,2.228024E-2]
[{"$f":"+Flujos!A26","v":"2026-07-18"},1.5802589999999998E-2,null,"2026-07-18",1.6131409999999999E-2,1.540016E-2,1.544912E-2,2.1909720000000001E-2,6.5729100000000004E-3,1.046561E-2,1.11731E-2,9.7083499999999993E-3,1.454947E-2,1.5802589999999998E-2,0,2.063007E-2]
[{"$f":"+Flujos!A27","v":"2026-08-18"},1.522098E-2,null,"2026-08-18",1.431813E-2,1.8903949999999999E-2,1.3864430000000001E-2,9.3874700000000002E-3,1.2743300000000001E-2,6.2120500000000002E-3,1.3009450000000001E-2,9.1862799999999998E-3,1.383592E-2,1.522098E-2,0,1.9101679999999999E-2]
[{"$f":"+Flujos!A28","v":"2026-09-18"},1.465902E-2,null,"2026-09-18",1.6288529999999999E-2,1.5003829999999999E-2,1.572838E-2,2.2424200000000002E-3,8.4770599999999998E-3,7.7529299999999999E-3,1.152998E-2,1.3526109999999999E-2,1.315474E-2,1.465902E-2,0,1.7687359999999999E-2]
[{"$f":"+Flujos!A29","v":"2026-10-18"},1.4109999999999999E-2,null,"2026-10-18",1.435779E-2,2.084695E-2,2.0864540000000001E-2,6.6378399999999999E-3,9.6246300000000003E-3,7.1742000000000004E-3,8.5414299999999992E-3,1.1434740000000001E-2,1.250591E-2,1.4109999999999999E-2,0,1.6377249999999999E-2]
[{"$f":"+Flujos!A30","v":"2026-11-18"},1.3583339999999999E-2,null,"2026-11-18",1.6617739999999999E-2,1.219917E-2,1.103635E-2,1.070316E-2,8.6789199999999997E-3,7.12022E-3,9.2205599999999992E-3,8.3203400000000007E-3,1.188874E-2,1.3583339999999999E-2,0,1.516323E-2]
[{"$f":"+Flujos!A31","v":"2026-12-18"},1.3073990000000001E-2,null,"2026-12-18",1.476718E-2,1.60444E-2,3.2874200000000001E-3,1.1450429999999999E-2,6.06589E-3,9.8689699999999995E-3,1.0682779999999999E-2,1.294797E-2,1.130135E-2,1.3073990000000001E-2,0,1.4039360000000001E-2]
[{"$f":"+Flujos!A32","v":"2027-01-18"},1.2578570000000001E-2,null,"2027-01-18",1.467772E-2,1.26768E-2,3.3590400000000002E-3,9.3219199999999992E-3,5.6226999999999996E-3,8.4436500000000005E-3,8.4004300000000004E-3,9.2125000000000002E-3,1.0742140000000001E-2,1.2578570000000001E-2,0,1.299764E-2]
[{"$f":"+Flujos!A33","v":"2027-02-18"},1.2097220000000001E-2,null,"2027-02-18",1.21292E-2,1.3593030000000001E-2,4.7029000000000003E-3,1.425703E-2,7.3936499999999999E-3,1.285656E-2,9.4271300000000006E-3,1.153683E-2,1.020943E-2,1.2097220000000001E-2,0,1.2031979999999999E-2]
[{"$f":"+Flujos!A34","v":"2027-03-18"},1.164632E-2,null,"2027-03-18",1.172219E-2,1.628187E-2,5.9293599999999998E-3,1.3007060000000001E-2,1.001431E-2,9.2865299999999994E-3,8.2664000000000001E-3,1.0280620000000001E-2,9.7003599999999999E-3,1.164632E-2,0,1.1137029999999999E-2]
[{"$f":"+Flujos!A35","v":"2027-04-18"},{"$f":"+VLOOKUP(A35,$D$2:$N$182,MATCH($B$2,$D$2:$N$2,0),FALSE)","v":1.1209510000000001E-2},null,"2027-04-18",1.5305539999999999E-2,1.2210510000000001E-2,9.3488800000000004E-3,1.105333E-2,8.7118000000000004E-3,1.3177680000000001E-2,1.171722E-2,8.8502000000000008E-3,9.2159500000000005E-3,1.1209510000000001E-2,0,1.0309489999999999E-2]
[{"$f":"+Flujos!A36","v":"2027-05-18"},1.078439E-2,null,"2027-05-18",1.318137E-2,1.54152E-2,9.4674000000000008E-3,1.6448089999999999E-2,7.5342899999999999E-3,8.6879000000000001E-3,9.9307500000000003E-3,1.1129760000000001E-2,8.7480100000000005E-3,1.078439E-2,0,9.5429099999999999E-3]
[{"$f":"+Flujos!A37","v":"2027-06-18"},1.0370900000000001E-2,null,"2027-06-18",1.449017E-2,1.4099E-2,1.6454219999999999E-2,1.2666159999999999E-2,1.076061E-2,6.6977E-3,1.2684870000000001E-2,1.0432719999999999E-2,8.3059499999999994E-3,1.0370900000000001E-2,0,8.8331499999999997E-3]
[{"$f":"+Flujos!A38","v":"2027-07-18"},9.9640500000000003E-3,null,"2027-07-18",1.049837E-2,1.6403890000000001E-2,1.3605030000000001E-2,1.359347E-2,1.157145E-2,1.013146E-2,1.235936E-2,1.092245E-2,7.8900399999999992E-3,9.9640500000000003E-3,0,8.1757099999999992E-3]
[{"$f":"+Flujos!A39","v":"2027-08-18"},9.5865800000000008E-3,null,"2027-08-18",1.4708580000000001E-2,9.8877800000000005E-3,1.5038960000000001E-2,1.185657E-2,4.9771599999999996E-3,9.4565099999999996E-3,1.144497E-2,1.2859580000000001E-2,7.4954899999999996E-3,9.5865800000000008E-3,0,7.56742E-3]
[{"$f":"+Flujos!A40","v":"2027-09-18"},9.2193299999999995E-3,null,"2027-09-18",1.4447440000000001E-2,8.7918000000000002E-4,1.3669769999999999E-2,1.3470889999999999E-2,4.1266699999999998E-3,9.6219099999999991E-3,1.134134E-2,9.4935699999999998E-3,7.12811E-3,9.2193299999999995E-3,0,7.0041299999999999E-3]
[{"$f":"+Flujos!A41","v":"2027-10-18"},8.8708299999999997E-3,null,"2027-10-18",1.2917909999999999E-2,3.4854899999999999E-3,1.395939E-2,1.437008E-2,6.0600599999999999E-3,9.5536300000000005E-3,1.091842E-2,1.123087E-2,6.77803E-3,8.8708299999999997E-3,0,7.7599699999999997E-3]
[{"$f":"+Flujos!A42","v":"2027-11-18"},8.5253199999999994E-3,null,"2027-11-18",1.272832E-2,4.7461700000000001E-3,1.2006330000000001E-2,1.209825E-2,7.2122000000000002E-3,8.3651000000000003E-3,1.047117E-2,1.0270629999999999E-2,6.4457799999999999E-3,8.5253199999999994E-3,0,7.2315499999999998E-3]
[{"$f":"+Flujos!A43","v":"2027-12-18"},8.1891599999999991E-3,null,"2027-12-18",1.0085E-4,9.0369400000000003E-3,1.2704119999999999E-2,1.289714E-2,7.2066400000000003E-3,1.1181730000000001E-2,9.3314999999999995E-3,7.1139000000000003E-3,6.1300499999999997E-3,8.1891599999999991E-3,0,6.7402299999999998E-3]
[{"$f":"+Flujos!A44","v":"2028-01-18"},7.8705600000000004E-3,null,"2028-01-18",2.5976800000000002E-3,5.2115E-3,1.132464E-2,1.2194679999999999E-2,1.0304880000000001E-2,8.6516600000000003E-3,1.1073619999999999E-2,1.101566E-2,5.8298600000000001E-3,7.8705600000000004E-3,0,6.28409E-3]
[{"$f":"+Flujos!A45","v":"2028-02-18"},7.5681000000000003E-3,null,"2028-02-18",2.5744600000000002E-3,9.8400699999999994E-3,9.6926900000000003E-3,1.176555E-2,6.8840799999999999E-3,8.3353100000000003E-3,9.9845999999999997E-3,1.002282E-2,5.5437500000000001E-3,7.5681000000000003E-3,0,5.8616600000000003E-3]
[{"$f":"+Flujos!A46","v":"2028-03-18"},7.2791000000000002E-3,null,"2028-03-18",6.00046E-3,9.5831100000000006E-3,1.363761E-2,1.0696260000000001E-2,1.101166E-2,8.2363999999999996E-3,1.0485410000000001E-2,9.3572700000000009E-3,5.2725100000000002E-3,7.2791000000000002E-3,0,5.4692899999999999E-3]
[{"$f":"+Flujos!A47","v":"2028-04-18"},6.9920700000000004E-3,null,"2028-04-18",7.2197299999999997E-3,1.028221E-2,1.1352930000000001E-2,1.330106E-2,7.5663299999999996E-3,8.12943E-3,1.31856E-2,9.2324399999999997E-3,5.0124999999999996E-3,6.9920700000000004E-3,0,5.1034499999999998E-3]
[{"$f":"+Flujos!A48","v":"2028-05-18"},6.7219999999999997E-3,null,"2028-05-18",7.6748099999999998E-3,8.2440399999999994E-3,1.0136050000000001E-2,1.0105370000000001E-2,8.1604799999999995E-3,8.0227900000000001E-3,1.072448E-2,9.14418E-3,4.7657799999999998E-3,6.7219999999999997E-3,0,4.7600000000000003E-3]
[{"$f":"+Flujos!A49","v":"2028-06-18"},6.4652199999999998E-3,null,"2028-06-18",1.1827000000000001E-2,9.7039799999999992E-3,1.0234780000000001E-2,9.5317300000000004E-3,1.055946E-2,7.9276699999999995E-3,9.3209899999999995E-3,9.0706599999999995E-3,4.5299299999999997E-3,6.4652199999999998E-3,0,4.44502E-3]
[{"$f":"+Flujos!A50","v":"2028-07-18"},6.2131199999999999E-3,null,"2028-07-18",1.1245399999999999E-2,8.7720000000000003E-3,8.2422999999999993E-3,8.9367800000000001E-3,6.2001799999999996E-3,7.8310500000000009E-3,9.2108699999999995E-3,8.7462100000000008E-3,4.3069700000000002E-3,6.2131199999999999E-3,0,3.7489699999999999E-3]
[{"$f":"+Flujos!A51","v":"2028-08-18"},5.9794499999999999E-3,null,"2028-08-18",1.22264E-2,1.334663E-2,1.079955E-2,9.6168599999999996E-3,7.3023100000000002E-3,7.7267100000000003E-3,9.2113100000000003E-3,8.8445699999999995E-3,4.0955200000000001E-3,5.9794499999999999E-3,0,2.9623279999999998E-2]
[{"$f":"+Flujos!A52","v":"2028-09-18"},5.7472399999999998E-3,null,"2028-09-18",9.6824400000000005E-3,9.2060600000000003E-3,1.1875439999999999E-2,7.7920699999999999E-3,7.2019600000000003E-3,7.6272400000000004E-3,9.1750300000000007E-3,8.7659599999999997E-3,3.8934899999999999E-3,5.7472399999999998E-3,0,0]
[{"$f":"+Flujos!A53","v":"2028-10-18"},5.5213099999999998E-3,null,"2028-10-18",1.374424E-2,1.075445E-2,1.0192339999999999E-2,1.006071E-2,7.1233700000000004E-3,7.5282300000000003E-3,9.0587099999999993E-3,8.6637799999999994E-3,3.7012299999999998E-3,5.5213099999999998E-3,0,0]
[{"$f":"+Flujos!A54","v":"2028-11-18"},5.2972999999999996E-3,null,"2028-11-18",9.0352399999999999E-3,7.2466300000000004E-3,1.0594370000000001E-2,1.081909E-2,7.0336699999999997E-3,8.0511300000000001E-3,8.8775099999999999E-3,8.5568099999999998E-3,3.5184000000000001E-3,5.2972999999999996E-3,0,0]
[{"$f":"+Flujos!A55","v":"2028-12-18"},5.0961599999999998E-3,null,"2028-12-18",1.0065009999999999E-2,9.4870800000000002E-3,1.1152499999999999E-2,7.63213E-3,6.94891E-3,9.5309799999999997E-3,8.8160900000000004E-3,8.4492999999999999E-3,3.3444199999999999E-3,5.0961599999999998E-3,0,0]
[{"$f":"+Flujos!A56","v":"2029-01-18"},4.9004900000000004E-3,null,"2029-01-18",6.9401699999999998E-3,8.4971999999999999E-3,9.6326199999999997E-3,9.1350700000000003E-3,6.8643200000000001E-3,9.4607300000000005E-3,8.4369100000000006E-3,8.3934400000000003E-3,3.8854599999999999E-3,4.9004900000000004E-3,0,0]
[{"$f":"+Flujos!A57","v":"2029-02-18"},4.7080000000000004E-3,null,"2029-02-18",1.032482E-2,8.9105999999999994E-3,6.11365E-3,8.2416899999999994E-3,6.7750600000000003E-3,9.3021800000000002E-3,8.6050799999999993E-3,8.2926600000000003E-3,3.7463100000000001E-3,4.7080000000000004E-3,0,0]
[{"$f":"+Flujos!A58","v":"2029-03-18"},4.5293699999999996E-3,null,"2029-03-18",1.014255E-2,7.8081899999999996E-3,8.10022E-3,5.9571199999999998E-3,6.7525900000000002E-3,9.2807500000000008E-3,8.5192800000000006E-3,8.1877200000000008E-3,3.5746300000000001E-3,4.5293699999999996E-3,0,0]
[{"$f":"+Flujos!A59","v":"2029-04-18"},4.35506E-3,null,"2029-04-18",1.0282690000000001E-2,9.6177199999999997E-3,6.3959400000000001E-3,7.9977499999999997E-3,8.7231800000000005E-3,9.1714499999999994E-3,8.4308600000000001E-3,8.1266600000000008E-3,3.4096399999999998E-3,4.35506E-3,0,0]
[{"$f":"+Flujos!A60","v":"2029-05-18"},4.1869200000000002E-3,null,"2029-05-18",1.2177250000000001E-2,7.9529400000000004E-3,9.9168999999999993E-3,6.3036899999999998E-3,8.6529599999999995E-3,8.6667299999999992E-3,8.3504500000000006E-3,8.0549599999999999E-3,3.2506900000000001E-3,4.1869200000000002E-3,0,0]
[{"$f":"+Flujos!A61","v":"2029-06-18"},4.0245300000000001E-3,null,"2029-06-18",9.1026700000000002E-3,6.8976899999999997E-3,9.3426800000000008E-3,6.7696500000000003E-3,8.6068499999999992E-3,9.0048899999999998E-3,8.2030999999999996E-3,7.9708799999999996E-3,3.0987200000000001E-3,4.0245300000000001E-3,0,0]
[{"$f":"+Flujos!A62","v":"2029-07-18"},3.8683699999999999E-3,null,"2029-07-18",8.4811699999999997E-3,7.6905599999999999E-3,5.5878999999999998E-3,6.8796400000000002E-3,8.5970999999999999E-3,8.8648500000000005E-3,8.1612400000000002E-3,7.6913900000000002E-3,2.76253E-3,3.8683699999999999E-3,0,0]
[{"$f":"+Flujos!A63","v":"2029-08-18"},3.7175400000000001E-3,null,"2029-08-18",7.9373199999999994E-3,8.7303699999999995E-3,7.3659900000000002E-3,7.0965200000000003E-3,8.4353499999999994E-3,8.7565500000000001E-3,8.0431900000000004E-3,7.8304099999999995E-3,2.8174900000000002E-3,3.7175400000000001E-3,0,0]
[{"$f":"+Flujos!A64","v":"2029-09-18"},3.5748099999999999E-3,null,"2029-09-18",8.1307700000000007E-3,6.3537400000000001E-3,6.2080199999999999E-3,4.9962599999999998E-3,7.91036E-3,8.6453899999999993E-3,7.9850500000000005E-3,7.7452600000000003E-3,2.6873700000000001E-3,3.5748099999999999E-3,0,0]
[{"$f":"+Flujos!A65","v":"2029-10-18"},3.4368100000000002E-3,null,"2029-10-18",1.16814E-2,7.02952E-3,6.0392900000000001E-3,6.0435100000000002E-3,8.2825099999999999E-3,8.5488300000000003E-3,7.8551599999999999E-3,7.6616200000000001E-3,2.5634299999999998E-3,3.4368100000000002E-3,0,0]
[{"$f":"+Flujos!A66","v":"2029-11-18"},3.2982699999999998E-3,null,"2029-11-18",7.8462900000000006E-3,6.8588199999999998E-3,5.5845199999999999E-3,5.9320400000000004E-3,8.2197299999999997E-3,8.4353099999999997E-3,7.7576700000000004E-3,7.5861499999999998E-3,2.4456600000000001E-3,3.2982699999999998E-3,0,0]
[{"$f":"+Flujos!A67","v":"2029-12-18"},{"$f":"+VLOOKUP(A67,$D$2:$N$182,MATCH($B$2,$D$2:$N$2,0),FALSE)","v":3.1661300000000001E-3},null,"2029-12-18",7.5041500000000002E-3,7.5272899999999998E-3,5.7291099999999999E-3,5.1106099999999998E-3,8.0839999999999992E-3,8.3105699999999998E-3,7.6409800000000003E-3,7.5159399999999996E-3,2.3318900000000001E-3,3.1661300000000001E-3,0,0]
[{"$f":"+Flujos!A68","v":"2030-01-18"},3.04404E-3,null,{"$f":"+A68","v":"2030-01-18"},8.8636300000000008E-3,7.8274199999999999E-3,5.8542999999999998E-3,7.05012E-3,8.02398E-3,8.1817899999999995E-3,7.1916300000000001E-3,7.4276899999999998E-3,2.2248300000000001E-3,3.04404E-3,0,0]
[{"$f":"+Flujos!A69","v":"2030-02-18"},2.9268599999999999E-3,null,"2030-02-18",7.8687500000000007E-3,5.7107E-3,5.8231999999999997E-3,7.1426099999999998E-3,7.8951200000000003E-3,8.0700800000000003E-3,7.4186E-3,7.33142E-3,2.12188E-3,2.9268599999999999E-3,0,0]
[{"$f":"+Flujos!A70","v":"2030-03-18"},2.8139900000000002E-3,null,"2030-03-18",7.1700100000000001E-3,4.9743000000000001E-3,6.3028800000000003E-3,6.3024400000000003E-3,7.77833E-3,7.9261699999999997E-3,7.3347200000000003E-3,7.2654900000000003E-3,2.0241500000000002E-3,2.8139900000000002E-3,0,0]
[{"$f":"+Flujos!A71","v":"2030-04-18"},2.7060500000000002E-3,null,"2030-04-18",7.53296E-3,4.6752199999999999E-3,4.6673599999999997E-3,5.9266199999999996E-3,7.6804400000000002E-3,7.7553199999999996E-3,7.2067600000000004E-3,7.1937199999999998E-3,1.93031E-3,2.7060500000000002E-3,0,0]
[{"$f":"+Flujos!A72","v":"2030-05-18"},2.6009800000000001E-3,null,"2030-05-18",7.9755899999999994E-3,6.0828100000000001E-3,5.4446900000000003E-3,5.1114400000000001E-3,7.5776100000000002E-3,7.2005899999999998E-3,7.0583800000000004E-3,7.0973E-3,1.8405699999999999E-3,2.6009800000000001E-3,0,0]
[{"$f":"+Flujos!A73","v":"2030-06-18"},2.5007599999999999E-3,null,"2030-06-18",5.0773499999999996E-3,6.0583499999999997E-3,5.5381099999999997E-3,5.4192900000000002E-3,7.4810299999999996E-3,7.5448499999999996E-3,6.9744500000000001E-3,7.0172699999999999E-3,1.7546199999999999E-3,2.5007599999999999E-3,0,0]
[{"$f":"+Flujos!A74","v":"2030-07-18"},2.39931E-3,null,"2030-07-18",7.9320399999999996E-3,4.6722999999999999E-3,5.7296200000000004E-3,5.3860399999999999E-3,7.33623E-3,7.4524200000000004E-3,6.8517200000000004E-3,6.7019999999999996E-3,1.470547E-2,2.39931E-3,0,0]
[{"$f":"+Flujos!A75","v":"2030-08-18"},2.3048600000000002E-3,null,"2030-08-18",6.54332E-3,5.1236299999999997E-3,4.62437E-3,6.2449100000000002E-3,7.2543800000000004E-3,7.3404100000000003E-3,6.7333999999999996E-3,6.8471299999999999E-3,0,2.3048600000000002E-3,0,0]
[{"$f":"+Flujos!A76","v":"2030-09-18"},2.3993899999999999E-3,null,"2030-09-18",5.3837700000000004E-3,4.9961900000000002E-3,5.5207800000000003E-3,4.92567E-3,6.6766999999999998E-3,7.2430200000000002E-3,6.6385300000000001E-3,6.77306E-3,0,2.3993899999999999E-3,0,0]
[{"$f":"+Flujos!A77","v":"2030-10-18"},2.6425200000000002E-3,null,"2030-10-18",6.0567499999999996E-3,6.2335200000000002E-3,5.3894900000000003E-3,6.0316600000000003E-3,7.0029100000000002E-3,7.1646799999999997E-3,6.5264700000000004E-3,6.6954900000000001E-3,0,2.6425200000000002E-3,0,0]
[{"$f":"+Flujos!A78","v":"2030-11-18"},2.5426200000000002E-3,null,"2030-11-18",6.7459099999999999E-3,4.9785999999999997E-3,4.4792699999999996E-3,4.7425999999999996E-3,6.8879400000000004E-3,7.0529900000000003E-3,6.4278900000000003E-3,6.6219299999999998E-3,0,2.5426200000000002E-3,0,0]
[{"$f":"+Flujos!A79","v":"2030-12-18"},2.4473400000000001E-3,null,"2030-12-18",5.7883199999999996E-3,3.7257200000000001E-3,5.4339799999999997E-3,5.2616700000000004E-3,6.7949300000000002E-3,6.9391799999999997E-3,6.3172799999999998E-3,6.5643699999999999E-3,0,2.4473400000000001E-3,0,0]
[{"$f":"+Flujos!A80","v":"2031-01-18"},2.3536400000000002E-3,null,"2031-01-18",5.7316700000000003E-3,4.69667E-3,4.7519399999999996E-3,6.1127000000000004E-3,6.6920599999999997E-3,6.8309E-3,5.8764200000000003E-3,6.4849499999999997E-3,0,2.3536400000000002E-3,0,0]
[{"$f":"+Flujos!A81","v":"2031-02-18"},2.2644499999999999E-3,null,"2031-02-18",4.9866299999999997E-3,4.3015600000000003E-3,4.3758199999999999E-3,4.7743300000000002E-3,6.5880799999999996E-3,6.7271900000000001E-3,6.1275499999999998E-3,6.4127999999999998E-3,0,2.2644499999999999E-3,0,0]
[{"$f":"+Flujos!A82","v":"2031-03-18"},2.1810200000000001E-3,null,"2031-03-18",4.2769499999999998E-3,4.9913199999999996E-3,3.9686699999999997E-3,5.8859200000000002E-3,6.5001599999999996E-3,6.6228299999999997E-3,6.0440700000000003E-3,6.3379700000000001E-3,0,2.1810200000000001E-3,0,0]
[{"$f":"+Flujos!A83","v":"2031-04-18"},2.09895E-3,null,"2031-04-18",4.9432399999999998E-3,4.3739599999999997E-3,4.7126900000000003E-3,5.4536400000000001E-3,6.3988400000000003E-3,6.5047300000000002E-3,5.9573899999999999E-3,6.2667399999999998E-3,0,2.09895E-3,0,0]
[{"$f":"+Flujos!A84","v":"2031-05-18"},2.0181999999999999E-3,null,"2031-05-18",5.1545999999999996E-3,4.40034E-3,4.5496199999999999E-3,4.7312700000000001E-3,6.3228800000000003E-3,5.9230400000000001E-3,5.8315499999999996E-3,6.1911099999999997E-3,0,2.0181999999999999E-3,0,0]
[{"$f":"+Flujos!A85","v":"2031-06-18"},1.94316E-3,null,"2031-06-18",4.73523E-3,4.7348900000000003E-3,3.8762900000000001E-3,5.75729E-3,6.2502E-3,6.3035399999999998E-3,5.7154500000000004E-3,6.1195599999999996E-3,0,1.94316E-3,0,0]
[{"$f":"+Flujos!A86","v":"2031-07-18"},1.52815E-3,null,"2031-07-18",5.4271199999999997E-3,4.1604199999999997E-3,5.4874700000000004E-3,4.0063399999999997E-3,6.1393799999999998E-3,6.2155400000000003E-3,5.6096799999999997E-3,5.8085899999999998E-3,0,1.52815E-3,0,0]
[{"$f":"+Flujos!A87","v":"2031-08-18"},1.7937199999999999E-3,null,"2031-08-18",4.8140600000000002E-3,3.8457299999999999E-3,5.8320400000000001E-3,4.24947E-3,6.0501399999999999E-3,6.1059699999999996E-3,5.5118199999999997E-3,5.9635299999999999E-3,0,1.7937199999999999E-3,0,0]
[{"$f":"+Flujos!A88","v":"2031-09-18"},1.7254099999999999E-3,null,"2031-09-18",3.9697400000000002E-3,4.7871199999999997E-3,3.4174399999999999E-3,4.1909299999999998E-3,5.4509099999999998E-3,5.9910400000000004E-3,5.4080500000000002E-3,5.8833100000000001E-3,0,1.7254099999999999E-3,0,0]
[{"$f":"+Flujos!A89","v":"2031-10-18"},1.65945E-3,null,"2031-10-18",6.0365200000000001E-3,4.3255100000000003E-3,4.0009199999999998E-3,4.1329599999999998E-3,5.8660300000000004E-3,5.9028300000000004E-3,5.2984399999999997E-3,5.7846900000000003E-3,0,1.65945E-3,0,0]
[{"$f":"+Flujos!A90","v":"2031-11-18"},1.5964099999999999E-3,null,"2031-11-18",5.3255999999999998E-3,3.9134900000000004E-3,2.3333300000000002E-3,0,5.7602E-3,5.8106399999999997E-3,5.2157499999999999E-3,5.7114499999999999E-3,0,1.5964099999999999E-3,0,0]
[{"$f":"+Flujos!A91","v":"2031-12-18"},1.5360300000000001E-3,null,"2031-12-18",4.3832000000000003E-3,4.4680299999999996E-3,0,0,5.6559100000000001E-3,5.6861799999999999E-3,5.1213200000000004E-3,5.6356000000000002E-3,0,1.5360300000000001E-3,0,0]
[{"$f":"+Flujos!A92","v":"2032-01-18"},1.4741699999999999E-3,null,"2032-01-18",5.8491599999999999E-3,3.78612E-3,0,0,5.5872400000000003E-3,5.5961300000000004E-3,4.67579E-3,5.5619099999999998E-3,0,1.4741699999999999E-3,0,0]
[{"$f":"+Flujos!A93","v":"2032-02-18"},1.8805570000000001E-2,null,"2032-02-18",4.2041099999999996E-3,3.7813600000000001E-3,0,0,5.4950299999999997E-3,5.5178299999999996E-3,4.9552199999999998E-3,5.4870300000000004E-3,0,1.8805570000000001E-2,0,0]
[{"$f":"+Flujos!A94","v":"2032-03-18"},0,null,"2032-03-18",4.5144599999999997E-3,4.2246999999999996E-3,0,0,5.3983900000000003E-3,5.4466999999999996E-3,4.8737600000000004E-3,5.4100900000000002E-3,0,0,0,0]
[{"$f":"+Flujos!A95","v":"2032-04-18"},0,null,"2032-04-18",5.23661E-3,3.8647400000000002E-3,0,0,5.3298099999999999E-3,5.3727799999999997E-3,4.7790799999999998E-3,5.3366200000000003E-3,0,0,0,0]
[{"$f":"+Flujos!A96","v":"2032-05-18"},0,null,"2032-05-18",4.5408100000000002E-3,4.88961E-3,0,0,5.2626000000000001E-3,4.7670300000000002E-3,4.6955299999999998E-3,5.2579300000000001E-3,0,0,0,0]
[{"$f":"+Flujos!A97","v":"2032-06-18"},0,null,"2032-06-18",4.8780799999999999E-3,2.3170199999999999E-3,0,0,5.1972499999999996E-3,5.1971099999999996E-3,4.6106400000000001E-3,5.1813800000000002E-3,0,0,0,0]
[{"$f":"+Flujos!A98","v":"2032-07-18"},0,null,"2032-07-18",4.3362100000000001E-3,0,0,0,5.1255099999999998E-3,5.1105200000000003E-3,4.5125800000000004E-3,4.8591399999999996E-3,0,0,0,0]
[{"$f":"+Flujos!A99","v":"2032-08-18"},{"$f":"+VLOOKUP(A99,$D$2:$N$182,MATCH($B$2,$D$2:$N$2,0),FALSE)","v":0},null,"2032-08-18",5.3281300000000004E-3,0,0,0,5.0676499999999999E-3,5.0310299999999997E-3,4.4134200000000004E-3,5.0118599999999999E-3,0,0,0,0]
[{"$f":"+Flujos!A100","v":"2032-09-18"},0,null,"2032-09-18",4.9703000000000004E-3,0,0,0,4.4865800000000004E-3,4.9605600000000001E-3,4.32805E-3,4.9104500000000002E-3,0,0,0,0]
[{"$f":"+Flujos!A101","v":"2032-10-18"},0,null,"2032-10-18",4.1854099999999997E-3,0,0,0,4.94101E-3,4.88449E-3,4.2588399999999998E-3,4.78796E-3,0,0,0,0]
[{"$f":"+Flujos!A102","v":"2032-11-18"},0,null,"2032-11-18",4.1455299999999997E-3,0,0,0,4.8891000000000004E-3,4.82053E-3,4.1690599999999996E-3,0,0,0,0,0]
[{"$f":"+Flujos!A103","v":"2032-12-18"},0,null,"2032-12-18",1.2414500000000001E-3,0,0,0,4.8394299999999996E-3,4.7623800000000001E-3,4.0675499999999996E-3,0,0,0,0,0]
[{"$f":"+Flujos!A104","v":"2033-01-18"},0,null,"2033-01-18",0,0,0,0,4.7771699999999999E-3,4.70631E-3,3.5857200000000001E-3,0,0,0,0,0]
[{"$f":"+Flujos!A105","v":"2033-02-18"},0,null,"2033-02-18",0,0,0,0,4.7260899999999996E-3,4.6536499999999996E-3,2.6339900000000001E-3,0,0,0,0,0]
[{"$f":"+Flujos!A106","v":"2033-03-18"},0,null,"2033-03-18",0,0,0,0,4.6748099999999997E-3,4.6013800000000004E-3,0,0,0,0,0,0]
[{"$f":"+Flujos!A107","v":"2033-04-18"},0,null,"2033-04-18",0,0,0,0,4.62729E-3,4.5518599999999996E-3,0,0,0,0,0,0]
[{"$f":"+Flujos!A108","v":"2033-05-18"},0,null,"2033-05-18",0,0,0,0,4.5709799999999997E-3,3.9485600000000003E-3,0,0,0,0,0,0]
[{"$f":"+Flujos!A109","v":"2033-06-18"},0,null,"2033-06-18",0,0,0,0,4.5157699999999997E-3,4.4410200000000004E-3,0,0,0,0,0,0]
[{"$f":"+Flujos!A110","v":"2033-07-18"},0,null,"2033-07-18",0,0,0,0,4.4639900000000001E-3,4.3874300000000003E-3,0,0,0,0,0,0]
[{"$f":"+Flujos!A111","v":"2033-08-18"},0,null,"2033-08-18",0,0,0,0,4.4144400000000004E-3,4.3309000000000004E-3,0,0,0,0,0,0]
[{"$f":"+Flujos!A112","v":"2033-09-18"},0,null,"2033-09-18",0,0,0,0,3.81278E-3,4.2758500000000003E-3,0,0,0,0,0,0]
[{"$f":"+Flujos!A113","v":"2033-10-18"},0,null,"2033-10-18",0,0,0,0,4.3189300000000003E-3,4.2183300000000002E-3,0,0,0,0,0,0]
[{"$f":"+Flujos!A114","v":"2033-11-18"},0,null,"2033-11-18",0,0,0,0,4.2693200000000001E-3,4.1618999999999996E-3,0,0,0,0,0,0]
[{"$f":"+Flujos!A115","v":"2033-12-18"},0,null,"2033-12-18",0,0,0,0,4.21616E-3,4.1086400000000002E-3,0,0,0,0,0,0]
[{"$f":"+Flujos!A116","v":"2034-01-18"},0,null,"2034-01-18",0,0,0,0,4.1697899999999996E-3,4.0452099999999996E-3,0,0,0,0,0,0]
[{"$f":"+Flujos!A117","v":"2034-02-18"},0,null,"2034-02-18",0,0,0,0,4.1198099999999998E-3,3.9877300000000001E-3,0,0,0,0,0,0]
[{"$f":"+Flujos!A118","v":"2034-03-18"},0,null,"2034-03-18",0,0,0,0,4.0698100000000001E-3,3.9095099999999997E-3,0,3.18338E-3,0,0,0,0]
[{"$f":"+Flujos!A119","v":"2034-04-18"},0,null,"2034-04-18",0,0,0,0,4.0235499999999999E-3,0,0,3.4461800000000001E-3,0,0,0,0]
[{"$f":"+Flujos!A120","v":"2034-05-18"},0,null,"2034-05-18",0,0,0,0,3.9736299999999997E-3,0,0,3.4048400000000001E-3,0,0,0,0]
[{"$f":"+Flujos!A121","v":"2034-06-18"},0,null,"2034-06-18",0,0,0,0,1.1413000000000001E-4,0,0,3.3664599999999999E-3,0,0,0,0]
[{"$f":"+Flujos!A122","v":"2034-07-18"},0,null,"2034-07-18",0,0,0,0,0,0,0,3.04587E-3,0,0,0,0]
[{"$f":"+Flujos!A123","v":"2034-08-18"},0,null,"2034-08-18",0,0,0,0,0,0,0,3.2837600000000002E-3,0,0,0,0]
[{"$f":"+Flujos!A124","v":"2034-09-18"},0,null,"2034-09-18",0,0,0,0,0,0,0,2.7890499999999999E-3,0,0,0,0]
[{"$f":"+Flujos!A125","v":"2034-10-18"},0,null,"2034-10-18",0,0,0,0,0,0,0,0,0,0,0,0]
[{"$f":"+Flujos!A126","v":"2034-11-18"},0,null,"2034-11-18",0,0,0,0,0,0,0,0,0,0,0,0]
[{"$f":"+Flujos!A127","v":"2034-12-18"},0,null,"2034-12-18",0,0,0,0,0,0,0,0,0,0,0,0]
[{"$f":"+Flujos!A128","v":"2035-01-18"},0,null,"2035-01-18",0,0,0,0,0,0,0,0,0,0,0,0]
[{"$f":"+Flujos!A129","v":"2035-02-18"},0,null,"2035-02-18",0,0,0,0,0,0,0,0,0,0,0,0]
[{"$f":"+Flujos!A130","v":"2035-03-18"},0,null,"2035-03-18",0,0,0,0,0,0,0,0,0,0,0,0]
[{"$f":"+Flujos!A131","v":"2035-04-18"},{"$f":"+VLOOKUP(A131,$D$2:$N$182,MATCH($B$2,$D$2:$N$2,0),FALSE)","v":0},null,"2035-04-18",0,0,0,0,0,0,0,0,0,0,0,0]
[{"$f":"+Flujos!A132","v":"2035-05-18"},0,null,{"$f":"+A132","v":"2035-05-18"},0,0,0,0,0,0,0,0,0,0,0,0]
[{"$f":"+Flujos!A133","v":"2035-06-18"},0,null,"2035-06-18",0,0,0,0,0,0,0,0,0,0,0,0]
[{"$f":"+Flujos!A134","v":"2035-07-18"},0,null,"2035-07-18",0,0,0,0,0,0,0,0,0,0,0,0]
[{"$f":"+Flujos!A135","v":"2035-08-18"},0,null,"2035-08-18",0,0,0,0,0,0,0,0,0,0,0,0]
[{"$f":"+Flujos!A136","v":"2035-09-18"},0,null,"2035-09-18",0,0,0,0,0,0,0,0,0,0,0,0]
[{"$f":"+Flujos!A137","v":"2035-10-18"},0,null,"2035-10-18",0,0,0,0,0,0,0,0,0,0,0,0]
[{"$f":"+Flujos!A138","v":"2035-11-18"},0,null,"2035-11-18",0,0,0,0,0,0,0,0,0,0,0,0]
[{"$f":"+Flujos!A139","v":"2035-12-18"},0,null,"2035-12-18",0,0,0,0,0,0,0,0,0,0,0,0]
[{"$f":"+Flujos!A140","v":"2036-01-18"},0,null,"2036-01-18",0,0,0,0,0,0,0,0,0,0,0,0]
[{"$f":"+Flujos!A141","v":"2036-02-18"},0,null,"2036-02-18",0,0,0,0,0,0,0,0,0,0,0,0]
[{"$f":"+Flujos!A142","v":"2036-03-18"},0,null,"2036-03-18",0,0,0,0,0,0,0,0,0,0,0,0]
[{"$f":"+Flujos!A143","v":"2036-04-18"},0,null,"2036-04-18",0,0,0,0,0,0,0,0,0,0,0,0]
[{"$f":"+Flujos!A144","v":"2036-05-18"},0,null,"2036-05-18",0,0,0,0,0,0,0,0,0,0,0,0]
[{"$f":"+Flujos!A145","v":"2036-06-18"},0,null,"2036-06-18",0,0,0,0,0,0,0,0,0,0,0,0]
[{"$f":"+Flujos!A146","v":"2036-07-18"},0,null,"2036-07-18",0,0,0,0,0,0,0,0,0,0,0,0]
[{"$f":"+Flujos!A147","v":"2036-08-18"},0,null,"2036-08-18",0,0,0,0,0,0,0,0,0,0,0,0]
[{"$f":"+Flujos!A148","v":"2036-09-18"},0,null,"2036-09-18",0,0,0,0,0,0,0,0,0,0,0,0]
[{"$f":"+Flujos!A149","v":"2036-10-18"},0,null,"2036-10-18",0,0,0,0,0,0,0,0,0,0,0,0]
[{"$f":"+Flujos!A150","v":"2036-11-18"},0,null,"2036-11-18",0,0,0,0,0,0,0,0,0,0,0,0]
[{"$f":"+Flujos!A151","v":"2036-12-18"},0,null,"2036-12-18",0,0,0,0,0,0,0,0,0,0,0,0]
[{"$f":"+Flujos!A152","v":"2037-01-18"},0,null,"2037-01-18",0,0,0,0,0,0,0,0,0,0,0,0]
[{"$f":"+Flujos!A153","v":"2037-02-18"},0,null,"2037-02-18",0,0,0,0,0,0,0,0,0,0,0,0]
[{"$f":"+Flujos!A154","v":"2037-03-18"},0,null,"2037-03-18",0,0,0,0,0,0,0,0,0,0,0,0]
[{"$f":"+Flujos!A155","v":"2037-04-18"},0,null,"2037-04-18",0,0,0,0,0,0,0,0,0,0,0,0]
[{"$f":"+Flujos!A156","v":"2037-05-18"},0,null,"2037-05-18",0,0,0,0,0,0,0,0,0,0,0,0]
[{"$f":"+Flujos!A157","v":"2037-06-18"},0,null,"2037-06-18",0,0,0,0,0,0,0,0,0,0,0,0]
[{"$f":"+Flujos!A158","v":"2037-07-18"},0,null,"2037-07-18",0,0,0,0,0,0,0,0,0,0,0,0]
[{"$f":"+Flujos!A159","v":"2037-08-18"},0,null,"2037-08-18",0,0,0,0,0,0,0,0,0,0,0,0]
[{"$f":"+Flujos!A160","v":"2037-09-18"},0,null,"2037-09-18",0,0,0,0,0,0,0,0,0,0,0,0]
[{"$f":"+Flujos!A161","v":"2037-10-18"},0,null,"2037-10-18",0,0,0,0,0,0,0,0,0,0,0,0]
[{"$f":"+Flujos!A162","v":"2037-11-18"},0,null,"2037-11-18",0,0,0,0,0,0,0,0,0,0,0,0]
[{"$f":"+Flujos!A163","v":"2037-12-18"},{"$f":"+VLOOKUP(A163,$D$2:$N$182,MATCH($B$2,$D$2:$N$2,0),FALSE)","v":0},null,"2037-12-18",0,0,0,0,0,0,0,0,0,0,0,0]
[{"$f":"+Flujos!A164","v":"2038-01-18"},0,null,"2038-01-18",0,0,0,0,0,0,0,0,0,0,0,0]
[{"$f":"+Flujos!A165","v":"2038-02-18"},0,null,"2038-02-18",0,0,0,0,0,0,0,0,0,0,0,0]
[{"$f":"+Flujos!A166","v":"2038-03-18"},0,null,"2038-03-18",0,0,0,0,0,0,0,0,0,0,0,0]
[{"$f":"+Flujos!A167","v":"2038-04-18"},0,null,"2038-04-18",0,0,0,0,0,0,0,0,0,0,0,0]
[{"$f":"+Flujos!A168","v":"2038-05-18"},0,null,"2038-05-18",0,0,0,0,0,0,0,0,0,0,0,0]
[{"$f":"+Flujos!A169","v":"2038-06-18"},0,null,"2038-06-18",0,0,0,0,0,0,0,0,0,0,0,0]
[{"$f":"+Flujos!A170","v":"2038-07-18"},0,null,"2038-07-18",0,0,0,0,0,0,0,0,0,0,0,0]
[{"$f":"+Flujos!A171","v":"2038-08-18"},0,null,"2038-08-18",0,0,0,0,0,0,0,0,0,0,0,0]
[{"$f":"+Flujos!A172","v":"2038-09-18"},0,null,"2038-09-18",0,0,0,0,0,0,0,0,0,0,0,0]
[{"$f":"+Flujos!A173","v":"2038-10-18"},0,null,"2038-10-18",0,0,0,0,0,0,0,0,0,0,0,0]
[{"$f":"+Flujos!A174","v":"2038-11-18"},0,null,"2038-11-18",0,0,0,0,0,0,0,0,0,0,0,0]
[{"$f":"+Flujos!A175","v":"2038-12-18"},0,null,"2038-12-18",0,0,0,0,0,0,0,0,0,0,0,0]
[{"$f":"+Flujos!A176","v":"2039-01-18"},0,null,"2039-01-18",0,0,0,0,0,0,0,0,0,0,0,0]
[{"$f":"+Flujos!A177","v":"2039-02-18"},0,null,"2039-02-18",0,0,0,0,0,0,0,0,0,0,0,0]
[{"$f":"+Flujos!A178","v":"2039-03-18"},0,null,"2039-03-18",0,0,0,0,0,0,0,0,0,0,0,0]
[{"$f":"+Flujos!A179","v":"2039-04-18"},0,null,"2039-04-18",0,0,0,0,0,0,0,0,0,0,0,0]
[{"$f":"+Flujos!A180","v":"2039-05-18"},0,null,"2039-05-18",0,0,0,0,0,0,0,0,0,0,0,0]
[{"$f":"+Flujos!A181","v":"2039-06-18"},0,null,"2039-06-18",0,0,0,0,0,0,0,0,0,0,0,0]
[{"$f":"+Flujos!A182","v":"2039-07-18"},0,null,"2039-07-18",0,0,0,0,0,0,0,0,0,0,0,0]
[null,{"$error":"#N/A"},null,null,{"$f":"SUM(E3:E182)","v":0.99999999999999967},0.99999999999999978,1,0.99999999999999989,0.99999999999999967,0.99999999999999978,0.99999999999999989,{"$f":"SUM(L3:L182)","v":0.99999999999999922},{"$f":"SUM(M3:M182)","v":1}]
[null,{"$error":"#N/A"},null,null,{"$f":"1-E183","v":0},0,0,0,0,0,0,{"$f":"1-L183","v":0},{"$f":"1-M183","v":0}]
[null,null,null,null,null,null,null,null,null,null,null,null,null,0]
[null,null,null,null,null,null,null,null,null,null,null,null,null,0]
[null,null,null,null,null,null,null,null,null,null,null,null,null,0]
[null,null,null,null,null,null,null,null,null,null,null,null,null,0]
[null,null,null,null,null,null,null,null,null,null,null,null,null,0]
[null,null,null,null,null,null,null,null,null,null,null,null,null,0]
[null,null,null,null,null,null,null,null,null,null,null,null,null,0]
[null,null,null,null,null,null,null,null,null,null,null,null,null,0]
[null,null,null,null,null,null,null,null,null,null,null,null,null,0]
[null,null,null,null,null,null,null,null,null,null,null,null,null,0]
[null,null,null,null,null,null,null,null,null,null,null,null,null,0]
[null,null,null,null,null,null,null,null,null,null,null,null,null,0]
[null,null,null,null,null,null,null,null,null,null,null,null,null,0]
[null,null,null,null,null,null,null,null,null,null,null,null,null,0]
[null,null,null,null,null,null,null,null,null,null,null,null,null,0]
[null,null,null,null,null,null,null,null,null,null,null,null,null,0]
[null,null,null,null,null,null,null,null,null,null,null,null,null,0]
[null,null,null,null,null,null,null,null,null,null,null,null,null,0]
[null,null,null,null,null,null,null,null,null,null,null,null,null,0]
[null,null,null,null,null,null,null,null,null,null,null,null,null,0]
[null,null,null,null,null,null,null,null,null,null,null,null,null,0]
[null,null,null,null,null,null,null,null,null,null,null,null,null,0]
[null,null,null,null,null,null,null,null,null,null,null,null,null,0]
[null,null,null,null,null,null,null,null,null,null,null,null,null,0]
[null,null,null,null,null,null,null,null,null,null,null,null,null,0]
[null,null,null,null,null,null,null,null,null,null,null,null,null,0]
[null,null,null,null,null,null,null,null,null,null,null,null,null,0]
[null,null,null,null,null,null,null,null,null,null,null,null,null,0]
[null,null,null,null,null,null,null,null,null,null,null,null,null,0]
[null,null,null,null,null,null,null,null,null,null,null,null,null,0]
[null,null,null,null,null,null,null,null,null,null,null,null,null,0]
[null,null,null,null,null,null,null,null,null,null,null,null,null,0]
[null,null,null,null,null,null,null,null,null,null,null,null,null,0]
[null,null,null,null,null,null,null,null,null,null,null,null,null,0]
[null,null,null,null,null,null,null,null,null,null,null,null,null,0]
[null,null,null,null,null,null,null,null,null,null,null,null,null,0]
[null,null,null,null,null,null,null,null,null,null,null,null,null,0]
[null,null,null,null,null,null,null,null,null,null,null,null,null,0]
[null,null,null,null,null,null,null,null,null,null,null,null,null,0]
[null,null,null,null,null,null,null,null,null,null,null,null,null,0]
[null,null,null,null,null,null,null,null,null,null,null,null,null,0]
[null,null,null,null,null,null,null,null,null,null,null,null,null,0]
[null,null,null,null,null,null,null,null,null,null,null,null,null,0]
[null,null,null,null,null,null,null,null,null,null,null,null,null,0]
[null,null,null,null,null,null,null,null,null,null,null,null,null,0]
[null,null,null,null,null,null,null,null,null,null,null,null,null,0]
[null,null,null,null,null,null,null,null,null,null,null,null,null,0]
[null,null,null,null,null,null,null,null,null,null,null,null,null,0]
[null,null,null,null,null,null,null,null,null,null,null,null,null,0]
[null,null,null,null,null,null,null,null,null,null,null,null,null,0]
[null,null,null,null,null,null,null,null,null,null,null,null,null,0]
[null,null,null,null,null,null,null,null,null,null,null,null,null,0]
[null,null,null,null,null,null,null,null,null,null,null,null,null,0]
[null,null,null,null,null,null,null,null,null,null,null,null,null,0]

{"sheet":"Tablas","index":5,"n_rows":181,"n_cols":5,"rows_kept":181,"cut":false,"hidden":true,"merged":[]}
["FECHA",{"$f":"+CALCULADORA!C9","v":"TIPS N23 A"},"Valoración"]
[{"$f":"+'Tabla de Amortizacion'!A3","v":"2024-08-18"},{"$f":"+ROUND(C2,8)","v":2.7082479999999999E-2},{"$f":"+VLOOKUP(A2,'Tabla de Amortizacion'!$D$2:$P$182,MATCH(Tablas!$B$1,'Tabla de Amortizacion'!$D$2:$P$2,0))","v":2.7082479999999999E-2},null,{"$f":"IF([1]CALCULADORA!$F$10=\"Contractual\",ROUND('[1]Tabla de Amortizacion'!C3,8),IF([1]CALCULADORA!$F$10=\"6% (Medio)\",ROUND('[1]Tabla de Amortizacion'!F3,8),IF([1]CALCULADORA!$F$10=\"10% (Medio Alto)\",ROUND('[1]Tabla de Amortizacion'!H3,8),IF([1]CALCULADORA!$F$10=\"14% (Alto)\",ROUND('[1]Tabla de Amortizacion'!#REF!,8),IF([1]CALCULADORA!$F$10=20%,ROUND('[1]Tabla de Amortizacion'!#REF!,8),ROUND('[1]Tabla de Amortizacion'!K3,8))))))","v":0}]
[{"$f":"EDATE(A2,1)","v":"2024-09-18"},{"$f":"+ROUND(C3,8)","v":2.8401409999999998E-2},{"$f":"+VLOOKUP(A3,'Tabla de Amortizacion'!$D$2:$P$182,MATCH(Tablas!$B$1,'Tabla de Amortizacion'!$D$2:$P$2,0))","v":2.8401409999999998E-2},null,{"$f":"IF([1]CALCULADORA!$F$10=\"Contractual\",ROUND('[1]Tabla de Amortizacion'!C4,8),IF([1]CALCULADORA!$F$10=\"6% (Medio)\",ROUND('[1]Tabla de Amortizacion'!F4,8),IF([1]CALCULADORA!$F$10=\"10% (Medio Alto)\",ROUND('[1]Tabla de Amortizacion'!H4,8),IF([1]CALCULADORA!$F$10=\"14% (Alto)\",ROUND('[1]Tabla de Amortizacion'!#REF!,8),IF([1]CALCULADORA!$F$10=20%,ROUND('[1]Tabla de Amortizacion'!#REF!,8),ROUND('[1]Tabla de Amortizacion'!K4,8))))))","v":0}]
["2024-10-18",3.5727059999999998E-2,{"$f":"+VLOOKUP(A4,'Tabla de Amortizacion'!$D$2:$P$182,MATCH(Tablas!$B$1,'Tabla de Amortizacion'!$D$2:$P$2,0))","v":3.5727059999999998E-2},null,{"$f":"IF([1]CALCULADORA!$F$10=\"Contractual\",ROUND('[1]Tabla de Amortizacion'!C5,8),IF([1]CALCULADORA!$F$10=\"6% (Medio)\",ROUND('[1]Tabla de Amortizacion'!F5,8),IF([1]CALCULADORA!$F$10=\"10% (Medio Alto)\",ROUND('[1]Tabla de Amortizacion'!H5,8),IF([1]CALCULADORA!$F$10=\"14% (Alto)\",ROUND('[1]Tabla de Amortizacion'!#REF!,8),IF([1]CALCULADORA!$F$10=20%,ROUND('[1]Tabla de Amortizacion'!#REF!,8),ROUND('[1]Tabla de Amortizacion'!K5,8))))))","v":0}]
["2024-11-18",3.6433880000000002E-2,{"$f":"+VLOOKUP(A5,'Tabla de Amortizacion'!$D$2:$P$182,MATCH(Tablas!$B$1,'Tabla de Amortizacion'!$D$2:$P$2,0))","v":3.6433880000000002E-2},null,{"$f":"IF([1]CALCULADORA!$F$10=\"Contractual\",ROUND('[1]Tabla de Amortizacion'!C6,8),IF([1]CALCULADORA!$F$10=\"6% (Medio)\",ROUND('[1]Tabla de Amortizacion'!F6,8),IF([1]CALCULADORA!$F$10=\"10% (Medio Alto)\",ROUND('[1]Tabla de Amortizacion'!H6,8),IF([1]CALCULADORA!$F$10=\"14% (Alto)\",ROUND('[1]Tabla de Amortizacion'!#REF!,8),IF([1]CALCULADORA!$F$10=20%,ROUND('[1]Tabla de Amortizacion'!#REF!,8),ROUND('[1]Tabla de Amortizacion'!K6,8))))))","v":0}]
["2024-12-18",2.940951E-2,{"$f":"+VLOOKUP(A6,'Tabla de Amortizacion'!$D$2:$P$182,MATCH(Tablas!$B$1,'Tabla de Amortizacion'!$D$2:$P$2,0))","v":2.940951E-2},null,{"$f":"IF([1]CALCULADORA!$F$10=\"Contractual\",ROUND('[1]Tabla de Amortizacion'!C7,8),IF([1]CALCULADORA!$F$10=\"6% (Medio)\",ROUND('[1]Tabla de Amortizacion'!F7,8),IF([1]CALCULADORA!$F$10=\"10% (Medio Alto)\",ROUND('[1]Tabla de Amortizacion'!H7,8),IF([1]CALCULADORA!$F$10=\"14% (Alto)\",ROUND('[1]Tabla de Amortizacion'!#REF!,8),IF([1]CALCULADORA!$F$10=20%,ROUND('[1]Tabla de Amortizacion'!#REF!,8),ROUND('[1]Tabla de Amortizacion'!K7,8))))))","v":0}]
["2025-01-18",3.8722369999999999E-2,{"$f":"+VLOOKUP(A7,'Tabla de Amortizacion'!$D$2:$P$182,MATCH(Tablas!$B$1,'Tabla de Amortizacion'!$D$2:$P$2,0))","v":3.8722369999999999E-2},null,{"$f":"IF([1]CALCULADORA!$F$10=\"Contractual\",ROUND('[1]Tabla de Amortizacion'!C8,8),IF([1]CALCULADORA!$F$10=\"6% (Medio)\",ROUND('[1]Tabla de Amortizacion'!F8,8),IF([1]CALCULADORA!$F$10=\"10% (Medio Alto)\",ROUND('[1]Tabla de Amortizacion'!H8,8),IF([1]CALCULADORA!$F$10=\"14% (Alto)\",ROUND('[1]Tabla de Amortizacion'!#REF!,8),IF([1]CALCULADORA!$F$10=20%,ROUND('[1]Tabla de Amortizacion'!#REF!,8),ROUND('[1]Tabla de Amortizacion'!K8,8))))))","v":0}]
["2025-02-18",4.3933670000000001E-2,{"$f":"+VLOOKUP(A8,'Tabla de Amortizacion'!$D$2:$P$182,MATCH(Tablas!$B$1,'Tabla de Amortizacion'!$D$2:$P$2,0))","v":4.3933670000000001E-2},null,{"$f":"IF([1]CALCULADORA!$F$10=\"Contractual\",ROUND('[1]Tabla de Amortizacion'!C9,8),IF([1]CALCULADORA!$F$10=\"6% (Medio)\",ROUND('[1]Tabla de Amortizacion'!F9,8),IF([1]CALCULADORA!$F$10=\"10% (Medio Alto)\",ROUND('[1]Tabla de Amortizacion'!H9,8),IF([1]CALCULADORA!$F$10=\"14% (Alto)\",ROUND('[1]Tabla de Amortizacion'!#REF!,8),IF([1]CALCULADORA!$F$10=20%,ROUND('[1]Tabla de Amortizacion'!#REF!,8),ROUND('[1]Tabla de Amortizacion'!K9,8))))))","v":0}]
["2025-03-18",2.8550269999999999E-2,{"$f":"+VLOOKUP(A9,'Tabla de Amortizacion'!$D$2:$P$182,MATCH(Tablas!$B$1,'Tabla de Amortizacion'!$D$2:$P$2,0))","v":2.8550269999999999E-2},null,{"$f":"IF([1]CALCULADORA!$F$10=\"Contractual\",ROUND('[1]Tabla de Amortizacion'!C10,8),IF([1]CALCULADORA!$F$10=\"6% (Medio)\",ROUND('[1]Tabla de Amortizacion'!F10,8),IF([1]CALCULADORA!$F$10=\"10% (Medio Alto)\",ROUND('[1]Tabla de Amortizacion'!H10,8),IF([1]CALCULADORA!$F$10=\"14% (Alto)\",ROUND('[1]Tabla de Amortizacion'!#REF!,8),IF([1]CALCULADORA!$F$10=20%,ROUND('[1]Tabla de Amortizacion'!#REF!,8),ROUND('[1]Tabla de Amortizacion'!K10,8))))))","v":0}]
["2025-04-18",2.7539569999999999E-2,{"$f":"+VLOOKUP(A10,'Tabla de Amortizacion'!$D$2:$P$182,MATCH(Tablas!$B$1,'Tabla de Amortizacion'!$D$2:$P$2,0))","v":2.7539569999999999E-2},null,{"$f":"IF([1]CALCULADORA!$F$10=\"Contractual\",ROUND('[1]Tabla de Amortizacion'!C11,8),IF([1]CALCULADORA!$F$10=\"6% (Medio)\",ROUND('[1]Tabla de Amortizacion'!F11,8),IF([1]CALCULADORA!$F$10=\"10% (Medio Alto)\",ROUND('[1]Tabla de Amortizacion'!H11,8),IF([1]CALCULADORA!$F$10=\"14% (Alto)\",ROUND('[1]Tabla de Amortizacion'!#REF!,8),IF([1]CALCULADORA!$F$10=20%,ROUND('[1]Tabla de Amortizacion'!#REF!,8),ROUND('[1]Tabla de Amortizacion'!K11,8))))))","v":0}]
["2025-05-18",2.6554560000000001E-2,{"$f":"+VLOOKUP(A11,'Tabla de Amortizacion'!$D$2:$P$182,MATCH(Tablas!$B$1,'Tabla de Amortizacion'!$D$2:$P$2,0))","v":2.6554560000000001E-2},null,{"$f":"IF([1]CALCULADORA!$F$10=\"Contractual\",ROUND('[1]Tabla de Amortizacion'!C12,8),IF([1]CALCULADORA!$F$10=\"6% (Medio)\",ROUND('[1]Tabla de Amortizacion'!F12,8),IF([1]CALCULADORA!$F$10=\"10% (Medio Alto)\",ROUND('[1]Tabla de Amortizacion'!H12,8),IF([1]CALCULADORA!$F$10=\"14% (Alto)\",ROUND('[1]Tabla de Amortizacion'!#REF!,8),IF([1]CALCULADORA!$F$10=20%,ROUND('[1]Tabla de Amortizacion'!#REF!,8),ROUND('[1]Tabla de Amortizacion'!K12,8))))))","v":0}]
["2025-06-18",2.5602090000000001E-2,{"$f":"+VLOOKUP(A12,'Tabla de Amortizacion'!$D$2:$P$182,MATCH(Tablas!$B$1,'Tabla de Amortizacion'!$D$2:$P$2,0))","v":2.5602090000000001E-2},null,{"$f":"IF([1]CALCULADORA!$F$10=\"Contractual\",ROUND('[1]Tabla de Amortizacion'!C13,8),IF([1]CALCULADORA!$F$10=\"6% (Medio)\",ROUND('[1]Tabla de Amortizacion'!F13,8),IF([1]CALCULADORA!$F$10=\"10% (Medio Alto)\",ROUND('[1]Tabla de Amortizacion'!H13,8),IF([1]CALCULADORA!$F$10=\"14% (Alto)\",ROUND('[1]Tabla de Amortizacion'!#REF!,8),IF([1]CALCULADORA!$F$10=20%,ROUND('[1]Tabla de Amortizacion'!#REF!,8),ROUND('[1]Tabla de Amortizacion'!K13,8))))))","v":0}]
["2025-07-18",2.468364E-2,{"$f":"+VLOOKUP(A13,'Tabla de Amortizacion'!$D$2:$P$182,MATCH(Tablas!$B$1,'Tabla de Amortizacion'!$D$2:$P$2,0))","v":2.468364E-2},null,{"$f":"IF([1]CALCULADORA!$F$10=\"Contractual\",ROUND('[1]Tabla de Amortizacion'!C14,8),IF([1]CALCULADORA!$F$10=\"6% (Medio)\",ROUND('[1]Tabla de Amortizacion'!F14,8),IF([1]CALCULADORA!$F$10=\"10% (Medio Alto)\",ROUND('[1]Tabla de Amortizacion'!H14,8),IF([1]CALCULADORA!$F$10=\"14% (Alto)\",ROUND('[1]Tabla de Amortizacion'!#REF!,8),IF([1]CALCULADORA!$F$10=20%,ROUND('[1]Tabla de Amortizacion'!#REF!,8),ROUND('[1]Tabla de Amortizacion'!K14,8))))))","v":0}]
["2025-08-18",2.3787719999999998E-2,{"$f":"+VLOOKUP(A14,'Tabla de Amortizacion'!$D$2:$P$182,MATCH(Tablas!$B$1,'Tabla de Amortizacion'!$D$2:$P$2,0))","v":2.3787719999999998E-2},null,{"$f":"IF([1]CALCULADORA!$F$10=\"Contractual\",ROUND('[1]Tabla de Amortizacion'!C15,8),IF([1]CALCULADORA!$F$10=\"6% (Medio)\",ROUND('[1]Tabla de Amortizacion'!F15,8),IF([1]CALCULADORA!$F$10=\"10% (Medio Alto)\",ROUND('[1]Tabla de Amortizacion'!H15,8),IF([1]CALCULADORA!$F$10=\"14% (Alto)\",ROUND('[1]Tabla de Amortizacion'!#REF!,8),IF([1]CALCULADORA!$F$10=20%,ROUND('[1]Tabla de Amortizacion'!#REF!,8),ROUND('[1]Tabla de Amortizacion'!K15,8))))))","v":0}]
["2025-09-18",2.2936399999999999E-2,{"$f":"+VLOOKUP(A15,'Tabla de Amortizacion'!$D$2:$P$182,MATCH(Tablas!$B$1,'Tabla de Amortizacion'!$D$2:$P$2,0))","v":2.2936399999999999E-2},null,{"$f":"IF([1]CALCULADORA!$F$10=\"Contractual\",ROUND('[1]Tabla de Amortizacion'!C16,8),IF([1]CALCULADORA!$F$10=\"6% (Medio)\",ROUND('[1]Tabla de Amortizacion'!F16,8),IF([1]CALCULADORA!$F$10=\"10% (Medio Alto)\",ROUND('[1]Tabla de Amortizacion'!H16,8),IF([1]CALCULADORA!$F$10=\"14% (Alto)\",ROUND('[1]Tabla de Amortizacion'!#REF!,8),IF([1]CALCULADORA!$F$10=20%,ROUND('[1]Tabla de Amortizacion'!#REF!,8),ROUND('[1]Tabla de Amortizacion'!K16,8))))))","v":0}]
["2025-10-18",2.2106730000000002E-2,{"$f":"+VLOOKUP(A16,'Tabla de Amortizacion'!$D$2:$P$182,MATCH(Tablas!$B$1,'Tabla de Amortizacion'!$D$2:$P$2,0))","v":2.2106730000000002E-2},null,{"$f":"IF([1]CALCULADORA!$F$10=\"Contractual\",ROUND('[1]Tabla de Amortizacion'!C17,8),IF([1]CALCULADORA!$F$10=\"6% (Medio)\",ROUND('[1]Tabla de Amortizacion'!F17,8),IF([1]CALCULADORA!$F$10=\"10% (Medio Alto)\",ROUND('[1]Tabla de Amortizacion'!H17,8),IF([1]CALCULADORA!$F$10=\"14% (Alto)\",ROUND('[1]Tabla de Amortizacion'!#REF!,8),IF([1]CALCULADORA!$F$10=20%,ROUND('[1]Tabla de Amortizacion'!#REF!,8),ROUND('[1]Tabla de Amortizacion'!K17,8))))))","v":0}]
["2025-11-18",2.1304989999999999E-2,{"$f":"+VLOOKUP(A17,'Tabla de Amortizacion'!$D$2:$P$182,MATCH(Tablas!$B$1,'Tabla de Amortizacion'!$D$2:$P$2,0))","v":2.1304989999999999E-2},null,{"$f":"IF([1]CALCULADORA!$F$10=\"Contractual\",ROUND('[1]Tabla de Amortizacion'!C18,8),IF([1]CALCULADORA!$F$10=\"6% (Medio)\",ROUND('[1]Tabla de Amortizacion'!F18,8),IF([1]CALCULADORA!$F$10=\"10% (Medio Alto)\",ROUND('[1]Tabla de Amortizacion'!H18,8),IF([1]CALCULADORA!$F$10=\"14% (Alto)\",ROUND('[1]Tabla de Amortizacion'!#REF!,8),IF([1]CALCULADORA!$F$10=20%,ROUND('[1]Tabla de Amortizacion'!#REF!,8),ROUND('[1]Tabla de Amortizacion'!K18,8))))))","v":0}]
["2025-12-18",2.052027E-2,{"$f":"+VLOOKUP(A18,'Tabla de Amortizacion'!$D$2:$P$182,MATCH(Tablas!$B$1,'Tabla de Amortizacion'!$D$2:$P$2,0))","v":2.052027E-2},null,{"$f":"IF([1]CALCULADORA!$F$10=\"Contractual\",ROUND('[1]Tabla de Amortizacion'!C19,8),IF([1]CALCULADORA!$F$10=\"6% (Medio)\",ROUND('[1]Tabla de Amortizacion'!F19,8),IF([1]CALCULADORA!$F$10=\"10% (Medio Alto)\",ROUND('[1]Tabla de Amortizacion'!H19,8),IF([1]CALCULADORA!$F$10=\"14% (Alto)\",ROUND('[1]Tabla de Amortizacion'!#REF!,8),IF([1]CALCULADORA!$F$10=20%,ROUND('[1]Tabla de Amortizacion'!#REF!,8),ROUND('[1]Tabla de Amortizacion'!K19,8))))))","v":0}]
["2026-01-18",1.9782020000000001E-2,{"$f":"+VLOOKUP(A19,'Tabla de Amortizacion'!$D$2:$P$182,MATCH(Tablas!$B$1,'Tabla de Amortizacion'!$D$2:$P$2,0))","v":1.9782020000000001E-2},null,{"$f":"IF([1]CALCULADORA!$F$10=\"Contractual\",ROUND('[1]Tabla de Amortizacion'!C20,8),IF([1]CALCULADORA!$F$10=\"6% (Medio)\",ROUND('[1]Tabla de Amortizacion'!F20,8),IF([1]CALCULADORA!$F$10=\"10% (Medio Alto)\",ROUND('[1]Tabla de Amortizacion'!H20,8),IF([1]CALCULADORA!$F$10=\"14% (Alto)\",ROUND('[1]Tabla de Amortizacion'!#REF!,8),IF([1]CALCULADORA!$F$10=20%,ROUND('[1]Tabla de Amortizacion'!#REF!,8),ROUND('[1]Tabla de Amortizacion'!K20,8))))))","v":0}]
["2026-02-18",1.9060009999999999E-2,{"$f":"+VLOOKUP(A20,'Tabla de Amortizacion'!$D$2:$P$182,MATCH(Tablas!$B$1,'Tabla de Amortizacion'!$D$2:$P$2,0))","v":1.9060009999999999E-2},null,{"$f":"IF([1]CALCULADORA!$F$10=\"Contractual\",ROUND('[1]Tabla de Amortizacion'!C21,8),IF([1]CALCULADORA!$F$10=\"6% (Medio)\",ROUND('[1]Tabla de Amortizacion'!F21,8),IF([1]CALCULADORA!$F$10=\"10% (Medio Alto)\",ROUND('[1]Tabla de Amortizacion'!H21,8),IF([1]CALCULADORA!$F$10=\"14% (Alto)\",ROUND('[1]Tabla de Amortizacion'!#REF!,8),IF([1]CALCULADORA!$F$10=20%,ROUND('[1]Tabla de Amortizacion'!#REF!,8),ROUND('[1]Tabla de Amortizacion'!K21,8))))))","v":0}]
["2026-03-18",1.837225E-2,{"$f":"+VLOOKUP(A21,'Tabla de Amortizacion'!$D$2:$P$182,MATCH(Tablas!$B$1,'Tabla de Amortizacion'!$D$2:$P$2,0))","v":1.837225E-2},null,{"$f":"IF([1]CALCULADORA!$F$10=\"Contractual\",ROUND('[1]Tabla de Amortizacion'!C22,8),IF([1]CALCULADORA!$F$10=\"6% (Medio)\",ROUND('[1]Tabla de Amortizacion'!F22,8),IF([1]CALCULADORA!$F$10=\"10% (Medio Alto)\",ROUND('[1]Tabla de Amortizacion'!H22,8),IF([1]CALCULADORA!$F$10=\"14% (Alto)\",ROUND('[1]Tabla de Amortizacion'!#REF!,8),IF([1]CALCULADORA!$F$10=20%,ROUND('[1]Tabla de Amortizacion'!#REF!,8),ROUND('[1]Tabla de Amortizacion'!K22,8))))))","v":0}]
["2026-04-18",1.7702079999999999E-2,{"$f":"+VLOOKUP(A22,'Tabla de Amortizacion'!$D$2:$P$182,MATCH(Tablas!$B$1,'Tabla de Amortizacion'!$D$2:$P$2,0))","v":1.7702079999999999E-2},null,{"$f":"IF([1]CALCULADORA!$F$10=\"Contractual\",ROUND('[1]Tabla de Amortizacion'!C23,8),IF([1]CALCULADORA!$F$10=\"6% (Medio)\",ROUND('[1]Tabla de Amortizacion'!F23,8),IF([1]CALCULADORA!$F$10=\"10% (Medio Alto)\",ROUND('[1]Tabla de Amortizacion'!H23,8),IF([1]CALCULADORA!$F$10=\"14% (Alto)\",ROUND('[1]Tabla de Amortizacion'!#REF!,8),IF([1]CALCULADORA!$F$10=20%,ROUND('[1]Tabla de Amortizacion'!#REF!,8),ROUND('[1]Tabla de Amortizacion'!K23,8))))))","v":0}]
["2026-05-18",1.704804E-2,{"$f":"+VLOOKUP(A23,'Tabla de Amortizacion'!$D$2:$P$182,MATCH(Tablas!$B$1,'Tabla de Amortizacion'!$D$2:$P$2,0))","v":1.704804E-2},null,{"$f":"IF([1]CALCULADORA!$F$10=\"Contractual\",ROUND('[1]Tabla de Amortizacion'!C24,8),IF([1]CALCULADORA!$F$10=\"6% (Medio)\",ROUND('[1]Tabla de Amortizacion'!F24,8),IF([1]CALCULADORA!$F$10=\"10% (Medio Alto)\",ROUND('[1]Tabla de Amortizacion'!H24,8),IF([1]CALCULADORA!$F$10=\"14% (Alto)\",ROUND('[1]Tabla de Amortizacion'!#REF!,8),IF([1]CALCULADORA!$F$10=20%,ROUND('[1]Tabla de Amortizacion'!#REF!,8),ROUND('[1]Tabla de Amortizacion'!K24,8))))))","v":0}]
["2026-06-18",1.64219E-2,{"$f":"+VLOOKUP(A24,'Tabla de Amortizacion'!$D$2:$P$182,MATCH(Tablas!$B$1,'Tabla de Amortizacion'!$D$2:$P$2,0))","v":1.64219E-2},null,{"$f":"IF([1]CALCULADORA!$F$10=\"Contractual\",ROUND('[1]Tabla de Amortizacion'!C25,8),IF([1]CALCULADORA!$F$10=\"6% (Medio)\",ROUND('[1]Tabla de Amortizacion'!F25,8),IF([1]CALCULADORA!$F$10=\"10% (Medio Alto)\",ROUND('[1]Tabla de Amortizacion'!H25,8),IF([1]CALCULADORA!$F$10=\"14% (Alto)\",ROUND('[1]Tabla de Amortizacion'!#REF!,8),IF([1]CALCULADORA!$F$10=20%,ROUND('[1]Tabla de Amortizacion'!#REF!,8),ROUND('[1]Tabla de Amortizacion'!K25,8))))))","v":0}]
["2026-07-18",1.5802589999999998E-2,{"$f":"+VLOOKUP(A25,'Tabla de Amortizacion'!$D$2:$P$182,MATCH(Tablas!$B$1,'Tabla de Amortizacion'!$D$2:$P$2,0))","v":1.5802589999999998E-2},null,{"$f":"IF([1]CALCULADORA!$F$10=\"Contractual\",ROUND('[1]Tabla de Amortizacion'!C26,8),IF([1]CALCULADORA!$F$10=\"6% (Medio)\",ROUND('[1]Tabla de Amortizacion'!F26,8),IF([1]CALCULADORA!$F$10=\"10% (Medio Alto)\",ROUND('[1]Tabla de Amortizacion'!H26,8),IF([1]CALCULADORA!$F$10=\"14% (Alto)\",ROUND('[1]Tabla de Amortizacion'!#REF!,8),IF([1]CALCULADORA!$F$10=20%,ROUND('[1]Tabla de Amortizacion'!#REF!,8),ROUND('[1]Tabla de Amortizacion'!K26,8))))))","v":0}]
["2026-08-18",1.522098E-2,{"$f":"+VLOOKUP(A26,'Tabla de Amortizacion'!$D$2:$P$182,MATCH(Tablas!$B$1,'Tabla de Amortizacion'!$D$2:$P$2,0))","v":1.522098E-2},null,{"$f":"IF([1]CALCULADORA!$F$10=\"Contractual\",ROUND('[1]Tabla de Amortizacion'!C27,8),IF([1]CALCULADORA!$F$10=\"6% (Medio)\",ROUND('[1]Tabla de Amortizacion'!F27,8),IF([1]CALCULADORA!$F$10=\"10% (Medio Alto)\",ROUND('[1]Tabla de Amortizacion'!H27,8),IF([1]CALCULADORA!$F$10=\"14% (Alto)\",ROUND('[1]Tabla de Amortizacion'!#REF!,8),IF([1]CALCULADORA!$F$10=20%,ROUND('[1]Tabla de Amortizacion'!#REF!,8),ROUND('[1]Tabla de Amortizacion'!K27,8))))))","v":0}]
["2026-09-18",1.465902E-2,{"$f":"+VLOOKUP(A27,'Tabla de Amortizacion'!$D$2:$P$182,MATCH(Tablas!$B$1,'Tabla de Amortizacion'!$D$2:$P$2,0))","v":1.465902E-2},null,{"$f":"IF([1]CALCULADORA!$F$10=\"Contractual\",ROUND('[1]Tabla de Amortizacion'!C28,8),IF([1]CALCULADORA!$F$10=\"6% (Medio)\",ROUND('[1]Tabla de Amortizacion'!F28,8),IF([1]CALCULADORA!$F$10=\"10% (Medio Alto)\",ROUND('[1]Tabla de Amortizacion'!H28,8),IF([1]CALCULADORA!$F$10=\"14% (Alto)\",ROUND('[1]Tabla de Amortizacion'!#REF!,8),IF([1]CALCULADORA!$F$10=20%,ROUND('[1]Tabla de Amortizacion'!#REF!,8),ROUND('[1]Tabla de Amortizacion'!K28,8))))))","v":0}]
["2026-10-18",1.4109999999999999E-2,{"$f":"+VLOOKUP(A28,'Tabla de Amortizacion'!$D$2:$P$182,MATCH(Tablas!$B$1,'Tabla de Amortizacion'!$D$2:$P$2,0))","v":1.4109999999999999E-2},null,{"$f":"IF([1]CALCULADORA!$F$10=\"Contractual\",ROUND('[1]Tabla de Amortizacion'!C29,8),IF([1]CALCULADORA!$F$10=\"6% (Medio)\",ROUND('[1]Tabla de Amortizacion'!F29,8),IF([1]CALCULADORA!$F$10=\"10% (Medio Alto)\",ROUND('[1]Tabla de Amortizacion'!H29,8),IF([1]CALCULADORA!$F$10=\"14% (Alto)\",ROUND('[1]Tabla de Amortizacion'!#REF!,8),IF([1]CALCULADORA!$F$10=20%,ROUND('[1]Tabla de Amortizacion'!#REF!,8),ROUND('[1]Tabla de Amortizacion'!K29,8))))))","v":0}]
["2026-11-18",1.3583339999999999E-2,{"$f":"+VLOOKUP(A29,'Tabla de Amortizacion'!$D$2:$P$182,MATCH(Tablas!$B$1,'Tabla de Amortizacion'!$D$2:$P$2,0))","v":1.3583339999999999E-2},null,{"$f":"IF([1]CALCULADORA!$F$10=\"Contractual\",ROUND('[1]Tabla de Amortizacion'!C30,8),IF([1]CALCULADORA!$F$10=\"6% (Medio)\",ROUND('[1]Tabla de Amortizacion'!F30,8),IF([1]CALCULADORA!$F$10=\"10% (Medio Alto)\",ROUND('[1]Tabla de Amortizacion'!H30,8),IF([1]CALCULADORA!$F$10=\"14% (Alto)\",ROUND('[1]Tabla de Amortizacion'!#REF!,8),IF([1]CALCULADORA!$F$10=20%,ROUND('[1]Tabla de Amortizacion'!#REF!,8),ROUND('[1]Tabla de Amortizacion'!K30,8))))))","v":0}]
["2026-12-18",1.3073990000000001E-2,{"$f":"+VLOOKUP(A30,'Tabla de Amortizacion'!$D$2:$P$182,MATCH(Tablas!$B$1,'Tabla de Amortizacion'!$D$2:$P$2,0))","v":1.3073990000000001E-2},null,{"$f":"IF([1]CALCULADORA!$F$10=\"Contractual\",ROUND('[1]Tabla de Amortizacion'!C31,8),IF([1]CALCULADORA!$F$10=\"6% (Medio)\",ROUND('[1]Tabla de Amortizacion'!F31,8),IF([1]CALCULADORA!$F$10=\"10% (Medio Alto)\",ROUND('[1]Tabla de Amortizacion'!H31,8),IF([1]CALCULADORA!$F$10=\"14% (Alto)\",ROUND('[1]Tabla de Amortizacion'!#REF!,8),IF([1]CALCULADORA!$F$10=20%,ROUND('[1]Tabla de Amortizacion'!#REF!,8),ROUND('[1]Tabla de Amortizacion'!K31,8))))))","v":0}]
["2027-01-18",1.2578570000000001E-2,{"$f":"+VLOOKUP(A31,'Tabla de Amortizacion'!$D$2:$P$182,MATCH(Tablas!$B$1,'Tabla de Amortizacion'!$D$2:$P$2,0))","v":1.2578570000000001E-2},null,{"$f":"IF([1]CALCULADORA!$F$10=\"Contractual\",ROUND('[1]Tabla de Amortizacion'!C32,8),IF([1]CALCULADORA!$F$10=\"6% (Medio)\",ROUND('[1]Tabla de Amortizacion'!F32,8),IF([1]CALCULADORA!$F$10=\"10% (Medio Alto)\",ROUND('[1]Tabla de Amortizacion'!H32,8),IF([1]CALCULADORA!$F$10=\"14% (Alto)\",ROUND('[1]Tabla de Amortizacion'!#REF!,8),IF([1]CALCULADORA!$F$10=20%,ROUND('[1]Tabla de Amortizacion'!#REF!,8),ROUND('[1]Tabla de Amortizacion'!K32,8))))))","v":0}]
["2027-02-18",1.2097220000000001E-2,{"$f":"+VLOOKUP(A32,'Tabla de Amortizacion'!$D$2:$P$182,MATCH(Tablas!$B$1,'Tabla de Amortizacion'!$D$2:$P$2,0))","v":1.2097220000000001E-2},null,{"$f":"IF([1]CALCULADORA!$F$10=\"Contractual\",ROUND('[1]Tabla de Amortizacion'!C33,8),IF([1]CALCULADORA!$F$10=\"6% (Medio)\",ROUND('[1]Tabla de Amortizacion'!F33,8),IF([1]CALCULADORA!$F$10=\"10% (Medio Alto)\",ROUND('[1]Tabla de Amortizacion'!H33,8),IF([1]CALCULADORA!$F$10=\"14% (Alto)\",ROUND('[1]Tabla de Amortizacion'!#REF!,8),IF([1]CALCULADORA!$F$10=20%,ROUND('[1]Tabla de Amortizacion'!#REF!,8),ROUND('[1]Tabla de Amortizacion'!K33,8))))))","v":0}]
["2027-03-18",1.164632E-2,{"$f":"+VLOOKUP(A33,'Tabla de Amortizacion'!$D$2:$P$182,MATCH(Tablas!$B$1,'Tabla de Amortizacion'!$D$2:$P$2,0))","v":1.164632E-2},null,{"$f":"IF([1]CALCULADORA!$F$10=\"Contractual\",ROUND('[1]Tabla de Amortizacion'!C34,8),IF([1]CALCULADORA!$F$10=\"6% (Medio)\",ROUND('[1]Tabla de Amortizacion'!F34,8),IF([1]CALCULADORA!$F$10=\"10% (Medio Alto)\",ROUND('[1]Tabla de Amortizacion'!H34,8),IF([1]CALCULADORA!$F$10=\"14% (Alto)\",ROUND('[1]Tabla de Amortizacion'!#REF!,8),IF([1]CALCULADORA!$F$10=20%,ROUND('[1]Tabla de Amortizacion'!#REF!,8),ROUND('[1]Tabla de Amortizacion'!K34,8))))))","v":0}]
["2027-04-18",1.1209510000000001E-2,{"$f":"+VLOOKUP(A34,'Tabla de Amortizacion'!$D$2:$P$182,MATCH(Tablas!$B$1,'Tabla de Amortizacion'!$D$2:$P$2,0))","v":1.1209510000000001E-2},null,{"$f":"IF([1]CALCULADORA!$F$10=\"Contractual\",ROUND('[1]Tabla de Amortizacion'!C35,8),IF([1]CALCULADORA!$F$10=\"6% (Medio)\",ROUND('[1]Tabla de Amortizacion'!F35,8),IF([1]CALCULADORA!$F$10=\"10% (Medio Alto)\",ROUND('[1]Tabla de Amortizacion'!H35,8),IF([1]CALCULADORA!$F$10=\"14% (Alto)\",ROUND('[1]Tabla de Amortizacion'!#REF!,8),IF([1]CALCULADORA!$F$10=20%,ROUND('[1]Tabla de Amortizacion'!#REF!,8),ROUND('[1]Tabla de Amortizacion'!K35,8))))))","v":0}]
["2027-05-18",1.078439E-2,{"$f":"+VLOOKUP(A35,'Tabla de Amortizacion'!$D$2:$P$182,MATCH(Tablas!$B$1,'Tabla de Amortizacion'!$D$2:$P$2,0))","v":1.078439E-2},null,{"$f":"IF([1]CALCULADORA!$F$10=\"Contractual\",ROUND('[1]Tabla de Amortizacion'!C36,8),IF([1]CALCULADORA!$F$10=\"6% (Medio)\",ROUND('[1]Tabla de Amortizacion'!F36,8),IF([1]CALCULADORA!$F$10=\"10% (Medio Alto)\",ROUND('[1]Tabla de Amortizacion'!H36,8),IF([1]CALCULADORA!$F$10=\"14% (Alto)\",ROUND('[1]Tabla de Amortizacion'!#REF!,8),IF([1]CALCULADORA!$F$10=20%,ROUND('[1]Tabla de Amortizacion'!#REF!,8),ROUND('[1]Tabla de Amortizacion'!K36,8))))))","v":0}]
["2027-06-18",1.0370900000000001E-2,{"$f":"+VLOOKUP(A36,'Tabla de Amortizacion'!$D$2:$P$182,MATCH(Tablas!$B$1,'Tabla de Amortizacion'!$D$2:$P$2,0))","v":1.0370900000000001E-2},null,{"$f":"IF([1]CALCULADORA!$F$10=\"Contractual\",ROUND('[1]Tabla de Amortizacion'!C37,8),IF([1]CALCULADORA!$F$10=\"6% (Medio)\",ROUND('[1]Tabla de Amortizacion'!F37,8),IF([1]CALCULADORA!$F$10=\"10% (Medio Alto)\",ROUND('[1]Tabla de Amortizacion'!H37,8),IF([1]CALCULADORA!$F$10=\"14% (Alto)\",ROUND('[1]Tabla de Amortizacion'!#REF!,8),IF([1]CALCULADORA!$F$10=20%,ROUND('[1]Tabla de Amortizacion'!#REF!,8),ROUND('[1]Tabla de Amortizacion'!K37,8))))))","v":0}]
["2027-07-18",9.9640500000000003E-3,{"$f":"+VLOOKUP(A37,'Tabla de Amortizacion'!$D$2:$P$182,MATCH(Tablas!$B$1,'Tabla de Amortizacion'!$D$2:$P$2,0))","v":9.9640500000000003E-3},null,{"$f":"IF([1]CALCULADORA!$F$10=\"Contractual\",ROUND('[1]Tabla de Amortizacion'!C38,8),IF([1]CALCULADORA!$F$10=\"6% (Medio)\",ROUND('[1]Tabla de Amortizacion'!F38,8),IF([1]CALCULADORA!$F$10=\"10% (Medio Alto)\",ROUND('[1]Tabla de Amortizacion'!H38,8),IF([1]CALCULADORA!$F$10=\"14% (Alto)\",ROUND('[1]Tabla de Amortizacion'!#REF!,8),IF([1]CALCULADORA!$F$10=20%,ROUND('[1]Tabla de Amortizacion'!#REF!,8),ROUND('[1]Tabla de Amortizacion'!K38,8))))))","v":0}]
["2027-08-18",9.5865800000000008E-3,{"$f":"+VLOOKUP(A38,'Tabla de Amortizacion'!$D$2:$P$182,MATCH(Tablas!$B$1,'Tabla de Amortizacion'!$D$2:$P$2,0))","v":9.5865800000000008E-3},null,{"$f":"IF([1]CALCULADORA!$F$10=\"Contractual\",ROUND('[1]Tabla de Amortizacion'!C39,8),IF([1]CALCULADORA!$F$10=\"6% (Medio)\",ROUND('[1]Tabla de Amortizacion'!F39,8),IF([1]CALCULADORA!$F$10=\"10% (Medio Alto)\",ROUND('[1]Tabla de Amortizacion'!H39,8),IF([1]CALCULADORA!$F$10=\"14% (Alto)\",ROUND('[1]Tabla de Amortizacion'!#REF!,8),IF([1]CALCULADORA!$F$10=20%,ROUND('[1]Tabla de Amortizacion'!#REF!,8),ROUND('[1]Tabla de Amortizacion'!K39,8))))))","v":0}]
["2027-09-18",9.2193299999999995E-3,{"$f":"+VLOOKUP(A39,'Tabla de Amortizacion'!$D$2:$P$182,MATCH(Tablas!$B$1,'Tabla de Amortizacion'!$D$2:$P$2,0))","v":9.2193299999999995E-3},null,{"$f":"IF([1]CALCULADORA!$F$10=\"Contractual\",ROUND('[1]Tabla de Amortizacion'!C40,8),IF([1]CALCULADORA!$F$10=\"6% (Medio)\",ROUND('[1]Tabla de Amortizacion'!F40,8),IF([1]CALCULADORA!$F$10=\"10% (Medio Alto)\",ROUND('[1]Tabla de Amortizacion'!H40,8),IF([1]CALCULADORA!$F$10=\"14% (Alto)\",ROUND('[1]Tabla de Amortizacion'!#REF!,8),IF([1]CALCULADORA!$F$10=20%,ROUND('[1]Tabla de Amortizacion'!#REF!,8),ROUND('[1]Tabla de Amortizacion'!K40,8))))))","v":0}]
["2027-10-18",8.8708299999999997E-3,{"$f":"+VLOOKUP(A40,'Tabla de Amortizacion'!$D$2:$P$182,MATCH(Tablas!$B$1,'Tabla de Amortizacion'!$D$2:$P$2,0))","v":8.8708299999999997E-3},null,{"$f":"IF([1]CALCULADORA!$F$10=\"Contractual\",ROUND('[1]Tabla de Amortizacion'!C41,8),IF([1]CALCULADORA!$F$10=\"6% (Medio)\",ROUND('[1]Tabla de Amortizacion'!F41,8),IF([1]CALCULADORA!$F$10=\"10% (Medio Alto)\",ROUND('[1]Tabla de Amortizacion'!H41,8),IF([1]CALCULADORA!$F$10=\"14% (Alto)\",ROUND('[1]Tabla de Amortizacion'!#REF!,8),IF([1]CALCULADORA!$F$10=20%,ROUND('[1]Tabla de Amortizacion'!#REF!,8),ROUND('[1]Tabla de Amortizacion'!K41,8))))))","v":0}]
["2027-11-18",8.5253199999999994E-3,{"$f":"+VLOOKUP(A41,'Tabla de Amortizacion'!$D$2:$P$182,MATCH(Tablas!$B$1,'Tabla de Amortizacion'!$D$2:$P$2,0))","v":8.5253199999999994E-3},null,{"$f":"IF([1]CALCULADORA!$F$10=\"Contractual\",ROUND('[1]Tabla de Amortizacion'!C42,8),IF([1]CALCULADORA!$F$10=\"6% (Medio)\",ROUND('[1]Tabla de Amortizacion'!F42,8),IF([1]CALCULADORA!$F$10=\"10% (Medio Alto)\",ROUND('[1]Tabla de Amortizacion'!H42,8),IF([1]CALCULADORA!$F$10=\"14% (Alto)\",ROUND('[1]Tabla de Amortizacion'!#REF!,8),IF([1]CALCULADORA!$F$10=20%,ROUND('[1]Tabla de Amortizacion'!#REF!,8),ROUND('[1]Tabla de Amortizacion'!K42,8))))))","v":0}]
["2027-12-18",8.1891599999999991E-3,{"$f":"+VLOOKUP(A42,'Tabla de Amortizacion'!$D$2:$P$182,MATCH(Tablas!$B$1,'Tabla de Amortizacion'!$D$2:$P$2,0))","v":8.1891599999999991E-3},null,{"$f":"IF([1]CALCULADORA!$F$10=\"Contractual\",ROUND('[1]Tabla de Amortizacion'!C43,8),IF([1]CALCULADORA!$F$10=\"6% (Medio)\",ROUND('[1]Tabla de Amortizacion'!F43,8),IF([1]CALCULADORA!$F$10=\"10% (Medio Alto)\",ROUND('[1]Tabla de Amortizacion'!H43,8),IF([1]CALCULADORA!$F$10=\"14% (Alto)\",ROUND('[1]Tabla de Amortizacion'!#REF!,8),IF([1]CALCULADORA!$F$10=20%,ROUND('[1]Tabla de Amortizacion'!#REF!,8),ROUND('[1]Tabla de Amortizacion'!K43,8))))))","v":0}]
["2028-01-18",7.8705600000000004E-3,{"$f":"+VLOOKUP(A43,'Tabla de Amortizacion'!$D$2:$P$182,MATCH(Tablas!$B$1,'Tabla de Amortizacion'!$D$2:$P$2,0))","v":7.8705600000000004E-3},null,{"$f":"IF([1]CALCULADORA!$F$10=\"Contractual\",ROUND('[1]Tabla de Amortizacion'!C44,8),IF([1]CALCULADORA!$F$10=\"6% (Medio)\",ROUND('[1]Tabla de Amortizacion'!F44,8),IF([1]CALCULADORA!$F$10=\"10% (Medio Alto)\",ROUND('[1]Tabla de Amortizacion'!H44,8),IF([1]CALCULADORA!$F$10=\"14% (Alto)\",ROUND('[1]Tabla de Amortizacion'!#REF!,8),IF([1]CALCULADORA!$F$10=20%,ROUND('[1]Tabla de Amortizacion'!#REF!,8),ROUND('[1]Tabla de Amortizacion'!K44,8))))))","v":0}]
["2028-02-18",7.5681000000000003E-3,{"$f":"+VLOOKUP(A44,'Tabla de Amortizacion'!$D$2:$P$182,MATCH(Tablas!$B$1,'Tabla de Amortizacion'!$D$2:$P$2,0))","v":7.5681000000000003E-3},null,{"$f":"IF([1]CALCULADORA!$F$10=\"Contractual\",ROUND('[1]Tabla de Amortizacion'!C45,8),IF([1]CALCULADORA!$F$10=\"6% (Medio)\",ROUND('[1]Tabla de Amortizacion'!F45,8),IF([1]CALCULADORA!$F$10=\"10% (Medio Alto)\",ROUND('[1]Tabla de Amortizacion'!H45,8),IF([1]CALCULADORA!$F$10=\"14% (Alto)\",ROUND('[1]Tabla de Amortizacion'!#REF!,8),IF([1]CALCULADORA!$F$10=20%,ROUND('[1]Tabla de Amortizacion'!#REF!,8),ROUND('[1]Tabla de Amortizacion'!K45,8))))))","v":0}]
["2028-03-18",7.2791000000000002E-3,{"$f":"+VLOOKUP(A45,'Tabla de Amortizacion'!$D$2:$P$182,MATCH(Tablas!$B$1,'Tabla de Amortizacion'!$D$2:$P$2,0))","v":7.2791000000000002E-3},null,{"$f":"IF([1]CALCULADORA!$F$10=\"Contractual\",ROUND('[1]Tabla de Amortizacion'!C46,8),IF([1]CALCULADORA!$F$10=\"6% (Medio)\",ROUND('[1]Tabla de Amortizacion'!F46,8),IF([1]CALCULADORA!$F$10=\"10% (Medio Alto)\",ROUND('[1]Tabla de Amortizacion'!H46,8),IF([1]CALCULADORA!$F$10=\"14% (Alto)\",ROUND('[1]Tabla de Amortizacion'!#REF!,8),IF([1]CALCULADORA!$F$10=20%,ROUND('[1]Tabla de Amortizacion'!#REF!,8),ROUND('[1]Tabla de Amortizacion'!K46,8))))))","v":0}]
["2028-04-18",6.9920700000000004E-3,{"$f":"+VLOOKUP(A46,'Tabla de Amortizacion'!$D$2:$P$182,MATCH(Tablas!$B$1,'Tabla de Amortizacion'!$D$2:$P$2,0))","v":6.9920700000000004E-3},null,{"$f":"IF([1]CALCULADORA!$F$10=\"Contractual\",ROUND('[1]Tabla de Amortizacion'!C47,8),IF([1]CALCULADORA!$F$10=\"6% (Medio)\",ROUND('[1]Tabla de Amortizacion'!F47,8),IF([1]CALCULADORA!$F$10=\"10% (Medio Alto)\",ROUND('[1]Tabla de Amortizacion'!H47,8),IF([1]CALCULADORA!$F$10=\"14% (Alto)\",ROUND('[1]Tabla de Amortizacion'!#REF!,8),IF([1]CALCULADORA!$F$10=20%,ROUND('[1]Tabla de Amortizacion'!#REF!,8),ROUND('[1]Tabla de Amortizacion'!K47,8))))))","v":0}]
["2028-05-18",6.7219999999999997E-3,{"$f":"+VLOOKUP(A47,'Tabla de Amortizacion'!$D$2:$P$182,MATCH(Tablas!$B$1,'Tabla de Amortizacion'!$D$2:$P$2,0))","v":6.7219999999999997E-3},null,{"$f":"IF([1]CALCULADORA!$F$10=\"Contractual\",ROUND('[1]Tabla de Amortizacion'!C48,8),IF([1]CALCULADORA!$F$10=\"6% (Medio)\",ROUND('[1]Tabla de Amortizacion'!F48,8),IF([1]CALCULADORA!$F$10=\"10% (Medio Alto)\",ROUND('[1]Tabla de Amortizacion'!H48,8),IF([1]CALCULADORA!$F$10=\"14% (Alto)\",ROUND('[1]Tabla de Amortizacion'!#REF!,8),IF([1]CALCULADORA!$F$10=20%,ROUND('[1]Tabla de Amortizacion'!#REF!,8),ROUND('[1]Tabla de Amortizacion'!K48,8))))))","v":0}]
["2028-06-18",6.4652199999999998E-3,{"$f":"+VLOOKUP(A48,'Tabla de Amortizacion'!$D$2:$P$182,MATCH(Tablas!$B$1,'Tabla de Amortizacion'!$D$2:$P$2,0))","v":6.4652199999999998E-3},null,{"$f":"IF([1]CALCULADORA!$F$10=\"Contractual\",ROUND('[1]Tabla de Amortizacion'!C49,8),IF([1]CALCULADORA!$F$10=\"6% (Medio)\",ROUND('[1]Tabla de Amortizacion'!F49,8),IF([1]CALCULADORA!$F$10=\"10% (Medio Alto)\",ROUND('[1]Tabla de Amortizacion'!H49,8),IF([1]CALCULADORA!$F$10=\"14% (Alto)\",ROUND('[1]Tabla de Amortizacion'!#REF!,8),IF([1]CALCULADORA!$F$10=20%,ROUND('[1]Tabla de Amortizacion'!#REF!,8),ROUND('[1]Tabla de Amortizacion'!K49,8))))))","v":0}]
["2028-07-18",6.2131199999999999E-3,{"$f":"+VLOOKUP(A49,'Tabla de Amortizacion'!$D$2:$P$182,MATCH(Tablas!$B$1,'Tabla de Amortizacion'!$D$2:$P$2,0))","v":6.2131199999999999E-3},null,{"$f":"IF([1]CALCULADORA!$F$10=\"Contractual\",ROUND('[1]Tabla de Amortizacion'!C50,8),IF([1]CALCULADORA!$F$10=\"6% (Medio)\",ROUND('[1]Tabla de Amortizacion'!F50,8),IF([1]CALCULADORA!$F$10=\"10% (Medio Alto)\",ROUND('[1]Tabla de Amortizacion'!H50,8),IF([1]CALCULADORA!$F$10=\"14% (Alto)\",ROUND('[1]Tabla de Amortizacion'!#REF!,8),IF([1]CALCULADORA!$F$10=20%,ROUND('[1]Tabla de Amortizacion'!#REF!,8),ROUND('[1]Tabla de Amortizacion'!K50,8))))))","v":0}]
["2028-08-18",5.9794499999999999E-3,{"$f":"+VLOOKUP(A50,'Tabla de Amortizacion'!$D$2:$P$182,MATCH(Tablas!$B$1,'Tabla de Amortizacion'!$D$2:$P$2,0))","v":5.9794499999999999E-3},null,{"$f":"IF([1]CALCULADORA!$F$10=\"Contractual\",ROUND('[1]Tabla de Amortizacion'!C51,8),IF([1]CALCULADORA!$F$10=\"6% (Medio)\",ROUND('[1]Tabla de Amortizacion'!F51,8),IF([1]CALCULADORA!$F$10=\"10% (Medio Alto)\",ROUND('[1]Tabla de Amortizacion'!H51,8),IF([1]CALCULADORA!$F$10=\"14% (Alto)\",ROUND('[1]Tabla de Amortizacion'!#REF!,8),IF([1]CALCULADORA!$F$10=20%,ROUND('[1]Tabla de Amortizacion'!#REF!,8),ROUND('[1]Tabla de Amortizacion'!K51,8))))))","v":0}]
["2028-09-18",5.7472399999999998E-3,{"$f":"+VLOOKUP(A51,'Tabla de Amortizacion'!$D$2:$P$182,MATCH(Tablas!$B$1,'Tabla de Amortizacion'!$D$2:$P$2,0))","v":5.7472399999999998E-3},null,{"$f":"IF([1]CALCULADORA!$F$10=\"Contractual\",ROUND('[1]Tabla de Amortizacion'!C52,8),IF([1]CALCULADORA!$F$10=\"6% (Medio)\",ROUND('[1]Tabla de Amortizacion'!F52,8),IF([1]CALCULADORA!$F$10=\"10% (Medio Alto)\",ROUND('[1]Tabla de Amortizacion'!H52,8),IF([1]CALCULADORA!$F$10=\"14% (Alto)\",ROUND('[1]Tabla de Amortizacion'!#REF!,8),IF([1]CALCULADORA!$F$10=20%,ROUND('[1]Tabla de Amortizacion'!#REF!,8),ROUND('[1]Tabla de Amortizacion'!K52,8))))))","v":0}]
["2028-10-18",5.5213099999999998E-3,{"$f":"+VLOOKUP(A52,'Tabla de Amortizacion'!$D$2:$P$182,MATCH(Tablas!$B$1,'Tabla de Amortizacion'!$D$2:$P$2,0))","v":5.5213099999999998E-3},null,{"$f":"IF([1]CALCULADORA!$F$10=\"Contractual\",ROUND('[1]Tabla de Amortizacion'!C53,8),IF([1]CALCULADORA!$F$10=\"6% (Medio)\",ROUND('[1]Tabla de Amortizacion'!F53,8),IF([1]CALCULADORA!$F$10=\"10% (Medio Alto)\",ROUND('[1]Tabla de Amortizacion'!H53,8),IF([1]CALCULADORA!$F$10=\"14% (Alto)\",ROUND('[1]Tabla de Amortizacion'!#REF!,8),IF([1]CALCULADORA!$F$10=20%,ROUND('[1]Tabla de Amortizacion'!#REF!,8),ROUND('[1]Tabla de Amortizacion'!K53,8))))))","v":0}]
["2028-11-18",5.2972999999999996E-3,{"$f":"+VLOOKUP(A53,'Tabla de Amortizacion'!$D$2:$P$182,MATCH(Tablas!$B$1,'Tabla de Amortizacion'!$D$2:$P$2,0))","v":5.2972999999999996E-3},null,{"$f":"IF([1]CALCULADORA!$F$10=\"Contractual\",ROUND('[1]Tabla de Amortizacion'!C54,8),IF([1]CALCULADORA!$F$10=\"6% (Medio)\",ROUND('[1]Tabla de Amortizacion'!F54,8),IF([1]CALCULADORA!$F$10=\"10% (Medio Alto)\",ROUND('[1]Tabla de Amortizacion'!H54,8),IF([1]CALCULADORA!$F$10=\"14% (Alto)\",ROUND('[1]Tabla de Amortizacion'!#REF!,8),IF([1]CALCULADORA!$F$10=20%,ROUND('[1]Tabla de Amortizacion'!#REF!,8),ROUND('[1]Tabla de Amortizacion'!K54,8))))))","v":0}]
["2028-12-18",5.0961599999999998E-3,{"$f":"+VLOOKUP(A54,'Tabla de Amortizacion'!$D$2:$P$182,MATCH(Tablas!$B$1,'Tabla de Amortizacion'!$D$2:$P$2,0))","v":5.0961599999999998E-3},null,{"$f":"IF([1]CALCULADORA!$F$10=\"Contractual\",ROUND('[1]Tabla de Amortizacion'!C55,8),IF([1]CALCULADORA!$F$10=\"6% (Medio)\",ROUND('[1]Tabla de Amortizacion'!F55,8),IF([1]CALCULADORA!$F$10=\"10% (Medio Alto)\",ROUND('[1]Tabla de Amortizacion'!H55,8),IF([1]CALCULADORA!$F$10=\"14% (Alto)\",ROUND('[1]Tabla de Amortizacion'!#REF!,8),IF([1]CALCULADORA!$F$10=20%,ROUND('[1]Tabla de Amortizacion'!#REF!,8),ROUND('[1]Tabla de Amortizacion'!K55,8))))))","v":0}]
["2029-01-18",4.9004900000000004E-3,{"$f":"+VLOOKUP(A55,'Tabla de Amortizacion'!$D$2:$P$182,MATCH(Tablas!$B$1,'Tabla de Amortizacion'!$D$2:$P$2,0))","v":4.9004900000000004E-3},null,{"$f":"IF([1]CALCULADORA!$F$10=\"Contractual\",ROUND('[1]Tabla de Amortizacion'!C56,8),IF([1]CALCULADORA!$F$10=\"6% (Medio)\",ROUND('[1]Tabla de Amortizacion'!F56,8),IF([1]CALCULADORA!$F$10=\"10% (Medio Alto)\",ROUND('[1]Tabla de Amortizacion'!H56,8),IF([1]CALCULADORA!$F$10=\"14% (Alto)\",ROUND('[1]Tabla de Amortizacion'!#REF!,8),IF([1]CALCULADORA!$F$10=20%,ROUND('[1]Tabla de Amortizacion'!#REF!,8),ROUND('[1]Tabla de Amortizacion'!K56,8))))))","v":0}]
["2029-02-18",4.7080000000000004E-3,{"$f":"+VLOOKUP(A56,'Tabla de Amortizacion'!$D$2:$P$182,MATCH(Tablas!$B$1,'Tabla de Amortizacion'!$D$2:$P$2,0))","v":4.7080000000000004E-3},null,{"$f":"IF([1]CALCULADORA!$F$10=\"Contractual\",ROUND('[1]Tabla de Amortizacion'!C57,8),IF([1]CALCULADORA!$F$10=\"6% (Medio)\",ROUND('[1]Tabla de Amortizacion'!F57,8),IF([1]CALCULADORA!$F$10=\"10% (Medio Alto)\",ROUND('[1]Tabla de Amortizacion'!H57,8),IF([1]CALCULADORA!$F$10=\"14% (Alto)\",ROUND('[1]Tabla de Amortizacion'!#REF!,8),IF([1]CALCULADORA!$F$10=20%,ROUND('[1]Tabla de Amortizacion'!#REF!,8),ROUND('[1]Tabla de Amortizacion'!K57,8))))))","v":0}]
["2029-03-18",4.5293699999999996E-3,{"$f":"+VLOOKUP(A57,'Tabla de Amortizacion'!$D$2:$P$182,MATCH(Tablas!$B$1,'Tabla de Amortizacion'!$D$2:$P$2,0))","v":4.5293699999999996E-3},null,{"$f":"IF([1]CALCULADORA!$F$10=\"Contractual\",ROUND('[1]Tabla de Amortizacion'!C58,8),IF([1]CALCULADORA!$F$10=\"6% (Medio)\",ROUND('[1]Tabla de Amortizacion'!F58,8),IF([1]CALCULADORA!$F$10=\"10% (Medio Alto)\",ROUND('[1]Tabla de Amortizacion'!H58,8),IF([1]CALCULADORA!$F$10=\"14% (Alto)\",ROUND('[1]Tabla de Amortizacion'!#REF!,8),IF([1]CALCULADORA!$F$10=20%,ROUND('[1]Tabla de Amortizacion'!#REF!,8),ROUND('[1]Tabla de Amortizacion'!K58,8))))))","v":0}]
["2029-04-18",4.35506E-3,{"$f":"+VLOOKUP(A58,'Tabla de Amortizacion'!$D$2:$P$182,MATCH(Tablas!$B$1,'Tabla de Amortizacion'!$D$2:$P$2,0))","v":4.35506E-3},null,{"$f":"IF([1]CALCULADORA!$F$10=\"Contractual\",ROUND('[1]Tabla de Amortizacion'!C59,8),IF([1]CALCULADORA!$F$10=\"6% (Medio)\",ROUND('[1]Tabla de Amortizacion'!F59,8),IF([1]CALCULADORA!$F$10=\"10% (Medio Alto)\",ROUND('[1]Tabla de Amortizacion'!H59,8),IF([1]CALCULADORA!$F$10=\"14% (Alto)\",ROUND('[1]Tabla de Amortizacion'!#REF!,8),IF([1]CALCULADORA!$F$10=20%,ROUND('[1]Tabla de Amortizacion'!#REF!,8),ROUND('[1]Tabla de Amortizacion'!K59,8))))))","v":0}]
["2029-05-18",4.1869200000000002E-3,{"$f":"+VLOOKUP(A59,'Tabla de Amortizacion'!$D$2:$P$182,MATCH(Tablas!$B$1,'Tabla de Amortizacion'!$D$2:$P$2,0))","v":4.1869200000000002E-3},null,{"$f":"IF([1]CALCULADORA!$F$10=\"Contractual\",ROUND('[1]Tabla de Amortizacion'!C60,8),IF([1]CALCULADORA!$F$10=\"6% (Medio)\",ROUND('[1]Tabla de Amortizacion'!F60,8),IF([1]CALCULADORA!$F$10=\"10% (Medio Alto)\",ROUND('[1]Tabla de Amortizacion'!H60,8),IF([1]CALCULADORA!$F$10=\"14% (Alto)\",ROUND('[1]Tabla de Amortizacion'!#REF!,8),IF([1]CALCULADORA!$F$10=20%,ROUND('[1]Tabla de Amortizacion'!#REF!,8),ROUND('[1]Tabla de Amortizacion'!K60,8))))))","v":0}]
["2029-06-18",4.0245300000000001E-3,{"$f":"+VLOOKUP(A60,'Tabla de Amortizacion'!$D$2:$P$182,MATCH(Tablas!$B$1,'Tabla de Amortizacion'!$D$2:$P$2,0))","v":4.0245300000000001E-3},null,{"$f":"IF([1]CALCULADORA!$F$10=\"Contractual\",ROUND('[1]Tabla de Amortizacion'!C61,8),IF([1]CALCULADORA!$F$10=\"6% (Medio)\",ROUND('[1]Tabla de Amortizacion'!F61,8),IF([1]CALCULADORA!$F$10=\"10% (Medio Alto)\",ROUND('[1]Tabla de Amortizacion'!H61,8),IF([1]CALCULADORA!$F$10=\"14% (Alto)\",ROUND('[1]Tabla de Amortizacion'!#REF!,8),IF([1]CALCULADORA!$F$10=20%,ROUND('[1]Tabla de Amortizacion'!#REF!,8),ROUND('[1]Tabla de Amortizacion'!K61,8))))))","v":0}]
["2029-07-18",3.8683699999999999E-3,{"$f":"+VLOOKUP(A61,'Tabla de Amortizacion'!$D$2:$P$182,MATCH(Tablas!$B$1,'Tabla de Amortizacion'!$D$2:$P$2,0))","v":3.8683699999999999E-3},null,{"$f":"IF([1]CALCULADORA!$F$10=\"Contractual\",ROUND('[1]Tabla de Amortizacion'!C62,8),IF([1]CALCULADORA!$F$10=\"6% (Medio)\",ROUND('[1]Tabla de Amortizacion'!F62,8),IF([1]CALCULADORA!$F$10=\"10% (Medio Alto)\",ROUND('[1]Tabla de Amortizacion'!H62,8),IF([1]CALCULADORA!$F$10=\"14% (Alto)\",ROUND('[1]Tabla de Amortizacion'!#REF!,8),IF([1]CALCULADORA!$F$10=20%,ROUND('[1]Tabla de Amortizacion'!#REF!,8),ROUND('[1]Tabla de Amortizacion'!K62,8))))))","v":0}]
["2029-08-18",3.7175400000000001E-3,{"$f":"+VLOOKUP(A62,'Tabla de Amortizacion'!$D$2:$P$182,MATCH(Tablas!$B$1,'Tabla de Amortizacion'!$D$2:$P$2,0))","v":3.7175400000000001E-3},null,{"$f":"IF([1]CALCULADORA!$F$10=\"Contractual\",ROUND('[1]Tabla de Amortizacion'!C63,8),IF([1]CALCULADORA!$F$10=\"6% (Medio)\",ROUND('[1]Tabla de Amortizacion'!F63,8),IF([1]CALCULADORA!$F$10=\"10% (Medio Alto)\",ROUND('[1]Tabla de Amortizacion'!H63,8),IF([1]CALCULADORA!$F$10=\"14% (Alto)\",ROUND('[1]Tabla de Amortizacion'!#REF!,8),IF([1]CALCULADORA!$F$10=20%,ROUND('[1]Tabla de Amortizacion'!#REF!,8),ROUND('[1]Tabla de Amortizacion'!K63,8))))))","v":0}]
["2029-09-18",3.5748099999999999E-3,{"$f":"+VLOOKUP(A63,'Tabla de Amortizacion'!$D$2:$P$182,MATCH(Tablas!$B$1,'Tabla de Amortizacion'!$D$2:$P$2,0))","v":3.5748099999999999E-3},null,{"$f":"IF([1]CALCULADORA!$F$10=\"Contractual\",ROUND('[1]Tabla de Amortizacion'!C64,8),IF([1]CALCULADORA!$F$10=\"6% (Medio)\",ROUND('[1]Tabla de Amortizacion'!F64,8),IF([1]CALCULADORA!$F$10=\"10% (Medio Alto)\",ROUND('[1]Tabla de Amortizacion'!H64,8),IF([1]CALCULADORA!$F$10=\"14% (Alto)\",ROUND('[1]Tabla de Amortizacion'!#REF!,8),IF([1]CALCULADORA!$F$10=20%,ROUND('[1]Tabla de Amortizacion'!#REF!,8),ROUND('[1]Tabla de Amortizacion'!K64,8))))))","v":0}]
["2029-10-18",3.4368100000000002E-3,{"$f":"+VLOOKUP(A64,'Tabla de Amortizacion'!$D$2:$P$182,MATCH(Tablas!$B$1,'Tabla de Amortizacion'!$D$2:$P$2,0))","v":3.4368100000000002E-3},null,{"$f":"IF([1]CALCULADORA!$F$10=\"Contractual\",ROUND('[1]Tabla de Amortizacion'!C65,8),IF([1]CALCULADORA!$F$10=\"6% (Medio)\",ROUND('[1]Tabla de Amortizacion'!F65,8),IF([1]CALCULADORA!$F$10=\"10% (Medio Alto)\",ROUND('[1]Tabla de Amortizacion'!H65,8),IF([1]CALCULADORA!$F$10=\"14% (Alto)\",ROUND('[1]Tabla de Amortizacion'!#REF!,8),IF([1]CALCULADORA!$F$10=20%,ROUND('[1]Tabla de Amortizacion'!#REF!,8),ROUND('[1]Tabla de Amortizacion'!K65,8))))))","v":0}]
["2029-11-18",3.2982699999999998E-3,{"$f":"+VLOOKUP(A65,'Tabla de Amortizacion'!$D$2:$P$182,MATCH(Tablas!$B$1,'Tabla de Amortizacion'!$D$2:$P$2,0))","v":3.2982699999999998E-3},null,{"$f":"IF([1]CALCULADORA!$F$10=\"Contractual\",ROUND('[1]Tabla de Amortizacion'!C66,8),IF([1]CALCULADORA!$F$10=\"6% (Medio)\",ROUND('[1]Tabla de Amortizacion'!F66,8),IF([1]CALCULADORA!$F$10=\"10% (Medio Alto)\",ROUND('[1]Tabla de Amortizacion'!H66,8),IF([1]CALCULADORA!$F$10=\"14% (Alto)\",ROUND('[1]Tabla de Amortizacion'!#REF!,8),IF([1]CALCULADORA!$F$10=20%,ROUND('[1]Tabla de Amortizacion'!#REF!,8),ROUND('[1]Tabla de Amortizacion'!K66,8))))))","v":0}]
["2029-12-18",3.1661300000000001E-3,{"$f":"+VLOOKUP(A66,'Tabla de Amortizacion'!$D$2:$P$182,MATCH(Tablas!$B$1,'Tabla de Amortizacion'!$D$2:$P$2,0))","v":3.1661300000000001E-3},null,{"$f":"IF([1]CALCULADORA!$F$10=\"Contractual\",ROUND('[1]Tabla de Amortizacion'!C67,8),IF([1]CALCULADORA!$F$10=\"6% (Medio)\",ROUND('[1]Tabla de Amortizacion'!F67,8),IF([1]CALCULADORA!$F$10=\"10% (Medio Alto)\",ROUND('[1]Tabla de Amortizacion'!H67,8),IF([1]CALCULADORA!$F$10=\"14% (Alto)\",ROUND('[1]Tabla de Amortizacion'!#REF!,8),IF([1]CALCULADORA!$F$10=20%,ROUND('[1]Tabla de Amortizacion'!#REF!,8),ROUND('[1]Tabla de Amortizacion'!K67,8))))))","v":0}]
[{"$f":"EDATE(A66,1)","v":"2030-01-18"},{"$f":"+ROUND(C67,8)","v":3.04404E-3},{"$f":"+VLOOKUP(A67,'Tabla de Amortizacion'!$D$2:$P$182,MATCH(Tablas!$B$1,'Tabla de Amortizacion'!$D$2:$P$2,0))","v":3.04404E-3},null,{"$f":"IF([1]CALCULADORA!$F$10=\"Contractual\",ROUND('[1]Tabla de Amortizacion'!C68,8),IF([1]CALCULADORA!$F$10=\"6% (Medio)\",ROUND('[1]Tabla de Amortizacion'!F68,8),IF([1]CALCULADORA!$F$10=\"10% (Medio Alto)\",ROUND('[1]Tabla de Amortizacion'!H68,8),IF([1]CALCULADORA!$F$10=\"14% (Alto)\",ROUND('[1]Tabla de Amortizacion'!#REF!,8),IF([1]CALCULADORA!$F$10=20%,ROUND('[1]Tabla de Amortizacion'!#REF!,8),ROUND('[1]Tabla de Amortizacion'!K68,8))))))","v":0}]
["2030-02-18",2.9268599999999999E-3,{"$f":"+VLOOKUP(A68,'Tabla de Amortizacion'!$D$2:$P$182,MATCH(Tablas!$B$1,'Tabla de Amortizacion'!$D$2:$P$2,0))","v":2.9268599999999999E-3},null,{"$f":"IF([1]CALCULADORA!$F$10=\"Contractual\",ROUND('[1]Tabla de Amortizacion'!C69,8),IF([1]CALCULADORA!$F$10=\"6% (Medio)\",ROUND('[1]Tabla de Amortizacion'!F69,8),IF([1]CALCULADORA!$F$10=\"10% (Medio Alto)\",ROUND('[1]Tabla de Amortizacion'!H69,8),IF([1]CALCULADORA!$F$10=\"14% (Alto)\",ROUND('[1]Tabla de Amortizacion'!#REF!,8),IF([1]CALCULADORA!$F$10=20%,ROUND('[1]Tabla de Amortizacion'!#REF!,8),ROUND('[1]Tabla de Amortizacion'!K69,8))))))","v":0}]
["2030-03-18",2.8139900000000002E-3,{"$f":"+VLOOKUP(A69,'Tabla de Amortizacion'!$D$2:$P$182,MATCH(Tablas!$B$1,'Tabla de Amortizacion'!$D$2:$P$2,0))","v":2.8139900000000002E-3},null,{"$f":"IF([1]CALCULADORA!$F$10=\"Contractual\",ROUND('[1]Tabla de Amortizacion'!C70,8),IF([1]CALCULADORA!$F$10=\"6% (Medio)\",ROUND('[1]Tabla de Amortizacion'!F70,8),IF([1]CALCULADORA!$F$10=\"10% (Medio Alto)\",ROUND('[1]Tabla de Amortizacion'!H70,8),IF([1]CALCULADORA!$F$10=\"14% (Alto)\",ROUND('[1]Tabla de Amortizacion'!#REF!,8),IF([1]CALCULADORA!$F$10=20%,ROUND('[1]Tabla de Amortizacion'!#REF!,8),ROUND('[1]Tabla de Amortizacion'!K70,8))))))","v":0}]
["2030-04-18",2.7060500000000002E-3,{"$f":"+VLOOKUP(A70,'Tabla de Amortizacion'!$D$2:$P$182,MATCH(Tablas!$B$1,'Tabla de Amortizacion'!$D$2:$P$2,0))","v":2.7060500000000002E-3},null,{"$f":"IF([1]CALCULADORA!$F$10=\"Contractual\",ROUND('[1]Tabla de Amortizacion'!C71,8),IF([1]CALCULADORA!$F$10=\"6% (Medio)\",ROUND('[1]Tabla de Amortizacion'!F71,8),IF([1]CALCULADORA!$F$10=\"10% (Medio Alto)\",ROUND('[1]Tabla de Amortizacion'!H71,8),IF([1]CALCULADORA!$F$10=\"14% (Alto)\",ROUND('[1]Tabla de Amortizacion'!#REF!,8),IF([1]CALCULADORA!$F$10=20%,ROUND('[1]Tabla de Amortizacion'!#REF!,8),ROUND('[1]Tabla de Amortizacion'!K71,8))))))","v":0}]
["2030-05-18",2.6009800000000001E-3,{"$f":"+VLOOKUP(A71,'Tabla de Amortizacion'!$D$2:$P$182,MATCH(Tablas!$B$1,'Tabla de Amortizacion'!$D$2:$P$2,0))","v":2.6009800000000001E-3},null,{"$f":"IF([1]CALCULADORA!$F$10=\"Contractual\",ROUND('[1]Tabla de Amortizacion'!C72,8),IF([1]CALCULADORA!$F$10=\"6% (Medio)\",ROUND('[1]Tabla de Amortizacion'!F72,8),IF([1]CALCULADORA!$F$10=\"10% (Medio Alto)\",ROUND('[1]Tabla de Amortizacion'!H72,8),IF([1]CALCULADORA!$F$10=\"14% (Alto)\",ROUND('[1]Tabla de Amortizacion'!#REF!,8),IF([1]CALCULADORA!$F$10=20%,ROUND('[1]Tabla de Amortizacion'!#REF!,8),ROUND('[1]Tabla de Amortizacion'!K72,8))))))","v":0}]
["2030-06-18",2.5007599999999999E-3,{"$f":"+VLOOKUP(A72,'Tabla de Amortizacion'!$D$2:$P$182,MATCH(Tablas!$B$1,'Tabla de Amortizacion'!$D$2:$P$2,0))","v":2.5007599999999999E-3},null,{"$f":"IF([1]CALCULADORA!$F$10=\"Contractual\",ROUND('[1]Tabla de Amortizacion'!C73,8),IF([1]CALCULADORA!$F$10=\"6% (Medio)\",ROUND('[1]Tabla de Amortizacion'!F73,8),IF([1]CALCULADORA!$F$10=\"10% (Medio Alto)\",ROUND('[1]Tabla de Amortizacion'!H73,8),IF([1]CALCULADORA!$F$10=\"14% (Alto)\",ROUND('[1]Tabla de Amortizacion'!#REF!,8),IF([1]CALCULADORA!$F$10=20%,ROUND('[1]Tabla de Amortizacion'!#REF!,8),ROUND('[1]Tabla de Amortizacion'!K73,8))))))","v":0}]
["2030-07-18",2.39931E-3,{"$f":"+VLOOKUP(A73,'Tabla de Amortizacion'!$D$2:$P$182,MATCH(Tablas!$B$1,'Tabla de Amortizacion'!$D$2:$P$2,0))","v":2.39931E-3},null,{"$f":"IF([1]CALCULADORA!$F$10=\"Contractual\",ROUND('[1]Tabla de Amortizacion'!C74,8),IF([1]CALCULADORA!$F$10=\"6% (Medio)\",ROUND('[1]Tabla de Amortizacion'!F74,8),IF([1]CALCULADORA!$F$10=\"10% (Medio Alto)\",ROUND('[1]Tabla de Amortizacion'!H74,8),IF([1]CALCULADORA!$F$10=\"14% (Alto)\",ROUND('[1]Tabla de Amortizacion'!#REF!,8),IF([1]CALCULADORA!$F$10=20%,ROUND('[1]Tabla de Amortizacion'!#REF!,8),ROUND('[1]Tabla de Amortizacion'!K74,8))))))","v":0}]
["2030-08-18",2.3048600000000002E-3,{"$f":"+VLOOKUP(A74,'Tabla de Amortizacion'!$D$2:$P$182,MATCH(Tablas!$B$1,'Tabla de Amortizacion'!$D$2:$P$2,0))","v":2.3048600000000002E-3},null,{"$f":"IF([1]CALCULADORA!$F$10=\"Contractual\",ROUND('[1]Tabla de Amortizacion'!C75,8),IF([1]CALCULADORA!$F$10=\"6% (Medio)\",ROUND('[1]Tabla de Amortizacion'!F75,8),IF([1]CALCULADORA!$F$10=\"10% (Medio Alto)\",ROUND('[1]Tabla de Amortizacion'!H75,8),IF([1]CALCULADORA!$F$10=\"14% (Alto)\",ROUND('[1]Tabla de Amortizacion'!#REF!,8),IF([1]CALCULADORA!$F$10=20%,ROUND('[1]Tabla de Amortizacion'!#REF!,8),ROUND('[1]Tabla de Amortizacion'!K75,8))))))","v":0}]
["2030-09-18",2.3993899999999999E-3,{"$f":"+VLOOKUP(A75,'Tabla de Amortizacion'!$D$2:$P$182,MATCH(Tablas!$B$1,'Tabla de Amortizacion'!$D$2:$P$2,0))","v":2.3993899999999999E-3},null,{"$f":"IF([1]CALCULADORA!$F$10=\"Contractual\",ROUND('[1]Tabla de Amortizacion'!C76,8),IF([1]CALCULADORA!$F$10=\"6% (Medio)\",ROUND('[1]Tabla de Amortizacion'!F76,8),IF([1]CALCULADORA!$F$10=\"10% (Medio Alto)\",ROUND('[1]Tabla de Amortizacion'!H76,8),IF([1]CALCULADORA!$F$10=\"14% (Alto)\",ROUND('[1]Tabla de Amortizacion'!#REF!,8),IF([1]CALCULADORA!$F$10=20%,ROUND('[1]Tabla de Amortizacion'!#REF!,8),ROUND('[1]Tabla de Amortizacion'!K76,8))))))","v":0}]
["2030-10-18",2.6425200000000002E-3,{"$f":"+VLOOKUP(A76,'Tabla de Amortizacion'!$D$2:$P$182,MATCH(Tablas!$B$1,'Tabla de Amortizacion'!$D$2:$P$2,0))","v":2.6425200000000002E-3},null,{"$f":"IF([1]CALCULADORA!$F$10=\"Contractual\",ROUND('[1]Tabla de Amortizacion'!C77,8),IF([1]CALCULADORA!$F$10=\"6% (Medio)\",ROUND('[1]Tabla de Amortizacion'!F77,8),IF([1]CALCULADORA!$F$10=\"10% (Medio Alto)\",ROUND('[1]Tabla de Amortizacion'!H77,8),IF([1]CALCULADORA!$F$10=\"14% (Alto)\",ROUND('[1]Tabla de Amortizacion'!#REF!,8),IF([1]CALCULADORA!$F$10=20%,ROUND('[1]Tabla de Amortizacion'!#REF!,8),ROUND('[1]Tabla de Amortizacion'!K77,8))))))","v":0}]
["2030-11-18",2.5426200000000002E-3,{"$f":"+VLOOKUP(A77,'Tabla de Amortizacion'!$D$2:$P$182,MATCH(Tablas!$B$1,'Tabla de Amortizacion'!$D$2:$P$2,0))","v":2.5426200000000002E-3},null,{"$f":"IF([1]CALCULADORA!$F$10=\"Contractual\",ROUND('[1]Tabla de Amortizacion'!C78,8),IF([1]CALCULADORA!$F$10=\"6% (Medio)\",ROUND('[1]Tabla de Amortizacion'!F78,8),IF([1]CALCULADORA!$F$10=\"10% (Medio Alto)\",ROUND('[1]Tabla de Amortizacion'!H78,8),IF([1]CALCULADORA!$F$10=\"14% (Alto)\",ROUND('[1]Tabla de Amortizacion'!#REF!,8),IF([1]CALCULADORA!$F$10=20%,ROUND('[1]Tabla de Amortizacion'!#REF!,8),ROUND('[1]Tabla de Amortizacion'!K78,8))))))","v":0}]
["2030-12-18",2.4473400000000001E-3,{"$f":"+VLOOKUP(A78,'Tabla de Amortizacion'!$D$2:$P$182,MATCH(Tablas!$B$1,'Tabla de Amortizacion'!$D$2:$P$2,0))","v":2.4473400000000001E-3},null,{"$f":"IF([1]CALCULADORA!$F$10=\"Contractual\",ROUND('[1]Tabla de Amortizacion'!C79,8),IF([1]CALCULADORA!$F$10=\"6% (Medio)\",ROUND('[1]Tabla de Amortizacion'!F79,8),IF([1]CALCULADORA!$F$10=\"10% (Medio Alto)\",ROUND('[1]Tabla de Amortizacion'!H79,8),IF([1]CALCULADORA!$F$10=\"14% (Alto)\",ROUND('[1]Tabla de Amortizacion'!#REF!,8),IF([1]CALCULADORA!$F$10=20%,ROUND('[1]Tabla de Amortizacion'!#REF!,8),ROUND('[1]Tabla de Amortizacion'!K79,8))))))","v":0}]
["2031-01-18",2.3536400000000002E-3,{"$f":"+VLOOKUP(A79,'Tabla de Amortizacion'!$D$2:$P$182,MATCH(Tablas!$B$1,'Tabla de Amortizacion'!$D$2:$P$2,0))","v":2.3536400000000002E-3},null,{"$f":"IF([1]CALCULADORA!$F$10=\"Contractual\",ROUND('[1]Tabla de Amortizacion'!C80,8),IF([1]CALCULADORA!$F$10=\"6% (Medio)\",ROUND('[1]Tabla de Amortizacion'!F80,8),IF([1]CALCULADORA!$F$10=\"10% (Medio Alto)\",ROUND('[1]Tabla de Amortizacion'!H80,8),IF([1]CALCULADORA!$F$10=\"14% (Alto)\",ROUND('[1]Tabla de Amortizacion'!#REF!,8),IF([1]CALCULADORA!$F$10=20%,ROUND('[1]Tabla de Amortizacion'!#REF!,8),ROUND('[1]Tabla de Amortizacion'!K80,8))))))","v":0}]
["2031-02-18",2.2644499999999999E-3,{"$f":"+VLOOKUP(A80,'Tabla de Amortizacion'!$D$2:$P$182,MATCH(Tablas!$B$1,'Tabla de Amortizacion'!$D$2:$P$2,0))","v":2.2644499999999999E-3},null,{"$f":"IF([1]CALCULADORA!$F$10=\"Contractual\",ROUND('[1]Tabla de Amortizacion'!C81,8),IF([1]CALCULADORA!$F$10=\"6% (Medio)\",ROUND('[1]Tabla de Amortizacion'!F81,8),IF([1]CALCULADORA!$F$10=\"10% (Medio Alto)\",ROUND('[1]Tabla de Amortizacion'!H81,8),IF([1]CALCULADORA!$F$10=\"14% (Alto)\",ROUND('[1]Tabla de Amortizacion'!#REF!,8),IF([1]CALCULADORA!$F$10=20%,ROUND('[1]Tabla de Amortizacion'!#REF!,8),ROUND('[1]Tabla de Amortizacion'!K81,8))))))","v":0}]
["2031-03-18",2.1810200000000001E-3,{"$f":"+VLOOKUP(A81,'Tabla de Amortizacion'!$D$2:$P$182,MATCH(Tablas!$B$1,'Tabla de Amortizacion'!$D$2:$P$2,0))","v":2.1810200000000001E-3},null,{"$f":"IF([1]CALCULADORA!$F$10=\"Contractual\",ROUND('[1]Tabla de Amortizacion'!C82,8),IF([1]CALCULADORA!$F$10=\"6% (Medio)\",ROUND('[1]Tabla de Amortizacion'!F82,8),IF([1]CALCULADORA!$F$10=\"10% (Medio Alto)\",ROUND('[1]Tabla de Amortizacion'!H82,8),IF([1]CALCULADORA!$F$10=\"14% (Alto)\",ROUND('[1]Tabla de Amortizacion'!#REF!,8),IF([1]CALCULADORA!$F$10=20%,ROUND('[1]Tabla de Amortizacion'!#REF!,8),ROUND('[1]Tabla de Amortizacion'!K82,8))))))","v":0}]
["2031-04-18",2.09895E-3,{"$f":"+VLOOKUP(A82,'Tabla de Amortizacion'!$D$2:$P$182,MATCH(Tablas!$B$1,'Tabla de Amortizacion'!$D$2:$P$2,0))","v":2.09895E-3},null,{"$f":"IF([1]CALCULADORA!$F$10=\"Contractual\",ROUND('[1]Tabla de Amortizacion'!C83,8),IF([1]CALCULADORA!$F$10=\"6% (Medio)\",ROUND('[1]Tabla de Amortizacion'!F83,8),IF([1]CALCULADORA!$F$10=\"10% (Medio Alto)\",ROUND('[1]Tabla de Amortizacion'!H83,8),IF([1]CALCULADORA!$F$10=\"14% (Alto)\",ROUND('[1]Tabla de Amortizacion'!#REF!,8),IF([1]CALCULADORA!$F$10=20%,ROUND('[1]Tabla de Amortizacion'!#REF!,8),ROUND('[1]Tabla de Amortizacion'!K83,8))))))","v":0}]
["2031-05-18",2.0181999999999999E-3,{"$f":"+VLOOKUP(A83,'Tabla de Amortizacion'!$D$2:$P$182,MATCH(Tablas!$B$1,'Tabla de Amortizacion'!$D$2:$P$2,0))","v":2.0181999999999999E-3},null,{"$f":"IF([1]CALCULADORA!$F$10=\"Contractual\",ROUND('[1]Tabla de Amortizacion'!C84,8),IF([1]CALCULADORA!$F$10=\"6% (Medio)\",ROUND('[1]Tabla de Amortizacion'!F84,8),IF([1]CALCULADORA!$F$10=\"10% (Medio Alto)\",ROUND('[1]Tabla de Amortizacion'!H84,8),IF([1]CALCULADORA!$F$10=\"14% (Alto)\",ROUND('[1]Tabla de Amortizacion'!#REF!,8),IF([1]CALCULADORA!$F$10=20%,ROUND('[1]Tabla de Amortizacion'!#REF!,8),ROUND('[1]Tabla de Amortizacion'!K84,8))))))","v":0}]
["2031-06-18",1.94316E-3,{"$f":"+VLOOKUP(A84,'Tabla de Amortizacion'!$D$2:$P$182,MATCH(Tablas!$B$1,'Tabla de Amortizacion'!$D$2:$P$2,0))","v":1.94316E-3},null,{"$f":"IF([1]CALCULADORA!$F$10=\"Contractual\",ROUND('[1]Tabla de Amortizacion'!C85,8),IF([1]CALCULADORA!$F$10=\"6% (Medio)\",ROUND('[1]Tabla de Amortizacion'!F85,8),IF([1]CALCULADORA!$F$10=\"10% (Medio Alto)\",ROUND('[1]Tabla de Amortizacion'!H85,8),IF([1]CALCULADORA!$F$10=\"14% (Alto)\",ROUND('[1]Tabla de Amortizacion'!#REF!,8),IF([1]CALCULADORA!$F$10=20%,ROUND('[1]Tabla de Amortizacion'!#REF!,8),ROUND('[1]Tabla de Amortizacion'!K85,8))))))","v":0}]
["2031-07-18",1.52815E-3,{"$f":"+VLOOKUP(A85,'Tabla de Amortizacion'!$D$2:$P$182,MATCH(Tablas!$B$1,'Tabla de Amortizacion'!$D$2:$P$2,0))","v":1.52815E-3},null,{"$f":"IF([1]CALCULADORA!$F$10=\"Contractual\",ROUND('[1]Tabla de Amortizacion'!C86,8),IF([1]CALCULADORA!$F$10=\"6% (Medio)\",ROUND('[1]Tabla de Amortizacion'!F86,8),IF([1]CALCULADORA!$F$10=\"10% (Medio Alto)\",ROUND('[1]Tabla de Amortizacion'!H86,8),IF([1]CALCULADORA!$F$10=\"14% (Alto)\",ROUND('[1]Tabla de Amortizacion'!#REF!,8),IF([1]CALCULADORA!$F$10=20%,ROUND('[1]Tabla de Amortizacion'!#REF!,8),ROUND('[1]Tabla de Amortizacion'!K86,8))))))","v":0}]
["2031-08-18",1.7937199999999999E-3,{"$f":"+VLOOKUP(A86,'Tabla de Amortizacion'!$D$2:$P$182,MATCH(Tablas!$B$1,'Tabla de Amortizacion'!$D$2:$P$2,0))","v":1.7937199999999999E-3},null,{"$f":"IF([1]CALCULADORA!$F$10=\"Contractual\",ROUND('[1]Tabla de Amortizacion'!C87,8),IF([1]CALCULADORA!$F$10=\"6% (Medio)\",ROUND('[1]Tabla de Amortizacion'!F87,8),IF([1]CALCULADORA!$F$10=\"10% (Medio Alto)\",ROUND('[1]Tabla de Amortizacion'!H87,8),IF([1]CALCULADORA!$F$10=\"14% (Alto)\",ROUND('[1]Tabla de Amortizacion'!#REF!,8),IF([1]CALCULADORA!$F$10=20%,ROUND('[1]Tabla de Amortizacion'!#REF!,8),ROUND('[1]Tabla de Amortizacion'!K87,8))))))","v":0}]
["2031-09-18",1.7254099999999999E-3,{"$f":"+VLOOKUP(A87,'Tabla de Amortizacion'!$D$2:$P$182,MATCH(Tablas!$B$1,'Tabla de Amortizacion'!$D$2:$P$2,0))","v":1.7254099999999999E-3},null,{"$f":"IF([1]CALCULADORA!$F$10=\"Contractual\",ROUND('[1]Tabla de Amortizacion'!C88,8),IF([1]CALCULADORA!$F$10=\"6% (Medio)\",ROUND('[1]Tabla de Amortizacion'!F88,8),IF([1]CALCULADORA!$F$10=\"10% (Medio Alto)\",ROUND('[1]Tabla de Amortizacion'!H88,8),IF([1]CALCULADORA!$F$10=\"14% (Alto)\",ROUND('[1]Tabla de Amortizacion'!#REF!,8),IF([1]CALCULADORA!$F$10=20%,ROUND('[1]Tabla de Amortizacion'!#REF!,8),ROUND('[1]Tabla de Amortizacion'!K88,8))))))","v":0}]
["2031-10-18",1.65945E-3,{"$f":"+VLOOKUP(A88,'Tabla de Amortizacion'!$D$2:$P$182,MATCH(Tablas!$B$1,'Tabla de Amortizacion'!$D$2:$P$2,0))","v":1.65945E-3},null,{"$f":"IF([1]CALCULADORA!$F$10=\"Contractual\",ROUND('[1]Tabla de Amortizacion'!C89,8),IF([1]CALCULADORA!$F$10=\"6% (Medio)\",ROUND('[1]Tabla de Amortizacion'!F89,8),IF([1]CALCULADORA!$F$10=\"10% (Medio Alto)\",ROUND('[1]Tabla de Amortizacion'!H89,8),IF([1]CALCULADORA!$F$10=\"14% (Alto)\",ROUND('[1]Tabla de Amortizacion'!#REF!,8),IF([1]CALCULADORA!$F$10=20%,ROUND('[1]Tabla de Amortizacion'!#REF!,8),ROUND('[1]Tabla de Amortizacion'!K89,8))))))","v":0}]
["2031-11-18",1.5964099999999999E-3,{"$f":"+VLOOKUP(A89,'Tabla de Amortizacion'!$D$2:$P$182,MATCH(Tablas!$B$1,'Tabla de Amortizacion'!$D$2:$P$2,0))","v":1.5964099999999999E-3},null,{"$f":"IF([1]CALCULADORA!$F$10=\"Contractual\",ROUND('[1]Tabla de Amortizacion'!C90,8),IF([1]CALCULADORA!$F$10=\"6% (Medio)\",ROUND('[1]Tabla de Amortizacion'!F90,8),IF([1]CALCULADORA!$F$10=\"10% (Medio Alto)\",ROUND('[1]Tabla de Amortizacion'!H90,8),IF([1]CALCULADORA!$F$10=\"14% (Alto)\",ROUND('[1]Tabla de Amortizacion'!#REF!,8),IF([1]CALCULADORA!$F$10=20%,ROUND('[1]Tabla de Amortizacion'!#REF!,8),ROUND('[1]Tabla de Amortizacion'!K90,8))))))","v":0}]
["2031-12-18",1.5360300000000001E-3,{"$f":"+VLOOKUP(A90,'Tabla de Amortizacion'!$D$2:$P$182,MATCH(Tablas!$B$1,'Tabla de Amortizacion'!$D$2:$P$2,0))","v":1.5360300000000001E-3},null,{"$f":"IF([1]CALCULADORA!$F$10=\"Contractual\",ROUND('[1]Tabla de Amortizacion'!C91,8),IF([1]CALCULADORA!$F$10=\"6% (Medio)\",ROUND('[1]Tabla de Amortizacion'!F91,8),IF([1]CALCULADORA!$F$10=\"10% (Medio Alto)\",ROUND('[1]Tabla de Amortizacion'!H91,8),IF([1]CALCULADORA!$F$10=\"14% (Alto)\",ROUND('[1]Tabla de Amortizacion'!#REF!,8),IF([1]CALCULADORA!$F$10=20%,ROUND('[1]Tabla de Amortizacion'!#REF!,8),ROUND('[1]Tabla de Amortizacion'!K91,8))))))","v":0}]
["2032-01-18",1.4741699999999999E-3,{"$f":"+VLOOKUP(A91,'Tabla de Amortizacion'!$D$2:$P$182,MATCH(Tablas!$B$1,'Tabla de Amortizacion'!$D$2:$P$2,0))","v":1.4741699999999999E-3},null,{"$f":"IF([1]CALCULADORA!$F$10=\"Contractual\",ROUND('[1]Tabla de Amortizacion'!C92,8),IF([1]CALCULADORA!$F$10=\"6% (Medio)\",ROUND('[1]Tabla de Amortizacion'!F92,8),IF([1]CALCULADORA!$F$10=\"10% (Medio Alto)\",ROUND('[1]Tabla de Amortizacion'!H92,8),IF([1]CALCULADORA!$F$10=\"14% (Alto)\",ROUND('[1]Tabla de Amortizacion'!#REF!,8),IF([1]CALCULADORA!$F$10=20%,ROUND('[1]Tabla de Amortizacion'!#REF!,8),ROUND('[1]Tabla de Amortizacion'!K92,8))))))","v":0}]
["2032-02-18",1.8805570000000001E-2,{"$f":"+VLOOKUP(A92,'Tabla de Amortizacion'!$D$2:$P$182,MATCH(Tablas!$B$1,'Tabla de Amortizacion'!$D$2:$P$2,0))","v":1.8805570000000001E-2},null,{"$f":"IF([1]CALCULADORA!$F$10=\"Contractual\",ROUND('[1]Tabla de Amortizacion'!C93,8),IF([1]CALCULADORA!$F$10=\"6% (Medio)\",ROUND('[1]Tabla de Amortizacion'!F93,8),IF([1]CALCULADORA!$F$10=\"10% (Medio Alto)\",ROUND('[1]Tabla de Amortizacion'!H93,8),IF([1]CALCULADORA!$F$10=\"14% (Alto)\",ROUND('[1]Tabla de Amortizacion'!#REF!,8),IF([1]CALCULADORA!$F$10=20%,ROUND('[1]Tabla de Amortizacion'!#REF!,8),ROUND('[1]Tabla de Amortizacion'!K93,8))))))","v":0}]
["2032-03-18",0,{"$f":"+VLOOKUP(A93,'Tabla de Amortizacion'!$D$2:$P$182,MATCH(Tablas!$B$1,'Tabla de Amortizacion'!$D$2:$P$2,0))","v":0},null,{"$f":"IF([1]CALCULADORA!$F$10=\"Contractual\",ROUND('[1]Tabla de Amortizacion'!C94,8),IF([1]CALCULADORA!$F$10=\"6% (Medio)\",ROUND('[1]Tabla de Amortizacion'!F94,8),IF([1]CALCULADORA!$F$10=\"10% (Medio Alto)\",ROUND('[1]Tabla de Amortizacion'!H94,8),IF([1]CALCULADORA!$F$10=\"14% (Alto)\",ROUND('[1]Tabla de Amortizacion'!#REF!,8),IF([1]CALCULADORA!$F$10=20%,ROUND('[1]Tabla de Amortizacion'!#REF!,8),ROUND('[1]Tabla de Amortizacion'!K94,8))))))","v":0}]
["2032-04-18",0,{"$f":"+VLOOKUP(A94,'Tabla de Amortizacion'!$D$2:$P$182,MATCH(Tablas!$B$1,'Tabla de Amortizacion'!$D$2:$P$2,0))","v":0},null,{"$f":"IF([1]CALCULADORA!$F$10=\"Contractual\",ROUND('[1]Tabla de Amortizacion'!C95,8),IF([1]CALCULADORA!$F$10=\"6% (Medio)\",ROUND('[1]Tabla de Amortizacion'!F95,8),IF([1]CALCULADORA!$F$10=\"10% (Medio Alto)\",ROUND('[1]Tabla de Amortizacion'!H95,8),IF([1]CALCULADORA!$F$10=\"14% (Alto)\",ROUND('[1]Tabla de Amortizacion'!#REF!,8),IF([1]CALCULADORA!$F$10=20%,ROUND('[1]Tabla de Amortizacion'!#REF!,8),ROUND('[1]Tabla de Amortizacion'!K95,8))))))","v":0}]
["2032-05-18",0,{"$f":"+VLOOKUP(A95,'Tabla de Amortizacion'!$D$2:$P$182,MATCH(Tablas!$B$1,'Tabla de Amortizacion'!$D$2:$P$2,0))","v":0},null,{"$f":"IF([1]CALCULADORA!$F$10=\"Contractual\",ROUND('[1]Tabla de Amortizacion'!C96,8),IF([1]CALCULADORA!$F$10=\"6% (Medio)\",ROUND('[1]Tabla de Amortizacion'!F96,8),IF([1]CALCULADORA!$F$10=\"10% (Medio Alto)\",ROUND('[1]Tabla de Amortizacion'!H96,8),IF([1]CALCULADORA!$F$10=\"14% (Alto)\",ROUND('[1]Tabla de Amortizacion'!#REF!,8),IF([1]CALCULADORA!$F$10=20%,ROUND('[1]Tabla de Amortizacion'!#REF!,8),ROUND('[1]Tabla de Amortizacion'!K96,8))))))","v":0}]
["2032-06-18",0,{"$f":"+VLOOKUP(A96,'Tabla de Amortizacion'!$D$2:$P$182,MATCH(Tablas!$B$1,'Tabla de Amortizacion'!$D$2:$P$2,0))","v":0},null,{"$f":"IF([1]CALCULADORA!$F$10=\"Contractual\",ROUND('[1]Tabla de Amortizacion'!C97,8),IF([1]CALCULADORA!$F$10=\"6% (Medio)\",ROUND('[1]Tabla de Amortizacion'!F97,8),IF([1]CALCULADORA!$F$10=\"10% (Medio Alto)\",ROUND('[1]Tabla de Amortizacion'!H97,8),IF([1]CALCULADORA!$F$10=\"14% (Alto)\",ROUND('[1]Tabla de Amortizacion'!#REF!,8),IF([1]CALCULADORA!$F$10=20%,ROUND('[1]Tabla de Amortizacion'!#REF!,8),ROUND('[1]Tabla de Amortizacion'!K97,8))))))","v":0}]
["2032-07-18",0,{"$f":"+VLOOKUP(A97,'Tabla de Amortizacion'!$D$2:$P$182,MATCH(Tablas!$B$1,'Tabla de Amortizacion'!$D$2:$P$2,0))","v":0},null,{"$f":"IF([1]CALCULADORA!$F$10=\"Contractual\",ROUND('[1]Tabla de Amortizacion'!C98,8),IF([1]CALCULADORA!$F$10=\"6% (Medio)\",ROUND('[1]Tabla de Amortizacion'!F98,8),IF([1]CALCULADORA!$F$10=\"10% (Medio Alto)\",ROUND('[1]Tabla de Amortizacion'!H98,8),IF([1]CALCULADORA!$F$10=\"14% (Alto)\",ROUND('[1]Tabla de Amortizacion'!#REF!,8),IF([1]CALCULADORA!$F$10=20%,ROUND('[1]Tabla de Amortizacion'!#REF!,8),ROUND('[1]Tabla de Amortizacion'!K98,8))))))","v":0}]
["2032-08-18",0,{"$f":"+VLOOKUP(A98,'Tabla de Amortizacion'!$D$2:$P$182,MATCH(Tablas!$B$1,'Tabla de Amortizacion'!$D$2:$P$2,0))","v":0},null,{"$f":"IF([1]CALCULADORA!$F$10=\"Contractual\",ROUND('[1]Tabla de Amortizacion'!C99,8),IF([1]CALCULADORA!$F$10=\"6% (Medio)\",ROUND('[1]Tabla de Amortizacion'!F99,8),IF([1]CALCULADORA!$F$10=\"10% (Medio Alto)\",ROUND('[1]Tabla de Amortizacion'!H99,8),IF([1]CALCULADORA!$F$10=\"14% (Alto)\",ROUND('[1]Tabla de Amortizacion'!#REF!,8),IF([1]CALCULADORA!$F$10=20%,ROUND('[1]Tabla de Amortizacion'!#REF!,8),ROUND('[1]Tabla de Amortizacion'!K99,8))))))","v":0}]
["2032-09-18",0,{"$f":"+VLOOKUP(A99,'Tabla de Amortizacion'!$D$2:$P$182,MATCH(Tablas!$B$1,'Tabla de Amortizacion'!$D$2:$P$2,0))","v":0},null,{"$f":"IF([1]CALCULADORA!$F$10=\"Contractual\",ROUND('[1]Tabla de Amortizacion'!C100,8),IF([1]CALCULADORA!$F$10=\"6% (Medio)\",ROUND('[1]Tabla de Amortizacion'!F100,8),IF([1]CALCULADORA!$F$10=\"10% (Medio Alto)\",ROUND('[1]Tabla de Amortizacion'!H100,8),IF([1]CALCULADORA!$F$10=\"14% (Alto)\",ROUND('[1]Tabla de Amortizacion'!#REF!,8),IF([1]CALCULADORA!$F$10=20%,ROUND('[1]Tabla de Amortizacion'!#REF!,8),ROUND('[1]Tabla de Amortizacion'!K100,8))))))","v":0}]
["2032-10-18",0,{"$f":"+VLOOKUP(A100,'Tabla de Amortizacion'!$D$2:$P$182,MATCH(Tablas!$B$1,'Tabla de Amortizacion'!$D$2:$P$2,0))","v":0},null,{"$f":"IF([1]CALCULADORA!$F$10=\"Contractual\",ROUND('[1]Tabla de Amortizacion'!C101,8),IF([1]CALCULADORA!$F$10=\"6% (Medio)\",ROUND('[1]Tabla de Amortizacion'!F101,8),IF([1]CALCULADORA!$F$10=\"10% (Medio Alto)\",ROUND('[1]Tabla de Amortizacion'!H101,8),IF([1]CALCULADORA!$F$10=\"14% (Alto)\",ROUND('[1]Tabla de Amortizacion'!#REF!,8),IF([1]CALCULADORA!$F$10=20%,ROUND('[1]Tabla de Amortizacion'!#REF!,8),ROUND('[1]Tabla de Amortizacion'!K101,8))))))","v":0}]
["2032-11-18",0,{"$f":"+VLOOKUP(A101,'Tabla de Amortizacion'!$D$2:$P$182,MATCH(Tablas!$B$1,'Tabla de Amortizacion'!$D$2:$P$2,0))","v":0},null,{"$f":"IF([1]CALCULADORA!$F$10=\"Contractual\",ROUND('[1]Tabla de Amortizacion'!C102,8),IF([1]CALCULADORA!$F$10=\"6% (Medio)\",ROUND('[1]Tabla de Amortizacion'!F102,8),IF([1]CALCULADORA!$F$10=\"10% (Medio Alto)\",ROUND('[1]Tabla de Amortizacion'!H102,8),IF([1]CALCULADORA!$F$10=\"14% (Alto)\",ROUND('[1]Tabla de Amortizacion'!#REF!,8),IF([1]CALCULADORA!$F$10=20%,ROUND('[1]Tabla de Amortizacion'!#REF!,8),ROUND('[1]Tabla de Amortizacion'!K102,8))))))","v":0}]
["2032-12-18",0,{"$f":"+VLOOKUP(A102,'Tabla de Amortizacion'!$D$2:$P$182,MATCH(Tablas!$B$1,'Tabla de Amortizacion'!$D$2:$P$2,0))","v":0},null,{"$f":"IF([1]CALCULADORA!$F$10=\"Contractual\",ROUND('[1]Tabla de Amortizacion'!C103,8),IF([1]CALCULADORA!$F$10=\"6% (Medio)\",ROUND('[1]Tabla de Amortizacion'!F103,8),IF([1]CALCULADORA!$F$10=\"10% (Medio Alto)\",ROUND('[1]Tabla de Amortizacion'!H103,8),IF([1]CALCULADORA!$F$10=\"14% (Alto)\",ROUND('[1]Tabla de Amortizacion'!#REF!,8),IF([1]CALCULADORA!$F$10=20%,ROUND('[1]Tabla de Amortizacion'!#REF!,8),ROUND('[1]Tabla de Amortizacion'!K103,8))))))","v":0}]
["2033-01-18",0,{"$f":"+VLOOKUP(A103,'Tabla de Amortizacion'!$D$2:$P$182,MATCH(Tablas!$B$1,'Tabla de Amortizacion'!$D$2:$P$2,0))","v":0},null,{"$f":"IF([1]CALCULADORA!$F$10=\"Contractual\",ROUND('[1]Tabla de Amortizacion'!C104,8),IF([1]CALCULADORA!$F$10=\"6% (Medio)\",ROUND('[1]Tabla de Amortizacion'!F104,8),IF([1]CALCULADORA!$F$10=\"10% (Medio Alto)\",ROUND('[1]Tabla de Amortizacion'!H104,8),IF([1]CALCULADORA!$F$10=\"14% (Alto)\",ROUND('[1]Tabla de Amortizacion'!#REF!,8),IF([1]CALCULADORA!$F$10=20%,ROUND('[1]Tabla de Amortizacion'!#REF!,8),ROUND('[1]Tabla de Amortizacion'!K104,8))))))","v":0}]
["2033-02-18",0,{"$f":"+VLOOKUP(A104,'Tabla de Amortizacion'!$D$2:$P$182,MATCH(Tablas!$B$1,'Tabla de Amortizacion'!$D$2:$P$2,0))","v":0},null,{"$f":"IF([1]CALCULADORA!$F$10=\"Contractual\",ROUND('[1]Tabla de Amortizacion'!C105,8),IF([1]CALCULADORA!$F$10=\"6% (Medio)\",ROUND('[1]Tabla de Amortizacion'!F105,8),IF([1]CALCULADORA!$F$10=\"10% (Medio Alto)\",ROUND('[1]Tabla de Amortizacion'!H105,8),IF([1]CALCULADORA!$F$10=\"14% (Alto)\",ROUND('[1]Tabla de Amortizacion'!#REF!,8),IF([1]CALCULADORA!$F$10=20%,ROUND('[1]Tabla de Amortizacion'!#REF!,8),ROUND('[1]Tabla de Amortizacion'!K105,8))))))","v":0}]
["2033-03-18",0,{"$f":"+VLOOKUP(A105,'Tabla de Amortizacion'!$D$2:$P$182,MATCH(Tablas!$B$1,'Tabla de Amortizacion'!$D$2:$P$2,0))","v":0},null,{"$f":"IF([1]CALCULADORA!$F$10=\"Contractual\",ROUND('[1]Tabla de Amortizacion'!C106,8),IF([1]CALCULADORA!$F$10=\"6% (Medio)\",ROUND('[1]Tabla de Amortizacion'!F106,8),IF([1]CALCULADORA!$F$10=\"10% (Medio Alto)\",ROUND('[1]Tabla de Amortizacion'!H106,8),IF([1]CALCULADORA!$F$10=\"14% (Alto)\",ROUND('[1]Tabla de Amortizacion'!#REF!,8),IF([1]CALCULADORA!$F$10=20%,ROUND('[1]Tabla de Amortizacion'!#REF!,8),ROUND('[1]Tabla de Amortizacion'!K106,8))))))","v":0}]
["2033-04-18",0,{"$f":"+VLOOKUP(A106,'Tabla de Amortizacion'!$D$2:$P$182,MATCH(Tablas!$B$1,'Tabla de Amortizacion'!$D$2:$P$2,0))","v":0},null,{"$f":"IF([1]CALCULADORA!$F$10=\"Contractual\",ROUND('[1]Tabla de Amortizacion'!C107,8),IF([1]CALCULADORA!$F$10=\"6% (Medio)\",ROUND('[1]Tabla de Amortizacion'!F107,8),IF([1]CALCULADORA!$F$10=\"10% (Medio Alto)\",ROUND('[1]Tabla de Amortizacion'!H107,8),IF([1]CALCULADORA!$F$10=\"14% (Alto)\",ROUND('[1]Tabla de Amortizacion'!#REF!,8),IF([1]CALCULADORA!$F$10=20%,ROUND('[1]Tabla de Amortizacion'!#REF!,8),ROUND('[1]Tabla de Amortizacion'!K107,8))))))","v":0}]
["2033-05-18",0,{"$f":"+VLOOKUP(A107,'Tabla de Amortizacion'!$D$2:$P$182,MATCH(Tablas!$B$1,'Tabla de Amortizacion'!$D$2:$P$2,0))","v":0},null,{"$f":"IF([1]CALCULADORA!$F$10=\"Contractual\",ROUND('[1]Tabla de Amortizacion'!C108,8),IF([1]CALCULADORA!$F$10=\"6% (Medio)\",ROUND('[1]Tabla de Amortizacion'!F108,8),IF([1]CALCULADORA!$F$10=\"10% (Medio Alto)\",ROUND('[1]Tabla de Amortizacion'!H108,8),IF([1]CALCULADORA!$F$10=\"14% (Alto)\",ROUND('[1]Tabla de Amortizacion'!#REF!,8),IF([1]CALCULADORA!$F$10=20%,ROUND('[1]Tabla de Amortizacion'!#REF!,8),ROUND('[1]Tabla de Amortizacion'!K108,8))))))","v":0}]
["2033-06-18",0,{"$f":"+VLOOKUP(A108,'Tabla de Amortizacion'!$D$2:$P$182,MATCH(Tablas!$B$1,'Tabla de Amortizacion'!$D$2:$P$2,0))","v":0},null,{"$f":"IF([1]CALCULADORA!$F$10=\"Contractual\",ROUND('[1]Tabla de Amortizacion'!C109,8),IF([1]CALCULADORA!$F$10=\"6% (Medio)\",ROUND('[1]Tabla de Amortizacion'!F109,8),IF([1]CALCULADORA!$F$10=\"10% (Medio Alto)\",ROUND('[1]Tabla de Amortizacion'!H109,8),IF([1]CALCULADORA!$F$10=\"14% (Alto)\",ROUND('[1]Tabla de Amortizacion'!#REF!,8),IF([1]CALCULADORA!$F$10=20%,ROUND('[1]Tabla de Amortizacion'!#REF!,8),ROUND('[1]Tabla de Amortizacion'!K109,8))))))","v":0}]
["2033-07-18",0,{"$f":"+VLOOKUP(A109,'Tabla de Amortizacion'!$D$2:$P$182,MATCH(Tablas!$B$1,'Tabla de Amortizacion'!$D$2:$P$2,0))","v":0},null,{"$f":"IF([1]CALCULADORA!$F$10=\"Contractual\",ROUND('[1]Tabla de Amortizacion'!C110,8),IF([1]CALCULADORA!$F$10=\"6% (Medio)\",ROUND('[1]Tabla de Amortizacion'!F110,8),IF([1]CALCULADORA!$F$10=\"10% (Medio Alto)\",ROUND('[1]Tabla de Amortizacion'!H110,8),IF([1]CALCULADORA!$F$10=\"14% (Alto)\",ROUND('[1]Tabla de Amortizacion'!#REF!,8),IF([1]CALCULADORA!$F$10=20%,ROUND('[1]Tabla de Amortizacion'!#REF!,8),ROUND('[1]Tabla de Amortizacion'!K110,8))))))","v":0}]
["2033-08-18",0,{"$f":"+VLOOKUP(A110,'Tabla de Amortizacion'!$D$2:$P$182,MATCH(Tablas!$B$1,'Tabla de Amortizacion'!$D$2:$P$2,0))","v":0},null,{"$f":"IF([1]CALCULADORA!$F$10=\"Contractual\",ROUND('[1]Tabla de Amortizacion'!C111,8),IF([1]CALCULADORA!$F$10=\"6% (Medio)\",ROUND('[1]Tabla de Amortizacion'!F111,8),IF([1]CALCULADORA!$F$10=\"10% (Medio Alto)\",ROUND('[1]Tabla de Amortizacion'!H111,8),IF([1]CALCULADORA!$F$10=\"14% (Alto)\",ROUND('[1]Tabla de Amortizacion'!#REF!,8),IF([1]CALCULADORA!$F$10=20%,ROUND('[1]Tabla de Amortizacion'!#REF!,8),ROUND('[1]Tabla de Amortizacion'!K111,8))))))","v":0}]
["2033-09-18",0,{"$f":"+VLOOKUP(A111,'Tabla de Amortizacion'!$D$2:$P$182,MATCH(Tablas!$B$1,'Tabla de Amortizacion'!$D$2:$P$2,0))","v":0},null,{"$f":"IF([1]CALCULADORA!$F$10=\"Contractual\",ROUND('[1]Tabla de Amortizacion'!C112,8),IF([1]CALCULADORA!$F$10=\"6% (Medio)\",ROUND('[1]Tabla de Amortizacion'!F112,8),IF([1]CALCULADORA!$F$10=\"10% (Medio Alto)\",ROUND('[1]Tabla de Amortizacion'!H112,8),IF([1]CALCULADORA!$F$10=\"14% (Alto)\",ROUND('[1]Tabla de Amortizacion'!#REF!,8),IF([1]CALCULADORA!$F$10=20%,ROUND('[1]Tabla de Amortizacion'!#REF!,8),ROUND('[1]Tabla de Amortizacion'!K112,8))))))","v":0}]
["2033-10-18",0,{"$f":"+VLOOKUP(A112,'Tabla de Amortizacion'!$D$2:$P$182,MATCH(Tablas!$B$1,'Tabla de Amortizacion'!$D$2:$P$2,0))","v":0},null,{"$f":"IF([1]CALCULADORA!$F$10=\"Contractual\",ROUND('[1]Tabla de Amortizacion'!C113,8),IF([1]CALCULADORA!$F$10=\"6% (Medio)\",ROUND('[1]Tabla de Amortizacion'!F113,8),IF([1]CALCULADORA!$F$10=\"10% (Medio Alto)\",ROUND('[1]Tabla de Amortizacion'!H113,8),IF([1]CALCULADORA!$F$10=\"14% (Alto)\",ROUND('[1]Tabla de Amortizacion'!#REF!,8),IF([1]CALCULADORA!$F$10=20%,ROUND('[1]Tabla de Amortizacion'!#REF!,8),ROUND('[1]Tabla de Amortizacion'!K113,8))))))","v":0}]
["2033-11-18",0,{"$f":"+VLOOKUP(A113,'Tabla de Amortizacion'!$D$2:$P$182,MATCH(Tablas!$B$1,'Tabla de Amortizacion'!$D$2:$P$2,0))","v":0},null,{"$f":"IF([1]CALCULADORA!$F$10=\"Contractual\",ROUND('[1]Tabla de Amortizacion'!C114,8),IF([1]CALCULADORA!$F$10=\"6% (Medio)\",ROUND('[1]Tabla de Amortizacion'!F114,8),IF([1]CALCULADORA!$F$10=\"10% (Medio Alto)\",ROUND('[1]Tabla de Amortizacion'!H114,8),IF([1]CALCULADORA!$F$10=\"14% (Alto)\",ROUND('[1]Tabla de Amortizacion'!#REF!,8),IF([1]CALCULADORA!$F$10=20%,ROUND('[1]Tabla de Amortizacion'!#REF!,8),ROUND('[1]Tabla de Amortizacion'!K114,8))))))","v":0}]
["2033-12-18",0,{"$f":"+VLOOKUP(A114,'Tabla de Amortizacion'!$D$2:$P$182,MATCH(Tablas!$B$1,'Tabla de Amortizacion'!$D$2:$P$2,0))","v":0},null,{"$f":"IF([1]CALCULADORA!$F$10=\"Contractual\",ROUND('[1]Tabla de Amortizacion'!C115,8),IF([1]CALCULADORA!$F$10=\"6% (Medio)\",ROUND('[1]Tabla de Amortizacion'!F115,8),IF([1]CALCULADORA!$F$10=\"10% (Medio Alto)\",ROUND('[1]Tabla de Amortizacion'!H115,8),IF([1]CALCULADORA!$F$10=\"14% (Alto)\",ROUND('[1]Tabla de Amortizacion'!#REF!,8),IF([1]CALCULADORA!$F$10=20%,ROUND('[1]Tabla de Amortizacion'!#REF!,8),ROUND('[1]Tabla de Amortizacion'!K115,8))))))","v":0}]
["2034-01-18",0,{"$f":"+VLOOKUP(A115,'Tabla de Amortizacion'!$D$2:$P$182,MATCH(Tablas!$B$1,'Tabla de Amortizacion'!$D$2:$P$2,0))","v":0},null,{"$f":"IF([1]CALCULADORA!$F$10=\"Contractual\",ROUND('[1]Tabla de Amortizacion'!C116,8),IF([1]CALCULADORA!$F$10=\"6% (Medio)\",ROUND('[1]Tabla de Amortizacion'!F116,8),IF([1]CALCULADORA!$F$10=\"10% (Medio Alto)\",ROUND('[1]Tabla de Amortizacion'!H116,8),IF([1]CALCULADORA!$F$10=\"14% (Alto)\",ROUND('[1]Tabla de Amortizacion'!#REF!,8),IF([1]CALCULADORA!$F$10=20%,ROUND('[1]Tabla de Amortizacion'!#REF!,8),ROUND('[1]Tabla de Amortizacion'!K116,8))))))","v":0}]
["2034-02-18",0,{"$f":"+VLOOKUP(A116,'Tabla de Amortizacion'!$D$2:$P$182,MATCH(Tablas!$B$1,'Tabla de Amortizacion'!$D$2:$P$2,0))","v":0},null,{"$f":"IF([1]CALCULADORA!$F$10=\"Contractual\",ROUND('[1]Tabla de Amortizacion'!C117,8),IF([1]CALCULADORA!$F$10=\"6% (Medio)\",ROUND('[1]Tabla de Amortizacion'!F117,8),IF([1]CALCULADORA!$F$10=\"10% (Medio Alto)\",ROUND('[1]Tabla de Amortizacion'!H117,8),IF([1]CALCULADORA!$F$10=\"14% (Alto)\",ROUND('[1]Tabla de Amortizacion'!#REF!,8),IF([1]CALCULADORA!$F$10=20%,ROUND('[1]Tabla de Amortizacion'!#REF!,8),ROUND('[1]Tabla de Amortizacion'!K117,8))))))","v":0}]
["2034-03-18",0,{"$f":"+VLOOKUP(A117,'Tabla de Amortizacion'!$D$2:$P$182,MATCH(Tablas!$B$1,'Tabla de Amortizacion'!$D$2:$P$2,0))","v":0},null,{"$f":"IF([1]CALCULADORA!$F$10=\"Contractual\",ROUND('[1]Tabla de Amortizacion'!C118,8),IF([1]CALCULADORA!$F$10=\"6% (Medio)\",ROUND('[1]Tabla de Amortizacion'!F118,8),IF([1]CALCULADORA!$F$10=\"10% (Medio Alto)\",ROUND('[1]Tabla de Amortizacion'!H118,8),IF([1]CALCULADORA!$F$10=\"14% (Alto)\",ROUND('[1]Tabla de Amortizacion'!#REF!,8),IF([1]CALCULADORA!$F$10=20%,ROUND('[1]Tabla de Amortizacion'!#REF!,8),ROUND('[1]Tabla de Amortizacion'!K118,8))))))","v":0}]
["2034-04-18",0,{"$f":"+VLOOKUP(A118,'Tabla de Amortizacion'!$D$2:$P$182,MATCH(Tablas!$B$1,'Tabla de Amortizacion'!$D$2:$P$2,0))","v":0},null,{"$f":"IF([1]CALCULADORA!$F$10=\"Contractual\",ROUND('[1]Tabla de Amortizacion'!C119,8),IF([1]CALCULADORA!$F$10=\"6% (Medio)\",ROUND('[1]Tabla de Amortizacion'!F119,8),IF([1]CALCULADORA!$F$10=\"10% (Medio Alto)\",ROUND('[1]Tabla de Amortizacion'!H119,8),IF([1]CALCULADORA!$F$10=\"14% (Alto)\",ROUND('[1]Tabla de Amortizacion'!#REF!,8),IF([1]CALCULADORA!$F$10=20%,ROUND('[1]Tabla de Amortizacion'!#REF!,8),ROUND('[1]Tabla de Amortizacion'!K119,8))))))","v":0}]
["2034-05-18",0,{"$f":"+VLOOKUP(A119,'Tabla de Amortizacion'!$D$2:$P$182,MATCH(Tablas!$B$1,'Tabla de Amortizacion'!$D$2:$P$2,0))","v":0},null,{"$f":"IF([1]CALCULADORA!$F$10=\"Contractual\",ROUND('[1]Tabla de Amortizacion'!C120,8),IF([1]CALCULADORA!$F$10=\"6% (Medio)\",ROUND('[1]Tabla de Amortizacion'!F120,8),IF([1]CALCULADORA!$F$10=\"10% (Medio Alto)\",ROUND('[1]Tabla de Amortizacion'!H120,8),IF([1]CALCULADORA!$F$10=\"14% (Alto)\",ROUND('[1]Tabla de Amortizacion'!#REF!,8),IF([1]CALCULADORA!$F$10=20%,ROUND('[1]Tabla de Amortizacion'!#REF!,8),ROUND('[1]Tabla de Amortizacion'!K120,8))))))","v":0}]
["2034-06-18",0,{"$f":"+VLOOKUP(A120,'Tabla de Amortizacion'!$D$2:$P$182,MATCH(Tablas!$B$1,'Tabla de Amortizacion'!$D$2:$P$2,0))","v":0},null,{"$f":"IF([1]CALCULADORA!$F$10=\"Contractual\",ROUND('[1]Tabla de Amortizacion'!C121,8),IF([1]CALCULADORA!$F$10=\"6% (Medio)\",ROUND('[1]Tabla de Amortizacion'!F121,8),IF([1]CALCULADORA!$F$10=\"10% (Medio Alto)\",ROUND('[1]Tabla de Amortizacion'!H121,8),IF([1]CALCULADORA!$F$10=\"14% (Alto)\",ROUND('[1]Tabla de Amortizacion'!#REF!,8),IF([1]CALCULADORA!$F$10=20%,ROUND('[1]Tabla de Amortizacion'!#REF!,8),ROUND('[1]Tabla de Amortizacion'!K121,8))))))","v":0}]
["2034-07-18",0,{"$f":"+VLOOKUP(A121,'Tabla de Amortizacion'!$D$2:$P$182,MATCH(Tablas!$B$1,'Tabla de Amortizacion'!$D$2:$P$2,0))","v":0},null,{"$f":"IF([1]CALCULADORA!$F$10=\"Contractual\",ROUND('[1]Tabla de Amortizacion'!C122,8),IF([1]CALCULADORA!$F$10=\"6% (Medio)\",ROUND('[1]Tabla de Amortizacion'!F122,8),IF([1]CALCULADORA!$F$10=\"10% (Medio Alto)\",ROUND('[1]Tabla de Amortizacion'!H122,8),IF([1]CALCULADORA!$F$10=\"14% (Alto)\",ROUND('[1]Tabla de Amortizacion'!#REF!,8),IF([1]CALCULADORA!$F$10=20%,ROUND('[1]Tabla de Amortizacion'!#REF!,8),ROUND('[1]Tabla de Amortizacion'!K122,8))))))","v":0}]
["2034-08-18",0,{"$f":"+VLOOKUP(A122,'Tabla de Amortizacion'!$D$2:$P$182,MATCH(Tablas!$B$1,'Tabla de Amortizacion'!$D$2:$P$2,0))","v":0},null,{"$f":"IF([1]CALCULADORA!$F$10=\"Contractual\",ROUND('[1]Tabla de Amortizacion'!C123,8),IF([1]CALCULADORA!$F$10=\"6% (Medio)\",ROUND('[1]Tabla de Amortizacion'!F123,8),IF([1]CALCULADORA!$F$10=\"10% (Medio Alto)\",ROUND('[1]Tabla de Amortizacion'!H123,8),IF([1]CALCULADORA!$F$10=\"14% (Alto)\",ROUND('[1]Tabla de Amortizacion'!#REF!,8),IF([1]CALCULADORA!$F$10=20%,ROUND('[1]Tabla de Amortizacion'!#REF!,8),ROUND('[1]Tabla de Amortizacion'!K123,8))))))","v":0}]
["2034-09-18",0,{"$f":"+VLOOKUP(A123,'Tabla de Amortizacion'!$D$2:$P$182,MATCH(Tablas!$B$1,'Tabla de Amortizacion'!$D$2:$P$2,0))","v":0},null,{"$f":"IF([1]CALCULADORA!$F$10=\"Contractual\",ROUND('[1]Tabla de Amortizacion'!C124,8),IF([1]CALCULADORA!$F$10=\"6% (Medio)\",ROUND('[1]Tabla de Amortizacion'!F124,8),IF([1]CALCULADORA!$F$10=\"10% (Medio Alto)\",ROUND('[1]Tabla de Amortizacion'!H124,8),IF([1]CALCULADORA!$F$10=\"14% (Alto)\",ROUND('[1]Tabla de Amortizacion'!#REF!,8),IF([1]CALCULADORA!$F$10=20%,ROUND('[1]Tabla de Amortizacion'!#REF!,8),ROUND('[1]Tabla de Amortizacion'!K124,8))))))","v":0}]
["2034-10-18",0,{"$f":"+VLOOKUP(A124,'Tabla de Amortizacion'!$D$2:$P$182,MATCH(Tablas!$B$1,'Tabla de Amortizacion'!$D$2:$P$2,0))","v":0},null,{"$f":"IF([1]CALCULADORA!$F$10=\"Contractual\",ROUND('[1]Tabla de Amortizacion'!C125,8),IF([1]CALCULADORA!$F$10=\"6% (Medio)\",ROUND('[1]Tabla de Amortizacion'!F125,8),IF([1]CALCULADORA!$F$10=\"10% (Medio Alto)\",ROUND('[1]Tabla de Amortizacion'!H125,8),IF([1]CALCULADORA!$F$10=\"14% (Alto)\",ROUND('[1]Tabla de Amortizacion'!#REF!,8),IF([1]CALCULADORA!$F$10=20%,ROUND('[1]Tabla de Amortizacion'!#REF!,8),ROUND('[1]Tabla de Amortizacion'!K125,8))))))","v":0}]
["2034-11-18",0,{"$f":"+VLOOKUP(A125,'Tabla de Amortizacion'!$D$2:$P$182,MATCH(Tablas!$B$1,'Tabla de Amortizacion'!$D$2:$P$2,0))","v":0},null,{"$f":"IF([1]CALCULADORA!$F$10=\"Contractual\",ROUND('[1]Tabla de Amortizacion'!C126,8),IF([1]CALCULADORA!$F$10=\"6% (Medio)\",ROUND('[1]Tabla de Amortizacion'!F126,8),IF([1]CALCULADORA!$F$10=\"10% (Medio Alto)\",ROUND('[1]Tabla de Amortizacion'!H126,8),IF([1]CALCULADORA!$F$10=\"14% (Alto)\",ROUND('[1]Tabla de Amortizacion'!#REF!,8),IF([1]CALCULADORA!$F$10=20%,ROUND('[1]Tabla de Amortizacion'!#REF!,8),ROUND('[1]Tabla de Amortizacion'!K126,8))))))","v":0}]
["2034-12-18",0,{"$f":"+VLOOKUP(A126,'Tabla de Amortizacion'!$D$2:$P$182,MATCH(Tablas!$B$1,'Tabla de Amortizacion'!$D$2:$P$2,0))","v":0},null,{"$f":"IF([1]CALCULADORA!$F$10=\"Contractual\",ROUND('[1]Tabla de Amortizacion'!C127,8),IF([1]CALCULADORA!$F$10=\"6% (Medio)\",ROUND('[1]Tabla de Amortizacion'!F127,8),IF([1]CALCULADORA!$F$10=\"10% (Medio Alto)\",ROUND('[1]Tabla de Amortizacion'!H127,8),IF([1]CALCULADORA!$F$10=\"14% (Alto)\",ROUND('[1]Tabla de Amortizacion'!#REF!,8),IF([1]CALCULADORA!$F$10=20%,ROUND('[1]Tabla de Amortizacion'!#REF!,8),ROUND('[1]Tabla de Amortizacion'!K127,8))))))","v":0}]
["2035-01-18",0,{"$f":"+VLOOKUP(A127,'Tabla de Amortizacion'!$D$2:$P$182,MATCH(Tablas!$B$1,'Tabla de Amortizacion'!$D$2:$P$2,0))","v":0},null,{"$f":"IF([1]CALCULADORA!$F$10=\"Contractual\",ROUND('[1]Tabla de Amortizacion'!C128,8),IF([1]CALCULADORA!$F$10=\"6% (Medio)\",ROUND('[1]Tabla de Amortizacion'!F128,8),IF([1]CALCULADORA!$F$10=\"10% (Medio Alto)\",ROUND('[1]Tabla de Amortizacion'!H128,8),IF([1]CALCULADORA!$F$10=\"14% (Alto)\",ROUND('[1]Tabla de Amortizacion'!#REF!,8),IF([1]CALCULADORA!$F$10=20%,ROUND('[1]Tabla de Amortizacion'!#REF!,8),ROUND('[1]Tabla de Amortizacion'!K128,8))))))","v":0}]
["2035-02-18",0,{"$f":"+VLOOKUP(A128,'Tabla de Amortizacion'!$D$2:$P$182,MATCH(Tablas!$B$1,'Tabla de Amortizacion'!$D$2:$P$2,0))","v":0},null,{"$f":"IF([1]CALCULADORA!$F$10=\"Contractual\",ROUND('[1]Tabla de Amortizacion'!C129,8),IF([1]CALCULADORA!$F$10=\"6% (Medio)\",ROUND('[1]Tabla de Amortizacion'!F129,8),IF([1]CALCULADORA!$F$10=\"10% (Medio Alto)\",ROUND('[1]Tabla de Amortizacion'!H129,8),IF([1]CALCULADORA!$F$10=\"14% (Alto)\",ROUND('[1]Tabla de Amortizacion'!#REF!,8),IF([1]CALCULADORA!$F$10=20%,ROUND('[1]Tabla de Amortizacion'!#REF!,8),ROUND('[1]Tabla de Amortizacion'!K129,8))))))","v":0}]
["2035-03-18",0,{"$f":"+VLOOKUP(A129,'Tabla de Amortizacion'!$D$2:$P$182,MATCH(Tablas!$B$1,'Tabla de Amortizacion'!$D$2:$P$2,0))","v":0},null,{"$f":"IF([1]CALCULADORA!$F$10=\"Contractual\",ROUND('[1]Tabla de Amortizacion'!C130,8),IF([1]CALCULADORA!$F$10=\"6% (Medio)\",ROUND('[1]Tabla de Amortizacion'!F130,8),IF([1]CALCULADORA!$F$10=\"10% (Medio Alto)\",ROUND('[1]Tabla de Amortizacion'!H130,8),IF([1]CALCULADORA!$F$10=\"14% (Alto)\",ROUND('[1]Tabla de Amortizacion'!#REF!,8),IF([1]CALCULADORA!$F$10=20%,ROUND('[1]Tabla de Amortizacion'!#REF!,8),ROUND('[1]Tabla de Amortizacion'!K130,8))))))","v":0}]
["2035-04-18",0,{"$f":"+VLOOKUP(A130,'Tabla de Amortizacion'!$D$2:$P$182,MATCH(Tablas!$B$1,'Tabla de Amortizacion'!$D$2:$P$2,0))","v":0},null,{"$f":"IF([1]CALCULADORA!$F$10=\"Contractual\",ROUND('[1]Tabla de Amortizacion'!C131,8),IF([1]CALCULADORA!$F$10=\"6% (Medio)\",ROUND('[1]Tabla de Amortizacion'!F131,8),IF([1]CALCULADORA!$F$10=\"10% (Medio Alto)\",ROUND('[1]Tabla de Amortizacion'!H131,8),IF([1]CALCULADORA!$F$10=\"14% (Alto)\",ROUND('[1]Tabla de Amortizacion'!#REF!,8),IF([1]CALCULADORA!$F$10=20%,ROUND('[1]Tabla de Amortizacion'!#REF!,8),ROUND('[1]Tabla de Amortizacion'!K131,8))))))","v":0}]
[{"$f":"EDATE(A130,1)","v":"2035-05-18"},{"$f":"+ROUND(C131,8)","v":0},{"$f":"+VLOOKUP(A131,'Tabla de Amortizacion'!$D$2:$P$182,MATCH(Tablas!$B$1,'Tabla de Amortizacion'!$D$2:$P$2,0))","v":0},null,{"$f":"IF([1]CALCULADORA!$F$10=\"Contractual\",ROUND('[1]Tabla de Amortizacion'!C132,8),IF([1]CALCULADORA!$F$10=\"6% (Medio)\",ROUND('[1]Tabla de Amortizacion'!F132,8),IF([1]CALCULADORA!$F$10=\"10% (Medio Alto)\",ROUND('[1]Tabla de Amortizacion'!H132,8),IF([1]CALCULADORA!$F$10=\"14% (Alto)\",ROUND('[1]Tabla de Amortizacion'!#REF!,8),IF([1]CALCULADORA!$F$10=20%,ROUND('[1]Tabla de Amortizacion'!#REF!,8),ROUND('[1]Tabla de Amortizacion'!K132,8))))))","v":0}]
["2035-06-18",0,{"$f":"+VLOOKUP(A132,'Tabla de Amortizacion'!$D$2:$P$182,MATCH(Tablas!$B$1,'Tabla de Amortizacion'!$D$2:$P$2,0))","v":0},null,{"$f":"IF([1]CALCULADORA!$F$10=\"Contractual\",ROUND('[1]Tabla de Amortizacion'!C133,8),IF([1]CALCULADORA!$F$10=\"6% (Medio)\",ROUND('[1]Tabla de Amortizacion'!F133,8),IF([1]CALCULADORA!$F$10=\"10% (Medio Alto)\",ROUND('[1]Tabla de Amortizacion'!H133,8),IF([1]CALCULADORA!$F$10=\"14% (Alto)\",ROUND('[1]Tabla de Amortizacion'!#REF!,8),IF([1]CALCULADORA!$F$10=20%,ROUND('[1]Tabla de Amortizacion'!#REF!,8),ROUND('[1]Tabla de Amortizacion'!K133,8))))))","v":0}]
["2035-07-18",0,{"$f":"+VLOOKUP(A133,'Tabla de Amortizacion'!$D$2:$P$182,MATCH(Tablas!$B$1,'Tabla de Amortizacion'!$D$2:$P$2,0))","v":0},null,{"$f":"IF([1]CALCULADORA!$F$10=\"Contractual\",ROUND('[1]Tabla de Amortizacion'!C134,8),IF([1]CALCULADORA!$F$10=\"6% (Medio)\",ROUND('[1]Tabla de Amortizacion'!F134,8),IF([1]CALCULADORA!$F$10=\"10% (Medio Alto)\",ROUND('[1]Tabla de Amortizacion'!H134,8),IF([1]CALCULADORA!$F$10=\"14% (Alto)\",ROUND('[1]Tabla de Amortizacion'!#REF!,8),IF([1]CALCULADORA!$F$10=20%,ROUND('[1]Tabla de Amortizacion'!#REF!,8),ROUND('[1]Tabla de Amortizacion'!K134,8))))))","v":0}]
["2035-08-18",0,{"$f":"+VLOOKUP(A134,'Tabla de Amortizacion'!$D$2:$P$182,MATCH(Tablas!$B$1,'Tabla de Amortizacion'!$D$2:$P$2,0))","v":0},null,{"$f":"IF([1]CALCULADORA!$F$10=\"Contractual\",ROUND('[1]Tabla de Amortizacion'!C135,8),IF([1]CALCULADORA!$F$10=\"6% (Medio)\",ROUND('[1]Tabla de Amortizacion'!F135,8),IF([1]CALCULADORA!$F$10=\"10% (Medio Alto)\",ROUND('[1]Tabla de Amortizacion'!H135,8),IF([1]CALCULADORA!$F$10=\"14% (Alto)\",ROUND('[1]Tabla de Amortizacion'!#REF!,8),IF([1]CALCULADORA!$F$10=20%,ROUND('[1]Tabla de Amortizacion'!#REF!,8),ROUND('[1]Tabla de Amortizacion'!K135,8))))))","v":0}]
["2035-09-18",0,{"$f":"+VLOOKUP(A135,'Tabla de Amortizacion'!$D$2:$P$182,MATCH(Tablas!$B$1,'Tabla de Amortizacion'!$D$2:$P$2,0))","v":0},null,{"$f":"IF([1]CALCULADORA!$F$10=\"Contractual\",ROUND('[1]Tabla de Amortizacion'!C136,8),IF([1]CALCULADORA!$F$10=\"6% (Medio)\",ROUND('[1]Tabla de Amortizacion'!F136,8),IF([1]CALCULADORA!$F$10=\"10% (Medio Alto)\",ROUND('[1]Tabla de Amortizacion'!H136,8),IF([1]CALCULADORA!$F$10=\"14% (Alto)\",ROUND('[1]Tabla de Amortizacion'!#REF!,8),IF([1]CALCULADORA!$F$10=20%,ROUND('[1]Tabla de Amortizacion'!#REF!,8),ROUND('[1]Tabla de Amortizacion'!K136,8))))))","v":0}]
["2035-10-18",0,{"$f":"+VLOOKUP(A136,'Tabla de Amortizacion'!$D$2:$P$182,MATCH(Tablas!$B$1,'Tabla de Amortizacion'!$D$2:$P$2,0))","v":0},null,{"$f":"IF([1]CALCULADORA!$F$10=\"Contractual\",ROUND('[1]Tabla de Amortizacion'!C137,8),IF([1]CALCULADORA!$F$10=\"6% (Medio)\",ROUND('[1]Tabla de Amortizacion'!F137,8),IF([1]CALCULADORA!$F$10=\"10% (Medio Alto)\",ROUND('[1]Tabla de Amortizacion'!H137,8),IF([1]CALCULADORA!$F$10=\"14% (Alto)\",ROUND('[1]Tabla de Amortizacion'!#REF!,8),IF([1]CALCULADORA!$F$10=20%,ROUND('[1]Tabla de Amortizacion'!#REF!,8),ROUND('[1]Tabla de Amortizacion'!K137,8))))))","v":0}]
["2035-11-18",0,{"$f":"+VLOOKUP(A137,'Tabla de Amortizacion'!$D$2:$P$182,MATCH(Tablas!$B$1,'Tabla de Amortizacion'!$D$2:$P$2,0))","v":0},null,{"$f":"IF([1]CALCULADORA!$F$10=\"Contractual\",ROUND('[1]Tabla de Amortizacion'!C138,8),IF([1]CALCULADORA!$F$10=\"6% (Medio)\",ROUND('[1]Tabla de Amortizacion'!F138,8),IF([1]CALCULADORA!$F$10=\"10% (Medio Alto)\",ROUND('[1]Tabla de Amortizacion'!H138,8),IF([1]CALCULADORA!$F$10=\"14% (Alto)\",ROUND('[1]Tabla de Amortizacion'!#REF!,8),IF([1]CALCULADORA!$F$10=20%,ROUND('[1]Tabla de Amortizacion'!#REF!,8),ROUND('[1]Tabla de Amortizacion'!K138,8))))))","v":0}]
["2035-12-18",0,{"$f":"+VLOOKUP(A138,'Tabla de Amortizacion'!$D$2:$P$182,MATCH(Tablas!$B$1,'Tabla de Amortizacion'!$D$2:$P$2,0))","v":0},null,{"$f":"IF([1]CALCULADORA!$F$10=\"Contractual\",ROUND('[1]Tabla de Amortizacion'!C139,8),IF([1]CALCULADORA!$F$10=\"6% (Medio)\",ROUND('[1]Tabla de Amortizacion'!F139,8),IF([1]CALCULADORA!$F$10=\"10% (Medio Alto)\",ROUND('[1]Tabla de Amortizacion'!H139,8),IF([1]CALCULADORA!$F$10=\"14% (Alto)\",ROUND('[1]Tabla de Amortizacion'!#REF!,8),IF([1]CALCULADORA!$F$10=20%,ROUND('[1]Tabla de Amortizacion'!#REF!,8),ROUND('[1]Tabla de Amortizacion'!K139,8))))))","v":0}]
["2036-01-18",0,{"$f":"+VLOOKUP(A139,'Tabla de Amortizacion'!$D$2:$P$182,MATCH(Tablas!$B$1,'Tabla de Amortizacion'!$D$2:$P$2,0))","v":0},null,{"$f":"IF([1]CALCULADORA!$F$10=\"Contractual\",ROUND('[1]Tabla de Amortizacion'!C140,8),IF([1]CALCULADORA!$F$10=\"6% (Medio)\",ROUND('[1]Tabla de Amortizacion'!F140,8),IF([1]CALCULADORA!$F$10=\"10% (Medio Alto)\",ROUND('[1]Tabla de Amortizacion'!H140,8),IF([1]CALCULADORA!$F$10=\"14% (Alto)\",ROUND('[1]Tabla de Amortizacion'!#REF!,8),IF([1]CALCULADORA!$F$10=20%,ROUND('[1]Tabla de Amortizacion'!#REF!,8),ROUND('[1]Tabla de Amortizacion'!K140,8))))))","v":0}]
["2036-02-18",0,{"$f":"+VLOOKUP(A140,'Tabla de Amortizacion'!$D$2:$P$182,MATCH(Tablas!$B$1,'Tabla de Amortizacion'!$D$2:$P$2,0))","v":0},null,{"$f":"IF([1]CALCULADORA!$F$10=\"Contractual\",ROUND('[1]Tabla de Amortizacion'!C141,8),IF([1]CALCULADORA!$F$10=\"6% (Medio)\",ROUND('[1]Tabla de Amortizacion'!F141,8),IF([1]CALCULADORA!$F$10=\"10% (Medio Alto)\",ROUND('[1]Tabla de Amortizacion'!H141,8),IF([1]CALCULADORA!$F$10=\"14% (Alto)\",ROUND('[1]Tabla de Amortizacion'!#REF!,8),IF([1]CALCULADORA!$F$10=20%,ROUND('[1]Tabla de Amortizacion'!#REF!,8),ROUND('[1]Tabla de Amortizacion'!K141,8))))))","v":0}]
["2036-03-18",0,{"$f":"+VLOOKUP(A141,'Tabla de Amortizacion'!$D$2:$P$182,MATCH(Tablas!$B$1,'Tabla de Amortizacion'!$D$2:$P$2,0))","v":0},null,{"$f":"IF([1]CALCULADORA!$F$10=\"Contractual\",ROUND('[1]Tabla de Amortizacion'!C142,8),IF([1]CALCULADORA!$F$10=\"6% (Medio)\",ROUND('[1]Tabla de Amortizacion'!F142,8),IF([1]CALCULADORA!$F$10=\"10% (Medio Alto)\",ROUND('[1]Tabla de Amortizacion'!H142,8),IF([1]CALCULADORA!$F$10=\"14% (Alto)\",ROUND('[1]Tabla de Amortizacion'!#REF!,8),IF([1]CALCULADORA!$F$10=20%,ROUND('[1]Tabla de Amortizacion'!#REF!,8),ROUND('[1]Tabla de Amortizacion'!K142,8))))))","v":0}]
["2036-04-18",0,{"$f":"+VLOOKUP(A142,'Tabla de Amortizacion'!$D$2:$P$182,MATCH(Tablas!$B$1,'Tabla de Amortizacion'!$D$2:$P$2,0))","v":0},null,{"$f":"IF([1]CALCULADORA!$F$10=\"Contractual\",ROUND('[1]Tabla de Amortizacion'!C143,8),IF([1]CALCULADORA!$F$10=\"6% (Medio)\",ROUND('[1]Tabla de Amortizacion'!F143,8),IF([1]CALCULADORA!$F$10=\"10% (Medio Alto)\",ROUND('[1]Tabla de Amortizacion'!H143,8),IF([1]CALCULADORA!$F$10=\"14% (Alto)\",ROUND('[1]Tabla de Amortizacion'!#REF!,8),IF([1]CALCULADORA!$F$10=20%,ROUND('[1]Tabla de Amortizacion'!#REF!,8),ROUND('[1]Tabla de Amortizacion'!K143,8))))))","v":0}]
["2036-05-18",0,{"$f":"+VLOOKUP(A143,'Tabla de Amortizacion'!$D$2:$P$182,MATCH(Tablas!$B$1,'Tabla de Amortizacion'!$D$2:$P$2,0))","v":0},null,{"$f":"IF([1]CALCULADORA!$F$10=\"Contractual\",ROUND('[1]Tabla de Amortizacion'!C144,8),IF([1]CALCULADORA!$F$10=\"6% (Medio)\",ROUND('[1]Tabla de Amortizacion'!F144,8),IF([1]CALCULADORA!$F$10=\"10% (Medio Alto)\",ROUND('[1]Tabla de Amortizacion'!H144,8),IF([1]CALCULADORA!$F$10=\"14% (Alto)\",ROUND('[1]Tabla de Amortizacion'!#REF!,8),IF([1]CALCULADORA!$F$10=20%,ROUND('[1]Tabla de Amortizacion'!#REF!,8),ROUND('[1]Tabla de Amortizacion'!K144,8))))))","v":0}]
["2036-06-18",0,{"$f":"+VLOOKUP(A144,'Tabla de Amortizacion'!$D$2:$P$182,MATCH(Tablas!$B$1,'Tabla de Amortizacion'!$D$2:$P$2,0))","v":0},null,{"$f":"IF([1]CALCULADORA!$F$10=\"Contractual\",ROUND('[1]Tabla de Amortizacion'!C145,8),IF([1]CALCULADORA!$F$10=\"6% (Medio)\",ROUND('[1]Tabla de Amortizacion'!F145,8),IF([1]CALCULADORA!$F$10=\"10% (Medio Alto)\",ROUND('[1]Tabla de Amortizacion'!H145,8),IF([1]CALCULADORA!$F$10=\"14% (Alto)\",ROUND('[1]Tabla de Amortizacion'!#REF!,8),IF([1]CALCULADORA!$F$10=20%,ROUND('[1]Tabla de Amortizacion'!#REF!,8),ROUND('[1]Tabla de Amortizacion'!K145,8))))))","v":0}]
["2036-07-18",0,{"$f":"+VLOOKUP(A145,'Tabla de Amortizacion'!$D$2:$P$182,MATCH(Tablas!$B$1,'Tabla de Amortizacion'!$D$2:$P$2,0))","v":0},null,{"$f":"IF([1]CALCULADORA!$F$10=\"Contractual\",ROUND('[1]Tabla de Amortizacion'!C146,8),IF([1]CALCULADORA!$F$10=\"6% (Medio)\",ROUND('[1]Tabla de Amortizacion'!F146,8),IF([1]CALCULADORA!$F$10=\"10% (Medio Alto)\",ROUND('[1]Tabla de Amortizacion'!H146,8),IF([1]CALCULADORA!$F$10=\"14% (Alto)\",ROUND('[1]Tabla de Amortizacion'!#REF!,8),IF([1]CALCULADORA!$F$10=20%,ROUND('[1]Tabla de Amortizacion'!#REF!,8),ROUND('[1]Tabla de Amortizacion'!K146,8))))))","v":0}]
["2036-08-18",0,{"$f":"+VLOOKUP(A146,'Tabla de Amortizacion'!$D$2:$P$182,MATCH(Tablas!$B$1,'Tabla de Amortizacion'!$D$2:$P$2,0))","v":0},null,{"$f":"IF([1]CALCULADORA!$F$10=\"Contractual\",ROUND('[1]Tabla de Amortizacion'!C147,8),IF([1]CALCULADORA!$F$10=\"6% (Medio)\",ROUND('[1]Tabla de Amortizacion'!F147,8),IF([1]CALCULADORA!$F$10=\"10% (Medio Alto)\",ROUND('[1]Tabla de Amortizacion'!H147,8),IF([1]CALCULADORA!$F$10=\"14% (Alto)\",ROUND('[1]Tabla de Amortizacion'!#REF!,8),IF([1]CALCULADORA!$F$10=20%,ROUND('[1]Tabla de Amortizacion'!#REF!,8),ROUND('[1]Tabla de Amortizacion'!K147,8))))))","v":0}]
["2036-09-18",0,{"$f":"+VLOOKUP(A147,'Tabla de Amortizacion'!$D$2:$P$182,MATCH(Tablas!$B$1,'Tabla de Amortizacion'!$D$2:$P$2,0))","v":0},null,{"$f":"IF([1]CALCULADORA!$F$10=\"Contractual\",ROUND('[1]Tabla de Amortizacion'!C148,8),IF([1]CALCULADORA!$F$10=\"6% (Medio)\",ROUND('[1]Tabla de Amortizacion'!F148,8),IF([1]CALCULADORA!$F$10=\"10% (Medio Alto)\",ROUND('[1]Tabla de Amortizacion'!H148,8),IF([1]CALCULADORA!$F$10=\"14% (Alto)\",ROUND('[1]Tabla de Amortizacion'!#REF!,8),IF([1]CALCULADORA!$F$10=20%,ROUND('[1]Tabla de Amortizacion'!#REF!,8),ROUND('[1]Tabla de Amortizacion'!K148,8))))))","v":0}]
["2036-10-18",0,{"$f":"+VLOOKUP(A148,'Tabla de Amortizacion'!$D$2:$P$182,MATCH(Tablas!$B$1,'Tabla de Amortizacion'!$D$2:$P$2,0))","v":0},null,{"$f":"IF([1]CALCULADORA!$F$10=\"Contractual\",ROUND('[1]Tabla de Amortizacion'!C149,8),IF([1]CALCULADORA!$F$10=\"6% (Medio)\",ROUND('[1]Tabla de Amortizacion'!F149,8),IF([1]CALCULADORA!$F$10=\"10% (Medio Alto)\",ROUND('[1]Tabla de Amortizacion'!H149,8),IF([1]CALCULADORA!$F$10=\"14% (Alto)\",ROUND('[1]Tabla de Amortizacion'!#REF!,8),IF([1]CALCULADORA!$F$10=20%,ROUND('[1]Tabla de Amortizacion'!#REF!,8),ROUND('[1]Tabla de Amortizacion'!K149,8))))))","v":0}]
["2036-11-18",0,{"$f":"+VLOOKUP(A149,'Tabla de Amortizacion'!$D$2:$P$182,MATCH(Tablas!$B$1,'Tabla de Amortizacion'!$D$2:$P$2,0))","v":0},null,{"$f":"IF([1]CALCULADORA!$F$10=\"Contractual\",ROUND('[1]Tabla de Amortizacion'!C150,8),IF([1]CALCULADORA!$F$10=\"6% (Medio)\",ROUND('[1]Tabla de Amortizacion'!F150,8),IF([1]CALCULADORA!$F$10=\"10% (Medio Alto)\",ROUND('[1]Tabla de Amortizacion'!H150,8),IF([1]CALCULADORA!$F$10=\"14% (Alto)\",ROUND('[1]Tabla de Amortizacion'!#REF!,8),IF([1]CALCULADORA!$F$10=20%,ROUND('[1]Tabla de Amortizacion'!#REF!,8),ROUND('[1]Tabla de Amortizacion'!K150,8))))))","v":0}]
["2036-12-18",0,{"$f":"+VLOOKUP(A150,'Tabla de Amortizacion'!$D$2:$P$182,MATCH(Tablas!$B$1,'Tabla de Amortizacion'!$D$2:$P$2,0))","v":0},null,{"$f":"IF([1]CALCULADORA!$F$10=\"Contractual\",ROUND('[1]Tabla de Amortizacion'!C151,8),IF([1]CALCULADORA!$F$10=\"6% (Medio)\",ROUND('[1]Tabla de Amortizacion'!F151,8),IF([1]CALCULADORA!$F$10=\"10% (Medio Alto)\",ROUND('[1]Tabla de Amortizacion'!H151,8),IF([1]CALCULADORA!$F$10=\"14% (Alto)\",ROUND('[1]Tabla de Amortizacion'!#REF!,8),IF([1]CALCULADORA!$F$10=20%,ROUND('[1]Tabla de Amortizacion'!#REF!,8),ROUND('[1]Tabla de Amortizacion'!K151,8))))))","v":0}]
["2037-01-18",0,{"$f":"+VLOOKUP(A151,'Tabla de Amortizacion'!$D$2:$P$182,MATCH(Tablas!$B$1,'Tabla de Amortizacion'!$D$2:$P$2,0))","v":0},null,{"$f":"IF([1]CALCULADORA!$F$10=\"Contractual\",ROUND('[1]Tabla de Amortizacion'!C152,8),IF([1]CALCULADORA!$F$10=\"6% (Medio)\",ROUND('[1]Tabla de Amortizacion'!F152,8),IF([1]CALCULADORA!$F$10=\"10% (Medio Alto)\",ROUND('[1]Tabla de Amortizacion'!H152,8),IF([1]CALCULADORA!$F$10=\"14% (Alto)\",ROUND('[1]Tabla de Amortizacion'!#REF!,8),IF([1]CALCULADORA!$F$10=20%,ROUND('[1]Tabla de Amortizacion'!#REF!,8),ROUND('[1]Tabla de Amortizacion'!K152,8))))))","v":0}]
["2037-02-18",0,{"$f":"+VLOOKUP(A152,'Tabla de Amortizacion'!$D$2:$P$182,MATCH(Tablas!$B$1,'Tabla de Amortizacion'!$D$2:$P$2,0))","v":0},null,{"$f":"IF([1]CALCULADORA!$F$10=\"Contractual\",ROUND('[1]Tabla de Amortizacion'!C153,8),IF([1]CALCULADORA!$F$10=\"6% (Medio)\",ROUND('[1]Tabla de Amortizacion'!F153,8),IF([1]CALCULADORA!$F$10=\"10% (Medio Alto)\",ROUND('[1]Tabla de Amortizacion'!H153,8),IF([1]CALCULADORA!$F$10=\"14% (Alto)\",ROUND('[1]Tabla de Amortizacion'!#REF!,8),IF([1]CALCULADORA!$F$10=20%,ROUND('[1]Tabla de Amortizacion'!#REF!,8),ROUND('[1]Tabla de Amortizacion'!K153,8))))))","v":0}]
["2037-03-18",0,{"$f":"+VLOOKUP(A153,'Tabla de Amortizacion'!$D$2:$P$182,MATCH(Tablas!$B$1,'Tabla de Amortizacion'!$D$2:$P$2,0))","v":0},null,{"$f":"IF([1]CALCULADORA!$F$10=\"Contractual\",ROUND('[1]Tabla de Amortizacion'!C154,8),IF([1]CALCULADORA!$F$10=\"6% (Medio)\",ROUND('[1]Tabla de Amortizacion'!F154,8),IF([1]CALCULADORA!$F$10=\"10% (Medio Alto)\",ROUND('[1]Tabla de Amortizacion'!H154,8),IF([1]CALCULADORA!$F$10=\"14% (Alto)\",ROUND('[1]Tabla de Amortizacion'!#REF!,8),IF([1]CALCULADORA!$F$10=20%,ROUND('[1]Tabla de Amortizacion'!#REF!,8),ROUND('[1]Tabla de Amortizacion'!K154,8))))))","v":0}]
["2037-04-18",0,{"$f":"+VLOOKUP(A154,'Tabla de Amortizacion'!$D$2:$P$182,MATCH(Tablas!$B$1,'Tabla de Amortizacion'!$D$2:$P$2,0))","v":0},null,{"$f":"IF([1]CALCULADORA!$F$10=\"Contractual\",ROUND('[1]Tabla de Amortizacion'!C155,8),IF([1]CALCULADORA!$F$10=\"6% (Medio)\",ROUND('[1]Tabla de Amortizacion'!F155,8),IF([1]CALCULADORA!$F$10=\"10% (Medio Alto)\",ROUND('[1]Tabla de Amortizacion'!H155,8),IF([1]CALCULADORA!$F$10=\"14% (Alto)\",ROUND('[1]Tabla de Amortizacion'!#REF!,8),IF([1]CALCULADORA!$F$10=20%,ROUND('[1]Tabla de Amortizacion'!#REF!,8),ROUND('[1]Tabla de Amortizacion'!K155,8))))))","v":0}]
["2037-05-18",0,{"$f":"+VLOOKUP(A155,'Tabla de Amortizacion'!$D$2:$P$182,MATCH(Tablas!$B$1,'Tabla de Amortizacion'!$D$2:$P$2,0))","v":0},null,{"$f":"IF([1]CALCULADORA!$F$10=\"Contractual\",ROUND('[1]Tabla de Amortizacion'!C156,8),IF([1]CALCULADORA!$F$10=\"6% (Medio)\",ROUND('[1]Tabla de Amortizacion'!F156,8),IF([1]CALCULADORA!$F$10=\"10% (Medio Alto)\",ROUND('[1]Tabla de Amortizacion'!H156,8),IF([1]CALCULADORA!$F$10=\"14% (Alto)\",ROUND('[1]Tabla de Amortizacion'!#REF!,8),IF([1]CALCULADORA!$F$10=20%,ROUND('[1]Tabla de Amortizacion'!#REF!,8),ROUND('[1]Tabla de Amortizacion'!K156,8))))))","v":0}]
["2037-06-18",0,{"$f":"+VLOOKUP(A156,'Tabla de Amortizacion'!$D$2:$P$182,MATCH(Tablas!$B$1,'Tabla de Amortizacion'!$D$2:$P$2,0))","v":0},null,{"$f":"IF([1]CALCULADORA!$F$10=\"Contractual\",ROUND('[1]Tabla de Amortizacion'!C157,8),IF([1]CALCULADORA!$F$10=\"6% (Medio)\",ROUND('[1]Tabla de Amortizacion'!F157,8),IF([1]CALCULADORA!$F$10=\"10% (Medio Alto)\",ROUND('[1]Tabla de Amortizacion'!H157,8),IF([1]CALCULADORA!$F$10=\"14% (Alto)\",ROUND('[1]Tabla de Amortizacion'!#REF!,8),IF([1]CALCULADORA!$F$10=20%,ROUND('[1]Tabla de Amortizacion'!#REF!,8),ROUND('[1]Tabla de Amortizacion'!K157,8))))))","v":0}]
["2037-07-18",0,{"$f":"+VLOOKUP(A157,'Tabla de Amortizacion'!$D$2:$P$182,MATCH(Tablas!$B$1,'Tabla de Amortizacion'!$D$2:$P$2,0))","v":0},null,{"$f":"IF([1]CALCULADORA!$F$10=\"Contractual\",ROUND('[1]Tabla de Amortizacion'!C158,8),IF([1]CALCULADORA!$F$10=\"6% (Medio)\",ROUND('[1]Tabla de Amortizacion'!F158,8),IF([1]CALCULADORA!$F$10=\"10% (Medio Alto)\",ROUND('[1]Tabla de Amortizacion'!H158,8),IF([1]CALCULADORA!$F$10=\"14% (Alto)\",ROUND('[1]Tabla de Amortizacion'!#REF!,8),IF([1]CALCULADORA!$F$10=20%,ROUND('[1]Tabla de Amortizacion'!#REF!,8),ROUND('[1]Tabla de Amortizacion'!K158,8))))))","v":0}]
["2037-08-18",0,{"$f":"+VLOOKUP(A158,'Tabla de Amortizacion'!$D$2:$P$182,MATCH(Tablas!$B$1,'Tabla de Amortizacion'!$D$2:$P$2,0))","v":0},null,{"$f":"IF([1]CALCULADORA!$F$10=\"Contractual\",ROUND('[1]Tabla de Amortizacion'!C159,8),IF([1]CALCULADORA!$F$10=\"6% (Medio)\",ROUND('[1]Tabla de Amortizacion'!F159,8),IF([1]CALCULADORA!$F$10=\"10% (Medio Alto)\",ROUND('[1]Tabla de Amortizacion'!H159,8),IF([1]CALCULADORA!$F$10=\"14% (Alto)\",ROUND('[1]Tabla de Amortizacion'!#REF!,8),IF([1]CALCULADORA!$F$10=20%,ROUND('[1]Tabla de Amortizacion'!#REF!,8),ROUND('[1]Tabla de Amortizacion'!K159,8))))))","v":0}]
["2037-09-18",0,{"$f":"+VLOOKUP(A159,'Tabla de Amortizacion'!$D$2:$P$182,MATCH(Tablas!$B$1,'Tabla de Amortizacion'!$D$2:$P$2,0))","v":0},null,{"$f":"IF([1]CALCULADORA!$F$10=\"Contractual\",ROUND('[1]Tabla de Amortizacion'!C160,8),IF([1]CALCULADORA!$F$10=\"6% (Medio)\",ROUND('[1]Tabla de Amortizacion'!F160,8),IF([1]CALCULADORA!$F$10=\"10% (Medio Alto)\",ROUND('[1]Tabla de Amortizacion'!H160,8),IF([1]CALCULADORA!$F$10=\"14% (Alto)\",ROUND('[1]Tabla de Amortizacion'!#REF!,8),IF([1]CALCULADORA!$F$10=20%,ROUND('[1]Tabla de Amortizacion'!#REF!,8),ROUND('[1]Tabla de Amortizacion'!K160,8))))))","v":0}]
["2037-10-18",0,{"$f":"+VLOOKUP(A160,'Tabla de Amortizacion'!$D$2:$P$182,MATCH(Tablas!$B$1,'Tabla de Amortizacion'!$D$2:$P$2,0))","v":0},null,{"$f":"IF([1]CALCULADORA!$F$10=\"Contractual\",ROUND('[1]Tabla de Amortizacion'!C161,8),IF([1]CALCULADORA!$F$10=\"6% (Medio)\",ROUND('[1]Tabla de Amortizacion'!F161,8),IF([1]CALCULADORA!$F$10=\"10% (Medio Alto)\",ROUND('[1]Tabla de Amortizacion'!H161,8),IF([1]CALCULADORA!$F$10=\"14% (Alto)\",ROUND('[1]Tabla de Amortizacion'!#REF!,8),IF([1]CALCULADORA!$F$10=20%,ROUND('[1]Tabla de Amortizacion'!#REF!,8),ROUND('[1]Tabla de Amortizacion'!K161,8))))))","v":0}]
["2037-11-18",0,{"$f":"+VLOOKUP(A161,'Tabla de Amortizacion'!$D$2:$P$182,MATCH(Tablas!$B$1,'Tabla de Amortizacion'!$D$2:$P$2,0))","v":0},null,{"$f":"IF([1]CALCULADORA!$F$10=\"Contractual\",ROUND('[1]Tabla de Amortizacion'!C162,8),IF([1]CALCULADORA!$F$10=\"6% (Medio)\",ROUND('[1]Tabla de Amortizacion'!F162,8),IF([1]CALCULADORA!$F$10=\"10% (Medio Alto)\",ROUND('[1]Tabla de Amortizacion'!H162,8),IF([1]CALCULADORA!$F$10=\"14% (Alto)\",ROUND('[1]Tabla de Amortizacion'!#REF!,8),IF([1]CALCULADORA!$F$10=20%,ROUND('[1]Tabla de Amortizacion'!#REF!,8),ROUND('[1]Tabla de Amortizacion'!K162,8))))))","v":0}]
["2037-12-18",0,{"$f":"+VLOOKUP(A162,'Tabla de Amortizacion'!$D$2:$P$182,MATCH(Tablas!$B$1,'Tabla de Amortizacion'!$D$2:$P$2,0))","v":0},null,{"$f":"IF([1]CALCULADORA!$F$10=\"Contractual\",ROUND('[1]Tabla de Amortizacion'!C163,8),IF([1]CALCULADORA!$F$10=\"6% (Medio)\",ROUND('[1]Tabla de Amortizacion'!F163,8),IF([1]CALCULADORA!$F$10=\"10% (Medio Alto)\",ROUND('[1]Tabla de Amortizacion'!H163,8),IF([1]CALCULADORA!$F$10=\"14% (Alto)\",ROUND('[1]Tabla de Amortizacion'!#REF!,8),IF([1]CALCULADORA!$F$10=20%,ROUND('[1]Tabla de Amortizacion'!#REF!,8),ROUND('[1]Tabla de Amortizacion'!K163,8))))))","v":0}]
["2038-01-18",0,{"$f":"+VLOOKUP(A163,'Tabla de Amortizacion'!$D$2:$P$182,MATCH(Tablas!$B$1,'Tabla de Amortizacion'!$D$2:$P$2,0))","v":0},null,{"$f":"IF([1]CALCULADORA!$F$10=\"Contractual\",ROUND('[1]Tabla de Amortizacion'!C164,8),IF([1]CALCULADORA!$F$10=\"6% (Medio)\",ROUND('[1]Tabla de Amortizacion'!F164,8),IF([1]CALCULADORA!$F$10=\"10% (Medio Alto)\",ROUND('[1]Tabla de Amortizacion'!H164,8),IF([1]CALCULADORA!$F$10=\"14% (Alto)\",ROUND('[1]Tabla de Amortizacion'!#REF!,8),IF([1]CALCULADORA!$F$10=20%,ROUND('[1]Tabla de Amortizacion'!#REF!,8),ROUND('[1]Tabla de Amortizacion'!K164,8))))))","v":0}]
["2038-02-18",0,{"$f":"+VLOOKUP(A164,'Tabla de Amortizacion'!$D$2:$P$182,MATCH(Tablas!$B$1,'Tabla de Amortizacion'!$D$2:$P$2,0))","v":0},null,{"$f":"IF([1]CALCULADORA!$F$10=\"Contractual\",ROUND('[1]Tabla de Amortizacion'!C165,8),IF([1]CALCULADORA!$F$10=\"6% (Medio)\",ROUND('[1]Tabla de Amortizacion'!F165,8),IF([1]CALCULADORA!$F$10=\"10% (Medio Alto)\",ROUND('[1]Tabla de Amortizacion'!H165,8),IF([1]CALCULADORA!$F$10=\"14% (Alto)\",ROUND('[1]Tabla de Amortizacion'!#REF!,8),IF([1]CALCULADORA!$F$10=20%,ROUND('[1]Tabla de Amortizacion'!#REF!,8),ROUND('[1]Tabla de Amortizacion'!K165,8))))))","v":0}]
["2038-03-18",0,{"$f":"+VLOOKUP(A165,'Tabla de Amortizacion'!$D$2:$P$182,MATCH(Tablas!$B$1,'Tabla de Amortizacion'!$D$2:$P$2,0))","v":0},null,{"$f":"IF([1]CALCULADORA!$F$10=\"Contractual\",ROUND('[1]Tabla de Amortizacion'!C166,8),IF([1]CALCULADORA!$F$10=\"6% (Medio)\",ROUND('[1]Tabla de Amortizacion'!F166,8),IF([1]CALCULADORA!$F$10=\"10% (Medio Alto)\",ROUND('[1]Tabla de Amortizacion'!H166,8),IF([1]CALCULADORA!$F$10=\"14% (Alto)\",ROUND('[1]Tabla de Amortizacion'!#REF!,8),IF([1]CALCULADORA!$F$10=20%,ROUND('[1]Tabla de Amortizacion'!#REF!,8),ROUND('[1]Tabla de Amortizacion'!K166,8))))))","v":0}]
["2038-04-18",0,{"$f":"+VLOOKUP(A166,'Tabla de Amortizacion'!$D$2:$P$182,MATCH(Tablas!$B$1,'Tabla de Amortizacion'!$D$2:$P$2,0))","v":0},null,{"$f":"IF([1]CALCULADORA!$F$10=\"Contractual\",ROUND('[1]Tabla de Amortizacion'!C167,8),IF([1]CALCULADORA!$F$10=\"6% (Medio)\",ROUND('[1]Tabla de Amortizacion'!F167,8),IF([1]CALCULADORA!$F$10=\"10% (Medio Alto)\",ROUND('[1]Tabla de Amortizacion'!H167,8),IF([1]CALCULADORA!$F$10=\"14% (Alto)\",ROUND('[1]Tabla de Amortizacion'!#REF!,8),IF([1]CALCULADORA!$F$10=20%,ROUND('[1]Tabla de Amortizacion'!#REF!,8),ROUND('[1]Tabla de Amortizacion'!K167,8))))))","v":0}]
["2038-05-18",0,{"$f":"+VLOOKUP(A167,'Tabla de Amortizacion'!$D$2:$P$182,MATCH(Tablas!$B$1,'Tabla de Amortizacion'!$D$2:$P$2,0))","v":0},null,{"$f":"IF([1]CALCULADORA!$F$10=\"Contractual\",ROUND('[1]Tabla de Amortizacion'!C168,8),IF([1]CALCULADORA!$F$10=\"6% (Medio)\",ROUND('[1]Tabla de Amortizacion'!F168,8),IF([1]CALCULADORA!$F$10=\"10% (Medio Alto)\",ROUND('[1]Tabla de Amortizacion'!H168,8),IF([1]CALCULADORA!$F$10=\"14% (Alto)\",ROUND('[1]Tabla de Amortizacion'!#REF!,8),IF([1]CALCULADORA!$F$10=20%,ROUND('[1]Tabla de Amortizacion'!#REF!,8),ROUND('[1]Tabla de Amortizacion'!K168,8))))))","v":0}]
["2038-06-18",0,{"$f":"+VLOOKUP(A168,'Tabla de Amortizacion'!$D$2:$P$182,MATCH(Tablas!$B$1,'Tabla de Amortizacion'!$D$2:$P$2,0))","v":0},null,{"$f":"IF([1]CALCULADORA!$F$10=\"Contractual\",ROUND('[1]Tabla de Amortizacion'!C169,8),IF([1]CALCULADORA!$F$10=\"6% (Medio)\",ROUND('[1]Tabla de Amortizacion'!F169,8),IF([1]CALCULADORA!$F$10=\"10% (Medio Alto)\",ROUND('[1]Tabla de Amortizacion'!H169,8),IF([1]CALCULADORA!$F$10=\"14% (Alto)\",ROUND('[1]Tabla de Amortizacion'!#REF!,8),IF([1]CALCULADORA!$F$10=20%,ROUND('[1]Tabla de Amortizacion'!#REF!,8),ROUND('[1]Tabla de Amortizacion'!K169,8))))))","v":0}]
["2038-07-18",0,{"$f":"+VLOOKUP(A169,'Tabla de Amortizacion'!$D$2:$P$182,MATCH(Tablas!$B$1,'Tabla de Amortizacion'!$D$2:$P$2,0))","v":0},null,{"$f":"IF([1]CALCULADORA!$F$10=\"Contractual\",ROUND('[1]Tabla de Amortizacion'!C170,8),IF([1]CALCULADORA!$F$10=\"6% (Medio)\",ROUND('[1]Tabla de Amortizacion'!F170,8),IF([1]CALCULADORA!$F$10=\"10% (Medio Alto)\",ROUND('[1]Tabla de Amortizacion'!H170,8),IF([1]CALCULADORA!$F$10=\"14% (Alto)\",ROUND('[1]Tabla de Amortizacion'!#REF!,8),IF([1]CALCULADORA!$F$10=20%,ROUND('[1]Tabla de Amortizacion'!#REF!,8),ROUND('[1]Tabla de Amortizacion'!K170,8))))))","v":0}]
["2038-08-18",0,{"$f":"+VLOOKUP(A170,'Tabla de Amortizacion'!$D$2:$P$182,MATCH(Tablas!$B$1,'Tabla de Amortizacion'!$D$2:$P$2,0))","v":0},null,{"$f":"IF([1]CALCULADORA!$F$10=\"Contractual\",ROUND('[1]Tabla de Amortizacion'!C171,8),IF([1]CALCULADORA!$F$10=\"6% (Medio)\",ROUND('[1]Tabla de Amortizacion'!F171,8),IF([1]CALCULADORA!$F$10=\"10% (Medio Alto)\",ROUND('[1]Tabla de Amortizacion'!H171,8),IF([1]CALCULADORA!$F$10=\"14% (Alto)\",ROUND('[1]Tabla de Amortizacion'!#REF!,8),IF([1]CALCULADORA!$F$10=20%,ROUND('[1]Tabla de Amortizacion'!#REF!,8),ROUND('[1]Tabla de Amortizacion'!K171,8))))))","v":0}]
["2038-09-18",0,{"$f":"+VLOOKUP(A171,'Tabla de Amortizacion'!$D$2:$P$182,MATCH(Tablas!$B$1,'Tabla de Amortizacion'!$D$2:$P$2,0))","v":0},null,{"$f":"IF([1]CALCULADORA!$F$10=\"Contractual\",ROUND('[1]Tabla de Amortizacion'!C172,8),IF([1]CALCULADORA!$F$10=\"6% (Medio)\",ROUND('[1]Tabla de Amortizacion'!F172,8),IF([1]CALCULADORA!$F$10=\"10% (Medio Alto)\",ROUND('[1]Tabla de Amortizacion'!H172,8),IF([1]CALCULADORA!$F$10=\"14% (Alto)\",ROUND('[1]Tabla de Amortizacion'!#REF!,8),IF([1]CALCULADORA!$F$10=20%,ROUND('[1]Tabla de Amortizacion'!#REF!,8),ROUND('[1]Tabla de Amortizacion'!K172,8))))))","v":0}]
["2038-10-18",0,{"$f":"+VLOOKUP(A172,'Tabla de Amortizacion'!$D$2:$P$182,MATCH(Tablas!$B$1,'Tabla de Amortizacion'!$D$2:$P$2,0))","v":0},null,{"$f":"IF([1]CALCULADORA!$F$10=\"Contractual\",ROUND('[1]Tabla de Amortizacion'!C173,8),IF([1]CALCULADORA!$F$10=\"6% (Medio)\",ROUND('[1]Tabla de Amortizacion'!F173,8),IF([1]CALCULADORA!$F$10=\"10% (Medio Alto)\",ROUND('[1]Tabla de Amortizacion'!H173,8),IF([1]CALCULADORA!$F$10=\"14% (Alto)\",ROUND('[1]Tabla de Amortizacion'!#REF!,8),IF([1]CALCULADORA!$F$10=20%,ROUND('[1]Tabla de Amortizacion'!#REF!,8),ROUND('[1]Tabla de Amortizacion'!K173,8))))))","v":0}]
["2038-11-18",0,{"$f":"+VLOOKUP(A173,'Tabla de Amortizacion'!$D$2:$P$182,MATCH(Tablas!$B$1,'Tabla de Amortizacion'!$D$2:$P$2,0))","v":0},null,{"$f":"IF([1]CALCULADORA!$F$10=\"Contractual\",ROUND('[1]Tabla de Amortizacion'!C174,8),IF([1]CALCULADORA!$F$10=\"6% (Medio)\",ROUND('[1]Tabla de Amortizacion'!F174,8),IF([1]CALCULADORA!$F$10=\"10% (Medio Alto)\",ROUND('[1]Tabla de Amortizacion'!H174,8),IF([1]CALCULADORA!$F$10=\"14% (Alto)\",ROUND('[1]Tabla de Amortizacion'!#REF!,8),IF([1]CALCULADORA!$F$10=20%,ROUND('[1]Tabla de Amortizacion'!#REF!,8),ROUND('[1]Tabla de Amortizacion'!K174,8))))))","v":0}]
["2038-12-18",0,{"$f":"+VLOOKUP(A174,'Tabla de Amortizacion'!$D$2:$P$182,MATCH(Tablas!$B$1,'Tabla de Amortizacion'!$D$2:$P$2,0))","v":0},null,{"$f":"IF([1]CALCULADORA!$F$10=\"Contractual\",ROUND('[1]Tabla de Amortizacion'!C175,8),IF([1]CALCULADORA!$F$10=\"6% (Medio)\",ROUND('[1]Tabla de Amortizacion'!F175,8),IF([1]CALCULADORA!$F$10=\"10% (Medio Alto)\",ROUND('[1]Tabla de Amortizacion'!H175,8),IF([1]CALCULADORA!$F$10=\"14% (Alto)\",ROUND('[1]Tabla de Amortizacion'!#REF!,8),IF([1]CALCULADORA!$F$10=20%,ROUND('[1]Tabla de Amortizacion'!#REF!,8),ROUND('[1]Tabla de Amortizacion'!K175,8))))))","v":0}]
["2039-01-18",0,{"$f":"+VLOOKUP(A175,'Tabla de Amortizacion'!$D$2:$P$182,MATCH(Tablas!$B$1,'Tabla de Amortizacion'!$D$2:$P$2,0))","v":0},null,{"$f":"IF([1]CALCULADORA!$F$10=\"Contractual\",ROUND('[1]Tabla de Amortizacion'!C176,8),IF([1]CALCULADORA!$F$10=\"6% (Medio)\",ROUND('[1]Tabla de Amortizacion'!F176,8),IF([1]CALCULADORA!$F$10=\"10% (Medio Alto)\",ROUND('[1]Tabla de Amortizacion'!H176,8),IF([1]CALCULADORA!$F$10=\"14% (Alto)\",ROUND('[1]Tabla de Amortizacion'!#REF!,8),IF([1]CALCULADORA!$F$10=20%,ROUND('[1]Tabla de Amortizacion'!#REF!,8),ROUND('[1]Tabla de Amortizacion'!K176,8))))))","v":0}]
["2039-02-18",0,{"$f":"+VLOOKUP(A176,'Tabla de Amortizacion'!$D$2:$P$182,MATCH(Tablas!$B$1,'Tabla de Amortizacion'!$D$2:$P$2,0))","v":0},null,{"$f":"IF([1]CALCULADORA!$F$10=\"Contractual\",ROUND('[1]Tabla de Amortizacion'!C177,8),IF([1]CALCULADORA!$F$10=\"6% (Medio)\",ROUND('[1]Tabla de Amortizacion'!F177,8),IF([1]CALCULADORA!$F$10=\"10% (Medio Alto)\",ROUND('[1]Tabla de Amortizacion'!H177,8),IF([1]CALCULADORA!$F$10=\"14% (Alto)\",ROUND('[1]Tabla de Amortizacion'!#REF!,8),IF([1]CALCULADORA!$F$10=20%,ROUND('[1]Tabla de Amortizacion'!#REF!,8),ROUND('[1]Tabla de Amortizacion'!K177,8))))))","v":0}]
["2039-03-18",0,{"$f":"+VLOOKUP(A177,'Tabla de Amortizacion'!$D$2:$P$182,MATCH(Tablas!$B$1,'Tabla de Amortizacion'!$D$2:$P$2,0))","v":0},null,{"$f":"IF([1]CALCULADORA!$F$10=\"Contractual\",ROUND('[1]Tabla de Amortizacion'!C178,8),IF([1]CALCULADORA!$F$10=\"6% (Medio)\",ROUND('[1]Tabla de Amortizacion'!F178,8),IF([1]CALCULADORA!$F$10=\"10% (Medio Alto)\",ROUND('[1]Tabla de Amortizacion'!H178,8),IF([1]CALCULADORA!$F$10=\"14% (Alto)\",ROUND('[1]Tabla de Amortizacion'!#REF!,8),IF([1]CALCULADORA!$F$10=20%,ROUND('[1]Tabla de Amortizacion'!#REF!,8),ROUND('[1]Tabla de Amortizacion'!K178,8))))))","v":0}]
["2039-04-18",0,{"$f":"+VLOOKUP(A178,'Tabla de Amortizacion'!$D$2:$P$182,MATCH(Tablas!$B$1,'Tabla de Amortizacion'!$D$2:$P$2,0))","v":0},null,{"$f":"IF([1]CALCULADORA!$F$10=\"Contractual\",ROUND('[1]Tabla de Amortizacion'!C179,8),IF([1]CALCULADORA!$F$10=\"6% (Medio)\",ROUND('[1]Tabla de Amortizacion'!F179,8),IF([1]CALCULADORA!$F$10=\"10% (Medio Alto)\",ROUND('[1]Tabla de Amortizacion'!H179,8),IF([1]CALCULADORA!$F$10=\"14% (Alto)\",ROUND('[1]Tabla de Amortizacion'!#REF!,8),IF([1]CALCULADORA!$F$10=20%,ROUND('[1]Tabla de Amortizacion'!#REF!,8),ROUND('[1]Tabla de Amortizacion'!K179,8))))))","v":0}]
["2039-05-18",0,{"$f":"+VLOOKUP(A179,'Tabla de Amortizacion'!$D$2:$P$182,MATCH(Tablas!$B$1,'Tabla de Amortizacion'!$D$2:$P$2,0))","v":0},null,{"$f":"IF([1]CALCULADORA!$F$10=\"Contractual\",ROUND('[1]Tabla de Amortizacion'!C180,8),IF([1]CALCULADORA!$F$10=\"6% (Medio)\",ROUND('[1]Tabla de Amortizacion'!F180,8),IF([1]CALCULADORA!$F$10=\"10% (Medio Alto)\",ROUND('[1]Tabla de Amortizacion'!H180,8),IF([1]CALCULADORA!$F$10=\"14% (Alto)\",ROUND('[1]Tabla de Amortizacion'!#REF!,8),IF([1]CALCULADORA!$F$10=20%,ROUND('[1]Tabla de Amortizacion'!#REF!,8),ROUND('[1]Tabla de Amortizacion'!K180,8))))))","v":0}]
["2039-06-18",0,{"$f":"+VLOOKUP(A180,'Tabla de Amortizacion'!$D$2:$P$182,MATCH(Tablas!$B$1,'Tabla de Amortizacion'!$D$2:$P$2,0))","v":0},null,{"$f":"IF([1]CALCULADORA!$F$10=\"Contractual\",ROUND('[1]Tabla de Amortizacion'!C181,8),IF([1]CALCULADORA!$F$10=\"6% (Medio)\",ROUND('[1]Tabla de Amortizacion'!F181,8),IF([1]CALCULADORA!$F$10=\"10% (Medio Alto)\",ROUND('[1]Tabla de Amortizacion'!H181,8),IF([1]CALCULADORA!$F$10=\"14% (Alto)\",ROUND('[1]Tabla de Amortizacion'!#REF!,8),IF([1]CALCULADORA!$F$10=20%,ROUND('[1]Tabla de Amortizacion'!#REF!,8),ROUND('[1]Tabla de Amortizacion'!K181,8))))))","v":0}]
["2039-07-18",0,{"$f":"+VLOOKUP(A181,'Tabla de Amortizacion'!$D$2:$P$182,MATCH(Tablas!$B$1,'Tabla de Amortizacion'!$D$2:$P$2,0))","v":0},null,{"$f":"IF([1]CALCULADORA!$F$10=\"Contractual\",ROUND('[1]Tabla de Amortizacion'!C182,8),IF([1]CALCULADORA!$F$10=\"6% (Medio)\",ROUND('[1]Tabla de Amortizacion'!F182,8),IF([1]CALCULADORA!$F$10=\"10% (Medio Alto)\",ROUND('[1]Tabla de Amortizacion'!H182,8),IF([1]CALCULADORA!$F$10=\"14% (Alto)\",ROUND('[1]Tabla de Amortizacion'!#REF!,8),IF([1]CALCULADORA!$F$10=20%,ROUND('[1]Tabla de Amortizacion'!#REF!,8),ROUND('[1]Tabla de Amortizacion'!K182,8))))))","v":0}]

{"sheet":"Exclusión","index":6,"n_rows":1,"n_cols":1,"rows_kept":1,"cut":false,"hidden":false,"merged":[[0,0,13,7]]}
["“Titularizadora Colombiana S.A publica el presente documento con un carácter estrictamente informativo para los inversionistas. Aunque la información aquí contenida ha sido obtenida de fuentes que la compañía considera confiables, Titularizadora Colombiana S.A no garantiza su exactitud. En ningún caso su contenido se puede considerar como una opinión financiera o legal ni como una recomendación de negocios o de inversión por parte de nuestra compañía. Tampoco puede ser considerado como una invitación a realizar negocios ni como una oferta para comprar o vender ningún tipo de valor. En ningún caso Titularizadora Colombiana S.A asume responsabilidad por las decisiones de inversión que se tomen, o el resultado de cualquier operación que se efectúe por parte de los destinatarios o de terceras personas, sobre la información aquí contenida. Tal responsabilidad es exclusiva de los inversionistas que hagan uso de ella. Dicha información puede tener variaciones posteriores a la fecha de su publicación razón por la cual Titularizadora Colombiana S.A se reserva el derecho de modificarla o actualizarla en cualquier tiempo y sin previo aviso.”"]