{"text_format":"1","workbook":"xlsx","n_sheets":7,"sheets":["CALCULADORA","Características","Flujos","TIR de Tenencia","Tabla de Amortizacion","Tablas","Exclusión"],"not_rendered":{"charts":0,"images":3,"macros":1,"external_links":0,"defined_names":4,"comments":0,"pivot_tables":0},"unopened":[],"bounds":{"document_bytes":16777216,"sheet_cells":100000,"rows_first":2000,"rows_last":500,"rows_between":2000,"halvings":0,"cell_chars":16384,"cell_head_chars":4096},"cells_cut":0,"cells_raw":0,"read":"whole","date_system":"1900"}

{"sheet":"CALCULADORA","index":0,"n_rows":43,"n_cols":8,"rows_kept":43,"cut":false,"hidden":false,"merged":[[6,1,6,2],[21,1,21,2],[25,1,25,2],[38,10,38,11],[21,3,23,4],[58,7,58,8],[10,1,10,2],[38,7,38,8]]}
[null,"Exclusión de responsabilidad",null,null,null,null,null,"Valor nominal negociado"]
[null,null,null,null,null,null,null,"TIV V-2 A"]
[null,null,null,null,null,null,null,"TIV V-3 A"]
[null,null,null,null,null,null,null,"TIV V-4 A"]
[null,null,null,null,null,null,null,"TIV V-5 A"]
[null,null,null,null,null,null,null,"TIV V-6 A"]
[null,"Calculadora Emisiones TIV en Pesos"]
[]
[null,"Emisión","TIV V-6 A",null,"Seleccionar la Emisión a Calcular"]
[]
[null,"Características"]
[null,"Identificación titulo (Nemotécnico)",{"$f":"+HLOOKUP(C9,Características!B1:J7,2,FALSE)","v":"TIVAV6281128"},null,null,98.981999999999999]
[null,"Fecha de Emisión ",{"$f":"+HLOOKUP(C9,Características!B1:J7,4,FALSE)","v":"2023-11-28"},null,null,97.997]
[null,"Fecha de Vencimiento Contractual",{"$f":"+HLOOKUP(C9,Características!B1:J7,5,FALSE)","v":"2028-11-28"}]
[null,"Fecha estimada para el pago del 100% del título",{"$f":"+VLOOKUP(0,Flujos!D2:J182,6,FALSE)","v":"2025-07-28"}]
[null,"Tasa Facial Efectiva Anual",{"$f":"+HLOOKUP(C9,Características!B1:J7,6,FALSE)","v":0.15}]
[null,"Tasa Facial Nominal Anual ",{"$f":"+ROUND(((1+C16)^(1/12)-1)*12,6)","v":0.14057900000000001}]
[null,"Duración Macaulay",{"$f":"+SUMPRODUCT(Flujos!B2:B182,Flujos!H2:H182)/Flujos!H183/365","v":0.60481141317856757}]
[null,"Nominal Inicial  (Nominal del título al momento de la emisión)",{"$f":"Flujos!L2","v":37223006647.202454}]
[]
[]
[null,"Datos de Compra",null,"Fecha de Compra y Valor de Compra son datos opcionales deben incluirse solo para calcular la TIR de Tenencia"]
[null,"Fecha de Compra","2023-11-29"]
[null,"Valor de Compra (COP)",32705650231]
[]
[null,"Datos de Venta"]
[null,"Fecha de Venta ","2024-04-12",null,"Incluir los datos de las celdas grises"]
[null,"Valor nominal a negociar (COP)",29702343453.749001]
[null,"Tasa de negociación / tasa de valoración",0.14149999999999999]
[null,"Precio Limpio (sin incluir intereses causados)"]
[null,"Precio sucio (incluyendo intereses causados)",99.194999999999993]
[{"$f":"+Flujos!C183*100","v":79.795659000000001},"Porcentaje del nominal inicial que falta por pagar del capital",{"$f":"+Flujos!C183*100/100","v":0.79795658999999997}]
[null,"Valor de Giro (COP)",{"$f":"+Características!B32","v":29996990701}]
[]
[null,"TIR de Tenencia en COP*",{"$f":"+'TIR de Tenencia'!K2","v":0.71890152692794818}]
[]
[null,"Oficina de Atención a Inversionistas al 601 618 3030 ext 258 - 239, o al correo  smoreno@titularizadora.com - josorio@titularizadora.com"]
[]
[]
[]
[]
[]
[null,null,1]

{"sheet":"Características","index":1,"n_rows":39,"n_cols":6,"rows_kept":39,"cut":false,"hidden":true,"merged":[[8,0,8,1],[26,0,26,1]]}
["Serie","TIV V-2 A","TIV V-3 A","TIV V-4 A","TIV V-5 A","TIV V-6 A"]
["Nemo MEC","TIVAV2260226","TIVAV3140327","TIVAV4251127","TIVAV5231128","TIVAV6281128"]
["ISIN"]
["Emisión","2021-02-26","2022-03-14","2022-11-25","2023-11-23","2023-11-28"]
["Vencimiento contractual","2026-02-26","2027-03-14","2027-11-25","2028-11-23","2028-11-28"]
["Cupón EA",4.9000000000000002E-2,8.5500000000000007E-2,0.161,0.158,0.15]
["Moneda","COP","COP","COP","COP","COP"]
[]
["Cálculo de tasa y precio sucio a partir del limpio"]
["Fecha de liquidación",{"$f":"+CALCULADORA!C27","v":"2024-04-12"}]
["Fecha último pago cupón",{"$f":"+VLOOKUP(B10,Flujos!$A$2:$A$182,1)","v":"2024-03-28"}]
["Valor Par",{"$f":"+VLOOKUP(B11,Flujos!$A$2:$D$182,4)","v":79.795659000000001}]
["Próximo pago de interés",{"$f":"+VLOOKUP(EDATE(B10,1),Flujos!$A$2:$F$182,6)","v":0.93480600000000003}]
["Días corridos",{"$f":"+DAYS360(B11,B10,TRUE)","v":14}]
["Días entre flujos",30]
["Cupón corrido",{"$f":"ROUND(B13/B12*B14/B15*100,4)","v":0.54669999999999996}]
["Precio limpio",{"$f":"+TRUNC(Flujos!H183/VLOOKUP(CALCULADORA!C27,Flujos!A:D,4)*100,3)","v":100.992}]
["Nominal",{"$f":"+CALCULADORA!C28","v":29702343453.749001}]
["Moneda",1]
["Contravalor",{"$f":"ROUND(B18*B19*(B17+B16)/100,0)","v":30159373412}]
["Precio unitario",{"$f":"TRUNC(B20/B18,5)","v":1.0153799999999999}]
["Precio sucio MEC",{"$f":"TRUNC(B21/B19*100,3)","v":101.538}]
["Precio sucio modelo",{"$f":"+B22","v":101.538}]
["Diferencia",{"$f":"+B22-B23","v":0}]
["Tasa de descuento equivalente",{"$f":"TRUNC(CALCULADORA!C29,5)","v":0.14149999999999999}]
[]
["Cálculo de precio limpio y sucio a partir de tasa"]
["Tasa de descuento",{"$f":"TRUNC(CALCULADORA!C29,5)","v":0.14149999999999999}]
["Precio sucio modelo",{"$f":"TRUNC(Flujos!H183/VLOOKUP(CALCULADORA!C27,Flujos!A2:D182,4)*100,3)","v":100.992}]
["Moneda",{"$f":"+CALCULADORA!$C$43","v":1}]
["Nominal",{"$f":"+CALCULADORA!C28","v":29702343453.749001}]
["Contravalor",{"$f":"+ROUND(B29/100*B31*B30,0)","v":29996990701}]
["Valor Par",{"$f":"+VLOOKUP(B11,Flujos!$A$2:$D$182,4)","v":79.795659000000001}]
["Próximo pago de interés",{"$f":"+VLOOKUP(EDATE(B10,1),Flujos!$A$2:$F$182,6)","v":0.93480600000000003}]
["Días corridos",{"$f":"+DAYS360(B11,B10,TRUE)","v":14}]
["Días entre flujos",30]
["Precio unitario",{"$f":"TRUNC(B32/(B30*B31),5)","v":1.0099199999999999}]
["Cupón corrido",{"$f":"ROUND(B34/B33*B35/B36,6)*100","v":0.54669999999999996}]
["Precio limpio",{"$f":"ROUND((B37-(B38/100))*100,3)","v":100.44499999999999}]

{"sheet":"Flujos","index":2,"n_rows":183,"n_cols":15,"rows_kept":183,"cut":false,"hidden":false,"merged":[]}
["Fecha","Días 365 / Days 365","Amortización / Amortization","Factor Saldo","Factor Capital","Factor Intereses","Factor Total","VPN","Control","Mes inicial","Días iniciales","Saldo / Balance","Pago de Capital","Pago de Intereses","Pago Total"]
[{"$f":"+CALCULADORA!C13","v":"2023-11-28"},{"$f":"IF(DIAS365(CALCULADORA!$C$27,A2)<0,0,DIAS365(CALCULADORA!$C$27,A2))","v":0},0,{"$f":"+CALCULADORA!A32/Flujos!C183","v":100},0,0,{"$f":"F2+E2","v":0},{"$f":"IF($B2<0,0,G2/POWER(1+CALCULADORA!$C$29,Flujos!$B2/365))","v":0},{"$f":"+A2","v":"2023-11-28"},0,0,{"$f":"+Características!B18/Flujos!C183","v":37223006647.202454},0,0,{"$f":"+N2+M2","v":0}]
[{"$f":"EDATE(A2,1)","v":"2023-12-28"},{"$f":"IF(DIAS365(CALCULADORA!$C$27,A3)<0,0,DIAS365(CALCULADORA!$C$27,A3))","v":0},{"$f":"+HLOOKUP(CALCULADORA!$C$9,Tablas!B:B,Flujos!J3+1,FALSE)","v":3.9758839999999997E-2},{"$f":"+ROUND(D2-E3,6)","v":96.024116000000006},{"$f":"ROUND(C3*$D$2,6)","v":3.9758840000000002},{"$f":"ROUND(D2*ROUND(((1+CALCULADORA!$C$16)^(1/12)-1),6),6)","v":1.1715},{"$f":"F3+E3","v":5.1473840000000006},{"$f":"IF($B3=0,0,G3/POWER(1+CALCULADORA!$C$29,Flujos!$B3/365))","v":0},{"$f":"+A3","v":"2023-12-28"},1,{"$f":"+DIAS365($A$2,A3)","v":30},{"$f":"+L2-M3","v":35743063081.597397},{"$f":"+$L$2*C3","v":1479943565.6050587},{"$f":"+L2*$F$3%","v":436067522.87197673},{"$f":"+N3+M3","v":1916011088.4770355}]
[{"$f":"EDATE(A3,1)","v":"2024-01-28"},{"$f":"IF(DIAS365(CALCULADORA!$C$27,A4)<0,0,DIAS365(CALCULADORA!$C$27,A4))","v":0},{"$f":"+HLOOKUP(CALCULADORA!$C$9,Tablas!B:B,Flujos!J4+1,FALSE)","v":5.171535E-2},{"$f":"+ROUND(D3-E4,6)","v":90.852581000000001},{"$f":"ROUND(C4*$D$2,6)","v":5.1715350000000004},{"$f":"ROUND(D3*ROUND(((1+CALCULADORA!$C$16)^(1/12)-1),6),6)","v":1.1249229999999999},{"$f":"F4+E4","v":6.2964580000000003},{"$f":"IF($B4=0,0,G4/POWER(1+CALCULADORA!$C$29,Flujos!$B4/365))","v":0},"2024-01-28",2,{"$f":"+DIAS365($A$2,A4)","v":61},{"$f":"+L3-M4","v":33818062264.784996},{"$f":"+$L$2*C4","v":1925000816.8124015},{"$f":"+L3*$F$3%","v":418729984.0009135},{"$f":"+N4+M4","v":2343730800.8133149}]
["2024-02-28",{"$f":"IF(DIAS365(CALCULADORA!$C$27,A5)<0,0,DIAS365(CALCULADORA!$C$27,A5))","v":0},{"$f":"+HLOOKUP(CALCULADORA!$C$9,Tablas!B:B,Flujos!J5+1,FALSE)","v":5.3154399999999997E-2},{"$f":"+ROUND(D4-E5,6)","v":85.537141000000005},5.3154399999999997,{"$f":"ROUND(D4*ROUND(((1+CALCULADORA!$C$16)^(1/12)-1),6),6)","v":1.064338},6.3797779999999999,{"$f":"IF($B5=0,0,G5/POWER(1+CALCULADORA!$C$29,Flujos!$B5/365))","v":0},"2024-02-28",3,{"$f":"+DIAS365($A$2,A5)","v":92},31839495680.256939,1978566584.5280581,396178599.43195623,2374745183.9600143]
["2024-03-28",{"$f":"IF(DIAS365(CALCULADORA!$C$27,A6)<0,0,DIAS365(CALCULADORA!$C$27,A6))","v":0},{"$f":"+HLOOKUP(CALCULADORA!$C$9,Tablas!B:B,Flujos!J6+1,FALSE)","v":5.7414819999999998E-2},79.795659000000001,5.7414820000000004,{"$f":"ROUND(D5*ROUND(((1+CALCULADORA!$C$16)^(1/12)-1),6),6)","v":1.002068},6.7435500000000008,{"$f":"IF($B6=0,0,G6/POWER(1+CALCULADORA!$C$29,Flujos!$B6/365))","v":0},"2024-03-28",4,{"$f":"+DIAS365($A$2,A6)","v":120},29702343453.749008,2137152226.5079324,372999691.89421004,2510151918.4021425]
["2024-04-28",{"$f":"IF(DIAS365(CALCULADORA!$C$27,A7)<0,0,DIAS365(CALCULADORA!$C$27,A7))","v":16},{"$f":"+HLOOKUP(CALCULADORA!$C$9,Tablas!B:B,Flujos!J7+1,FALSE)","v":4.4652009999999999E-2},75.330457999999993,4.4652010000000004,{"$f":"ROUND(D6*ROUND(((1+CALCULADORA!$C$16)^(1/12)-1),6),6)","v":0.93480600000000003},5.4000070000000004,{"$f":"IF($B7=0,0,G7/POWER(1+CALCULADORA!$C$29,Flujos!$B7/365))","v":5.3687703901873975},"2024-04-28",5,{"$f":"+DIAS365($A$2,A7)","v":151},28040261388.708057,1662082065.0409503,347962953.5606696,2010045018.60162]
["2024-05-28",{"$f":"IF(DIAS365(CALCULADORA!$C$27,A8)<0,0,DIAS365(CALCULADORA!$C$27,A8))","v":46},{"$f":"+HLOOKUP(CALCULADORA!$C$9,Tablas!B:B,Flujos!J8+1,FALSE)","v":4.3013460000000003E-2},71.029111999999998,4.3013459999999997,{"$f":"ROUND(D7*ROUND(((1+CALCULADORA!$C$16)^(1/12)-1),6),6)","v":0.88249599999999995},5.1838419999999994,{"$f":"IF($B8=0,0,G8/POWER(1+CALCULADORA!$C$29,Flujos!$B8/365))","v":5.0980984271966232},"2024-05-28",6,{"$f":"+DIAS365($A$2,A8)","v":181},26439171081.208881,1601090307.499177,328491662.16871488,1929581969.667892]
["2024-06-28",{"$f":"IF(DIAS365(CALCULADORA!$C$27,A9)<0,0,DIAS365(CALCULADORA!$C$27,A9))","v":77},{"$f":"+HLOOKUP(CALCULADORA!$C$9,Tablas!B:B,Flujos!J9+1,FALSE)","v":5.4058620000000002E-2},65.623249999999999,5.4058619999999999,{"$f":"ROUND(D8*ROUND(((1+CALCULADORA!$C$16)^(1/12)-1),6),6)","v":0.83210600000000001},6.2379680000000004,{"$f":"IF($B9=0,0,G9/POWER(1+CALCULADORA!$C$29,Flujos!$B9/365))","v":6.066219019088579},"2024-06-28",7,{"$f":"+DIAS365($A$2,A9)","v":212},24426946709.610291,2012224371.5985916,309734889.21636206,2321959260.8149538]
["2024-07-28",{"$f":"IF(DIAS365(CALCULADORA!$C$27,A10)<0,0,DIAS365(CALCULADORA!$C$27,A10))","v":107},{"$f":"+HLOOKUP(CALCULADORA!$C$9,Tablas!B:B,Flujos!J10+1,FALSE)","v":6.5000000000000002E-2},59.123249999999999,6.5,{"$f":"ROUND(D9*ROUND(((1+CALCULADORA!$C$16)^(1/12)-1),6),6)","v":0.76877600000000001},7.2687759999999999,{"$f":"IF($B10=0,0,G10/POWER(1+CALCULADORA!$C$29,Flujos!$B10/365))","v":6.9921732636961762},"2024-07-28",8,{"$f":"+DIAS365($A$2,A10)","v":242},22007451277.54213,2419495432.0681596,286161680.70308453,2705657112.771244]
["2024-08-28",{"$f":"IF(DIAS365(CALCULADORA!$C$27,A11)<0,0,DIAS365(CALCULADORA!$C$27,A11))","v":138},{"$f":"+HLOOKUP(CALCULADORA!$C$9,Tablas!B:B,Flujos!J11+1,FALSE)","v":6.5000000000000002E-2},52.623249999999999,6.5,{"$f":"ROUND(D10*ROUND(((1+CALCULADORA!$C$16)^(1/12)-1),6),6)","v":0.69262900000000005},7.1926290000000002,{"$f":"IF($B11=0,0,G11/POWER(1+CALCULADORA!$C$29,Flujos!$B11/365))","v":6.841589922467068},"2024-08-28",9,{"$f":"+DIAS365($A$2,A11)","v":273},19587955845.473969,2419495432.0681596,257817291.71640605,2677312723.7845654]
["2024-09-28",{"$f":"IF(DIAS365(CALCULADORA!$C$27,A12)<0,0,DIAS365(CALCULADORA!$C$27,A12))","v":169},{"$f":"+HLOOKUP(CALCULADORA!$C$9,Tablas!B:B,Flujos!J12+1,FALSE)","v":5.4594459999999997E-2},47.163803999999999,5.4594459999999998,{"$f":"ROUND(D11*ROUND(((1+CALCULADORA!$C$16)^(1/12)-1),6),6)","v":0.61648099999999995},6.0759270000000001,{"$f":"IF($B12=0,0,G12/POWER(1+CALCULADORA!$C$29,Flujos!$B12/365))","v":5.7147917745433654},"2024-09-28",10,{"$f":"+DIAS365($A$2,A12)","v":304},17555785897.993542,2032169947.4804285,229472902.72972754,2261642850.210156]
["2024-10-28",{"$f":"IF(DIAS365(CALCULADORA!$C$27,A13)<0,0,DIAS365(CALCULADORA!$C$27,A13))","v":199},{"$f":"+HLOOKUP(CALCULADORA!$C$9,Tablas!B:B,Flujos!J13+1,FALSE)","v":5.2259659999999999E-2},41.937837999999999,5.2259659999999997,{"$f":"ROUND(D12*ROUND(((1+CALCULADORA!$C$16)^(1/12)-1),6),6)","v":0.55252400000000002},5.7784899999999997,{"$f":"IF($B13=0,0,G13/POWER(1+CALCULADORA!$C$29,Flujos!$B13/365))","v":5.3762342317468788},"2024-10-28",11,{"$f":"+DIAS365($A$2,A13)","v":334},15610524226.433002,1945261671.5605402,205666031.79499432,2150927703.3555346]
["2024-11-28",{"$f":"IF(DIAS365(CALCULADORA!$C$27,A14)<0,0,DIAS365(CALCULADORA!$C$27,A14))","v":230},{"$f":"+HLOOKUP(CALCULADORA!$C$9,Tablas!B:B,Flujos!J14+1,FALSE)","v":4.9628739999999998E-2},36.974964,4.9628740000000002,{"$f":"ROUND(D13*ROUND(((1+CALCULADORA!$C$16)^(1/12)-1),6),6)","v":0.49130200000000002},5.4541760000000004,{"$f":"IF($B14=0,0,G14/POWER(1+CALCULADORA!$C$29,Flujos!$B14/365))","v":5.0177780529787759},"2024-11-28",12,{"$f":"+DIAS365($A$2,A14)","v":365},13763193307.52072,1847330918.9122822,182877291.31266263,2030208210.2249448]
["2024-12-28",{"$f":"IF(DIAS365(CALCULADORA!$C$27,A15)<0,0,DIAS365(CALCULADORA!$C$27,A15))","v":260},{"$f":"+HLOOKUP(CALCULADORA!$C$9,Tablas!B:B,Flujos!J15+1,FALSE)","v":5.3546509999999999E-2},31.620312999999999,5.3546509999999996,{"$f":"ROUND(D14*ROUND(((1+CALCULADORA!$C$16)^(1/12)-1),6),6)","v":0.43316199999999999},5.7878129999999999,{"$f":"IF($B15=0,0,G15/POWER(1+CALCULADORA!$C$29,Flujos!$B15/365))","v":5.267114296709841},"2024-12-28",13,{"$f":"+DIAS365($A$2,A15)","v":395},11770031209.856228,1993162097.6644926,161235809.59760523,2154397907.2620978]
["2025-01-28",{"$f":"IF(DIAS365(CALCULADORA!$C$27,A16)<0,0,DIAS365(CALCULADORA!$C$27,A16))","v":291},{"$f":"+HLOOKUP(CALCULADORA!$C$9,Tablas!B:B,Flujos!J16+1,FALSE)","v":5.1460720000000001E-2},26.474240999999999,5.1460720000000002,{"$f":"ROUND(D15*ROUND(((1+CALCULADORA!$C$16)^(1/12)-1),6),6)","v":0.37043199999999998},5.5165040000000003,{"$f":"IF($B16=0,0,G16/POWER(1+CALCULADORA!$C$29,Flujos!$B16/365))","v":4.9641017305619748},"2025-01-28",14,{"$f":"+DIAS365($A$2,A16)","v":426},9854508487.2264042,1915522722.6298244,137885915.62346572,2053408638.2532902]
["2025-02-28",{"$f":"IF(DIAS365(CALCULADORA!$C$27,A17)<0,0,DIAS365(CALCULADORA!$C$27,A17))","v":322},{"$f":"+HLOOKUP(CALCULADORA!$C$9,Tablas!B:B,Flujos!J17+1,FALSE)","v":4.9471920000000003E-2},21.527049000000002,4.9471920000000003,{"$f":"ROUND(D16*ROUND(((1+CALCULADORA!$C$16)^(1/12)-1),6),6)","v":0.31014599999999998},5.2573379999999998,{"$f":"IF($B17=0,0,G17/POWER(1+CALCULADORA!$C$29,Flujos!$B17/365))","v":4.6780097069795907},"2025-02-28",15,{"$f":"+DIAS365($A$2,A17)","v":457},8013014880.2165356,1841493607.0098681,115445566.92785732,1956939173.9377255]
["2025-03-28",{"$f":"IF(DIAS365(CALCULADORA!$C$27,A18)<0,0,DIAS365(CALCULADORA!$C$27,A18))","v":350},{"$f":"+HLOOKUP(CALCULADORA!$C$9,Tablas!B:B,Flujos!J18+1,FALSE)","v":4.753537E-2},16.773512,4.7535369999999997,{"$f":"ROUND(D17*ROUND(((1+CALCULADORA!$C$16)^(1/12)-1),6),6)","v":0.252189},5.0057259999999992,{"$f":"IF($B18=0,0,G18/POWER(1+CALCULADORA!$C$29,Flujos!$B18/365))","v":4.4091328228538496},"2025-03-28",16,{"$f":"+DIAS365($A$2,A18)","v":485},6243605486.7293072,1769409393.4872282,93872469.321736708,1863281862.808965]
["2025-04-28",{"$f":"IF(DIAS365(CALCULADORA!$C$27,A19)<0,0,DIAS365(CALCULADORA!$C$27,A19))","v":381},{"$f":"+HLOOKUP(CALCULADORA!$C$9,Tablas!B:B,Flujos!J19+1,FALSE)","v":4.5659650000000003E-2},12.207547,4.5659650000000003,{"$f":"ROUND(D18*ROUND(((1+CALCULADORA!$C$16)^(1/12)-1),6),6)","v":0.19650200000000001},4.762467,{"$f":"IF($B19=0,0,G19/POWER(1+CALCULADORA!$C$29,Flujos!$B19/365))","v":4.1479792134158604},"2025-04-28",17,{"$f":"+DIAS365($A$2,A19)","v":516},4544016031.2703695,1699589455.4589376,73143838.277033836,1772733293.7359715]
["2025-05-28",{"$f":"IF(DIAS365(CALCULADORA!$C$27,A20)<0,0,DIAS365(CALCULADORA!$C$27,A20))","v":411},{"$f":"+HLOOKUP(CALCULADORA!$C$9,Tablas!B:B,Flujos!J20+1,FALSE)","v":4.3834140000000001E-2},7.8241329999999998,4.3834140000000001,{"$f":"ROUND(D19*ROUND(((1+CALCULADORA!$C$16)^(1/12)-1),6),6)","v":0.143011},4.5264249999999997,{"$f":"IF($B20=0,0,G20/POWER(1+CALCULADORA!$C$29,Flujos!$B20/365))","v":3.8997419735319894},"2025-05-28",18,{"$f":"+DIAS365($A$2,A20)","v":546},2912377546.6759663,1631638484.594403,53233147.80633238,1684871632.4007354]
["2025-06-28",{"$f":"IF(DIAS365(CALCULADORA!$C$27,A21)<0,0,DIAS365(CALCULADORA!$C$27,A21))","v":442},{"$f":"+HLOOKUP(CALCULADORA!$C$9,Tablas!B:B,Flujos!J21+1,FALSE)","v":4.2176760000000001E-2},3.6064569999999998,4.217676,{"$f":"ROUND(D20*ROUND(((1+CALCULADORA!$C$16)^(1/12)-1),6),6)","v":9.1660000000000005E-2},4.3093360000000001,{"$f":"IF($B21=0,0,G21/POWER(1+CALCULADORA!$C$29,Flujos!$B21/365))","v":3.67121133353622},"2025-06-28",19,{"$f":"+DIAS365($A$2,A21)","v":577},1342431728.8385036,1569945817.8374627,34118502.959308945,1604064320.7967715]
["2025-07-28",{"$f":"IF(DIAS365(CALCULADORA!$C$27,A22)<0,0,DIAS365(CALCULADORA!$C$27,A22))","v":472},{"$f":"+HLOOKUP(CALCULADORA!$C$9,Tablas!B:B,Flujos!J22+1,FALSE)","v":3.6064569999999997E-2},{"$f":"+ROUND(D21-E22,6)","v":0},3.6064569999999998,{"$f":"ROUND(D21*ROUND(((1+CALCULADORA!$C$16)^(1/12)-1),6),6)","v":4.2250000000000003E-2},3.6487069999999999,{"$f":"IF($B22=0,0,G22/POWER(1+CALCULADORA!$C$29,Flujos!$B22/365))","v":3.0747794507710045},"2025-07-28",20,{"$f":"+DIAS365($A$2,A22)","v":607},5.4836273193359375E-6,1342431728.8384981,15726587.703343069,1358158316.5418413]
["2025-08-28",{"$f":"IF(DIAS365(CALCULADORA!$C$27,A23)<0,0,DIAS365(CALCULADORA!$C$27,A23))","v":503},{"$f":"+HLOOKUP(CALCULADORA!$C$9,Tablas!B:B,Flujos!J23+1,FALSE)","v":0},0,0,{"$f":"ROUND(D22*ROUND(((1+CALCULADORA!$C$16)^(1/12)-1),6),6)","v":0},0,{"$f":"IF($B23=0,0,G23/POWER(1+CALCULADORA!$C$29,Flujos!$B23/365))","v":0},"2025-08-28",21,{"$f":"+DIAS365($A$2,A23)","v":638},5.4836273193359375E-6,0,6.4240694046020505E-8,6.4240694046020505E-8]
["2025-09-28",{"$f":"IF(DIAS365(CALCULADORA!$C$27,A24)<0,0,DIAS365(CALCULADORA!$C$27,A24))","v":534},{"$f":"+HLOOKUP(CALCULADORA!$C$9,Tablas!B:B,Flujos!J24+1,FALSE)","v":0},0,0,{"$f":"ROUND(D23*ROUND(((1+CALCULADORA!$C$16)^(1/12)-1),6),6)","v":0},0,{"$f":"IF($B24=0,0,G24/POWER(1+CALCULADORA!$C$29,Flujos!$B24/365))","v":0},"2025-09-28",22,{"$f":"+DIAS365($A$2,A24)","v":669},5.4836273193359375E-6,0,6.4240694046020505E-8,6.4240694046020505E-8]
["2025-10-28",{"$f":"IF(DIAS365(CALCULADORA!$C$27,A25)<0,0,DIAS365(CALCULADORA!$C$27,A25))","v":564},{"$f":"+HLOOKUP(CALCULADORA!$C$9,Tablas!B:B,Flujos!J25+1,FALSE)","v":0},0,0,{"$f":"ROUND(D24*ROUND(((1+CALCULADORA!$C$16)^(1/12)-1),6),6)","v":0},0,{"$f":"IF($B25=0,0,G25/POWER(1+CALCULADORA!$C$29,Flujos!$B25/365))","v":0},"2025-10-28",23,{"$f":"+DIAS365($A$2,A25)","v":699},5.4836273193359375E-6,0,6.4240694046020505E-8,6.4240694046020505E-8]
["2025-11-28",{"$f":"IF(DIAS365(CALCULADORA!$C$27,A26)<0,0,DIAS365(CALCULADORA!$C$27,A26))","v":595},{"$f":"+HLOOKUP(CALCULADORA!$C$9,Tablas!B:B,Flujos!J26+1,FALSE)","v":0},0,0,{"$f":"ROUND(D25*ROUND(((1+CALCULADORA!$C$16)^(1/12)-1),6),6)","v":0},0,{"$f":"IF($B26=0,0,G26/POWER(1+CALCULADORA!$C$29,Flujos!$B26/365))","v":0},"2025-11-28",24,{"$f":"+DIAS365($A$2,A26)","v":730},5.4836273193359375E-6,0,6.4240694046020505E-8,6.4240694046020505E-8]
["2025-12-28",{"$f":"IF(DIAS365(CALCULADORA!$C$27,A27)<0,0,DIAS365(CALCULADORA!$C$27,A27))","v":625},{"$f":"+HLOOKUP(CALCULADORA!$C$9,Tablas!B:B,Flujos!J27+1,FALSE)","v":0},0,0,{"$f":"ROUND(D26*ROUND(((1+CALCULADORA!$C$16)^(1/12)-1),6),6)","v":0},0,{"$f":"IF($B27=0,0,G27/POWER(1+CALCULADORA!$C$29,Flujos!$B27/365))","v":0},"2025-12-28",25,{"$f":"+DIAS365($A$2,A27)","v":760},5.4836273193359375E-6,0,6.4240694046020505E-8,6.4240694046020505E-8]
["2026-01-28",{"$f":"IF(DIAS365(CALCULADORA!$C$27,A28)<0,0,DIAS365(CALCULADORA!$C$27,A28))","v":656},{"$f":"+HLOOKUP(CALCULADORA!$C$9,Tablas!B:B,Flujos!J28+1,FALSE)","v":0},0,0,{"$f":"ROUND(D27*ROUND(((1+CALCULADORA!$C$16)^(1/12)-1),6),6)","v":0},0,{"$f":"IF($B28=0,0,G28/POWER(1+CALCULADORA!$C$29,Flujos!$B28/365))","v":0},"2026-01-28",26,{"$f":"+DIAS365($A$2,A28)","v":791},5.4836273193359375E-6,0,6.4240694046020505E-8,6.4240694046020505E-8]
["2026-02-28",{"$f":"IF(DIAS365(CALCULADORA!$C$27,A29)<0,0,DIAS365(CALCULADORA!$C$27,A29))","v":687},{"$f":"+HLOOKUP(CALCULADORA!$C$9,Tablas!B:B,Flujos!J29+1,FALSE)","v":0},0,0,{"$f":"ROUND(D28*ROUND(((1+CALCULADORA!$C$16)^(1/12)-1),6),6)","v":0},0,{"$f":"IF($B29=0,0,G29/POWER(1+CALCULADORA!$C$29,Flujos!$B29/365))","v":0},"2026-02-28",27,{"$f":"+DIAS365($A$2,A29)","v":822},5.4836273193359375E-6,0,6.4240694046020505E-8,6.4240694046020505E-8]
["2026-03-28",{"$f":"IF(DIAS365(CALCULADORA!$C$27,A30)<0,0,DIAS365(CALCULADORA!$C$27,A30))","v":715},{"$f":"+HLOOKUP(CALCULADORA!$C$9,Tablas!B:B,Flujos!J30+1,FALSE)","v":0},0,0,{"$f":"ROUND(D29*ROUND(((1+CALCULADORA!$C$16)^(1/12)-1),6),6)","v":0},0,{"$f":"IF($B30=0,0,G30/POWER(1+CALCULADORA!$C$29,Flujos!$B30/365))","v":0},"2026-03-28",28,{"$f":"+DIAS365($A$2,A30)","v":850},5.4836273193359375E-6,0,6.4240694046020505E-8,6.4240694046020505E-8]
["2026-04-28",{"$f":"IF(DIAS365(CALCULADORA!$C$27,A31)<0,0,DIAS365(CALCULADORA!$C$27,A31))","v":746},{"$f":"+HLOOKUP(CALCULADORA!$C$9,Tablas!B:B,Flujos!J31+1,FALSE)","v":0},0,0,{"$f":"ROUND(D30*ROUND(((1+CALCULADORA!$C$16)^(1/12)-1),6),6)","v":0},0,{"$f":"IF($B31=0,0,G31/POWER(1+CALCULADORA!$C$29,Flujos!$B31/365))","v":0},"2026-04-28",29,{"$f":"+DIAS365($A$2,A31)","v":881},5.4836273193359375E-6,0,6.4240694046020505E-8,6.4240694046020505E-8]
["2026-05-28",{"$f":"IF(DIAS365(CALCULADORA!$C$27,A32)<0,0,DIAS365(CALCULADORA!$C$27,A32))","v":776},{"$f":"+HLOOKUP(CALCULADORA!$C$9,Tablas!B:B,Flujos!J32+1,FALSE)","v":0},0,0,{"$f":"ROUND(D31*ROUND(((1+CALCULADORA!$C$16)^(1/12)-1),6),6)","v":0},0,{"$f":"IF($B32=0,0,G32/POWER(1+CALCULADORA!$C$29,Flujos!$B32/365))","v":0},"2026-05-28",30,{"$f":"+DIAS365($A$2,A32)","v":911},5.4836273193359375E-6,0,6.4240694046020505E-8,6.4240694046020505E-8]
["2026-06-28",{"$f":"IF(DIAS365(CALCULADORA!$C$27,A33)<0,0,DIAS365(CALCULADORA!$C$27,A33))","v":807},{"$f":"+HLOOKUP(CALCULADORA!$C$9,Tablas!B:B,Flujos!J33+1,FALSE)","v":0},0,0,{"$f":"ROUND(D32*ROUND(((1+CALCULADORA!$C$16)^(1/12)-1),6),6)","v":0},0,{"$f":"IF($B33=0,0,G33/POWER(1+CALCULADORA!$C$29,Flujos!$B33/365))","v":0},"2026-06-28",31,{"$f":"+DIAS365($A$2,A33)","v":942},5.4836273193359375E-6,0,6.4240694046020505E-8,6.4240694046020505E-8]
["2026-07-28",{"$f":"IF(DIAS365(CALCULADORA!$C$27,A34)<0,0,DIAS365(CALCULADORA!$C$27,A34))","v":837},{"$f":"+HLOOKUP(CALCULADORA!$C$9,Tablas!B:B,Flujos!J34+1,FALSE)","v":0},0,0,{"$f":"ROUND(D33*ROUND(((1+CALCULADORA!$C$16)^(1/12)-1),6),6)","v":0},0,{"$f":"IF($B34=0,0,G34/POWER(1+CALCULADORA!$C$29,Flujos!$B34/365))","v":0},"2026-07-28",32,{"$f":"+DIAS365($A$2,A34)","v":972},5.4836273193359375E-6,0,6.4240694046020505E-8,6.4240694046020505E-8]
[{"$f":"EDATE(A34,1)","v":"2026-08-28"},{"$f":"IF(DIAS365(CALCULADORA!$C$27,A35)<0,0,DIAS365(CALCULADORA!$C$27,A35))","v":868},{"$f":"+HLOOKUP(CALCULADORA!$C$9,Tablas!B:B,Flujos!J35+1,FALSE)","v":0},0,0,{"$f":"ROUND(D34*ROUND(((1+CALCULADORA!$C$16)^(1/12)-1),6),6)","v":0},0,{"$f":"IF($B35=0,0,G35/POWER(1+CALCULADORA!$C$29,Flujos!$B35/365))","v":0},"2026-08-28",33,{"$f":"+DIAS365($A$2,A35)","v":1003},5.4836273193359375E-6,0,6.4240694046020505E-8,6.4240694046020505E-8]
["2026-09-28",{"$f":"IF(DIAS365(CALCULADORA!$C$27,A36)<0,0,DIAS365(CALCULADORA!$C$27,A36))","v":899},{"$f":"+HLOOKUP(CALCULADORA!$C$9,Tablas!B:B,Flujos!J36+1,FALSE)","v":0},0,0,{"$f":"ROUND(D35*ROUND(((1+CALCULADORA!$C$16)^(1/12)-1),6),6)","v":0},0,{"$f":"IF($B36=0,0,G36/POWER(1+CALCULADORA!$C$29,Flujos!$B36/365))","v":0},"2026-09-28",34,{"$f":"+DIAS365($A$2,A36)","v":1034},5.4836273193359375E-6,0,6.4240694046020505E-8,6.4240694046020505E-8]
["2026-10-28",{"$f":"IF(DIAS365(CALCULADORA!$C$27,A37)<0,0,DIAS365(CALCULADORA!$C$27,A37))","v":929},{"$f":"+HLOOKUP(CALCULADORA!$C$9,Tablas!B:B,Flujos!J37+1,FALSE)","v":0},0,0,{"$f":"ROUND(D36*ROUND(((1+CALCULADORA!$C$16)^(1/12)-1),6),6)","v":0},0,{"$f":"IF($B37=0,0,G37/POWER(1+CALCULADORA!$C$29,Flujos!$B37/365))","v":0},"2026-10-28",35,{"$f":"+DIAS365($A$2,A37)","v":1064},5.4836273193359375E-6,0,6.4240694046020505E-8,6.4240694046020505E-8]
["2026-11-28",{"$f":"IF(DIAS365(CALCULADORA!$C$27,A38)<0,0,DIAS365(CALCULADORA!$C$27,A38))","v":960},{"$f":"+HLOOKUP(CALCULADORA!$C$9,Tablas!B:B,Flujos!J38+1,FALSE)","v":0},0,0,{"$f":"ROUND(D37*ROUND(((1+CALCULADORA!$C$16)^(1/12)-1),6),6)","v":0},0,{"$f":"IF($B38=0,0,G38/POWER(1+CALCULADORA!$C$29,Flujos!$B38/365))","v":0},"2026-11-28",36,{"$f":"+DIAS365($A$2,A38)","v":1095},5.4836273193359375E-6,0,6.4240694046020505E-8,6.4240694046020505E-8]
["2026-12-28",{"$f":"IF(DIAS365(CALCULADORA!$C$27,A39)<0,0,DIAS365(CALCULADORA!$C$27,A39))","v":990},{"$f":"+HLOOKUP(CALCULADORA!$C$9,Tablas!B:B,Flujos!J39+1,FALSE)","v":0},0,0,{"$f":"ROUND(D38*ROUND(((1+CALCULADORA!$C$16)^(1/12)-1),6),6)","v":0},0,{"$f":"IF($B39=0,0,G39/POWER(1+CALCULADORA!$C$29,Flujos!$B39/365))","v":0},"2026-12-28",37,{"$f":"+DIAS365($A$2,A39)","v":1125},5.4836273193359375E-6,0,6.4240694046020505E-8,6.4240694046020505E-8]
["2027-01-28",{"$f":"IF(DIAS365(CALCULADORA!$C$27,A40)<0,0,DIAS365(CALCULADORA!$C$27,A40))","v":1021},{"$f":"+HLOOKUP(CALCULADORA!$C$9,Tablas!B:B,Flujos!J40+1,FALSE)","v":0},{"$f":"+ROUND(D39-E40,6)","v":0},{"$f":"ROUND(C40*$D$2,6)","v":0},{"$f":"ROUND(D39*ROUND(((1+CALCULADORA!$C$16)^(1/12)-1),6),6)","v":0},{"$f":"F40+E40","v":0},{"$f":"IF($B40=0,0,G40/POWER(1+CALCULADORA!$C$29,Flujos!$B40/365))","v":0},{"$f":"+A40","v":"2027-01-28"},38,{"$f":"+DIAS365($A$2,A40)","v":1156},5.4836273193359375E-6,0,6.4240694046020505E-8,6.4240694046020505E-8]
["2027-02-28",{"$f":"IF(DIAS365(CALCULADORA!$C$27,A41)<0,0,DIAS365(CALCULADORA!$C$27,A41))","v":1052},{"$f":"+HLOOKUP(CALCULADORA!$C$9,Tablas!B:B,Flujos!J41+1,FALSE)","v":0},0,0,{"$f":"ROUND(D40*ROUND(((1+CALCULADORA!$C$16)^(1/12)-1),6),6)","v":0},0,{"$f":"IF($B41=0,0,G41/POWER(1+CALCULADORA!$C$29,Flujos!$B41/365))","v":0},"2027-02-28",39,{"$f":"+DIAS365($A$2,A41)","v":1187},5.4836273193359375E-6,0,6.4240694046020505E-8,6.4240694046020505E-8]
["2027-03-28",{"$f":"IF(DIAS365(CALCULADORA!$C$27,A42)<0,0,DIAS365(CALCULADORA!$C$27,A42))","v":1080},{"$f":"+HLOOKUP(CALCULADORA!$C$9,Tablas!B:B,Flujos!J42+1,FALSE)","v":0},0,0,{"$f":"ROUND(D41*ROUND(((1+CALCULADORA!$C$16)^(1/12)-1),6),6)","v":0},0,{"$f":"IF($B42=0,0,G42/POWER(1+CALCULADORA!$C$29,Flujos!$B42/365))","v":0},"2027-03-28",40,{"$f":"+DIAS365($A$2,A42)","v":1215},5.4836273193359375E-6,0,6.4240694046020505E-8,6.4240694046020505E-8]
["2027-04-28",{"$f":"IF(DIAS365(CALCULADORA!$C$27,A43)<0,0,DIAS365(CALCULADORA!$C$27,A43))","v":1111},{"$f":"+HLOOKUP(CALCULADORA!$C$9,Tablas!B:B,Flujos!J43+1,FALSE)","v":0},0,0,{"$f":"ROUND(D42*ROUND(((1+CALCULADORA!$C$16)^(1/12)-1),6),6)","v":0},0,{"$f":"IF($B43=0,0,G43/POWER(1+CALCULADORA!$C$29,Flujos!$B43/365))","v":0},"2027-04-28",41,{"$f":"+DIAS365($A$2,A43)","v":1246},5.4836273193359375E-6,0,6.4240694046020505E-8,6.4240694046020505E-8]
["2027-05-28",{"$f":"IF(DIAS365(CALCULADORA!$C$27,A44)<0,0,DIAS365(CALCULADORA!$C$27,A44))","v":1141},{"$f":"+HLOOKUP(CALCULADORA!$C$9,Tablas!B:B,Flujos!J44+1,FALSE)","v":0},0,0,{"$f":"ROUND(D43*ROUND(((1+CALCULADORA!$C$16)^(1/12)-1),6),6)","v":0},0,{"$f":"IF($B44=0,0,G44/POWER(1+CALCULADORA!$C$29,Flujos!$B44/365))","v":0},"2027-05-28",42,{"$f":"+DIAS365($A$2,A44)","v":1276},5.4836273193359375E-6,0,6.4240694046020505E-8,6.4240694046020505E-8]
["2027-06-28",{"$f":"IF(DIAS365(CALCULADORA!$C$27,A45)<0,0,DIAS365(CALCULADORA!$C$27,A45))","v":1172},{"$f":"+HLOOKUP(CALCULADORA!$C$9,Tablas!B:B,Flujos!J45+1,FALSE)","v":0},0,0,{"$f":"ROUND(D44*ROUND(((1+CALCULADORA!$C$16)^(1/12)-1),6),6)","v":0},0,{"$f":"IF($B45=0,0,G45/POWER(1+CALCULADORA!$C$29,Flujos!$B45/365))","v":0},"2027-06-28",43,{"$f":"+DIAS365($A$2,A45)","v":1307},5.4836273193359375E-6,0,6.4240694046020505E-8,6.4240694046020505E-8]
["2027-07-28",{"$f":"IF(DIAS365(CALCULADORA!$C$27,A46)<0,0,DIAS365(CALCULADORA!$C$27,A46))","v":1202},{"$f":"+HLOOKUP(CALCULADORA!$C$9,Tablas!B:B,Flujos!J46+1,FALSE)","v":0},0,0,{"$f":"ROUND(D45*ROUND(((1+CALCULADORA!$C$16)^(1/12)-1),6),6)","v":0},0,{"$f":"IF($B46=0,0,G46/POWER(1+CALCULADORA!$C$29,Flujos!$B46/365))","v":0},"2027-07-28",44,{"$f":"+DIAS365($A$2,A46)","v":1337},5.4836273193359375E-6,0,6.4240694046020505E-8,6.4240694046020505E-8]
["2027-08-28",{"$f":"IF(DIAS365(CALCULADORA!$C$27,A47)<0,0,DIAS365(CALCULADORA!$C$27,A47))","v":1233},{"$f":"+HLOOKUP(CALCULADORA!$C$9,Tablas!B:B,Flujos!J47+1,FALSE)","v":0},0,0,{"$f":"ROUND(D46*ROUND(((1+CALCULADORA!$C$16)^(1/12)-1),6),6)","v":0},0,{"$f":"IF($B47=0,0,G47/POWER(1+CALCULADORA!$C$29,Flujos!$B47/365))","v":0},"2027-08-28",45,{"$f":"+DIAS365($A$2,A47)","v":1368},5.4836273193359375E-6,0,6.4240694046020505E-8,6.4240694046020505E-8]
["2027-09-28",{"$f":"IF(DIAS365(CALCULADORA!$C$27,A48)<0,0,DIAS365(CALCULADORA!$C$27,A48))","v":1264},{"$f":"+HLOOKUP(CALCULADORA!$C$9,Tablas!B:B,Flujos!J48+1,FALSE)","v":0},0,0,{"$f":"ROUND(D47*ROUND(((1+CALCULADORA!$C$16)^(1/12)-1),6),6)","v":0},0,{"$f":"IF($B48=0,0,G48/POWER(1+CALCULADORA!$C$29,Flujos!$B48/365))","v":0},"2027-09-28",46,{"$f":"+DIAS365($A$2,A48)","v":1399},5.4836273193359375E-6,0,6.4240694046020505E-8,6.4240694046020505E-8]
["2027-10-28",{"$f":"IF(DIAS365(CALCULADORA!$C$27,A49)<0,0,DIAS365(CALCULADORA!$C$27,A49))","v":1294},{"$f":"+HLOOKUP(CALCULADORA!$C$9,Tablas!B:B,Flujos!J49+1,FALSE)","v":0},0,0,{"$f":"ROUND(D48*ROUND(((1+CALCULADORA!$C$16)^(1/12)-1),6),6)","v":0},0,{"$f":"IF($B49=0,0,G49/POWER(1+CALCULADORA!$C$29,Flujos!$B49/365))","v":0},"2027-10-28",47,{"$f":"+DIAS365($A$2,A49)","v":1429},5.4836273193359375E-6,0,6.4240694046020505E-8,6.4240694046020505E-8]
["2027-11-28",{"$f":"IF(DIAS365(CALCULADORA!$C$27,A50)<0,0,DIAS365(CALCULADORA!$C$27,A50))","v":1325},{"$f":"+HLOOKUP(CALCULADORA!$C$9,Tablas!B:B,Flujos!J50+1,FALSE)","v":0},0,0,{"$f":"ROUND(D49*ROUND(((1+CALCULADORA!$C$16)^(1/12)-1),6),6)","v":0},0,{"$f":"IF($B50=0,0,G50/POWER(1+CALCULADORA!$C$29,Flujos!$B50/365))","v":0},"2027-11-28",48,{"$f":"+DIAS365($A$2,A50)","v":1460},5.4836273193359375E-6,0,6.4240694046020505E-8,6.4240694046020505E-8]
["2027-12-28",{"$f":"IF(DIAS365(CALCULADORA!$C$27,A51)<0,0,DIAS365(CALCULADORA!$C$27,A51))","v":1355},{"$f":"+HLOOKUP(CALCULADORA!$C$9,Tablas!B:B,Flujos!J51+1,FALSE)","v":0},0,0,{"$f":"ROUND(D50*ROUND(((1+CALCULADORA!$C$16)^(1/12)-1),6),6)","v":0},0,{"$f":"IF($B51=0,0,G51/POWER(1+CALCULADORA!$C$29,Flujos!$B51/365))","v":0},"2027-12-28",49,{"$f":"+DIAS365($A$2,A51)","v":1490},5.4836273193359375E-6,0,6.4240694046020505E-8,6.4240694046020505E-8]
["2028-01-28",{"$f":"IF(DIAS365(CALCULADORA!$C$27,A52)<0,0,DIAS365(CALCULADORA!$C$27,A52))","v":1386},{"$f":"+HLOOKUP(CALCULADORA!$C$9,Tablas!B:B,Flujos!J52+1,FALSE)","v":0},0,0,{"$f":"ROUND(D51*ROUND(((1+CALCULADORA!$C$16)^(1/12)-1),6),6)","v":0},0,{"$f":"IF($B52=0,0,G52/POWER(1+CALCULADORA!$C$29,Flujos!$B52/365))","v":0},"2028-01-28",50,{"$f":"+DIAS365($A$2,A52)","v":1521},5.4836273193359375E-6,0,6.4240694046020505E-8,6.4240694046020505E-8]
["2028-02-28",{"$f":"IF(DIAS365(CALCULADORA!$C$27,A53)<0,0,DIAS365(CALCULADORA!$C$27,A53))","v":1417},{"$f":"+HLOOKUP(CALCULADORA!$C$9,Tablas!B:B,Flujos!J53+1,FALSE)","v":0},0,0,{"$f":"ROUND(D52*ROUND(((1+CALCULADORA!$C$16)^(1/12)-1),6),6)","v":0},0,{"$f":"IF($B53=0,0,G53/POWER(1+CALCULADORA!$C$29,Flujos!$B53/365))","v":0},"2028-02-28",51,{"$f":"+DIAS365($A$2,A53)","v":1552},5.4836273193359375E-6,0,6.4240694046020505E-8,6.4240694046020505E-8]
["2028-03-28",{"$f":"IF(DIAS365(CALCULADORA!$C$27,A54)<0,0,DIAS365(CALCULADORA!$C$27,A54))","v":1445},{"$f":"+HLOOKUP(CALCULADORA!$C$9,Tablas!B:B,Flujos!J54+1,FALSE)","v":0},0,0,{"$f":"ROUND(D53*ROUND(((1+CALCULADORA!$C$16)^(1/12)-1),6),6)","v":0},0,{"$f":"IF($B54=0,0,G54/POWER(1+CALCULADORA!$C$29,Flujos!$B54/365))","v":0},"2028-03-28",52,{"$f":"+DIAS365($A$2,A54)","v":1580},5.4836273193359375E-6,0,6.4240694046020505E-8,6.4240694046020505E-8]
["2028-04-28",{"$f":"IF(DIAS365(CALCULADORA!$C$27,A55)<0,0,DIAS365(CALCULADORA!$C$27,A55))","v":1476},{"$f":"+HLOOKUP(CALCULADORA!$C$9,Tablas!B:B,Flujos!J55+1,FALSE)","v":0},0,0,{"$f":"ROUND(D54*ROUND(((1+CALCULADORA!$C$16)^(1/12)-1),6),6)","v":0},0,{"$f":"IF($B55=0,0,G55/POWER(1+CALCULADORA!$C$29,Flujos!$B55/365))","v":0},"2028-04-28",53,{"$f":"+DIAS365($A$2,A55)","v":1611},5.4836273193359375E-6,0,6.4240694046020505E-8,6.4240694046020505E-8]
["2028-05-28",{"$f":"IF(DIAS365(CALCULADORA!$C$27,A56)<0,0,DIAS365(CALCULADORA!$C$27,A56))","v":1506},{"$f":"+HLOOKUP(CALCULADORA!$C$9,Tablas!B:B,Flujos!J56+1,FALSE)","v":0},0,0,{"$f":"ROUND(D55*ROUND(((1+CALCULADORA!$C$16)^(1/12)-1),6),6)","v":0},0,{"$f":"IF($B56=0,0,G56/POWER(1+CALCULADORA!$C$29,Flujos!$B56/365))","v":0},"2028-05-28",54,{"$f":"+DIAS365($A$2,A56)","v":1641},5.4836273193359375E-6,0,6.4240694046020505E-8,6.4240694046020505E-8]
["2028-06-28",{"$f":"IF(DIAS365(CALCULADORA!$C$27,A57)<0,0,DIAS365(CALCULADORA!$C$27,A57))","v":1537},{"$f":"+HLOOKUP(CALCULADORA!$C$9,Tablas!B:B,Flujos!J57+1,FALSE)","v":0},0,0,{"$f":"ROUND(D56*ROUND(((1+CALCULADORA!$C$16)^(1/12)-1),6),6)","v":0},0,{"$f":"IF($B57=0,0,G57/POWER(1+CALCULADORA!$C$29,Flujos!$B57/365))","v":0},"2028-06-28",55,{"$f":"+DIAS365($A$2,A57)","v":1672},5.4836273193359375E-6,0,6.4240694046020505E-8,6.4240694046020505E-8]
["2028-07-28",{"$f":"IF(DIAS365(CALCULADORA!$C$27,A58)<0,0,DIAS365(CALCULADORA!$C$27,A58))","v":1567},{"$f":"+HLOOKUP(CALCULADORA!$C$9,Tablas!B:B,Flujos!J58+1,FALSE)","v":0},0,0,{"$f":"ROUND(D57*ROUND(((1+CALCULADORA!$C$16)^(1/12)-1),6),6)","v":0},0,{"$f":"IF($B58=0,0,G58/POWER(1+CALCULADORA!$C$29,Flujos!$B58/365))","v":0},"2028-07-28",56,{"$f":"+DIAS365($A$2,A58)","v":1702},5.4836273193359375E-6,0,6.4240694046020505E-8,6.4240694046020505E-8]
["2028-08-28",{"$f":"IF(DIAS365(CALCULADORA!$C$27,A59)<0,0,DIAS365(CALCULADORA!$C$27,A59))","v":1598},{"$f":"+HLOOKUP(CALCULADORA!$C$9,Tablas!B:B,Flujos!J59+1,FALSE)","v":0},0,0,{"$f":"ROUND(D58*ROUND(((1+CALCULADORA!$C$16)^(1/12)-1),6),6)","v":0},0,{"$f":"IF($B59=0,0,G59/POWER(1+CALCULADORA!$C$29,Flujos!$B59/365))","v":0},"2028-08-28",57,{"$f":"+DIAS365($A$2,A59)","v":1733},5.4836273193359375E-6,0,6.4240694046020505E-8,6.4240694046020505E-8]
["2028-09-28",{"$f":"IF(DIAS365(CALCULADORA!$C$27,A60)<0,0,DIAS365(CALCULADORA!$C$27,A60))","v":1629},{"$f":"+HLOOKUP(CALCULADORA!$C$9,Tablas!B:B,Flujos!J60+1,FALSE)","v":0},0,0,{"$f":"ROUND(D59*ROUND(((1+CALCULADORA!$C$16)^(1/12)-1),6),6)","v":0},0,{"$f":"IF($B60=0,0,G60/POWER(1+CALCULADORA!$C$29,Flujos!$B60/365))","v":0},"2028-09-28",58,{"$f":"+DIAS365($A$2,A60)","v":1764},5.4836273193359375E-6,0,6.4240694046020505E-8,6.4240694046020505E-8]
["2028-10-28",{"$f":"IF(DIAS365(CALCULADORA!$C$27,A61)<0,0,DIAS365(CALCULADORA!$C$27,A61))","v":1659},{"$f":"+HLOOKUP(CALCULADORA!$C$9,Tablas!B:B,Flujos!J61+1,FALSE)","v":0},0,0,{"$f":"ROUND(D60*ROUND(((1+CALCULADORA!$C$16)^(1/12)-1),6),6)","v":0},0,{"$f":"IF($B61=0,0,G61/POWER(1+CALCULADORA!$C$29,Flujos!$B61/365))","v":0},"2028-10-28",59,{"$f":"+DIAS365($A$2,A61)","v":1794},5.4836273193359375E-6,0,6.4240694046020505E-8,6.4240694046020505E-8]
["2028-11-28",{"$f":"IF(DIAS365(CALCULADORA!$C$27,A62)<0,0,DIAS365(CALCULADORA!$C$27,A62))","v":1690},{"$f":"+HLOOKUP(CALCULADORA!$C$9,Tablas!B:B,Flujos!J62+1,FALSE)","v":0},0,0,{"$f":"ROUND(D61*ROUND(((1+CALCULADORA!$C$16)^(1/12)-1),6),6)","v":0},0,{"$f":"IF($B62=0,0,G62/POWER(1+CALCULADORA!$C$29,Flujos!$B62/365))","v":0},"2028-11-28",60,{"$f":"+DIAS365($A$2,A62)","v":1825},5.4836273193359375E-6,0,6.4240694046020505E-8,6.4240694046020505E-8]
["2028-12-28",{"$f":"IF(DIAS365(CALCULADORA!$C$27,A63)<0,0,DIAS365(CALCULADORA!$C$27,A63))","v":1720},{"$f":"+HLOOKUP(CALCULADORA!$C$9,Tablas!B:B,Flujos!J63+1,FALSE)","v":0},0,0,{"$f":"ROUND(D62*ROUND(((1+CALCULADORA!$C$16)^(1/12)-1),6),6)","v":0},0,{"$f":"IF($B63=0,0,G63/POWER(1+CALCULADORA!$C$29,Flujos!$B63/365))","v":0},"2028-12-28",61,{"$f":"+DIAS365($A$2,A63)","v":1855},5.4836273193359375E-6,0,6.4240694046020505E-8,6.4240694046020505E-8]
["2029-01-28",{"$f":"IF(DIAS365(CALCULADORA!$C$27,A64)<0,0,DIAS365(CALCULADORA!$C$27,A64))","v":1751},{"$f":"+HLOOKUP(CALCULADORA!$C$9,Tablas!B:B,Flujos!J64+1,FALSE)","v":0},0,0,{"$f":"ROUND(D63*ROUND(((1+CALCULADORA!$C$16)^(1/12)-1),6),6)","v":0},0,{"$f":"IF($B64=0,0,G64/POWER(1+CALCULADORA!$C$29,Flujos!$B64/365))","v":0},"2029-01-28",62,{"$f":"+DIAS365($A$2,A64)","v":1886},5.4836273193359375E-6,0,6.4240694046020505E-8,6.4240694046020505E-8]
["2029-02-28",{"$f":"IF(DIAS365(CALCULADORA!$C$27,A65)<0,0,DIAS365(CALCULADORA!$C$27,A65))","v":1782},{"$f":"+HLOOKUP(CALCULADORA!$C$9,Tablas!B:B,Flujos!J65+1,FALSE)","v":0},0,0,{"$f":"ROUND(D64*ROUND(((1+CALCULADORA!$C$16)^(1/12)-1),6),6)","v":0},0,{"$f":"IF($B65=0,0,G65/POWER(1+CALCULADORA!$C$29,Flujos!$B65/365))","v":0},"2029-02-28",63,{"$f":"+DIAS365($A$2,A65)","v":1917},5.4836273193359375E-6,0,6.4240694046020505E-8,6.4240694046020505E-8]
["2029-03-28",{"$f":"IF(DIAS365(CALCULADORA!$C$27,A66)<0,0,DIAS365(CALCULADORA!$C$27,A66))","v":1810},{"$f":"+HLOOKUP(CALCULADORA!$C$9,Tablas!B:B,Flujos!J66+1,FALSE)","v":0},0,0,{"$f":"ROUND(D65*ROUND(((1+CALCULADORA!$C$16)^(1/12)-1),6),6)","v":0},0,{"$f":"IF($B66=0,0,G66/POWER(1+CALCULADORA!$C$29,Flujos!$B66/365))","v":0},"2029-03-28",64,{"$f":"+DIAS365($A$2,A66)","v":1945},5.4836273193359375E-6,0,6.4240694046020505E-8,6.4240694046020505E-8]
[{"$f":"EDATE(A66,1)","v":"2029-04-28"},{"$f":"IF(DIAS365(CALCULADORA!$C$27,A67)<0,0,DIAS365(CALCULADORA!$C$27,A67))","v":1841},{"$f":"+HLOOKUP(CALCULADORA!$C$9,Tablas!B:B,Flujos!J67+1,FALSE)","v":0},0,0,{"$f":"ROUND(D66*ROUND(((1+CALCULADORA!$C$16)^(1/12)-1),6),6)","v":0},0,{"$f":"IF($B67=0,0,G67/POWER(1+CALCULADORA!$C$29,Flujos!$B67/365))","v":0},{"$f":"+A67","v":"2029-04-28"},65,{"$f":"+DIAS365($A$2,A67)","v":1976},5.4836273193359375E-6,0,6.4240694046020505E-8,6.4240694046020505E-8]
["2029-05-28",{"$f":"IF(DIAS365(CALCULADORA!$C$27,A68)<0,0,DIAS365(CALCULADORA!$C$27,A68))","v":1871},{"$f":"+HLOOKUP(CALCULADORA!$C$9,Tablas!B:B,Flujos!J68+1,FALSE)","v":0},{"$f":"+ROUND(D67-E68,6)","v":0},{"$f":"ROUND(C68*$D$2,6)","v":0},{"$f":"ROUND(D67*ROUND(((1+CALCULADORA!$C$16)^(1/12)-1),6),6)","v":0},{"$f":"F68+E68","v":0},{"$f":"IF($B68=0,0,G68/POWER(1+CALCULADORA!$C$29,Flujos!$B68/365))","v":0},"2029-05-28",66,{"$f":"+DIAS365($A$2,A68)","v":2006},{"$f":"+L67-M68","v":5.4836273193359375E-6},{"$f":"+$L$2*C68","v":0},{"$f":"+L67*$F$3%","v":6.4240694046020505E-8},{"$f":"+N68+M68","v":6.4240694046020505E-8}]
["2029-06-28",{"$f":"IF(DIAS365(CALCULADORA!$C$27,A69)<0,0,DIAS365(CALCULADORA!$C$27,A69))","v":1902},{"$f":"+HLOOKUP(CALCULADORA!$C$9,Tablas!B:B,Flujos!J69+1,FALSE)","v":0},0,0,{"$f":"ROUND(D68*ROUND(((1+CALCULADORA!$C$16)^(1/12)-1),6),6)","v":0},0,{"$f":"IF($B69=0,0,G69/POWER(1+CALCULADORA!$C$29,Flujos!$B69/365))","v":0},"2029-06-28",67,{"$f":"+DIAS365($A$2,A69)","v":2037},5.4836273193359375E-6,0,6.4240694046020505E-8,6.4240694046020505E-8]
["2029-07-28",{"$f":"IF(DIAS365(CALCULADORA!$C$27,A70)<0,0,DIAS365(CALCULADORA!$C$27,A70))","v":1932},{"$f":"+HLOOKUP(CALCULADORA!$C$9,Tablas!B:B,Flujos!J70+1,FALSE)","v":0},0,0,{"$f":"ROUND(D69*ROUND(((1+CALCULADORA!$C$16)^(1/12)-1),6),6)","v":0},0,{"$f":"IF($B70=0,0,G70/POWER(1+CALCULADORA!$C$29,Flujos!$B70/365))","v":0},"2029-07-28",68,{"$f":"+DIAS365($A$2,A70)","v":2067},5.4836273193359375E-6,0,6.4240694046020505E-8,6.4240694046020505E-8]
["2029-08-28",{"$f":"IF(DIAS365(CALCULADORA!$C$27,A71)<0,0,DIAS365(CALCULADORA!$C$27,A71))","v":1963},{"$f":"+HLOOKUP(CALCULADORA!$C$9,Tablas!B:B,Flujos!J71+1,FALSE)","v":0},0,0,{"$f":"ROUND(D70*ROUND(((1+CALCULADORA!$C$16)^(1/12)-1),6),6)","v":0},0,{"$f":"IF($B71=0,0,G71/POWER(1+CALCULADORA!$C$29,Flujos!$B71/365))","v":0},"2029-08-28",69,{"$f":"+DIAS365($A$2,A71)","v":2098},5.4836273193359375E-6,0,6.4240694046020505E-8,6.4240694046020505E-8]
["2029-09-28",{"$f":"IF(DIAS365(CALCULADORA!$C$27,A72)<0,0,DIAS365(CALCULADORA!$C$27,A72))","v":1994},{"$f":"+HLOOKUP(CALCULADORA!$C$9,Tablas!B:B,Flujos!J72+1,FALSE)","v":0},0,0,{"$f":"ROUND(D71*ROUND(((1+CALCULADORA!$C$16)^(1/12)-1),6),6)","v":0},0,{"$f":"IF($B72=0,0,G72/POWER(1+CALCULADORA!$C$29,Flujos!$B72/365))","v":0},"2029-09-28",70,{"$f":"+DIAS365($A$2,A72)","v":2129},5.4836273193359375E-6,0,6.4240694046020505E-8,6.4240694046020505E-8]
["2029-10-28",{"$f":"IF(DIAS365(CALCULADORA!$C$27,A73)<0,0,DIAS365(CALCULADORA!$C$27,A73))","v":2024},{"$f":"+HLOOKUP(CALCULADORA!$C$9,Tablas!B:B,Flujos!J73+1,FALSE)","v":0},0,0,{"$f":"ROUND(D72*ROUND(((1+CALCULADORA!$C$16)^(1/12)-1),6),6)","v":0},0,{"$f":"IF($B73=0,0,G73/POWER(1+CALCULADORA!$C$29,Flujos!$B73/365))","v":0},"2029-10-28",71,{"$f":"+DIAS365($A$2,A73)","v":2159},5.4836273193359375E-6,0,6.4240694046020505E-8,6.4240694046020505E-8]
["2029-11-28",{"$f":"IF(DIAS365(CALCULADORA!$C$27,A74)<0,0,DIAS365(CALCULADORA!$C$27,A74))","v":2055},{"$f":"+HLOOKUP(CALCULADORA!$C$9,Tablas!B:B,Flujos!J74+1,FALSE)","v":0},0,0,{"$f":"ROUND(D73*ROUND(((1+CALCULADORA!$C$16)^(1/12)-1),6),6)","v":0},0,{"$f":"IF($B74=0,0,G74/POWER(1+CALCULADORA!$C$29,Flujos!$B74/365))","v":0},"2029-11-28",72,{"$f":"+DIAS365($A$2,A74)","v":2190},5.4836273193359375E-6,0,6.4240694046020505E-8,6.4240694046020505E-8]
["2029-12-28",{"$f":"IF(DIAS365(CALCULADORA!$C$27,A75)<0,0,DIAS365(CALCULADORA!$C$27,A75))","v":2085},{"$f":"+HLOOKUP(CALCULADORA!$C$9,Tablas!B:B,Flujos!J75+1,FALSE)","v":0},0,0,{"$f":"ROUND(D74*ROUND(((1+CALCULADORA!$C$16)^(1/12)-1),6),6)","v":0},0,{"$f":"IF($B75=0,0,G75/POWER(1+CALCULADORA!$C$29,Flujos!$B75/365))","v":0},"2029-12-28",73,{"$f":"+DIAS365($A$2,A75)","v":2220},5.4836273193359375E-6,0,6.4240694046020505E-8,6.4240694046020505E-8]
["2030-01-28",{"$f":"IF(DIAS365(CALCULADORA!$C$27,A76)<0,0,DIAS365(CALCULADORA!$C$27,A76))","v":2116},{"$f":"+HLOOKUP(CALCULADORA!$C$9,Tablas!B:B,Flujos!J76+1,FALSE)","v":0},0,0,{"$f":"ROUND(D75*ROUND(((1+CALCULADORA!$C$16)^(1/12)-1),6),6)","v":0},0,{"$f":"IF($B76=0,0,G76/POWER(1+CALCULADORA!$C$29,Flujos!$B76/365))","v":0},"2030-01-28",74,{"$f":"+DIAS365($A$2,A76)","v":2251},5.4836273193359375E-6,0,6.4240694046020505E-8,6.4240694046020505E-8]
["2030-02-28",{"$f":"IF(DIAS365(CALCULADORA!$C$27,A77)<0,0,DIAS365(CALCULADORA!$C$27,A77))","v":2147},{"$f":"+HLOOKUP(CALCULADORA!$C$9,Tablas!B:B,Flujos!J77+1,FALSE)","v":0},0,0,{"$f":"ROUND(D76*ROUND(((1+CALCULADORA!$C$16)^(1/12)-1),6),6)","v":0},0,{"$f":"IF($B77=0,0,G77/POWER(1+CALCULADORA!$C$29,Flujos!$B77/365))","v":0},"2030-02-28",75,{"$f":"+DIAS365($A$2,A77)","v":2282},5.4836273193359375E-6,0,6.4240694046020505E-8,6.4240694046020505E-8]
["2030-03-28",{"$f":"IF(DIAS365(CALCULADORA!$C$27,A78)<0,0,DIAS365(CALCULADORA!$C$27,A78))","v":2175},{"$f":"+HLOOKUP(CALCULADORA!$C$9,Tablas!B:B,Flujos!J78+1,FALSE)","v":0},0,0,{"$f":"ROUND(D77*ROUND(((1+CALCULADORA!$C$16)^(1/12)-1),6),6)","v":0},0,{"$f":"IF($B78=0,0,G78/POWER(1+CALCULADORA!$C$29,Flujos!$B78/365))","v":0},"2030-03-28",76,{"$f":"+DIAS365($A$2,A78)","v":2310},5.4836273193359375E-6,0,6.4240694046020505E-8,6.4240694046020505E-8]
["2030-04-28",{"$f":"IF(DIAS365(CALCULADORA!$C$27,A79)<0,0,DIAS365(CALCULADORA!$C$27,A79))","v":2206},{"$f":"+HLOOKUP(CALCULADORA!$C$9,Tablas!B:B,Flujos!J79+1,FALSE)","v":0},0,0,{"$f":"ROUND(D78*ROUND(((1+CALCULADORA!$C$16)^(1/12)-1),6),6)","v":0},0,{"$f":"IF($B79=0,0,G79/POWER(1+CALCULADORA!$C$29,Flujos!$B79/365))","v":0},"2030-04-28",77,{"$f":"+DIAS365($A$2,A79)","v":2341},5.4836273193359375E-6,0,6.4240694046020505E-8,6.4240694046020505E-8]
["2030-05-28",{"$f":"IF(DIAS365(CALCULADORA!$C$27,A80)<0,0,DIAS365(CALCULADORA!$C$27,A80))","v":2236},{"$f":"+HLOOKUP(CALCULADORA!$C$9,Tablas!B:B,Flujos!J80+1,FALSE)","v":0},0,0,{"$f":"ROUND(D79*ROUND(((1+CALCULADORA!$C$16)^(1/12)-1),6),6)","v":0},0,{"$f":"IF($B80=0,0,G80/POWER(1+CALCULADORA!$C$29,Flujos!$B80/365))","v":0},"2030-05-28",78,{"$f":"+DIAS365($A$2,A80)","v":2371},5.4836273193359375E-6,0,6.4240694046020505E-8,6.4240694046020505E-8]
["2030-06-28",{"$f":"IF(DIAS365(CALCULADORA!$C$27,A81)<0,0,DIAS365(CALCULADORA!$C$27,A81))","v":2267},{"$f":"+HLOOKUP(CALCULADORA!$C$9,Tablas!B:B,Flujos!J81+1,FALSE)","v":0},0,0,{"$f":"ROUND(D80*ROUND(((1+CALCULADORA!$C$16)^(1/12)-1),6),6)","v":0},0,{"$f":"IF($B81=0,0,G81/POWER(1+CALCULADORA!$C$29,Flujos!$B81/365))","v":0},"2030-06-28",79,{"$f":"+DIAS365($A$2,A81)","v":2402},5.4836273193359375E-6,0,6.4240694046020505E-8,6.4240694046020505E-8]
["2030-07-28",{"$f":"IF(DIAS365(CALCULADORA!$C$27,A82)<0,0,DIAS365(CALCULADORA!$C$27,A82))","v":2297},{"$f":"+HLOOKUP(CALCULADORA!$C$9,Tablas!B:B,Flujos!J82+1,FALSE)","v":0},0,0,{"$f":"ROUND(D81*ROUND(((1+CALCULADORA!$C$16)^(1/12)-1),6),6)","v":0},0,{"$f":"IF($B82=0,0,G82/POWER(1+CALCULADORA!$C$29,Flujos!$B82/365))","v":0},"2030-07-28",80,{"$f":"+DIAS365($A$2,A82)","v":2432},5.4836273193359375E-6,0,6.4240694046020505E-8,6.4240694046020505E-8]
["2030-08-28",{"$f":"IF(DIAS365(CALCULADORA!$C$27,A83)<0,0,DIAS365(CALCULADORA!$C$27,A83))","v":2328},{"$f":"+HLOOKUP(CALCULADORA!$C$9,Tablas!B:B,Flujos!J83+1,FALSE)","v":0},0,0,{"$f":"ROUND(D82*ROUND(((1+CALCULADORA!$C$16)^(1/12)-1),6),6)","v":0},0,{"$f":"IF($B83=0,0,G83/POWER(1+CALCULADORA!$C$29,Flujos!$B83/365))","v":0},"2030-08-28",81,{"$f":"+DIAS365($A$2,A83)","v":2463},5.4836273193359375E-6,0,6.4240694046020505E-8,6.4240694046020505E-8]
["2030-09-28",{"$f":"IF(DIAS365(CALCULADORA!$C$27,A84)<0,0,DIAS365(CALCULADORA!$C$27,A84))","v":2359},{"$f":"+HLOOKUP(CALCULADORA!$C$9,Tablas!B:B,Flujos!J84+1,FALSE)","v":0},0,0,{"$f":"ROUND(D83*ROUND(((1+CALCULADORA!$C$16)^(1/12)-1),6),6)","v":0},0,{"$f":"IF($B84=0,0,G84/POWER(1+CALCULADORA!$C$29,Flujos!$B84/365))","v":0},"2030-09-28",82,{"$f":"+DIAS365($A$2,A84)","v":2494},5.4836273193359375E-6,0,6.4240694046020505E-8,6.4240694046020505E-8]
["2030-10-28",{"$f":"IF(DIAS365(CALCULADORA!$C$27,A85)<0,0,DIAS365(CALCULADORA!$C$27,A85))","v":2389},{"$f":"+HLOOKUP(CALCULADORA!$C$9,Tablas!B:B,Flujos!J85+1,FALSE)","v":0},0,0,{"$f":"ROUND(D84*ROUND(((1+CALCULADORA!$C$16)^(1/12)-1),6),6)","v":0},0,{"$f":"IF($B85=0,0,G85/POWER(1+CALCULADORA!$C$29,Flujos!$B85/365))","v":0},"2030-10-28",83,{"$f":"+DIAS365($A$2,A85)","v":2524},5.4836273193359375E-6,0,6.4240694046020505E-8,6.4240694046020505E-8]
["2030-11-28",{"$f":"IF(DIAS365(CALCULADORA!$C$27,A86)<0,0,DIAS365(CALCULADORA!$C$27,A86))","v":2420},{"$f":"+HLOOKUP(CALCULADORA!$C$9,Tablas!B:B,Flujos!J86+1,FALSE)","v":0},0,0,{"$f":"ROUND(D85*ROUND(((1+CALCULADORA!$C$16)^(1/12)-1),6),6)","v":0},0,{"$f":"IF($B86=0,0,G86/POWER(1+CALCULADORA!$C$29,Flujos!$B86/365))","v":0},"2030-11-28",84,{"$f":"+DIAS365($A$2,A86)","v":2555},5.4836273193359375E-6,0,6.4240694046020505E-8,6.4240694046020505E-8]
["2030-12-28",{"$f":"IF(DIAS365(CALCULADORA!$C$27,A87)<0,0,DIAS365(CALCULADORA!$C$27,A87))","v":2450},{"$f":"+HLOOKUP(CALCULADORA!$C$9,Tablas!B:B,Flujos!J87+1,FALSE)","v":0},0,0,{"$f":"ROUND(D86*ROUND(((1+CALCULADORA!$C$16)^(1/12)-1),6),6)","v":0},0,{"$f":"IF($B87=0,0,G87/POWER(1+CALCULADORA!$C$29,Flujos!$B87/365))","v":0},"2030-12-28",85,{"$f":"+DIAS365($A$2,A87)","v":2585},5.4836273193359375E-6,0,6.4240694046020505E-8,6.4240694046020505E-8]
["2031-01-28",{"$f":"IF(DIAS365(CALCULADORA!$C$27,A88)<0,0,DIAS365(CALCULADORA!$C$27,A88))","v":2481},{"$f":"+HLOOKUP(CALCULADORA!$C$9,Tablas!B:B,Flujos!J88+1,FALSE)","v":0},0,0,{"$f":"ROUND(D87*ROUND(((1+CALCULADORA!$C$16)^(1/12)-1),6),6)","v":0},0,{"$f":"IF($B88=0,0,G88/POWER(1+CALCULADORA!$C$29,Flujos!$B88/365))","v":0},"2031-01-28",86,{"$f":"+DIAS365($A$2,A88)","v":2616},5.4836273193359375E-6,0,6.4240694046020505E-8,6.4240694046020505E-8]
["2031-02-28",{"$f":"IF(DIAS365(CALCULADORA!$C$27,A89)<0,0,DIAS365(CALCULADORA!$C$27,A89))","v":2512},{"$f":"+HLOOKUP(CALCULADORA!$C$9,Tablas!B:B,Flujos!J89+1,FALSE)","v":0},0,0,{"$f":"ROUND(D88*ROUND(((1+CALCULADORA!$C$16)^(1/12)-1),6),6)","v":0},0,{"$f":"IF($B89=0,0,G89/POWER(1+CALCULADORA!$C$29,Flujos!$B89/365))","v":0},"2031-02-28",87,{"$f":"+DIAS365($A$2,A89)","v":2647},5.4836273193359375E-6,0,6.4240694046020505E-8,6.4240694046020505E-8]
["2031-03-28",{"$f":"IF(DIAS365(CALCULADORA!$C$27,A90)<0,0,DIAS365(CALCULADORA!$C$27,A90))","v":2540},{"$f":"+HLOOKUP(CALCULADORA!$C$9,Tablas!B:B,Flujos!J90+1,FALSE)","v":0},0,0,{"$f":"ROUND(D89*ROUND(((1+CALCULADORA!$C$16)^(1/12)-1),6),6)","v":0},0,{"$f":"IF($B90=0,0,G90/POWER(1+CALCULADORA!$C$29,Flujos!$B90/365))","v":0},"2031-03-28",88,{"$f":"+DIAS365($A$2,A90)","v":2675},5.4836273193359375E-6,0,6.4240694046020505E-8,6.4240694046020505E-8]
["2031-04-28",{"$f":"IF(DIAS365(CALCULADORA!$C$27,A91)<0,0,DIAS365(CALCULADORA!$C$27,A91))","v":2571},{"$f":"+HLOOKUP(CALCULADORA!$C$9,Tablas!B:B,Flujos!J91+1,FALSE)","v":0},0,0,{"$f":"ROUND(D90*ROUND(((1+CALCULADORA!$C$16)^(1/12)-1),6),6)","v":0},0,{"$f":"IF($B91=0,0,G91/POWER(1+CALCULADORA!$C$29,Flujos!$B91/365))","v":0},"2031-04-28",89,{"$f":"+DIAS365($A$2,A91)","v":2706},5.4836273193359375E-6,0,6.4240694046020505E-8,6.4240694046020505E-8]
["2031-05-28",{"$f":"IF(DIAS365(CALCULADORA!$C$27,A92)<0,0,DIAS365(CALCULADORA!$C$27,A92))","v":2601},{"$f":"+HLOOKUP(CALCULADORA!$C$9,Tablas!B:B,Flujos!J92+1,FALSE)","v":0},0,0,{"$f":"ROUND(D91*ROUND(((1+CALCULADORA!$C$16)^(1/12)-1),6),6)","v":0},0,{"$f":"IF($B92=0,0,G92/POWER(1+CALCULADORA!$C$29,Flujos!$B92/365))","v":0},"2031-05-28",90,{"$f":"+DIAS365($A$2,A92)","v":2736},5.4836273193359375E-6,0,6.4240694046020505E-8,6.4240694046020505E-8]
["2031-06-28",{"$f":"IF(DIAS365(CALCULADORA!$C$27,A93)<0,0,DIAS365(CALCULADORA!$C$27,A93))","v":2632},{"$f":"+HLOOKUP(CALCULADORA!$C$9,Tablas!B:B,Flujos!J93+1,FALSE)","v":0},0,0,{"$f":"ROUND(D92*ROUND(((1+CALCULADORA!$C$16)^(1/12)-1),6),6)","v":0},0,{"$f":"IF($B93=0,0,G93/POWER(1+CALCULADORA!$C$29,Flujos!$B93/365))","v":0},"2031-06-28",91,{"$f":"+DIAS365($A$2,A93)","v":2767},5.4836273193359375E-6,0,6.4240694046020505E-8,6.4240694046020505E-8]
["2031-07-28",{"$f":"IF(DIAS365(CALCULADORA!$C$27,A94)<0,0,DIAS365(CALCULADORA!$C$27,A94))","v":2662},{"$f":"+HLOOKUP(CALCULADORA!$C$9,Tablas!B:B,Flujos!J94+1,FALSE)","v":0},0,0,{"$f":"ROUND(D93*ROUND(((1+CALCULADORA!$C$16)^(1/12)-1),6),6)","v":0},0,{"$f":"IF($B94=0,0,G94/POWER(1+CALCULADORA!$C$29,Flujos!$B94/365))","v":0},"2031-07-28",92,{"$f":"+DIAS365($A$2,A94)","v":2797},5.4836273193359375E-6,0,6.4240694046020505E-8,6.4240694046020505E-8]
["2031-08-28",{"$f":"IF(DIAS365(CALCULADORA!$C$27,A95)<0,0,DIAS365(CALCULADORA!$C$27,A95))","v":2693},{"$f":"+HLOOKUP(CALCULADORA!$C$9,Tablas!B:B,Flujos!J95+1,FALSE)","v":0},0,0,{"$f":"ROUND(D94*ROUND(((1+CALCULADORA!$C$16)^(1/12)-1),6),6)","v":0},0,{"$f":"IF($B95=0,0,G95/POWER(1+CALCULADORA!$C$29,Flujos!$B95/365))","v":0},"2031-08-28",93,{"$f":"+DIAS365($A$2,A95)","v":2828},5.4836273193359375E-6,0,6.4240694046020505E-8,6.4240694046020505E-8]
["2031-09-28",{"$f":"IF(DIAS365(CALCULADORA!$C$27,A96)<0,0,DIAS365(CALCULADORA!$C$27,A96))","v":2724},{"$f":"+HLOOKUP(CALCULADORA!$C$9,Tablas!B:B,Flujos!J96+1,FALSE)","v":0},0,0,{"$f":"ROUND(D95*ROUND(((1+CALCULADORA!$C$16)^(1/12)-1),6),6)","v":0},0,{"$f":"IF($B96=0,0,G96/POWER(1+CALCULADORA!$C$29,Flujos!$B96/365))","v":0},"2031-09-28",94,{"$f":"+DIAS365($A$2,A96)","v":2859},5.4836273193359375E-6,0,6.4240694046020505E-8,6.4240694046020505E-8]
["2031-10-28",{"$f":"IF(DIAS365(CALCULADORA!$C$27,A97)<0,0,DIAS365(CALCULADORA!$C$27,A97))","v":2754},{"$f":"+HLOOKUP(CALCULADORA!$C$9,Tablas!B:B,Flujos!J97+1,FALSE)","v":0},0,0,{"$f":"ROUND(D96*ROUND(((1+CALCULADORA!$C$16)^(1/12)-1),6),6)","v":0},0,{"$f":"IF($B97=0,0,G97/POWER(1+CALCULADORA!$C$29,Flujos!$B97/365))","v":0},"2031-10-28",95,{"$f":"+DIAS365($A$2,A97)","v":2889},5.4836273193359375E-6,0,6.4240694046020505E-8,6.4240694046020505E-8]
["2031-11-28",{"$f":"IF(DIAS365(CALCULADORA!$C$27,A98)<0,0,DIAS365(CALCULADORA!$C$27,A98))","v":2785},{"$f":"+HLOOKUP(CALCULADORA!$C$9,Tablas!B:B,Flujos!J98+1,FALSE)","v":0},0,0,{"$f":"ROUND(D97*ROUND(((1+CALCULADORA!$C$16)^(1/12)-1),6),6)","v":0},0,{"$f":"IF($B98=0,0,G98/POWER(1+CALCULADORA!$C$29,Flujos!$B98/365))","v":0},"2031-11-28",96,{"$f":"+DIAS365($A$2,A98)","v":2920},5.4836273193359375E-6,0,6.4240694046020505E-8,6.4240694046020505E-8]
[{"$f":"EDATE(A98,1)","v":"2031-12-28"},{"$f":"IF(DIAS365(CALCULADORA!$C$27,A99)<0,0,DIAS365(CALCULADORA!$C$27,A99))","v":2815},{"$f":"+HLOOKUP(CALCULADORA!$C$9,Tablas!B:B,Flujos!J99+1,FALSE)","v":0},0,0,{"$f":"ROUND(D98*ROUND(((1+CALCULADORA!$C$16)^(1/12)-1),6),6)","v":0},0,{"$f":"IF($B99=0,0,G99/POWER(1+CALCULADORA!$C$29,Flujos!$B99/365))","v":0},"2031-12-28",97,{"$f":"+DIAS365($A$2,A99)","v":2950},5.4836273193359375E-6,0,6.4240694046020505E-8,6.4240694046020505E-8]
["2032-01-28",{"$f":"IF(DIAS365(CALCULADORA!$C$27,A100)<0,0,DIAS365(CALCULADORA!$C$27,A100))","v":2846},{"$f":"+HLOOKUP(CALCULADORA!$C$9,Tablas!B:B,Flujos!J100+1,FALSE)","v":0},0,0,{"$f":"ROUND(D99*ROUND(((1+CALCULADORA!$C$16)^(1/12)-1),6),6)","v":0},0,{"$f":"IF($B100=0,0,G100/POWER(1+CALCULADORA!$C$29,Flujos!$B100/365))","v":0},"2032-01-28",98,{"$f":"+DIAS365($A$2,A100)","v":2981},5.4836273193359375E-6,0,6.4240694046020505E-8,6.4240694046020505E-8]
["2032-02-28",{"$f":"IF(DIAS365(CALCULADORA!$C$27,A101)<0,0,DIAS365(CALCULADORA!$C$27,A101))","v":2877},{"$f":"+HLOOKUP(CALCULADORA!$C$9,Tablas!B:B,Flujos!J101+1,FALSE)","v":0},0,0,{"$f":"ROUND(D100*ROUND(((1+CALCULADORA!$C$16)^(1/12)-1),6),6)","v":0},0,{"$f":"IF($B101=0,0,G101/POWER(1+CALCULADORA!$C$29,Flujos!$B101/365))","v":0},"2032-02-28",99,{"$f":"+DIAS365($A$2,A101)","v":3012},5.4836273193359375E-6,0,6.4240694046020505E-8,6.4240694046020505E-8]
["2032-03-28",{"$f":"IF(DIAS365(CALCULADORA!$C$27,A102)<0,0,DIAS365(CALCULADORA!$C$27,A102))","v":2905},{"$f":"+HLOOKUP(CALCULADORA!$C$9,Tablas!B:B,Flujos!J102+1,FALSE)","v":0},0,0,{"$f":"ROUND(D101*ROUND(((1+CALCULADORA!$C$16)^(1/12)-1),6),6)","v":0},0,{"$f":"IF($B102=0,0,G102/POWER(1+CALCULADORA!$C$29,Flujos!$B102/365))","v":0},"2032-03-28",100,{"$f":"+DIAS365($A$2,A102)","v":3040},5.4836273193359375E-6,0,6.4240694046020505E-8,6.4240694046020505E-8]
["2032-04-28",{"$f":"IF(DIAS365(CALCULADORA!$C$27,A103)<0,0,DIAS365(CALCULADORA!$C$27,A103))","v":2936},{"$f":"+HLOOKUP(CALCULADORA!$C$9,Tablas!B:B,Flujos!J103+1,FALSE)","v":0},0,0,{"$f":"ROUND(D102*ROUND(((1+CALCULADORA!$C$16)^(1/12)-1),6),6)","v":0},0,{"$f":"IF($B103=0,0,G103/POWER(1+CALCULADORA!$C$29,Flujos!$B103/365))","v":0},"2032-04-28",101,{"$f":"+DIAS365($A$2,A103)","v":3071},5.4836273193359375E-6,0,6.4240694046020505E-8,6.4240694046020505E-8]
["2032-05-28",{"$f":"IF(DIAS365(CALCULADORA!$C$27,A104)<0,0,DIAS365(CALCULADORA!$C$27,A104))","v":2966},{"$f":"+HLOOKUP(CALCULADORA!$C$9,Tablas!B:B,Flujos!J104+1,FALSE)","v":0},0,0,{"$f":"ROUND(D103*ROUND(((1+CALCULADORA!$C$16)^(1/12)-1),6),6)","v":0},0,{"$f":"IF($B104=0,0,G104/POWER(1+CALCULADORA!$C$29,Flujos!$B104/365))","v":0},"2032-05-28",102,{"$f":"+DIAS365($A$2,A104)","v":3101},5.4836273193359375E-6,0,6.4240694046020505E-8,6.4240694046020505E-8]
["2032-06-28",{"$f":"IF(DIAS365(CALCULADORA!$C$27,A105)<0,0,DIAS365(CALCULADORA!$C$27,A105))","v":2997},{"$f":"+HLOOKUP(CALCULADORA!$C$9,Tablas!B:B,Flujos!J105+1,FALSE)","v":0},0,0,{"$f":"ROUND(D104*ROUND(((1+CALCULADORA!$C$16)^(1/12)-1),6),6)","v":0},0,{"$f":"IF($B105=0,0,G105/POWER(1+CALCULADORA!$C$29,Flujos!$B105/365))","v":0},"2032-06-28",103,{"$f":"+DIAS365($A$2,A105)","v":3132},5.4836273193359375E-6,0,6.4240694046020505E-8,6.4240694046020505E-8]
["2032-07-28",{"$f":"IF(DIAS365(CALCULADORA!$C$27,A106)<0,0,DIAS365(CALCULADORA!$C$27,A106))","v":3027},{"$f":"+HLOOKUP(CALCULADORA!$C$9,Tablas!B:B,Flujos!J106+1,FALSE)","v":0},0,0,{"$f":"ROUND(D105*ROUND(((1+CALCULADORA!$C$16)^(1/12)-1),6),6)","v":0},0,{"$f":"IF($B106=0,0,G106/POWER(1+CALCULADORA!$C$29,Flujos!$B106/365))","v":0},"2032-07-28",104,{"$f":"+DIAS365($A$2,A106)","v":3162},5.4836273193359375E-6,0,6.4240694046020505E-8,6.4240694046020505E-8]
["2032-08-28",{"$f":"IF(DIAS365(CALCULADORA!$C$27,A107)<0,0,DIAS365(CALCULADORA!$C$27,A107))","v":3058},{"$f":"+HLOOKUP(CALCULADORA!$C$9,Tablas!B:B,Flujos!J107+1,FALSE)","v":0},0,0,{"$f":"ROUND(D106*ROUND(((1+CALCULADORA!$C$16)^(1/12)-1),6),6)","v":0},0,{"$f":"IF($B107=0,0,G107/POWER(1+CALCULADORA!$C$29,Flujos!$B107/365))","v":0},"2032-08-28",105,{"$f":"+DIAS365($A$2,A107)","v":3193},5.4836273193359375E-6,0,6.4240694046020505E-8,6.4240694046020505E-8]
["2032-09-28",{"$f":"IF(DIAS365(CALCULADORA!$C$27,A108)<0,0,DIAS365(CALCULADORA!$C$27,A108))","v":3089},{"$f":"+HLOOKUP(CALCULADORA!$C$9,Tablas!B:B,Flujos!J108+1,FALSE)","v":0},0,0,{"$f":"ROUND(D107*ROUND(((1+CALCULADORA!$C$16)^(1/12)-1),6),6)","v":0},0,{"$f":"IF($B108=0,0,G108/POWER(1+CALCULADORA!$C$29,Flujos!$B108/365))","v":0},"2032-09-28",106,{"$f":"+DIAS365($A$2,A108)","v":3224},5.4836273193359375E-6,0,6.4240694046020505E-8,6.4240694046020505E-8]
["2032-10-28",{"$f":"IF(DIAS365(CALCULADORA!$C$27,A109)<0,0,DIAS365(CALCULADORA!$C$27,A109))","v":3119},{"$f":"+HLOOKUP(CALCULADORA!$C$9,Tablas!B:B,Flujos!J109+1,FALSE)","v":0},0,0,{"$f":"ROUND(D108*ROUND(((1+CALCULADORA!$C$16)^(1/12)-1),6),6)","v":0},0,{"$f":"IF($B109=0,0,G109/POWER(1+CALCULADORA!$C$29,Flujos!$B109/365))","v":0},"2032-10-28",107,{"$f":"+DIAS365($A$2,A109)","v":3254},5.4836273193359375E-6,0,6.4240694046020505E-8,6.4240694046020505E-8]
["2032-11-28",{"$f":"IF(DIAS365(CALCULADORA!$C$27,A110)<0,0,DIAS365(CALCULADORA!$C$27,A110))","v":3150},{"$f":"+HLOOKUP(CALCULADORA!$C$9,Tablas!B:B,Flujos!J110+1,FALSE)","v":0},0,0,{"$f":"ROUND(D109*ROUND(((1+CALCULADORA!$C$16)^(1/12)-1),6),6)","v":0},0,{"$f":"IF($B110=0,0,G110/POWER(1+CALCULADORA!$C$29,Flujos!$B110/365))","v":0},"2032-11-28",108,{"$f":"+DIAS365($A$2,A110)","v":3285},5.4836273193359375E-6,0,6.4240694046020505E-8,6.4240694046020505E-8]
["2032-12-28",{"$f":"IF(DIAS365(CALCULADORA!$C$27,A111)<0,0,DIAS365(CALCULADORA!$C$27,A111))","v":3180},{"$f":"+HLOOKUP(CALCULADORA!$C$9,Tablas!B:B,Flujos!J111+1,FALSE)","v":0},0,0,{"$f":"ROUND(D110*ROUND(((1+CALCULADORA!$C$16)^(1/12)-1),6),6)","v":0},0,{"$f":"IF($B111=0,0,G111/POWER(1+CALCULADORA!$C$29,Flujos!$B111/365))","v":0},"2032-12-28",109,{"$f":"+DIAS365($A$2,A111)","v":3315},5.4836273193359375E-6,0,6.4240694046020505E-8,6.4240694046020505E-8]
["2033-01-28",{"$f":"IF(DIAS365(CALCULADORA!$C$27,A112)<0,0,DIAS365(CALCULADORA!$C$27,A112))","v":3211},{"$f":"+HLOOKUP(CALCULADORA!$C$9,Tablas!B:B,Flujos!J112+1,FALSE)","v":0},0,0,{"$f":"ROUND(D111*ROUND(((1+CALCULADORA!$C$16)^(1/12)-1),6),6)","v":0},0,{"$f":"IF($B112=0,0,G112/POWER(1+CALCULADORA!$C$29,Flujos!$B112/365))","v":0},"2033-01-28",110,{"$f":"+DIAS365($A$2,A112)","v":3346},5.4836273193359375E-6,0,6.4240694046020505E-8,6.4240694046020505E-8]
["2033-02-28",{"$f":"IF(DIAS365(CALCULADORA!$C$27,A113)<0,0,DIAS365(CALCULADORA!$C$27,A113))","v":3242},{"$f":"+HLOOKUP(CALCULADORA!$C$9,Tablas!B:B,Flujos!J113+1,FALSE)","v":0},0,0,{"$f":"ROUND(D112*ROUND(((1+CALCULADORA!$C$16)^(1/12)-1),6),6)","v":0},0,{"$f":"IF($B113=0,0,G113/POWER(1+CALCULADORA!$C$29,Flujos!$B113/365))","v":0},"2033-02-28",111,{"$f":"+DIAS365($A$2,A113)","v":3377},5.4836273193359375E-6,0,6.4240694046020505E-8,6.4240694046020505E-8]
["2033-03-28",{"$f":"IF(DIAS365(CALCULADORA!$C$27,A114)<0,0,DIAS365(CALCULADORA!$C$27,A114))","v":3270},{"$f":"+HLOOKUP(CALCULADORA!$C$9,Tablas!B:B,Flujos!J114+1,FALSE)","v":0},0,0,{"$f":"ROUND(D113*ROUND(((1+CALCULADORA!$C$16)^(1/12)-1),6),6)","v":0},0,{"$f":"IF($B114=0,0,G114/POWER(1+CALCULADORA!$C$29,Flujos!$B114/365))","v":0},"2033-03-28",112,{"$f":"+DIAS365($A$2,A114)","v":3405},5.4836273193359375E-6,0,6.4240694046020505E-8,6.4240694046020505E-8]
["2033-04-28",{"$f":"IF(DIAS365(CALCULADORA!$C$27,A115)<0,0,DIAS365(CALCULADORA!$C$27,A115))","v":3301},{"$f":"+HLOOKUP(CALCULADORA!$C$9,Tablas!B:B,Flujos!J115+1,FALSE)","v":0},0,0,{"$f":"ROUND(D114*ROUND(((1+CALCULADORA!$C$16)^(1/12)-1),6),6)","v":0},0,{"$f":"IF($B115=0,0,G115/POWER(1+CALCULADORA!$C$29,Flujos!$B115/365))","v":0},"2033-04-28",113,{"$f":"+DIAS365($A$2,A115)","v":3436},5.4836273193359375E-6,0,6.4240694046020505E-8,6.4240694046020505E-8]
["2033-05-28",{"$f":"IF(DIAS365(CALCULADORA!$C$27,A116)<0,0,DIAS365(CALCULADORA!$C$27,A116))","v":3331},{"$f":"+HLOOKUP(CALCULADORA!$C$9,Tablas!B:B,Flujos!J116+1,FALSE)","v":0},0,0,{"$f":"ROUND(D115*ROUND(((1+CALCULADORA!$C$16)^(1/12)-1),6),6)","v":0},0,{"$f":"IF($B116=0,0,G116/POWER(1+CALCULADORA!$C$29,Flujos!$B116/365))","v":0},"2033-05-28",114,{"$f":"+DIAS365($A$2,A116)","v":3466},5.4836273193359375E-6,0,6.4240694046020505E-8,6.4240694046020505E-8]
["2033-06-28",{"$f":"IF(DIAS365(CALCULADORA!$C$27,A117)<0,0,DIAS365(CALCULADORA!$C$27,A117))","v":3362},{"$f":"+HLOOKUP(CALCULADORA!$C$9,Tablas!B:B,Flujos!J117+1,FALSE)","v":0},0,0,{"$f":"ROUND(D116*ROUND(((1+CALCULADORA!$C$16)^(1/12)-1),6),6)","v":0},0,{"$f":"IF($B117=0,0,G117/POWER(1+CALCULADORA!$C$29,Flujos!$B117/365))","v":0},"2033-06-28",115,{"$f":"+DIAS365($A$2,A117)","v":3497},5.4836273193359375E-6,0,6.4240694046020505E-8,6.4240694046020505E-8]
["2033-07-28",{"$f":"IF(DIAS365(CALCULADORA!$C$27,A118)<0,0,DIAS365(CALCULADORA!$C$27,A118))","v":3392},{"$f":"+HLOOKUP(CALCULADORA!$C$9,Tablas!B:B,Flujos!J118+1,FALSE)","v":0},0,0,{"$f":"ROUND(D117*ROUND(((1+CALCULADORA!$C$16)^(1/12)-1),6),6)","v":0},0,{"$f":"IF($B118=0,0,G118/POWER(1+CALCULADORA!$C$29,Flujos!$B118/365))","v":0},"2033-07-28",116,{"$f":"+DIAS365($A$2,A118)","v":3527},5.4836273193359375E-6,0,6.4240694046020505E-8,6.4240694046020505E-8]
["2033-08-28",{"$f":"IF(DIAS365(CALCULADORA!$C$27,A119)<0,0,DIAS365(CALCULADORA!$C$27,A119))","v":3423},{"$f":"+HLOOKUP(CALCULADORA!$C$9,Tablas!B:B,Flujos!J119+1,FALSE)","v":0},0,0,{"$f":"ROUND(D118*ROUND(((1+CALCULADORA!$C$16)^(1/12)-1),6),6)","v":0},0,{"$f":"IF($B119=0,0,G119/POWER(1+CALCULADORA!$C$29,Flujos!$B119/365))","v":0},{"$f":"+A119","v":"2033-08-28"},117,{"$f":"+DIAS365($A$2,A119)","v":3558},5.4836273193359375E-6,0,6.4240694046020505E-8,6.4240694046020505E-8]
["2033-09-28",{"$f":"IF(DIAS365(CALCULADORA!$C$27,A120)<0,0,DIAS365(CALCULADORA!$C$27,A120))","v":3454},{"$f":"+HLOOKUP(CALCULADORA!$C$9,Tablas!B:B,Flujos!J120+1,FALSE)","v":0},0,0,{"$f":"ROUND(D119*ROUND(((1+CALCULADORA!$C$16)^(1/12)-1),6),6)","v":0},0,{"$f":"IF($B120=0,0,G120/POWER(1+CALCULADORA!$C$29,Flujos!$B120/365))","v":0},{"$f":"+A120","v":"2033-09-28"},118,{"$f":"+DIAS365($A$2,A120)","v":3589},5.4836273193359375E-6,0,6.4240694046020505E-8,6.4240694046020505E-8]
["2033-10-28",{"$f":"IF(DIAS365(CALCULADORA!$C$27,A121)<0,0,DIAS365(CALCULADORA!$C$27,A121))","v":3484},{"$f":"+HLOOKUP(CALCULADORA!$C$9,Tablas!B:B,Flujos!J121+1,FALSE)","v":0},0,0,{"$f":"ROUND(D120*ROUND(((1+CALCULADORA!$C$16)^(1/12)-1),6),6)","v":0},0,{"$f":"IF($B121=0,0,G121/POWER(1+CALCULADORA!$C$29,Flujos!$B121/365))","v":0},"2033-10-28",119,{"$f":"+DIAS365($A$2,A121)","v":3619},5.4836273193359375E-6,0,6.4240694046020505E-8,6.4240694046020505E-8]
["2033-11-28",{"$f":"IF(DIAS365(CALCULADORA!$C$27,A122)<0,0,DIAS365(CALCULADORA!$C$27,A122))","v":3515},{"$f":"+HLOOKUP(CALCULADORA!$C$9,Tablas!B:B,Flujos!J122+1,FALSE)","v":0},0,0,{"$f":"ROUND(D121*ROUND(((1+CALCULADORA!$C$16)^(1/12)-1),6),6)","v":0},0,{"$f":"IF($B122=0,0,G122/POWER(1+CALCULADORA!$C$29,Flujos!$B122/365))","v":0},"2033-11-28",120,{"$f":"+DIAS365($A$2,A122)","v":3650},5.4836273193359375E-6,0,6.4240694046020505E-8,6.4240694046020505E-8]
["2033-12-28",{"$f":"IF(DIAS365(CALCULADORA!$C$27,A123)<0,0,DIAS365(CALCULADORA!$C$27,A123))","v":3545},{"$f":"+HLOOKUP(CALCULADORA!$C$9,Tablas!B:B,Flujos!J123+1,FALSE)","v":0},0,0,{"$f":"ROUND(D122*ROUND(((1+CALCULADORA!$C$16)^(1/12)-1),6),6)","v":0},0,{"$f":"IF($B123=0,0,G123/POWER(1+CALCULADORA!$C$29,Flujos!$B123/365))","v":0},"2033-12-28",121,{"$f":"+DIAS365($A$2,A123)","v":3680},5.4836273193359375E-6,0,6.4240694046020505E-8,6.4240694046020505E-8]
["2034-01-28",{"$f":"IF(DIAS365(CALCULADORA!$C$27,A124)<0,0,DIAS365(CALCULADORA!$C$27,A124))","v":3576},{"$f":"+HLOOKUP(CALCULADORA!$C$9,Tablas!B:B,Flujos!J124+1,FALSE)","v":0},0,0,{"$f":"ROUND(D123*ROUND(((1+CALCULADORA!$C$16)^(1/12)-1),6),6)","v":0},0,{"$f":"IF($B124=0,0,G124/POWER(1+CALCULADORA!$C$29,Flujos!$B124/365))","v":0},"2034-01-28",122,{"$f":"+DIAS365($A$2,A124)","v":3711},5.4836273193359375E-6,0,6.4240694046020505E-8,6.4240694046020505E-8]
["2034-02-28",{"$f":"IF(DIAS365(CALCULADORA!$C$27,A125)<0,0,DIAS365(CALCULADORA!$C$27,A125))","v":3607},{"$f":"+HLOOKUP(CALCULADORA!$C$9,Tablas!B:B,Flujos!J125+1,FALSE)","v":0},0,0,{"$f":"ROUND(D124*ROUND(((1+CALCULADORA!$C$16)^(1/12)-1),6),6)","v":0},0,{"$f":"IF($B125=0,0,G125/POWER(1+CALCULADORA!$C$29,Flujos!$B125/365))","v":0},"2034-02-28",123,{"$f":"+DIAS365($A$2,A125)","v":3742},5.4836273193359375E-6,0,6.4240694046020505E-8,6.4240694046020505E-8]
["2034-03-28",{"$f":"IF(DIAS365(CALCULADORA!$C$27,A126)<0,0,DIAS365(CALCULADORA!$C$27,A126))","v":3635},{"$f":"+HLOOKUP(CALCULADORA!$C$9,Tablas!B:B,Flujos!J126+1,FALSE)","v":0},0,0,{"$f":"ROUND(D125*ROUND(((1+CALCULADORA!$C$16)^(1/12)-1),6),6)","v":0},0,{"$f":"IF($B126=0,0,G126/POWER(1+CALCULADORA!$C$29,Flujos!$B126/365))","v":0},"2034-03-28",124,{"$f":"+DIAS365($A$2,A126)","v":3770},5.4836273193359375E-6,0,6.4240694046020505E-8,6.4240694046020505E-8]
["2034-04-28",{"$f":"IF(DIAS365(CALCULADORA!$C$27,A127)<0,0,DIAS365(CALCULADORA!$C$27,A127))","v":3666},{"$f":"+HLOOKUP(CALCULADORA!$C$9,Tablas!B:B,Flujos!J127+1,FALSE)","v":0},0,0,{"$f":"ROUND(D126*ROUND(((1+CALCULADORA!$C$16)^(1/12)-1),6),6)","v":0},0,{"$f":"IF($B127=0,0,G127/POWER(1+CALCULADORA!$C$29,Flujos!$B127/365))","v":0},"2034-04-28",125,{"$f":"+DIAS365($A$2,A127)","v":3801},5.4836273193359375E-6,0,6.4240694046020505E-8,6.4240694046020505E-8]
["2034-05-28",{"$f":"IF(DIAS365(CALCULADORA!$C$27,A128)<0,0,DIAS365(CALCULADORA!$C$27,A128))","v":3696},{"$f":"+HLOOKUP(CALCULADORA!$C$9,Tablas!B:B,Flujos!J128+1,FALSE)","v":0},0,0,{"$f":"ROUND(D127*ROUND(((1+CALCULADORA!$C$16)^(1/12)-1),6),6)","v":0},0,{"$f":"IF($B128=0,0,G128/POWER(1+CALCULADORA!$C$29,Flujos!$B128/365))","v":0},"2034-05-28",126,{"$f":"+DIAS365($A$2,A128)","v":3831},5.4836273193359375E-6,0,6.4240694046020505E-8,6.4240694046020505E-8]
["2034-06-28",{"$f":"IF(DIAS365(CALCULADORA!$C$27,A129)<0,0,DIAS365(CALCULADORA!$C$27,A129))","v":3727},{"$f":"+HLOOKUP(CALCULADORA!$C$9,Tablas!B:B,Flujos!J129+1,FALSE)","v":0},0,0,{"$f":"ROUND(D128*ROUND(((1+CALCULADORA!$C$16)^(1/12)-1),6),6)","v":0},0,{"$f":"IF($B129=0,0,G129/POWER(1+CALCULADORA!$C$29,Flujos!$B129/365))","v":0},"2034-06-28",127,{"$f":"+DIAS365($A$2,A129)","v":3862},5.4836273193359375E-6,0,6.4240694046020505E-8,6.4240694046020505E-8]
["2034-07-28",{"$f":"IF(DIAS365(CALCULADORA!$C$27,A130)<0,0,DIAS365(CALCULADORA!$C$27,A130))","v":3757},{"$f":"+HLOOKUP(CALCULADORA!$C$9,Tablas!B:B,Flujos!J130+1,FALSE)","v":0},0,0,{"$f":"ROUND(D129*ROUND(((1+CALCULADORA!$C$16)^(1/12)-1),6),6)","v":0},0,{"$f":"IF($B130=0,0,G130/POWER(1+CALCULADORA!$C$29,Flujos!$B130/365))","v":0},"2034-07-28",128,{"$f":"+DIAS365($A$2,A130)","v":3892},5.4836273193359375E-6,0,6.4240694046020505E-8,6.4240694046020505E-8]
[{"$f":"EDATE(A130,1)","v":"2034-08-28"},{"$f":"IF(DIAS365(CALCULADORA!$C$27,A131)<0,0,DIAS365(CALCULADORA!$C$27,A131))","v":3788},{"$f":"+HLOOKUP(CALCULADORA!$C$9,Tablas!B:B,Flujos!J131+1,FALSE)","v":0},0,0,{"$f":"ROUND(D130*ROUND(((1+CALCULADORA!$C$16)^(1/12)-1),6),6)","v":0},0,{"$f":"IF($B131=0,0,G131/POWER(1+CALCULADORA!$C$29,Flujos!$B131/365))","v":0},{"$f":"+A131","v":"2034-08-28"},129,{"$f":"+DIAS365($A$2,A131)","v":3923},5.4836273193359375E-6,0,6.4240694046020505E-8,6.4240694046020505E-8]
["2034-09-28",{"$f":"IF(DIAS365(CALCULADORA!$C$27,A132)<0,0,DIAS365(CALCULADORA!$C$27,A132))","v":3819},{"$f":"+HLOOKUP(CALCULADORA!$C$9,Tablas!B:B,Flujos!J132+1,FALSE)","v":0},{"$f":"+ROUND(D131-E132,6)","v":0},{"$f":"ROUND(C132*$D$2,6)","v":0},{"$f":"ROUND(D131*ROUND(((1+CALCULADORA!$C$16)^(1/12)-1),6),6)","v":0},{"$f":"F132+E132","v":0},{"$f":"IF($B132=0,0,G132/POWER(1+CALCULADORA!$C$29,Flujos!$B132/365))","v":0},"2034-09-28",130,{"$f":"+DIAS365($A$2,A132)","v":3954},{"$f":"+L131-M132","v":5.4836273193359375E-6},{"$f":"+$L$2*C132","v":0},{"$f":"+L131*$F$3%","v":6.4240694046020505E-8},{"$f":"+N132+M132","v":6.4240694046020505E-8}]
["2034-10-28",{"$f":"IF(DIAS365(CALCULADORA!$C$27,A133)<0,0,DIAS365(CALCULADORA!$C$27,A133))","v":3849},{"$f":"+HLOOKUP(CALCULADORA!$C$9,Tablas!B:B,Flujos!J133+1,FALSE)","v":0},0,0,{"$f":"ROUND(D132*ROUND(((1+CALCULADORA!$C$16)^(1/12)-1),6),6)","v":0},0,{"$f":"IF($B133=0,0,G133/POWER(1+CALCULADORA!$C$29,Flujos!$B133/365))","v":0},"2034-10-28",131,{"$f":"+DIAS365($A$2,A133)","v":3984},5.4836273193359375E-6,0,6.4240694046020505E-8,6.4240694046020505E-8]
["2034-11-28",{"$f":"IF(DIAS365(CALCULADORA!$C$27,A134)<0,0,DIAS365(CALCULADORA!$C$27,A134))","v":3880},{"$f":"+HLOOKUP(CALCULADORA!$C$9,Tablas!B:B,Flujos!J134+1,FALSE)","v":0},0,0,{"$f":"ROUND(D133*ROUND(((1+CALCULADORA!$C$16)^(1/12)-1),6),6)","v":0},0,{"$f":"IF($B134=0,0,G134/POWER(1+CALCULADORA!$C$29,Flujos!$B134/365))","v":0},"2034-11-28",132,{"$f":"+DIAS365($A$2,A134)","v":4015},5.4836273193359375E-6,0,6.4240694046020505E-8,6.4240694046020505E-8]
["2034-12-28",{"$f":"IF(DIAS365(CALCULADORA!$C$27,A135)<0,0,DIAS365(CALCULADORA!$C$27,A135))","v":3910},{"$f":"+HLOOKUP(CALCULADORA!$C$9,Tablas!B:B,Flujos!J135+1,FALSE)","v":0},0,0,{"$f":"ROUND(D134*ROUND(((1+CALCULADORA!$C$16)^(1/12)-1),6),6)","v":0},0,{"$f":"IF($B135=0,0,G135/POWER(1+CALCULADORA!$C$29,Flujos!$B135/365))","v":0},"2034-12-28",133,{"$f":"+DIAS365($A$2,A135)","v":4045},5.4836273193359375E-6,0,6.4240694046020505E-8,6.4240694046020505E-8]
["2035-01-28",{"$f":"IF(DIAS365(CALCULADORA!$C$27,A136)<0,0,DIAS365(CALCULADORA!$C$27,A136))","v":3941},{"$f":"+HLOOKUP(CALCULADORA!$C$9,Tablas!B:B,Flujos!J136+1,FALSE)","v":0},0,0,{"$f":"ROUND(D135*ROUND(((1+CALCULADORA!$C$16)^(1/12)-1),6),6)","v":0},0,{"$f":"IF($B136=0,0,G136/POWER(1+CALCULADORA!$C$29,Flujos!$B136/365))","v":0},"2035-01-28",134,{"$f":"+DIAS365($A$2,A136)","v":4076},5.4836273193359375E-6,0,6.4240694046020505E-8,6.4240694046020505E-8]
["2035-02-28",{"$f":"IF(DIAS365(CALCULADORA!$C$27,A137)<0,0,DIAS365(CALCULADORA!$C$27,A137))","v":3972},{"$f":"+HLOOKUP(CALCULADORA!$C$9,Tablas!B:B,Flujos!J137+1,FALSE)","v":0},0,0,{"$f":"ROUND(D136*ROUND(((1+CALCULADORA!$C$16)^(1/12)-1),6),6)","v":0},0,{"$f":"IF($B137=0,0,G137/POWER(1+CALCULADORA!$C$29,Flujos!$B137/365))","v":0},"2035-02-28",135,{"$f":"+DIAS365($A$2,A137)","v":4107},5.4836273193359375E-6,0,6.4240694046020505E-8,6.4240694046020505E-8]
["2035-03-28",{"$f":"IF(DIAS365(CALCULADORA!$C$27,A138)<0,0,DIAS365(CALCULADORA!$C$27,A138))","v":4000},{"$f":"+HLOOKUP(CALCULADORA!$C$9,Tablas!B:B,Flujos!J138+1,FALSE)","v":0},0,0,{"$f":"ROUND(D137*ROUND(((1+CALCULADORA!$C$16)^(1/12)-1),6),6)","v":0},0,{"$f":"IF($B138=0,0,G138/POWER(1+CALCULADORA!$C$29,Flujos!$B138/365))","v":0},"2035-03-28",136,{"$f":"+DIAS365($A$2,A138)","v":4135},5.4836273193359375E-6,0,6.4240694046020505E-8,6.4240694046020505E-8]
["2035-04-28",{"$f":"IF(DIAS365(CALCULADORA!$C$27,A139)<0,0,DIAS365(CALCULADORA!$C$27,A139))","v":4031},{"$f":"+HLOOKUP(CALCULADORA!$C$9,Tablas!B:B,Flujos!J139+1,FALSE)","v":0},0,0,{"$f":"ROUND(D138*ROUND(((1+CALCULADORA!$C$16)^(1/12)-1),6),6)","v":0},0,{"$f":"IF($B139=0,0,G139/POWER(1+CALCULADORA!$C$29,Flujos!$B139/365))","v":0},"2035-04-28",137,{"$f":"+DIAS365($A$2,A139)","v":4166},5.4836273193359375E-6,0,6.4240694046020505E-8,6.4240694046020505E-8]
["2035-05-28",{"$f":"IF(DIAS365(CALCULADORA!$C$27,A140)<0,0,DIAS365(CALCULADORA!$C$27,A140))","v":4061},{"$f":"+HLOOKUP(CALCULADORA!$C$9,Tablas!B:B,Flujos!J140+1,FALSE)","v":0},0,0,{"$f":"ROUND(D139*ROUND(((1+CALCULADORA!$C$16)^(1/12)-1),6),6)","v":0},0,{"$f":"IF($B140=0,0,G140/POWER(1+CALCULADORA!$C$29,Flujos!$B140/365))","v":0},"2035-05-28",138,{"$f":"+DIAS365($A$2,A140)","v":4196},5.4836273193359375E-6,0,6.4240694046020505E-8,6.4240694046020505E-8]
["2035-06-28",{"$f":"IF(DIAS365(CALCULADORA!$C$27,A141)<0,0,DIAS365(CALCULADORA!$C$27,A141))","v":4092},{"$f":"+HLOOKUP(CALCULADORA!$C$9,Tablas!B:B,Flujos!J141+1,FALSE)","v":0},0,0,{"$f":"ROUND(D140*ROUND(((1+CALCULADORA!$C$16)^(1/12)-1),6),6)","v":0},0,{"$f":"IF($B141=0,0,G141/POWER(1+CALCULADORA!$C$29,Flujos!$B141/365))","v":0},"2035-06-28",139,{"$f":"+DIAS365($A$2,A141)","v":4227},5.4836273193359375E-6,0,6.4240694046020505E-8,6.4240694046020505E-8]
["2035-07-28",{"$f":"IF(DIAS365(CALCULADORA!$C$27,A142)<0,0,DIAS365(CALCULADORA!$C$27,A142))","v":4122},{"$f":"+HLOOKUP(CALCULADORA!$C$9,Tablas!B:B,Flujos!J142+1,FALSE)","v":0},0,0,{"$f":"ROUND(D141*ROUND(((1+CALCULADORA!$C$16)^(1/12)-1),6),6)","v":0},0,{"$f":"IF($B142=0,0,G142/POWER(1+CALCULADORA!$C$29,Flujos!$B142/365))","v":0},"2035-07-28",140,{"$f":"+DIAS365($A$2,A142)","v":4257},5.4836273193359375E-6,0,6.4240694046020505E-8,6.4240694046020505E-8]
["2035-08-28",{"$f":"IF(DIAS365(CALCULADORA!$C$27,A143)<0,0,DIAS365(CALCULADORA!$C$27,A143))","v":4153},{"$f":"+HLOOKUP(CALCULADORA!$C$9,Tablas!B:B,Flujos!J143+1,FALSE)","v":0},0,0,{"$f":"ROUND(D142*ROUND(((1+CALCULADORA!$C$16)^(1/12)-1),6),6)","v":0},0,{"$f":"IF($B143=0,0,G143/POWER(1+CALCULADORA!$C$29,Flujos!$B143/365))","v":0},"2035-08-28",141,{"$f":"+DIAS365($A$2,A143)","v":4288},5.4836273193359375E-6,0,6.4240694046020505E-8,6.4240694046020505E-8]
["2035-09-28",{"$f":"IF(DIAS365(CALCULADORA!$C$27,A144)<0,0,DIAS365(CALCULADORA!$C$27,A144))","v":4184},{"$f":"+HLOOKUP(CALCULADORA!$C$9,Tablas!B:B,Flujos!J144+1,FALSE)","v":0},0,0,{"$f":"ROUND(D143*ROUND(((1+CALCULADORA!$C$16)^(1/12)-1),6),6)","v":0},0,{"$f":"IF($B144=0,0,G144/POWER(1+CALCULADORA!$C$29,Flujos!$B144/365))","v":0},"2035-09-28",142,{"$f":"+DIAS365($A$2,A144)","v":4319},5.4836273193359375E-6,0,6.4240694046020505E-8,6.4240694046020505E-8]
["2035-10-28",{"$f":"IF(DIAS365(CALCULADORA!$C$27,A145)<0,0,DIAS365(CALCULADORA!$C$27,A145))","v":4214},{"$f":"+HLOOKUP(CALCULADORA!$C$9,Tablas!B:B,Flujos!J145+1,FALSE)","v":0},0,0,{"$f":"ROUND(D144*ROUND(((1+CALCULADORA!$C$16)^(1/12)-1),6),6)","v":0},0,{"$f":"IF($B145=0,0,G145/POWER(1+CALCULADORA!$C$29,Flujos!$B145/365))","v":0},"2035-10-28",143,{"$f":"+DIAS365($A$2,A145)","v":4349},5.4836273193359375E-6,0,6.4240694046020505E-8,6.4240694046020505E-8]
["2035-11-28",{"$f":"IF(DIAS365(CALCULADORA!$C$27,A146)<0,0,DIAS365(CALCULADORA!$C$27,A146))","v":4245},{"$f":"+HLOOKUP(CALCULADORA!$C$9,Tablas!B:B,Flujos!J146+1,FALSE)","v":0},0,0,{"$f":"ROUND(D145*ROUND(((1+CALCULADORA!$C$16)^(1/12)-1),6),6)","v":0},0,{"$f":"IF($B146=0,0,G146/POWER(1+CALCULADORA!$C$29,Flujos!$B146/365))","v":0},"2035-11-28",144,{"$f":"+DIAS365($A$2,A146)","v":4380},5.4836273193359375E-6,0,6.4240694046020505E-8,6.4240694046020505E-8]
["2035-12-28",{"$f":"IF(DIAS365(CALCULADORA!$C$27,A147)<0,0,DIAS365(CALCULADORA!$C$27,A147))","v":4275},{"$f":"+HLOOKUP(CALCULADORA!$C$9,Tablas!B:B,Flujos!J147+1,FALSE)","v":0},0,0,{"$f":"ROUND(D146*ROUND(((1+CALCULADORA!$C$16)^(1/12)-1),6),6)","v":0},0,{"$f":"IF($B147=0,0,G147/POWER(1+CALCULADORA!$C$29,Flujos!$B147/365))","v":0},"2035-12-28",145,{"$f":"+DIAS365($A$2,A147)","v":4410},5.4836273193359375E-6,0,6.4240694046020505E-8,6.4240694046020505E-8]
["2036-01-28",{"$f":"IF(DIAS365(CALCULADORA!$C$27,A148)<0,0,DIAS365(CALCULADORA!$C$27,A148))","v":4306},{"$f":"+HLOOKUP(CALCULADORA!$C$9,Tablas!B:B,Flujos!J148+1,FALSE)","v":0},0,0,{"$f":"ROUND(D147*ROUND(((1+CALCULADORA!$C$16)^(1/12)-1),6),6)","v":0},0,{"$f":"IF($B148=0,0,G148/POWER(1+CALCULADORA!$C$29,Flujos!$B148/365))","v":0},"2036-01-28",146,{"$f":"+DIAS365($A$2,A148)","v":4441},5.4836273193359375E-6,0,6.4240694046020505E-8,6.4240694046020505E-8]
["2036-02-28",{"$f":"IF(DIAS365(CALCULADORA!$C$27,A149)<0,0,DIAS365(CALCULADORA!$C$27,A149))","v":4337},{"$f":"+HLOOKUP(CALCULADORA!$C$9,Tablas!B:B,Flujos!J149+1,FALSE)","v":0},0,0,{"$f":"ROUND(D148*ROUND(((1+CALCULADORA!$C$16)^(1/12)-1),6),6)","v":0},0,{"$f":"IF($B149=0,0,G149/POWER(1+CALCULADORA!$C$29,Flujos!$B149/365))","v":0},"2036-02-28",147,{"$f":"+DIAS365($A$2,A149)","v":4472},5.4836273193359375E-6,0,6.4240694046020505E-8,6.4240694046020505E-8]
["2036-03-28",{"$f":"IF(DIAS365(CALCULADORA!$C$27,A150)<0,0,DIAS365(CALCULADORA!$C$27,A150))","v":4365},{"$f":"+HLOOKUP(CALCULADORA!$C$9,Tablas!B:B,Flujos!J150+1,FALSE)","v":0},0,0,{"$f":"ROUND(D149*ROUND(((1+CALCULADORA!$C$16)^(1/12)-1),6),6)","v":0},0,{"$f":"IF($B150=0,0,G150/POWER(1+CALCULADORA!$C$29,Flujos!$B150/365))","v":0},"2036-03-28",148,{"$f":"+DIAS365($A$2,A150)","v":4500},5.4836273193359375E-6,0,6.4240694046020505E-8,6.4240694046020505E-8]
["2036-04-28",{"$f":"IF(DIAS365(CALCULADORA!$C$27,A151)<0,0,DIAS365(CALCULADORA!$C$27,A151))","v":4396},{"$f":"+HLOOKUP(CALCULADORA!$C$9,Tablas!B:B,Flujos!J151+1,FALSE)","v":0},0,0,{"$f":"ROUND(D150*ROUND(((1+CALCULADORA!$C$16)^(1/12)-1),6),6)","v":0},0,{"$f":"IF($B151=0,0,G151/POWER(1+CALCULADORA!$C$29,Flujos!$B151/365))","v":0},"2036-04-28",149,{"$f":"+DIAS365($A$2,A151)","v":4531},5.4836273193359375E-6,0,6.4240694046020505E-8,6.4240694046020505E-8]
["2036-05-28",{"$f":"IF(DIAS365(CALCULADORA!$C$27,A152)<0,0,DIAS365(CALCULADORA!$C$27,A152))","v":4426},{"$f":"+HLOOKUP(CALCULADORA!$C$9,Tablas!B:B,Flujos!J152+1,FALSE)","v":0},0,0,{"$f":"ROUND(D151*ROUND(((1+CALCULADORA!$C$16)^(1/12)-1),6),6)","v":0},0,{"$f":"IF($B152=0,0,G152/POWER(1+CALCULADORA!$C$29,Flujos!$B152/365))","v":0},"2036-05-28",150,{"$f":"+DIAS365($A$2,A152)","v":4561},5.4836273193359375E-6,0,6.4240694046020505E-8,6.4240694046020505E-8]
["2036-06-28",{"$f":"IF(DIAS365(CALCULADORA!$C$27,A153)<0,0,DIAS365(CALCULADORA!$C$27,A153))","v":4457},{"$f":"+HLOOKUP(CALCULADORA!$C$9,Tablas!B:B,Flujos!J153+1,FALSE)","v":0},0,0,{"$f":"ROUND(D152*ROUND(((1+CALCULADORA!$C$16)^(1/12)-1),6),6)","v":0},0,{"$f":"IF($B153=0,0,G153/POWER(1+CALCULADORA!$C$29,Flujos!$B153/365))","v":0},"2036-06-28",151,{"$f":"+DIAS365($A$2,A153)","v":4592},5.4836273193359375E-6,0,6.4240694046020505E-8,6.4240694046020505E-8]
["2036-07-28",{"$f":"IF(DIAS365(CALCULADORA!$C$27,A154)<0,0,DIAS365(CALCULADORA!$C$27,A154))","v":4487},{"$f":"+HLOOKUP(CALCULADORA!$C$9,Tablas!B:B,Flujos!J154+1,FALSE)","v":0},0,0,{"$f":"ROUND(D153*ROUND(((1+CALCULADORA!$C$16)^(1/12)-1),6),6)","v":0},0,{"$f":"IF($B154=0,0,G154/POWER(1+CALCULADORA!$C$29,Flujos!$B154/365))","v":0},"2036-07-28",152,{"$f":"+DIAS365($A$2,A154)","v":4622},5.4836273193359375E-6,0,6.4240694046020505E-8,6.4240694046020505E-8]
["2036-08-28",{"$f":"IF(DIAS365(CALCULADORA!$C$27,A155)<0,0,DIAS365(CALCULADORA!$C$27,A155))","v":4518},{"$f":"+HLOOKUP(CALCULADORA!$C$9,Tablas!B:B,Flujos!J155+1,FALSE)","v":0},0,0,{"$f":"ROUND(D154*ROUND(((1+CALCULADORA!$C$16)^(1/12)-1),6),6)","v":0},0,{"$f":"IF($B155=0,0,G155/POWER(1+CALCULADORA!$C$29,Flujos!$B155/365))","v":0},"2036-08-28",153,{"$f":"+DIAS365($A$2,A155)","v":4653},5.4836273193359375E-6,0,6.4240694046020505E-8,6.4240694046020505E-8]
["2036-09-28",{"$f":"IF(DIAS365(CALCULADORA!$C$27,A156)<0,0,DIAS365(CALCULADORA!$C$27,A156))","v":4549},{"$f":"+HLOOKUP(CALCULADORA!$C$9,Tablas!B:B,Flujos!J156+1,FALSE)","v":0},0,0,{"$f":"ROUND(D155*ROUND(((1+CALCULADORA!$C$16)^(1/12)-1),6),6)","v":0},0,{"$f":"IF($B156=0,0,G156/POWER(1+CALCULADORA!$C$29,Flujos!$B156/365))","v":0},"2036-09-28",154,{"$f":"+DIAS365($A$2,A156)","v":4684},5.4836273193359375E-6,0,6.4240694046020505E-8,6.4240694046020505E-8]
["2036-10-28",{"$f":"IF(DIAS365(CALCULADORA!$C$27,A157)<0,0,DIAS365(CALCULADORA!$C$27,A157))","v":4579},{"$f":"+HLOOKUP(CALCULADORA!$C$9,Tablas!B:B,Flujos!J157+1,FALSE)","v":0},0,0,{"$f":"ROUND(D156*ROUND(((1+CALCULADORA!$C$16)^(1/12)-1),6),6)","v":0},0,{"$f":"IF($B157=0,0,G157/POWER(1+CALCULADORA!$C$29,Flujos!$B157/365))","v":0},"2036-10-28",155,{"$f":"+DIAS365($A$2,A157)","v":4714},5.4836273193359375E-6,0,6.4240694046020505E-8,6.4240694046020505E-8]
["2036-11-28",{"$f":"IF(DIAS365(CALCULADORA!$C$27,A158)<0,0,DIAS365(CALCULADORA!$C$27,A158))","v":4610},{"$f":"+HLOOKUP(CALCULADORA!$C$9,Tablas!B:B,Flujos!J158+1,FALSE)","v":0},0,0,{"$f":"ROUND(D157*ROUND(((1+CALCULADORA!$C$16)^(1/12)-1),6),6)","v":0},0,{"$f":"IF($B158=0,0,G158/POWER(1+CALCULADORA!$C$29,Flujos!$B158/365))","v":0},"2036-11-28",156,{"$f":"+DIAS365($A$2,A158)","v":4745},5.4836273193359375E-6,0,6.4240694046020505E-8,6.4240694046020505E-8]
["2036-12-28",{"$f":"IF(DIAS365(CALCULADORA!$C$27,A159)<0,0,DIAS365(CALCULADORA!$C$27,A159))","v":4640},{"$f":"+HLOOKUP(CALCULADORA!$C$9,Tablas!B:B,Flujos!J159+1,FALSE)","v":0},0,0,{"$f":"ROUND(D158*ROUND(((1+CALCULADORA!$C$16)^(1/12)-1),6),6)","v":0},0,{"$f":"IF($B159=0,0,G159/POWER(1+CALCULADORA!$C$29,Flujos!$B159/365))","v":0},"2036-12-28",157,{"$f":"+DIAS365($A$2,A159)","v":4775},5.4836273193359375E-6,0,6.4240694046020505E-8,6.4240694046020505E-8]
["2037-01-28",{"$f":"IF(DIAS365(CALCULADORA!$C$27,A160)<0,0,DIAS365(CALCULADORA!$C$27,A160))","v":4671},{"$f":"+HLOOKUP(CALCULADORA!$C$9,Tablas!B:B,Flujos!J160+1,FALSE)","v":0},0,0,{"$f":"ROUND(D159*ROUND(((1+CALCULADORA!$C$16)^(1/12)-1),6),6)","v":0},0,{"$f":"IF($B160=0,0,G160/POWER(1+CALCULADORA!$C$29,Flujos!$B160/365))","v":0},"2037-01-28",158,{"$f":"+DIAS365($A$2,A160)","v":4806},5.4836273193359375E-6,0,6.4240694046020505E-8,6.4240694046020505E-8]
["2037-02-28",{"$f":"IF(DIAS365(CALCULADORA!$C$27,A161)<0,0,DIAS365(CALCULADORA!$C$27,A161))","v":4702},{"$f":"+HLOOKUP(CALCULADORA!$C$9,Tablas!B:B,Flujos!J161+1,FALSE)","v":0},0,0,{"$f":"ROUND(D160*ROUND(((1+CALCULADORA!$C$16)^(1/12)-1),6),6)","v":0},0,{"$f":"IF($B161=0,0,G161/POWER(1+CALCULADORA!$C$29,Flujos!$B161/365))","v":0},"2037-02-28",159,{"$f":"+DIAS365($A$2,A161)","v":4837},5.4836273193359375E-6,0,6.4240694046020505E-8,6.4240694046020505E-8]
["2037-03-28",{"$f":"IF(DIAS365(CALCULADORA!$C$27,A162)<0,0,DIAS365(CALCULADORA!$C$27,A162))","v":4730},{"$f":"+HLOOKUP(CALCULADORA!$C$9,Tablas!B:B,Flujos!J162+1,FALSE)","v":0},0,0,{"$f":"ROUND(D161*ROUND(((1+CALCULADORA!$C$16)^(1/12)-1),6),6)","v":0},0,{"$f":"IF($B162=0,0,G162/POWER(1+CALCULADORA!$C$29,Flujos!$B162/365))","v":0},"2037-03-28",160,{"$f":"+DIAS365($A$2,A162)","v":4865},5.4836273193359375E-6,0,6.4240694046020505E-8,6.4240694046020505E-8]
[{"$f":"EDATE(A162,1)","v":"2037-04-28"},{"$f":"IF(DIAS365(CALCULADORA!$C$27,A163)<0,0,DIAS365(CALCULADORA!$C$27,A163))","v":4761},{"$f":"+HLOOKUP(CALCULADORA!$C$9,Tablas!B:B,Flujos!J163+1,FALSE)","v":0},0,0,{"$f":"ROUND(D162*ROUND(((1+CALCULADORA!$C$16)^(1/12)-1),6),6)","v":0},0,{"$f":"IF($B163=0,0,G163/POWER(1+CALCULADORA!$C$29,Flujos!$B163/365))","v":0},"2037-04-28",161,{"$f":"+DIAS365($A$2,A163)","v":4896},5.4836273193359375E-6,0,6.4240694046020505E-8,6.4240694046020505E-8]
["2037-05-28",{"$f":"IF(DIAS365(CALCULADORA!$C$27,A164)<0,0,DIAS365(CALCULADORA!$C$27,A164))","v":4791},{"$f":"+HLOOKUP(CALCULADORA!$C$9,Tablas!B:B,Flujos!J164+1,FALSE)","v":0},0,0,{"$f":"ROUND(D163*ROUND(((1+CALCULADORA!$C$16)^(1/12)-1),6),6)","v":0},0,{"$f":"IF($B164=0,0,G164/POWER(1+CALCULADORA!$C$29,Flujos!$B164/365))","v":0},"2037-05-28",162,{"$f":"+DIAS365($A$2,A164)","v":4926},5.4836273193359375E-6,0,6.4240694046020505E-8,6.4240694046020505E-8]
["2037-06-28",{"$f":"IF(DIAS365(CALCULADORA!$C$27,A165)<0,0,DIAS365(CALCULADORA!$C$27,A165))","v":4822},{"$f":"+HLOOKUP(CALCULADORA!$C$9,Tablas!B:B,Flujos!J165+1,FALSE)","v":0},0,0,{"$f":"ROUND(D164*ROUND(((1+CALCULADORA!$C$16)^(1/12)-1),6),6)","v":0},0,{"$f":"IF($B165=0,0,G165/POWER(1+CALCULADORA!$C$29,Flujos!$B165/365))","v":0},"2037-06-28",163,{"$f":"+DIAS365($A$2,A165)","v":4957},5.4836273193359375E-6,0,6.4240694046020505E-8,6.4240694046020505E-8]
["2037-07-28",{"$f":"IF(DIAS365(CALCULADORA!$C$27,A166)<0,0,DIAS365(CALCULADORA!$C$27,A166))","v":4852},{"$f":"+HLOOKUP(CALCULADORA!$C$9,Tablas!B:B,Flujos!J166+1,FALSE)","v":0},0,0,{"$f":"ROUND(D165*ROUND(((1+CALCULADORA!$C$16)^(1/12)-1),6),6)","v":0},0,{"$f":"IF($B166=0,0,G166/POWER(1+CALCULADORA!$C$29,Flujos!$B166/365))","v":0},"2037-07-28",164,{"$f":"+DIAS365($A$2,A166)","v":4987},5.4836273193359375E-6,0,6.4240694046020505E-8,6.4240694046020505E-8]
["2037-08-28",{"$f":"IF(DIAS365(CALCULADORA!$C$27,A167)<0,0,DIAS365(CALCULADORA!$C$27,A167))","v":4883},{"$f":"+HLOOKUP(CALCULADORA!$C$9,Tablas!B:B,Flujos!J167+1,FALSE)","v":0},0,0,{"$f":"ROUND(D166*ROUND(((1+CALCULADORA!$C$16)^(1/12)-1),6),6)","v":0},0,{"$f":"IF($B167=0,0,G167/POWER(1+CALCULADORA!$C$29,Flujos!$B167/365))","v":0},"2037-08-28",165,{"$f":"+DIAS365($A$2,A167)","v":5018},5.4836273193359375E-6,0,6.4240694046020505E-8,6.4240694046020505E-8]
["2037-09-28",{"$f":"IF(DIAS365(CALCULADORA!$C$27,A168)<0,0,DIAS365(CALCULADORA!$C$27,A168))","v":4914},{"$f":"+HLOOKUP(CALCULADORA!$C$9,Tablas!B:B,Flujos!J168+1,FALSE)","v":0},0,0,{"$f":"ROUND(D167*ROUND(((1+CALCULADORA!$C$16)^(1/12)-1),6),6)","v":0},0,{"$f":"IF($B168=0,0,G168/POWER(1+CALCULADORA!$C$29,Flujos!$B168/365))","v":0},"2037-09-28",166,{"$f":"+DIAS365($A$2,A168)","v":5049},5.4836273193359375E-6,0,6.4240694046020505E-8,6.4240694046020505E-8]
["2037-10-28",{"$f":"IF(DIAS365(CALCULADORA!$C$27,A169)<0,0,DIAS365(CALCULADORA!$C$27,A169))","v":4944},{"$f":"+HLOOKUP(CALCULADORA!$C$9,Tablas!B:B,Flujos!J169+1,FALSE)","v":0},0,0,{"$f":"ROUND(D168*ROUND(((1+CALCULADORA!$C$16)^(1/12)-1),6),6)","v":0},0,{"$f":"IF($B169=0,0,G169/POWER(1+CALCULADORA!$C$29,Flujos!$B169/365))","v":0},"2037-10-28",167,{"$f":"+DIAS365($A$2,A169)","v":5079},5.4836273193359375E-6,0,6.4240694046020505E-8,6.4240694046020505E-8]
["2037-11-28",{"$f":"IF(DIAS365(CALCULADORA!$C$27,A170)<0,0,DIAS365(CALCULADORA!$C$27,A170))","v":4975},{"$f":"+HLOOKUP(CALCULADORA!$C$9,Tablas!B:B,Flujos!J170+1,FALSE)","v":0},0,0,{"$f":"ROUND(D169*ROUND(((1+CALCULADORA!$C$16)^(1/12)-1),6),6)","v":0},0,{"$f":"IF($B170=0,0,G170/POWER(1+CALCULADORA!$C$29,Flujos!$B170/365))","v":0},"2037-11-28",168,{"$f":"+DIAS365($A$2,A170)","v":5110},5.4836273193359375E-6,0,6.4240694046020505E-8,6.4240694046020505E-8]
["2037-12-28",{"$f":"IF(DIAS365(CALCULADORA!$C$27,A171)<0,0,DIAS365(CALCULADORA!$C$27,A171))","v":5005},{"$f":"+HLOOKUP(CALCULADORA!$C$9,Tablas!B:B,Flujos!J171+1,FALSE)","v":0},0,0,{"$f":"ROUND(D170*ROUND(((1+CALCULADORA!$C$16)^(1/12)-1),6),6)","v":0},0,{"$f":"IF($B171=0,0,G171/POWER(1+CALCULADORA!$C$29,Flujos!$B171/365))","v":0},"2037-12-28",169,{"$f":"+DIAS365($A$2,A171)","v":5140},5.4836273193359375E-6,0,6.4240694046020505E-8,6.4240694046020505E-8]
["2038-01-28",{"$f":"IF(DIAS365(CALCULADORA!$C$27,A172)<0,0,DIAS365(CALCULADORA!$C$27,A172))","v":5036},{"$f":"+HLOOKUP(CALCULADORA!$C$9,Tablas!B:B,Flujos!J172+1,FALSE)","v":0},0,0,{"$f":"ROUND(D171*ROUND(((1+CALCULADORA!$C$16)^(1/12)-1),6),6)","v":0},0,{"$f":"IF($B172=0,0,G172/POWER(1+CALCULADORA!$C$29,Flujos!$B172/365))","v":0},"2038-01-28",170,{"$f":"+DIAS365($A$2,A172)","v":5171},5.4836273193359375E-6,0,6.4240694046020505E-8,6.4240694046020505E-8]
["2038-02-28",{"$f":"IF(DIAS365(CALCULADORA!$C$27,A173)<0,0,DIAS365(CALCULADORA!$C$27,A173))","v":5067},{"$f":"+HLOOKUP(CALCULADORA!$C$9,Tablas!B:B,Flujos!J173+1,FALSE)","v":0},0,0,{"$f":"ROUND(D172*ROUND(((1+CALCULADORA!$C$16)^(1/12)-1),6),6)","v":0},0,{"$f":"IF($B173=0,0,G173/POWER(1+CALCULADORA!$C$29,Flujos!$B173/365))","v":0},"2038-02-28",171,{"$f":"+DIAS365($A$2,A173)","v":5202},5.4836273193359375E-6,0,6.4240694046020505E-8,6.4240694046020505E-8]
["2038-03-28",{"$f":"IF(DIAS365(CALCULADORA!$C$27,A174)<0,0,DIAS365(CALCULADORA!$C$27,A174))","v":5095},{"$f":"+HLOOKUP(CALCULADORA!$C$9,Tablas!B:B,Flujos!J174+1,FALSE)","v":0},0,0,{"$f":"ROUND(D173*ROUND(((1+CALCULADORA!$C$16)^(1/12)-1),6),6)","v":0},0,{"$f":"IF($B174=0,0,G174/POWER(1+CALCULADORA!$C$29,Flujos!$B174/365))","v":0},"2038-03-28",172,{"$f":"+DIAS365($A$2,A174)","v":5230},5.4836273193359375E-6,0,6.4240694046020505E-8,6.4240694046020505E-8]
["2038-04-28",{"$f":"IF(DIAS365(CALCULADORA!$C$27,A175)<0,0,DIAS365(CALCULADORA!$C$27,A175))","v":5126},{"$f":"+HLOOKUP(CALCULADORA!$C$9,Tablas!B:B,Flujos!J175+1,FALSE)","v":0},0,0,{"$f":"ROUND(D174*ROUND(((1+CALCULADORA!$C$16)^(1/12)-1),6),6)","v":0},0,{"$f":"IF($B175=0,0,G175/POWER(1+CALCULADORA!$C$29,Flujos!$B175/365))","v":0},"2038-04-28",173,{"$f":"+DIAS365($A$2,A175)","v":5261},5.4836273193359375E-6,0,6.4240694046020505E-8,6.4240694046020505E-8]
["2038-05-28",{"$f":"IF(DIAS365(CALCULADORA!$C$27,A176)<0,0,DIAS365(CALCULADORA!$C$27,A176))","v":5156},{"$f":"+HLOOKUP(CALCULADORA!$C$9,Tablas!B:B,Flujos!J176+1,FALSE)","v":0},0,0,{"$f":"ROUND(D175*ROUND(((1+CALCULADORA!$C$16)^(1/12)-1),6),6)","v":0},0,{"$f":"IF($B176=0,0,G176/POWER(1+CALCULADORA!$C$29,Flujos!$B176/365))","v":0},"2038-05-28",174,{"$f":"+DIAS365($A$2,A176)","v":5291},5.4836273193359375E-6,0,6.4240694046020505E-8,6.4240694046020505E-8]
["2038-06-28",{"$f":"IF(DIAS365(CALCULADORA!$C$27,A177)<0,0,DIAS365(CALCULADORA!$C$27,A177))","v":5187},{"$f":"+HLOOKUP(CALCULADORA!$C$9,Tablas!B:B,Flujos!J177+1,FALSE)","v":0},0,0,{"$f":"ROUND(D176*ROUND(((1+CALCULADORA!$C$16)^(1/12)-1),6),6)","v":0},0,{"$f":"IF($B177=0,0,G177/POWER(1+CALCULADORA!$C$29,Flujos!$B177/365))","v":0},"2038-06-28",175,{"$f":"+DIAS365($A$2,A177)","v":5322},5.4836273193359375E-6,0,6.4240694046020505E-8,6.4240694046020505E-8]
["2038-07-28",{"$f":"IF(DIAS365(CALCULADORA!$C$27,A178)<0,0,DIAS365(CALCULADORA!$C$27,A178))","v":5217},{"$f":"+HLOOKUP(CALCULADORA!$C$9,Tablas!B:B,Flujos!J178+1,FALSE)","v":0},0,0,{"$f":"ROUND(D177*ROUND(((1+CALCULADORA!$C$16)^(1/12)-1),6),6)","v":0},0,{"$f":"IF($B178=0,0,G178/POWER(1+CALCULADORA!$C$29,Flujos!$B178/365))","v":0},"2038-07-28",176,{"$f":"+DIAS365($A$2,A178)","v":5352},5.4836273193359375E-6,0,6.4240694046020505E-8,6.4240694046020505E-8]
["2038-08-28",{"$f":"IF(DIAS365(CALCULADORA!$C$27,A179)<0,0,DIAS365(CALCULADORA!$C$27,A179))","v":5248},{"$f":"+HLOOKUP(CALCULADORA!$C$9,Tablas!B:B,Flujos!J179+1,FALSE)","v":0},0,0,{"$f":"ROUND(D178*ROUND(((1+CALCULADORA!$C$16)^(1/12)-1),6),6)","v":0},0,{"$f":"IF($B179=0,0,G179/POWER(1+CALCULADORA!$C$29,Flujos!$B179/365))","v":0},"2038-08-28",177,{"$f":"+DIAS365($A$2,A179)","v":5383},5.4836273193359375E-6,0,6.4240694046020505E-8,6.4240694046020505E-8]
["2038-09-28",{"$f":"IF(DIAS365(CALCULADORA!$C$27,A180)<0,0,DIAS365(CALCULADORA!$C$27,A180))","v":5279},{"$f":"+HLOOKUP(CALCULADORA!$C$9,Tablas!B:B,Flujos!J180+1,FALSE)","v":0},0,0,{"$f":"ROUND(D179*ROUND(((1+CALCULADORA!$C$16)^(1/12)-1),6),6)","v":0},0,{"$f":"IF($B180=0,0,G180/POWER(1+CALCULADORA!$C$29,Flujos!$B180/365))","v":0},"2038-09-28",178,{"$f":"+DIAS365($A$2,A180)","v":5414},5.4836273193359375E-6,0,6.4240694046020505E-8,6.4240694046020505E-8]
["2038-10-28",{"$f":"IF(DIAS365(CALCULADORA!$C$27,A181)<0,0,DIAS365(CALCULADORA!$C$27,A181))","v":5309},{"$f":"+HLOOKUP(CALCULADORA!$C$9,Tablas!B:B,Flujos!J181+1,FALSE)","v":0},0,0,{"$f":"ROUND(D180*ROUND(((1+CALCULADORA!$C$16)^(1/12)-1),6),6)","v":0},0,{"$f":"IF($B181=0,0,G181/POWER(1+CALCULADORA!$C$29,Flujos!$B181/365))","v":0},"2038-10-28",179,{"$f":"+DIAS365($A$2,A181)","v":5444},5.4836273193359375E-6,0,6.4240694046020505E-8,6.4240694046020505E-8]
["2038-11-28",{"$f":"IF(DIAS365(CALCULADORA!$C$27,A182)<0,0,DIAS365(CALCULADORA!$C$27,A182))","v":5340},{"$f":"+HLOOKUP(CALCULADORA!$C$9,Tablas!B:B,Flujos!J182+1,FALSE)","v":0},0,0,{"$f":"ROUND(D181*ROUND(((1+CALCULADORA!$C$16)^(1/12)-1),6),6)","v":0},0,{"$f":"IF($B182=0,0,G182/POWER(1+CALCULADORA!$C$29,Flujos!$B182/365))","v":0},"2038-11-28",180,{"$f":"+DIAS365($A$2,A182)","v":5475},5.4836273193359375E-6,0,6.4240694046020505E-8,6.4240694046020505E-8]
[null,null,{"$f":"+SUMIF(B2:B182,\">0\",C2:C182)","v":0.79795658999999997},null,{"$f":"SUM(E2:E182)","v":100.00000000000001},{"$f":"SUM(F2:F182)","v":11.973300999999994},{"$f":"SUM(G2:G182)","v":111.97330100000001},{"$f":"SUM(H2:H182)","v":80.58772561026521},null,null,null,"Totales",{"$f":"SUM(M2:M182)","v":37223006647.202454},{"$f":"SUM(N2:N182)","v":4456822339.6183615},41679828986.820801]

{"sheet":"TIR de Tenencia","index":3,"n_rows":65536,"n_cols":17,"rows_kept":4500,"cut":true,"hidden":true,"merged":[],"bounds":{"rows_first":2000,"rows_last":500,"rows_between":2000,"halvings":0}}
[{"$f":"+Flujos!A1","v":"Fecha"},{"$f":"+Flujos!L1","v":"Saldo / Balance"},{"$f":"+Flujos!M1","v":"Pago de Capital"},{"$f":"+Flujos!N1","v":"Pago de Intereses"},{"$f":"+Flujos!O1","v":"Pago Total"},{"$f":"+CALCULADORA!C27","v":"2024-04-12"},"Fecha","Flujo ","Fecha","Flujo 1","TIR",{"$f":"+DAY(A2)","v":28},{"$f":"+MONTH(G2)","v":11},{"$f":"+YEAR(G2)","v":2023},null,{"$f":"MATCH(MAX('TIR de Tenencia'!I:I),'TIR de Tenencia'!I:I,0)","v":7}]
[{"$f":"+Flujos!A2","v":"2023-11-28"},{"$f":"+Flujos!L2","v":37223006647.202454},{"$f":"+Flujos!M2","v":0},{"$f":"+Flujos!N2","v":0},{"$f":"+Flujos!O2","v":0},null,{"$f":"+CALCULADORA!C23","v":"2023-11-29"},{"$f":"-CALCULADORA!C24","v":-32705650231},{"$f":"IF(H2=H1, \" \", IF(G2 > CALCULADORA!$C$27, CALCULADORA!$C$27, G2))","v":"2023-11-29"},{"$f":"+H2","v":-32705650231},{"$f":"+XIRR(J2:J7,I2:I7)","v":0.71890152692794818},{"$f":"+L1","v":28},{"$f":"+IF(M1=12,1,M1+1)","v":12},{"$f":"+IF(M2=1,N1+1,N1)","v":2023},null,1,"Enero"]
[{"$f":"+Flujos!A3","v":"2023-12-28"},{"$f":"+Flujos!L3","v":35743063081.597397},{"$f":"+Flujos!M3","v":1479943565.6050587},{"$f":"+Flujos!N3","v":436067522.87197673},{"$f":"+Flujos!O3","v":1916011088.4770355},null,{"$f":"+DATE(N2,M2,L2)","v":"2023-12-28"},{"$f":"IF(G3<CALCULADORA!$C$23,0,IF(CALCULADORA!$C$27>'TIR de Tenencia'!G3,E3,CALCULADORA!$C$33))","v":1916011088.4770355},{"$f":"IF(H3=H2, \" \", IF(G3 > CALCULADORA!$C$27, CALCULADORA!$C$27, G3))","v":"2023-12-28"},{"$f":"+IF(H3=H2,\" \",H3)","v":1916011088.4770355},null,{"$f":"+L2","v":28},{"$f":"+IF(M2=12,1,M2+1)","v":1},{"$f":"+IF(M3=1,N2+1,N2)","v":2024},null,2,"Febrero"]
[{"$f":"+Flujos!A4","v":"2024-01-28"},{"$f":"+Flujos!L4","v":33818062264.784996},{"$f":"+Flujos!M4","v":1925000816.8124015},{"$f":"+Flujos!N4","v":418729984.0009135},{"$f":"+Flujos!O4","v":2343730800.8133149},null,{"$f":"+DATE(N3,M3,L3)","v":"2024-01-28"},{"$f":"IF(G4<CALCULADORA!$C$23,0,IF(CALCULADORA!$C$27>'TIR de Tenencia'!G4,E4,CALCULADORA!$C$33))","v":2343730800.8133149},{"$f":"IF(H4=H3, \" \", IF(G4 > CALCULADORA!$C$27, CALCULADORA!$C$27, G4))","v":"2024-01-28"},{"$f":"+IF(H4=H3,\" \",H4)","v":2343730800.8133149},null,28,2,2024,null,3,"Marzo"]
[{"$f":"+Flujos!A5","v":"2024-02-28"},{"$f":"+Flujos!L5","v":31839495680.256939},{"$f":"+Flujos!M5","v":1978566584.5280581},{"$f":"+Flujos!N5","v":396178599.43195623},{"$f":"+Flujos!O5","v":2374745183.9600143},null,"2024-02-28",{"$f":"IF(G5<CALCULADORA!$C$23,0,IF(CALCULADORA!$C$27>'TIR de Tenencia'!G5,E5,CALCULADORA!$C$33))","v":2374745183.9600143},{"$f":"IF(H5=H4, \" \", IF(G5 > CALCULADORA!$C$27, CALCULADORA!$C$27, G5))","v":"2024-02-28"},{"$f":"+IF(H5=H4,\" \",H5)","v":2374745183.9600143},null,28,3,2024,null,4,"Abril"]
[{"$f":"+Flujos!A6","v":"2024-03-28"},{"$f":"+Flujos!L6","v":29702343453.749008},{"$f":"+Flujos!M6","v":2137152226.5079324},{"$f":"+Flujos!N6","v":372999691.89421004},{"$f":"+Flujos!O6","v":2510151918.4021425},null,"2024-03-28",{"$f":"IF(G6<CALCULADORA!$C$23,0,IF(CALCULADORA!$C$27>'TIR de Tenencia'!G6,E6,CALCULADORA!$C$33))","v":2510151918.4021425},{"$f":"IF(H6=H5, \" \", IF(G6 > CALCULADORA!$C$27, CALCULADORA!$C$27, G6))","v":"2024-03-28"},2510151918.4021425,null,28,4,2024,null,5,"Mayo"]
[{"$f":"+Flujos!A7","v":"2024-04-28"},{"$f":"+Flujos!L7","v":28040261388.708057},{"$f":"+Flujos!M7","v":1662082065.0409503},{"$f":"+Flujos!N7","v":347962953.5606696},{"$f":"+Flujos!O7","v":2010045018.60162},null,"2024-04-28",{"$f":"IF(G7<CALCULADORA!$C$23,0,IF(CALCULADORA!$C$27>'TIR de Tenencia'!G7,E7,CALCULADORA!$C$33))","v":29996990701},{"$f":"IF(H7=H6, \" \", IF(G7 > CALCULADORA!$C$27, CALCULADORA!$C$27, G7))","v":"2024-04-12"},29996990701,null,28,5,2024,null,6,"Junio"]
[{"$f":"+Flujos!A8","v":"2024-05-28"},{"$f":"+Flujos!L8","v":26439171081.208881},{"$f":"+Flujos!M8","v":1601090307.499177},{"$f":"+Flujos!N8","v":328491662.16871488},{"$f":"+Flujos!O8","v":1929581969.667892},null,"2024-05-28",{"$f":"IF(G8<CALCULADORA!$C$23,0,IF(CALCULADORA!$C$27>'TIR de Tenencia'!G8,E8,CALCULADORA!$C$33))","v":29996990701},{"$f":"IF(H8=H7, \" \", IF(G8 > CALCULADORA!$C$27, CALCULADORA!$C$27, G8))","v":" "}," ",null,28,6,2024,null,7,"Julio"]
[{"$f":"+Flujos!A9","v":"2024-06-28"},{"$f":"+Flujos!L9","v":24426946709.610291},{"$f":"+Flujos!M9","v":2012224371.5985916},{"$f":"+Flujos!N9","v":309734889.21636206},{"$f":"+Flujos!O9","v":2321959260.8149538},null,"2024-06-28",{"$f":"IF(G9<CALCULADORA!$C$23,0,IF(CALCULADORA!$C$27>'TIR de Tenencia'!G9,E9,CALCULADORA!$C$33))","v":29996990701},{"$f":"IF(H9=H8, \" \", IF(G9 > CALCULADORA!$C$27, CALCULADORA!$C$27, G9))","v":" "}," ",null,28,7,2024,null,8,"Agosto"]
[{"$f":"+Flujos!A10","v":"2024-07-28"},{"$f":"+Flujos!L10","v":22007451277.54213},{"$f":"+Flujos!M10","v":2419495432.0681596},{"$f":"+Flujos!N10","v":286161680.70308453},{"$f":"+Flujos!O10","v":2705657112.771244},null,"2024-07-28",{"$f":"IF(G10<CALCULADORA!$C$23,0,IF(CALCULADORA!$C$27>'TIR de Tenencia'!G10,E10,CALCULADORA!$C$33))","v":29996990701},{"$f":"IF(H10=H9, \" \", IF(G10 > CALCULADORA!$C$27, CALCULADORA!$C$27, G10))","v":" "}," ",null,28,8,2024,null,9,"Septiembre"]
[{"$f":"+Flujos!A11","v":"2024-08-28"},{"$f":"+Flujos!L11","v":19587955845.473969},{"$f":"+Flujos!M11","v":2419495432.0681596},{"$f":"+Flujos!N11","v":257817291.71640605},{"$f":"+Flujos!O11","v":2677312723.7845654},null,"2024-08-28",{"$f":"IF(G11<CALCULADORA!$C$23,0,IF(CALCULADORA!$C$27>'TIR de Tenencia'!G11,E11,CALCULADORA!$C$33))","v":29996990701},{"$f":"IF(H11=H10, \" \", IF(G11 > CALCULADORA!$C$27, CALCULADORA!$C$27, G11))","v":" "}," ",null,28,{"$f":"+IF(M10=12,1,M10+1)","v":9},2024,null,10,"Octubre"]
[{"$f":"+Flujos!A12","v":"2024-09-28"},{"$f":"+Flujos!L12","v":17555785897.993542},{"$f":"+Flujos!M12","v":2032169947.4804285},{"$f":"+Flujos!N12","v":229472902.72972754},{"$f":"+Flujos!O12","v":2261642850.210156},null,"2024-09-28",{"$f":"IF(G12<CALCULADORA!$C$23,0,IF(CALCULADORA!$C$27>'TIR de Tenencia'!G12,E12,CALCULADORA!$C$33))","v":29996990701},{"$f":"IF(H12=H11, \" \", IF(G12 > CALCULADORA!$C$27, CALCULADORA!$C$27, G12))","v":" "}," ",null,28,10,2024,null,11,"Noviembre"]
[{"$f":"+Flujos!A13","v":"2024-10-28"},{"$f":"+Flujos!L13","v":15610524226.433002},{"$f":"+Flujos!M13","v":1945261671.5605402},{"$f":"+Flujos!N13","v":205666031.79499432},{"$f":"+Flujos!O13","v":2150927703.3555346},null,"2024-10-28",{"$f":"IF(G13<CALCULADORA!$C$23,0,IF(CALCULADORA!$C$27>'TIR de Tenencia'!G13,E13,CALCULADORA!$C$33))","v":29996990701},{"$f":"IF(H13=H12, \" \", IF(G13 > CALCULADORA!$C$27, CALCULADORA!$C$27, G13))","v":" "}," ",null,28,11,2024,null,12,"Diciembre"]
[{"$f":"+Flujos!A14","v":"2024-11-28"},{"$f":"+Flujos!L14","v":13763193307.52072},{"$f":"+Flujos!M14","v":1847330918.9122822},{"$f":"+Flujos!N14","v":182877291.31266263},{"$f":"+Flujos!O14","v":2030208210.2249448},null,"2024-11-28",{"$f":"IF(G14<CALCULADORA!$C$23,0,IF(CALCULADORA!$C$27>'TIR de Tenencia'!G14,E14,CALCULADORA!$C$33))","v":29996990701},{"$f":"IF(H14=H13, \" \", IF(G14 > CALCULADORA!$C$27, CALCULADORA!$C$27, G14))","v":" "}," ",null,28,12,2024]
[{"$f":"+Flujos!A15","v":"2024-12-28"},{"$f":"+Flujos!L15","v":11770031209.856228},{"$f":"+Flujos!M15","v":1993162097.6644926},{"$f":"+Flujos!N15","v":161235809.59760523},{"$f":"+Flujos!O15","v":2154397907.2620978},null,"2024-12-28",{"$f":"IF(G15<CALCULADORA!$C$23,0,IF(CALCULADORA!$C$27>'TIR de Tenencia'!G15,E15,CALCULADORA!$C$33))","v":29996990701},{"$f":"IF(H15=H14, \" \", IF(G15 > CALCULADORA!$C$27, CALCULADORA!$C$27, G15))","v":" "}," ",null,28,{"$f":"+IF(M14=12,1,M14+1)","v":1},2025]
[{"$f":"+Flujos!A16","v":"2025-01-28"},{"$f":"+Flujos!L16","v":9854508487.2264042},{"$f":"+Flujos!M16","v":1915522722.6298244},{"$f":"+Flujos!N16","v":137885915.62346572},{"$f":"+Flujos!O16","v":2053408638.2532902},null,"2025-01-28",{"$f":"IF(G16<CALCULADORA!$C$23,0,IF(CALCULADORA!$C$27>'TIR de Tenencia'!G16,E16,CALCULADORA!$C$33))","v":29996990701},{"$f":"IF(H16=H15, \" \", IF(G16 > CALCULADORA!$C$27, CALCULADORA!$C$27, G16))","v":" "}," ",null,28,2,2025]
[{"$f":"+Flujos!A17","v":"2025-02-28"},{"$f":"+Flujos!L17","v":8013014880.2165356},{"$f":"+Flujos!M17","v":1841493607.0098681},{"$f":"+Flujos!N17","v":115445566.92785732},{"$f":"+Flujos!O17","v":1956939173.9377255},null,"2025-02-28",{"$f":"IF(G17<CALCULADORA!$C$23,0,IF(CALCULADORA!$C$27>'TIR de Tenencia'!G17,E17,CALCULADORA!$C$33))","v":29996990701},{"$f":"IF(H17=H16, \" \", IF(G17 > CALCULADORA!$C$27, CALCULADORA!$C$27, G17))","v":" "}," ",null,28,3,2025]
[{"$f":"+Flujos!A18","v":"2025-03-28"},{"$f":"+Flujos!L18","v":6243605486.7293072},{"$f":"+Flujos!M18","v":1769409393.4872282},{"$f":"+Flujos!N18","v":93872469.321736708},{"$f":"+Flujos!O18","v":1863281862.808965},null,"2025-03-28",{"$f":"IF(G18<CALCULADORA!$C$23,0,IF(CALCULADORA!$C$27>'TIR de Tenencia'!G18,E18,CALCULADORA!$C$33))","v":29996990701},{"$f":"IF(H18=H17, \" \", IF(G18 > CALCULADORA!$C$27, CALCULADORA!$C$27, G18))","v":" "}," ",null,28,4,2025]
[{"$f":"+Flujos!A19","v":"2025-04-28"},{"$f":"+Flujos!L19","v":4544016031.2703695},{"$f":"+Flujos!M19","v":1699589455.4589376},{"$f":"+Flujos!N19","v":73143838.277033836},{"$f":"+Flujos!O19","v":1772733293.7359715},null,"2025-04-28",{"$f":"IF(G19<CALCULADORA!$C$23,0,IF(CALCULADORA!$C$27>'TIR de Tenencia'!G19,E19,CALCULADORA!$C$33))","v":29996990701},{"$f":"IF(H19=H18, \" \", IF(G19 > CALCULADORA!$C$27, CALCULADORA!$C$27, G19))","v":" "}," ",null,28,5,2025]
[{"$f":"+Flujos!A20","v":"2025-05-28"},{"$f":"+Flujos!L20","v":2912377546.6759663},{"$f":"+Flujos!M20","v":1631638484.594403},{"$f":"+Flujos!N20","v":53233147.80633238},{"$f":"+Flujos!O20","v":1684871632.4007354},null,"2025-05-28",{"$f":"IF(G20<CALCULADORA!$C$23,0,IF(CALCULADORA!$C$27>'TIR de Tenencia'!G20,E20,CALCULADORA!$C$33))","v":29996990701},{"$f":"IF(H20=H19, \" \", IF(G20 > CALCULADORA!$C$27, CALCULADORA!$C$27, G20))","v":" "}," ",null,28,{"$f":"+IF(M19=12,1,M19+1)","v":6},2025]
[{"$f":"+Flujos!A21","v":"2025-06-28"},{"$f":"+Flujos!L21","v":1342431728.8385036},{"$f":"+Flujos!M21","v":1569945817.8374627},{"$f":"+Flujos!N21","v":34118502.959308945},{"$f":"+Flujos!O21","v":1604064320.7967715},null,"2025-06-28",{"$f":"IF(G21<CALCULADORA!$C$23,0,IF(CALCULADORA!$C$27>'TIR de Tenencia'!G21,E21,CALCULADORA!$C$33))","v":29996990701},{"$f":"IF(H21=H20, \" \", IF(G21 > CALCULADORA!$C$27, CALCULADORA!$C$27, G21))","v":" "}," ",null,28,7,2025]
[{"$f":"+Flujos!A22","v":"2025-07-28"},{"$f":"+Flujos!L22","v":5.4836273193359375E-6},{"$f":"+Flujos!M22","v":1342431728.8384981},{"$f":"+Flujos!N22","v":15726587.703343069},{"$f":"+Flujos!O22","v":1358158316.5418413},null,"2025-07-28",{"$f":"IF(G22<CALCULADORA!$C$23,0,IF(CALCULADORA!$C$27>'TIR de Tenencia'!G22,E22,CALCULADORA!$C$33))","v":29996990701},{"$f":"IF(H22=H21, \" \", IF(G22 > CALCULADORA!$C$27, CALCULADORA!$C$27, G22))","v":" "}," ",null,28,8,2025]
[{"$f":"+Flujos!A23","v":"2025-08-28"},{"$f":"+Flujos!L23","v":5.4836273193359375E-6},{"$f":"+Flujos!M23","v":0},{"$f":"+Flujos!N23","v":6.4240694046020505E-8},{"$f":"+Flujos!O23","v":6.4240694046020505E-8},null,"2025-08-28",{"$f":"IF(G23<CALCULADORA!$C$23,0,IF(CALCULADORA!$C$27>'TIR de Tenencia'!G23,E23,CALCULADORA!$C$33))","v":29996990701},{"$f":"IF(H23=H22, \" \", IF(G23 > CALCULADORA!$C$27, CALCULADORA!$C$27, G23))","v":" "}," ",null,28,9,2025]
[{"$f":"+Flujos!A24","v":"2025-09-28"},{"$f":"+Flujos!L24","v":5.4836273193359375E-6},{"$f":"+Flujos!M24","v":0},{"$f":"+Flujos!N24","v":6.4240694046020505E-8},{"$f":"+Flujos!O24","v":6.4240694046020505E-8},null,"2025-09-28",{"$f":"IF(G24<CALCULADORA!$C$23,0,IF(CALCULADORA!$C$27>'TIR de Tenencia'!G24,E24,CALCULADORA!$C$33))","v":29996990701},{"$f":"IF(H24=H23, \" \", IF(G24 > CALCULADORA!$C$27, CALCULADORA!$C$27, G24))","v":" "}," ",null,28,10,2025]
[{"$f":"+Flujos!A25","v":"2025-10-28"},{"$f":"+Flujos!L25","v":5.4836273193359375E-6},{"$f":"+Flujos!M25","v":0},{"$f":"+Flujos!N25","v":6.4240694046020505E-8},{"$f":"+Flujos!O25","v":6.4240694046020505E-8},null,"2025-10-28",{"$f":"IF(G25<CALCULADORA!$C$23,0,IF(CALCULADORA!$C$27>'TIR de Tenencia'!G25,E25,CALCULADORA!$C$33))","v":29996990701},{"$f":"IF(H25=H24, \" \", IF(G25 > CALCULADORA!$C$27, CALCULADORA!$C$27, G25))","v":" "}," ",null,28,11,2025]
[{"$f":"+Flujos!A26","v":"2025-11-28"},{"$f":"+Flujos!L26","v":5.4836273193359375E-6},{"$f":"+Flujos!M26","v":0},{"$f":"+Flujos!N26","v":6.4240694046020505E-8},{"$f":"+Flujos!O26","v":6.4240694046020505E-8},null,"2025-11-28",{"$f":"IF(G26<CALCULADORA!$C$23,0,IF(CALCULADORA!$C$27>'TIR de Tenencia'!G26,E26,CALCULADORA!$C$33))","v":29996990701},{"$f":"IF(H26=H25, \" \", IF(G26 > CALCULADORA!$C$27, CALCULADORA!$C$27, G26))","v":" "},{"$f":"+IF(H26=H25,\" \",H26)","v":" "},null,28,12,2025]
[{"$f":"+Flujos!A27","v":"2025-12-28"},{"$f":"+Flujos!L27","v":5.4836273193359375E-6},{"$f":"+Flujos!M27","v":0},{"$f":"+Flujos!N27","v":6.4240694046020505E-8},{"$f":"+Flujos!O27","v":6.4240694046020505E-8},null,"2025-12-28",{"$f":"IF(G27<CALCULADORA!$C$23,0,IF(CALCULADORA!$C$27>'TIR de Tenencia'!G27,E27,CALCULADORA!$C$33))","v":29996990701},{"$f":"IF(H27=H26, \" \", IF(G27 > CALCULADORA!$C$27, CALCULADORA!$C$27, G27))","v":" "}," ",null,28,1,2026]
[{"$f":"+Flujos!A28","v":"2026-01-28"},{"$f":"+Flujos!L28","v":5.4836273193359375E-6},{"$f":"+Flujos!M28","v":0},{"$f":"+Flujos!N28","v":6.4240694046020505E-8},{"$f":"+Flujos!O28","v":6.4240694046020505E-8},null,"2026-01-28",{"$f":"IF(G28<CALCULADORA!$C$23,0,IF(CALCULADORA!$C$27>'TIR de Tenencia'!G28,E28,CALCULADORA!$C$33))","v":29996990701},{"$f":"IF(H28=H27, \" \", IF(G28 > CALCULADORA!$C$27, CALCULADORA!$C$27, G28))","v":" "}," ",null,28,2,2026]
[{"$f":"+Flujos!A29","v":"2026-02-28"},{"$f":"+Flujos!L29","v":5.4836273193359375E-6},{"$f":"+Flujos!M29","v":0},{"$f":"+Flujos!N29","v":6.4240694046020505E-8},{"$f":"+Flujos!O29","v":6.4240694046020505E-8},null,"2026-02-28",{"$f":"IF(G29<CALCULADORA!$C$23,0,IF(CALCULADORA!$C$27>'TIR de Tenencia'!G29,E29,CALCULADORA!$C$33))","v":29996990701},{"$f":"IF(H29=H28, \" \", IF(G29 > CALCULADORA!$C$27, CALCULADORA!$C$27, G29))","v":" "}," ",null,28,3,2026]
[{"$f":"+Flujos!A30","v":"2026-03-28"},{"$f":"+Flujos!L30","v":5.4836273193359375E-6},{"$f":"+Flujos!M30","v":0},{"$f":"+Flujos!N30","v":6.4240694046020505E-8},{"$f":"+Flujos!O30","v":6.4240694046020505E-8},null,"2026-03-28",{"$f":"IF(G30<CALCULADORA!$C$23,0,IF(CALCULADORA!$C$27>'TIR de Tenencia'!G30,E30,CALCULADORA!$C$33))","v":29996990701},{"$f":"IF(H30=H29, \" \", IF(G30 > CALCULADORA!$C$27, CALCULADORA!$C$27, G30))","v":" "}," ",null,28,4,2026]
[{"$f":"+Flujos!A31","v":"2026-04-28"},{"$f":"+Flujos!L31","v":5.4836273193359375E-6},{"$f":"+Flujos!M31","v":0},{"$f":"+Flujos!N31","v":6.4240694046020505E-8},{"$f":"+Flujos!O31","v":6.4240694046020505E-8},null,"2026-04-28",{"$f":"IF(G31<CALCULADORA!$C$23,0,IF(CALCULADORA!$C$27>'TIR de Tenencia'!G31,E31,CALCULADORA!$C$33))","v":29996990701},{"$f":"IF(H31=H30, \" \", IF(G31 > CALCULADORA!$C$27, CALCULADORA!$C$27, G31))","v":" "}," ",null,28,5,2026]
[{"$f":"+Flujos!A32","v":"2026-05-28"},{"$f":"+Flujos!L32","v":5.4836273193359375E-6},{"$f":"+Flujos!M32","v":0},{"$f":"+Flujos!N32","v":6.4240694046020505E-8},{"$f":"+Flujos!O32","v":6.4240694046020505E-8},null,"2026-05-28",{"$f":"IF(G32<CALCULADORA!$C$23,0,IF(CALCULADORA!$C$27>'TIR de Tenencia'!G32,E32,CALCULADORA!$C$33))","v":29996990701},{"$f":"IF(H32=H31, \" \", IF(G32 > CALCULADORA!$C$27, CALCULADORA!$C$27, G32))","v":" "}," ",null,28,6,2026]
[{"$f":"+Flujos!A33","v":"2026-06-28"},{"$f":"+Flujos!L33","v":5.4836273193359375E-6},{"$f":"+Flujos!M33","v":0},{"$f":"+Flujos!N33","v":6.4240694046020505E-8},{"$f":"+Flujos!O33","v":6.4240694046020505E-8},null,"2026-06-28",{"$f":"IF(G33<CALCULADORA!$C$23,0,IF(CALCULADORA!$C$27>'TIR de Tenencia'!G33,E33,CALCULADORA!$C$33))","v":29996990701},{"$f":"IF(H33=H32, \" \", IF(G33 > CALCULADORA!$C$27, CALCULADORA!$C$27, G33))","v":" "}," ",null,28,7,2026]
[{"$f":"+Flujos!A34","v":"2026-07-28"},{"$f":"+Flujos!L34","v":5.4836273193359375E-6},{"$f":"+Flujos!M34","v":0},{"$f":"+Flujos!N34","v":6.4240694046020505E-8},{"$f":"+Flujos!O34","v":6.4240694046020505E-8},null,"2026-07-28",{"$f":"IF(G34<CALCULADORA!$C$23,0,IF(CALCULADORA!$C$27>'TIR de Tenencia'!G34,E34,CALCULADORA!$C$33))","v":29996990701},{"$f":"IF(H34=H33, \" \", IF(G34 > CALCULADORA!$C$27, CALCULADORA!$C$27, G34))","v":" "}," ",null,28,8,2026]
[{"$f":"+Flujos!A35","v":"2026-08-28"},{"$f":"+Flujos!L35","v":5.4836273193359375E-6},{"$f":"+Flujos!M35","v":0},{"$f":"+Flujos!N35","v":6.4240694046020505E-8},{"$f":"+Flujos!O35","v":6.4240694046020505E-8},null,{"$f":"+DATE(N34,M34,L34)","v":"2026-08-28"},{"$f":"IF(G35<CALCULADORA!$C$23,0,IF(CALCULADORA!$C$27>'TIR de Tenencia'!G35,E35,CALCULADORA!$C$33))","v":29996990701},{"$f":"IF(H35=H34, \" \", IF(G35 > CALCULADORA!$C$27, CALCULADORA!$C$27, G35))","v":" "}," ",null,28,9,2026]
[{"$f":"+Flujos!A36","v":"2026-09-28"},{"$f":"+Flujos!L36","v":5.4836273193359375E-6},{"$f":"+Flujos!M36","v":0},{"$f":"+Flujos!N36","v":6.4240694046020505E-8},{"$f":"+Flujos!O36","v":6.4240694046020505E-8},null,"2026-09-28",{"$f":"IF(G36<CALCULADORA!$C$23,0,IF(CALCULADORA!$C$27>'TIR de Tenencia'!G36,E36,CALCULADORA!$C$33))","v":29996990701},{"$f":"IF(H36=H35, \" \", IF(G36 > CALCULADORA!$C$27, CALCULADORA!$C$27, G36))","v":" "}," ",null,28,10,2026]
[{"$f":"+Flujos!A37","v":"2026-10-28"},{"$f":"+Flujos!L37","v":5.4836273193359375E-6},{"$f":"+Flujos!M37","v":0},{"$f":"+Flujos!N37","v":6.4240694046020505E-8},{"$f":"+Flujos!O37","v":6.4240694046020505E-8},null,"2026-10-28",{"$f":"IF(G37<CALCULADORA!$C$23,0,IF(CALCULADORA!$C$27>'TIR de Tenencia'!G37,E37,CALCULADORA!$C$33))","v":29996990701},{"$f":"IF(H37=H36, \" \", IF(G37 > CALCULADORA!$C$27, CALCULADORA!$C$27, G37))","v":" "}," ",null,28,11,2026]
[{"$f":"+Flujos!A38","v":"2026-11-28"},{"$f":"+Flujos!L38","v":5.4836273193359375E-6},{"$f":"+Flujos!M38","v":0},{"$f":"+Flujos!N38","v":6.4240694046020505E-8},{"$f":"+Flujos!O38","v":6.4240694046020505E-8},null,"2026-11-28",{"$f":"IF(G38<CALCULADORA!$C$23,0,IF(CALCULADORA!$C$27>'TIR de Tenencia'!G38,E38,CALCULADORA!$C$33))","v":29996990701},{"$f":"IF(H38=H37, \" \", IF(G38 > CALCULADORA!$C$27, CALCULADORA!$C$27, G38))","v":" "}," ",null,28,12,2026]
[{"$f":"+Flujos!A39","v":"2026-12-28"},{"$f":"+Flujos!L39","v":5.4836273193359375E-6},{"$f":"+Flujos!M39","v":0},{"$f":"+Flujos!N39","v":6.4240694046020505E-8},{"$f":"+Flujos!O39","v":6.4240694046020505E-8},null,"2026-12-28",{"$f":"IF(G39<CALCULADORA!$C$23,0,IF(CALCULADORA!$C$27>'TIR de Tenencia'!G39,E39,CALCULADORA!$C$33))","v":29996990701},{"$f":"IF(H39=H38, \" \", IF(G39 > CALCULADORA!$C$27, CALCULADORA!$C$27, G39))","v":" "}," ",null,28,1,2027]
[{"$f":"+Flujos!A40","v":"2027-01-28"},{"$f":"+Flujos!L40","v":5.4836273193359375E-6},{"$f":"+Flujos!M40","v":0},{"$f":"+Flujos!N40","v":6.4240694046020505E-8},{"$f":"+Flujos!O40","v":6.4240694046020505E-8},null,"2027-01-28",{"$f":"IF(G40<CALCULADORA!$C$23,0,IF(CALCULADORA!$C$27>'TIR de Tenencia'!G40,E40,CALCULADORA!$C$33))","v":29996990701},{"$f":"IF(H40=H39, \" \", IF(G40 > CALCULADORA!$C$27, CALCULADORA!$C$27, G40))","v":" "}," ",null,28,2,2027]
[{"$f":"+Flujos!A41","v":"2027-02-28"},{"$f":"+Flujos!L41","v":5.4836273193359375E-6},{"$f":"+Flujos!M41","v":0},{"$f":"+Flujos!N41","v":6.4240694046020505E-8},{"$f":"+Flujos!O41","v":6.4240694046020505E-8},null,"2027-02-28",{"$f":"IF(G41<CALCULADORA!$C$23,0,IF(CALCULADORA!$C$27>'TIR de Tenencia'!G41,E41,CALCULADORA!$C$33))","v":29996990701},{"$f":"IF(H41=H40, \" \", IF(G41 > CALCULADORA!$C$27, CALCULADORA!$C$27, G41))","v":" "}," ",null,28,3,2027]
[{"$f":"+Flujos!A42","v":"2027-03-28"},{"$f":"+Flujos!L42","v":5.4836273193359375E-6},{"$f":"+Flujos!M42","v":0},{"$f":"+Flujos!N42","v":6.4240694046020505E-8},{"$f":"+Flujos!O42","v":6.4240694046020505E-8},null,"2027-03-28",{"$f":"IF(G42<CALCULADORA!$C$23,0,IF(CALCULADORA!$C$27>'TIR de Tenencia'!G42,E42,CALCULADORA!$C$33))","v":29996990701},{"$f":"IF(H42=H41, \" \", IF(G42 > CALCULADORA!$C$27, CALCULADORA!$C$27, G42))","v":" "}," ",null,28,4,2027]
[{"$f":"+Flujos!A43","v":"2027-04-28"},{"$f":"+Flujos!L43","v":5.4836273193359375E-6},{"$f":"+Flujos!M43","v":0},{"$f":"+Flujos!N43","v":6.4240694046020505E-8},{"$f":"+Flujos!O43","v":6.4240694046020505E-8},null,"2027-04-28",{"$f":"IF(G43<CALCULADORA!$C$23,0,IF(CALCULADORA!$C$27>'TIR de Tenencia'!G43,E43,CALCULADORA!$C$33))","v":29996990701},{"$f":"IF(H43=H42, \" \", IF(G43 > CALCULADORA!$C$27, CALCULADORA!$C$27, G43))","v":" "}," ",null,28,5,2027]
[{"$f":"+Flujos!A44","v":"2027-05-28"},{"$f":"+Flujos!L44","v":5.4836273193359375E-6},{"$f":"+Flujos!M44","v":0},{"$f":"+Flujos!N44","v":6.4240694046020505E-8},{"$f":"+Flujos!O44","v":6.4240694046020505E-8},null,"2027-05-28",{"$f":"IF(G44<CALCULADORA!$C$23,0,IF(CALCULADORA!$C$27>'TIR de Tenencia'!G44,E44,CALCULADORA!$C$33))","v":29996990701},{"$f":"IF(H44=H43, \" \", IF(G44 > CALCULADORA!$C$27, CALCULADORA!$C$27, G44))","v":" "}," ",null,28,6,2027]
[{"$f":"+Flujos!A45","v":"2027-06-28"},{"$f":"+Flujos!L45","v":5.4836273193359375E-6},{"$f":"+Flujos!M45","v":0},{"$f":"+Flujos!N45","v":6.4240694046020505E-8},{"$f":"+Flujos!O45","v":6.4240694046020505E-8},null,"2027-06-28",{"$f":"IF(G45<CALCULADORA!$C$23,0,IF(CALCULADORA!$C$27>'TIR de Tenencia'!G45,E45,CALCULADORA!$C$33))","v":29996990701},{"$f":"IF(H45=H44, \" \", IF(G45 > CALCULADORA!$C$27, CALCULADORA!$C$27, G45))","v":" "}," ",null,28,7,2027]
[{"$f":"+Flujos!A46","v":"2027-07-28"},{"$f":"+Flujos!L46","v":5.4836273193359375E-6},{"$f":"+Flujos!M46","v":0},{"$f":"+Flujos!N46","v":6.4240694046020505E-8},{"$f":"+Flujos!O46","v":6.4240694046020505E-8},null,"2027-07-28",{"$f":"IF(G46<CALCULADORA!$C$23,0,IF(CALCULADORA!$C$27>'TIR de Tenencia'!G46,E46,CALCULADORA!$C$33))","v":29996990701},{"$f":"IF(H46=H45, \" \", IF(G46 > CALCULADORA!$C$27, CALCULADORA!$C$27, G46))","v":" "}," ",null,28,8,2027]
[{"$f":"+Flujos!A47","v":"2027-08-28"},{"$f":"+Flujos!L47","v":5.4836273193359375E-6},{"$f":"+Flujos!M47","v":0},{"$f":"+Flujos!N47","v":6.4240694046020505E-8},{"$f":"+Flujos!O47","v":6.4240694046020505E-8},null,"2027-08-28",{"$f":"IF(G47<CALCULADORA!$C$23,0,IF(CALCULADORA!$C$27>'TIR de Tenencia'!G47,E47,CALCULADORA!$C$33))","v":29996990701},{"$f":"IF(H47=H46, \" \", IF(G47 > CALCULADORA!$C$27, CALCULADORA!$C$27, G47))","v":" "}," ",null,28,9,2027]
[{"$f":"+Flujos!A48","v":"2027-09-28"},{"$f":"+Flujos!L48","v":5.4836273193359375E-6},{"$f":"+Flujos!M48","v":0},{"$f":"+Flujos!N48","v":6.4240694046020505E-8},{"$f":"+Flujos!O48","v":6.4240694046020505E-8},null,"2027-09-28",{"$f":"IF(G48<CALCULADORA!$C$23,0,IF(CALCULADORA!$C$27>'TIR de Tenencia'!G48,E48,CALCULADORA!$C$33))","v":29996990701},{"$f":"IF(H48=H47, \" \", IF(G48 > CALCULADORA!$C$27, CALCULADORA!$C$27, G48))","v":" "}," ",null,28,10,2027]
[{"$f":"+Flujos!A49","v":"2027-10-28"},{"$f":"+Flujos!L49","v":5.4836273193359375E-6},{"$f":"+Flujos!M49","v":0},{"$f":"+Flujos!N49","v":6.4240694046020505E-8},{"$f":"+Flujos!O49","v":6.4240694046020505E-8},null,"2027-10-28",{"$f":"IF(G49<CALCULADORA!$C$23,0,IF(CALCULADORA!$C$27>'TIR de Tenencia'!G49,E49,CALCULADORA!$C$33))","v":29996990701},{"$f":"IF(H49=H48, \" \", IF(G49 > CALCULADORA!$C$27, CALCULADORA!$C$27, G49))","v":" "}," ",null,28,11,2027]
[{"$f":"+Flujos!A50","v":"2027-11-28"},{"$f":"+Flujos!L50","v":5.4836273193359375E-6},{"$f":"+Flujos!M50","v":0},{"$f":"+Flujos!N50","v":6.4240694046020505E-8},{"$f":"+Flujos!O50","v":6.4240694046020505E-8},null,"2027-11-28",{"$f":"IF(G50<CALCULADORA!$C$23,0,IF(CALCULADORA!$C$27>'TIR de Tenencia'!G50,E50,CALCULADORA!$C$33))","v":29996990701},{"$f":"IF(H50=H49, \" \", IF(G50 > CALCULADORA!$C$27, CALCULADORA!$C$27, G50))","v":" "}," ",null,28,12,2027]
[{"$f":"+Flujos!A51","v":"2027-12-28"},{"$f":"+Flujos!L51","v":5.4836273193359375E-6},{"$f":"+Flujos!M51","v":0},{"$f":"+Flujos!N51","v":6.4240694046020505E-8},{"$f":"+Flujos!O51","v":6.4240694046020505E-8},null,"2027-12-28",{"$f":"IF(G51<CALCULADORA!$C$23,0,IF(CALCULADORA!$C$27>'TIR de Tenencia'!G51,E51,CALCULADORA!$C$33))","v":29996990701},{"$f":"IF(H51=H50, \" \", IF(G51 > CALCULADORA!$C$27, CALCULADORA!$C$27, G51))","v":" "}," ",null,28,1,2028]
[{"$f":"+Flujos!A52","v":"2028-01-28"},{"$f":"+Flujos!L52","v":5.4836273193359375E-6},{"$f":"+Flujos!M52","v":0},{"$f":"+Flujos!N52","v":6.4240694046020505E-8},{"$f":"+Flujos!O52","v":6.4240694046020505E-8},null,"2028-01-28",{"$f":"IF(G52<CALCULADORA!$C$23,0,IF(CALCULADORA!$C$27>'TIR de Tenencia'!G52,E52,CALCULADORA!$C$33))","v":29996990701},{"$f":"IF(H52=H51, \" \", IF(G52 > CALCULADORA!$C$27, CALCULADORA!$C$27, G52))","v":" "}," ",null,28,2,2028]
[{"$f":"+Flujos!A53","v":"2028-02-28"},{"$f":"+Flujos!L53","v":5.4836273193359375E-6},{"$f":"+Flujos!M53","v":0},{"$f":"+Flujos!N53","v":6.4240694046020505E-8},{"$f":"+Flujos!O53","v":6.4240694046020505E-8},null,"2028-02-28",{"$f":"IF(G53<CALCULADORA!$C$23,0,IF(CALCULADORA!$C$27>'TIR de Tenencia'!G53,E53,CALCULADORA!$C$33))","v":29996990701},{"$f":"IF(H53=H52, \" \", IF(G53 > CALCULADORA!$C$27, CALCULADORA!$C$27, G53))","v":" "}," ",null,28,3,2028]
[{"$f":"+Flujos!A54","v":"2028-03-28"},{"$f":"+Flujos!L54","v":5.4836273193359375E-6},{"$f":"+Flujos!M54","v":0},{"$f":"+Flujos!N54","v":6.4240694046020505E-8},{"$f":"+Flujos!O54","v":6.4240694046020505E-8},null,"2028-03-28",{"$f":"IF(G54<CALCULADORA!$C$23,0,IF(CALCULADORA!$C$27>'TIR de Tenencia'!G54,E54,CALCULADORA!$C$33))","v":29996990701},{"$f":"IF(H54=H53, \" \", IF(G54 > CALCULADORA!$C$27, CALCULADORA!$C$27, G54))","v":" "}," ",null,28,4,2028]
[{"$f":"+Flujos!A55","v":"2028-04-28"},{"$f":"+Flujos!L55","v":5.4836273193359375E-6},{"$f":"+Flujos!M55","v":0},{"$f":"+Flujos!N55","v":6.4240694046020505E-8},{"$f":"+Flujos!O55","v":6.4240694046020505E-8},null,"2028-04-28",{"$f":"IF(G55<CALCULADORA!$C$23,0,IF(CALCULADORA!$C$27>'TIR de Tenencia'!G55,E55,CALCULADORA!$C$33))","v":29996990701},{"$f":"IF(H55=H54, \" \", IF(G55 > CALCULADORA!$C$27, CALCULADORA!$C$27, G55))","v":" "}," ",null,28,5,2028]
[{"$f":"+Flujos!A56","v":"2028-05-28"},{"$f":"+Flujos!L56","v":5.4836273193359375E-6},{"$f":"+Flujos!M56","v":0},{"$f":"+Flujos!N56","v":6.4240694046020505E-8},{"$f":"+Flujos!O56","v":6.4240694046020505E-8},null,"2028-05-28",{"$f":"IF(G56<CALCULADORA!$C$23,0,IF(CALCULADORA!$C$27>'TIR de Tenencia'!G56,E56,CALCULADORA!$C$33))","v":29996990701},{"$f":"IF(H56=H55, \" \", IF(G56 > CALCULADORA!$C$27, CALCULADORA!$C$27, G56))","v":" "}," ",null,28,6,2028]
[{"$f":"+Flujos!A57","v":"2028-06-28"},{"$f":"+Flujos!L57","v":5.4836273193359375E-6},{"$f":"+Flujos!M57","v":0},{"$f":"+Flujos!N57","v":6.4240694046020505E-8},{"$f":"+Flujos!O57","v":6.4240694046020505E-8},null,"2028-06-28",{"$f":"IF(G57<CALCULADORA!$C$23,0,IF(CALCULADORA!$C$27>'TIR de Tenencia'!G57,E57,CALCULADORA!$C$33))","v":29996990701},{"$f":"IF(H57=H56, \" \", IF(G57 > CALCULADORA!$C$27, CALCULADORA!$C$27, G57))","v":" "}," ",null,28,7,2028]
[{"$f":"+Flujos!A58","v":"2028-07-28"},{"$f":"+Flujos!L58","v":5.4836273193359375E-6},{"$f":"+Flujos!M58","v":0},{"$f":"+Flujos!N58","v":6.4240694046020505E-8},{"$f":"+Flujos!O58","v":6.4240694046020505E-8},null,"2028-07-28",{"$f":"IF(G58<CALCULADORA!$C$23,0,IF(CALCULADORA!$C$27>'TIR de Tenencia'!G58,E58,CALCULADORA!$C$33))","v":29996990701},{"$f":"IF(H58=H57, \" \", IF(G58 > CALCULADORA!$C$27, CALCULADORA!$C$27, G58))","v":" "}," ",null,28,8,2028]
[{"$f":"+Flujos!A59","v":"2028-08-28"},{"$f":"+Flujos!L59","v":5.4836273193359375E-6},{"$f":"+Flujos!M59","v":0},{"$f":"+Flujos!N59","v":6.4240694046020505E-8},{"$f":"+Flujos!O59","v":6.4240694046020505E-8},null,"2028-08-28",{"$f":"IF(G59<CALCULADORA!$C$23,0,IF(CALCULADORA!$C$27>'TIR de Tenencia'!G59,E59,CALCULADORA!$C$33))","v":29996990701},{"$f":"IF(H59=H58, \" \", IF(G59 > CALCULADORA!$C$27, CALCULADORA!$C$27, G59))","v":" "}," ",null,28,9,2028]
[{"$f":"+Flujos!A60","v":"2028-09-28"},{"$f":"+Flujos!L60","v":5.4836273193359375E-6},{"$f":"+Flujos!M60","v":0},{"$f":"+Flujos!N60","v":6.4240694046020505E-8},{"$f":"+Flujos!O60","v":6.4240694046020505E-8},null,"2028-09-28",{"$f":"IF(G60<CALCULADORA!$C$23,0,IF(CALCULADORA!$C$27>'TIR de Tenencia'!G60,E60,CALCULADORA!$C$33))","v":29996990701},{"$f":"IF(H60=H59, \" \", IF(G60 > CALCULADORA!$C$27, CALCULADORA!$C$27, G60))","v":" "}," ",null,28,10,2028]
[{"$f":"+Flujos!A61","v":"2028-10-28"},{"$f":"+Flujos!L61","v":5.4836273193359375E-6},{"$f":"+Flujos!M61","v":0},{"$f":"+Flujos!N61","v":6.4240694046020505E-8},{"$f":"+Flujos!O61","v":6.4240694046020505E-8},null,"2028-10-28",{"$f":"IF(G61<CALCULADORA!$C$23,0,IF(CALCULADORA!$C$27>'TIR de Tenencia'!G61,E61,CALCULADORA!$C$33))","v":29996990701},{"$f":"IF(H61=H60, \" \", IF(G61 > CALCULADORA!$C$27, CALCULADORA!$C$27, G61))","v":" "}," ",null,28,11,2028]
[{"$f":"+Flujos!A62","v":"2028-11-28"},{"$f":"+Flujos!L62","v":5.4836273193359375E-6},{"$f":"+Flujos!M62","v":0},{"$f":"+Flujos!N62","v":6.4240694046020505E-8},{"$f":"+Flujos!O62","v":6.4240694046020505E-8},null,"2028-11-28",{"$f":"IF(G62<CALCULADORA!$C$23,0,IF(CALCULADORA!$C$27>'TIR de Tenencia'!G62,E62,CALCULADORA!$C$33))","v":29996990701},{"$f":"IF(H62=H61, \" \", IF(G62 > CALCULADORA!$C$27, CALCULADORA!$C$27, G62))","v":" "}," ",null,28,12,2028]
[{"$f":"+Flujos!A63","v":"2028-12-28"},{"$f":"+Flujos!L63","v":5.4836273193359375E-6},{"$f":"+Flujos!M63","v":0},{"$f":"+Flujos!N63","v":6.4240694046020505E-8},{"$f":"+Flujos!O63","v":6.4240694046020505E-8},null,"2028-12-28",{"$f":"IF(G63<CALCULADORA!$C$23,0,IF(CALCULADORA!$C$27>'TIR de Tenencia'!G63,E63,CALCULADORA!$C$33))","v":29996990701},{"$f":"IF(H63=H62, \" \", IF(G63 > CALCULADORA!$C$27, CALCULADORA!$C$27, G63))","v":" "}," ",null,28,1,2029]
[{"$f":"+Flujos!A64","v":"2029-01-28"},{"$f":"+Flujos!L64","v":5.4836273193359375E-6},{"$f":"+Flujos!M64","v":0},{"$f":"+Flujos!N64","v":6.4240694046020505E-8},{"$f":"+Flujos!O64","v":6.4240694046020505E-8},null,"2029-01-28",{"$f":"IF(G64<CALCULADORA!$C$23,0,IF(CALCULADORA!$C$27>'TIR de Tenencia'!G64,E64,CALCULADORA!$C$33))","v":29996990701},{"$f":"IF(H64=H63, \" \", IF(G64 > CALCULADORA!$C$27, CALCULADORA!$C$27, G64))","v":" "}," ",null,28,2,2029]
[{"$f":"+Flujos!A65","v":"2029-02-28"},{"$f":"+Flujos!L65","v":5.4836273193359375E-6},{"$f":"+Flujos!M65","v":0},{"$f":"+Flujos!N65","v":6.4240694046020505E-8},{"$f":"+Flujos!O65","v":6.4240694046020505E-8},null,"2029-02-28",{"$f":"IF(G65<CALCULADORA!$C$23,0,IF(CALCULADORA!$C$27>'TIR de Tenencia'!G65,E65,CALCULADORA!$C$33))","v":29996990701},{"$f":"IF(H65=H64, \" \", IF(G65 > CALCULADORA!$C$27, CALCULADORA!$C$27, G65))","v":" "}," ",null,28,3,2029]
[{"$f":"+Flujos!A66","v":"2029-03-28"},{"$f":"+Flujos!L66","v":5.4836273193359375E-6},{"$f":"+Flujos!M66","v":0},{"$f":"+Flujos!N66","v":6.4240694046020505E-8},{"$f":"+Flujos!O66","v":6.4240694046020505E-8},null,"2029-03-28",{"$f":"IF(G66<CALCULADORA!$C$23,0,IF(CALCULADORA!$C$27>'TIR de Tenencia'!G66,E66,CALCULADORA!$C$33))","v":29996990701},{"$f":"IF(H66=H65, \" \", IF(G66 > CALCULADORA!$C$27, CALCULADORA!$C$27, G66))","v":" "}," ",null,28,4,{"$f":"+IF(M66=1,N65+1,N65)","v":2029}]
[{"$f":"+Flujos!A67","v":"2029-04-28"},{"$f":"+Flujos!L67","v":5.4836273193359375E-6},{"$f":"+Flujos!M67","v":0},{"$f":"+Flujos!N67","v":6.4240694046020505E-8},{"$f":"+Flujos!O67","v":6.4240694046020505E-8},null,{"$f":"+DATE(N66,M66,L66)","v":"2029-04-28"},{"$f":"IF(G67<CALCULADORA!$C$23,0,IF(CALCULADORA!$C$27>'TIR de Tenencia'!G67,E67,CALCULADORA!$C$33))","v":29996990701},{"$f":"IF(H67=H66, \" \", IF(G67 > CALCULADORA!$C$27, CALCULADORA!$C$27, G67))","v":" "}," ",null,{"$f":"+L66","v":28},{"$f":"+IF(M66=12,1,M66+1)","v":5},2029]
[{"$f":"+Flujos!A68","v":"2029-05-28"},{"$f":"+Flujos!L68","v":5.4836273193359375E-6},{"$f":"+Flujos!M68","v":0},{"$f":"+Flujos!N68","v":6.4240694046020505E-8},{"$f":"+Flujos!O68","v":6.4240694046020505E-8},null,"2029-05-28",{"$f":"IF(G68<CALCULADORA!$C$23,0,IF(CALCULADORA!$C$27>'TIR de Tenencia'!G68,E68,CALCULADORA!$C$33))","v":29996990701},{"$f":"IF(H68=H67, \" \", IF(G68 > CALCULADORA!$C$27, CALCULADORA!$C$27, G68))","v":" "},{"$f":"+IF(H68=H67,\" \",H68)","v":" "},null,28,6,2029]
[{"$f":"+Flujos!A69","v":"2029-06-28"},{"$f":"+Flujos!L69","v":5.4836273193359375E-6},{"$f":"+Flujos!M69","v":0},{"$f":"+Flujos!N69","v":6.4240694046020505E-8},{"$f":"+Flujos!O69","v":6.4240694046020505E-8},null,"2029-06-28",{"$f":"IF(G69<CALCULADORA!$C$23,0,IF(CALCULADORA!$C$27>'TIR de Tenencia'!G69,E69,CALCULADORA!$C$33))","v":29996990701},{"$f":"IF(H69=H68, \" \", IF(G69 > CALCULADORA!$C$27, CALCULADORA!$C$27, G69))","v":" "}," ",null,28,7,2029]
[{"$f":"+Flujos!A70","v":"2029-07-28"},{"$f":"+Flujos!L70","v":5.4836273193359375E-6},{"$f":"+Flujos!M70","v":0},{"$f":"+Flujos!N70","v":6.4240694046020505E-8},{"$f":"+Flujos!O70","v":6.4240694046020505E-8},null,"2029-07-28",{"$f":"IF(G70<CALCULADORA!$C$23,0,IF(CALCULADORA!$C$27>'TIR de Tenencia'!G70,E70,CALCULADORA!$C$33))","v":29996990701},{"$f":"IF(H70=H69, \" \", IF(G70 > CALCULADORA!$C$27, CALCULADORA!$C$27, G70))","v":" "}," ",null,28,8,2029]
[{"$f":"+Flujos!A71","v":"2029-08-28"},{"$f":"+Flujos!L71","v":5.4836273193359375E-6},{"$f":"+Flujos!M71","v":0},{"$f":"+Flujos!N71","v":6.4240694046020505E-8},{"$f":"+Flujos!O71","v":6.4240694046020505E-8},null,"2029-08-28",{"$f":"IF(G71<CALCULADORA!$C$23,0,IF(CALCULADORA!$C$27>'TIR de Tenencia'!G71,E71,CALCULADORA!$C$33))","v":29996990701},{"$f":"IF(H71=H70, \" \", IF(G71 > CALCULADORA!$C$27, CALCULADORA!$C$27, G71))","v":" "}," ",null,28,9,2029]
[{"$f":"+Flujos!A72","v":"2029-09-28"},{"$f":"+Flujos!L72","v":5.4836273193359375E-6},{"$f":"+Flujos!M72","v":0},{"$f":"+Flujos!N72","v":6.4240694046020505E-8},{"$f":"+Flujos!O72","v":6.4240694046020505E-8},null,"2029-09-28",{"$f":"IF(G72<CALCULADORA!$C$23,0,IF(CALCULADORA!$C$27>'TIR de Tenencia'!G72,E72,CALCULADORA!$C$33))","v":29996990701},{"$f":"IF(H72=H71, \" \", IF(G72 > CALCULADORA!$C$27, CALCULADORA!$C$27, G72))","v":" "}," ",null,28,10,2029]
[{"$f":"+Flujos!A73","v":"2029-10-28"},{"$f":"+Flujos!L73","v":5.4836273193359375E-6},{"$f":"+Flujos!M73","v":0},{"$f":"+Flujos!N73","v":6.4240694046020505E-8},{"$f":"+Flujos!O73","v":6.4240694046020505E-8},null,"2029-10-28",{"$f":"IF(G73<CALCULADORA!$C$23,0,IF(CALCULADORA!$C$27>'TIR de Tenencia'!G73,E73,CALCULADORA!$C$33))","v":29996990701},{"$f":"IF(H73=H72, \" \", IF(G73 > CALCULADORA!$C$27, CALCULADORA!$C$27, G73))","v":" "}," ",null,28,11,2029]
[{"$f":"+Flujos!A74","v":"2029-11-28"},{"$f":"+Flujos!L74","v":5.4836273193359375E-6},{"$f":"+Flujos!M74","v":0},{"$f":"+Flujos!N74","v":6.4240694046020505E-8},{"$f":"+Flujos!O74","v":6.4240694046020505E-8},null,"2029-11-28",{"$f":"IF(G74<CALCULADORA!$C$23,0,IF(CALCULADORA!$C$27>'TIR de Tenencia'!G74,E74,CALCULADORA!$C$33))","v":29996990701},{"$f":"IF(H74=H73, \" \", IF(G74 > CALCULADORA!$C$27, CALCULADORA!$C$27, G74))","v":" "}," ",null,28,12,2029]
[{"$f":"+Flujos!A75","v":"2029-12-28"},{"$f":"+Flujos!L75","v":5.4836273193359375E-6},{"$f":"+Flujos!M75","v":0},{"$f":"+Flujos!N75","v":6.4240694046020505E-8},{"$f":"+Flujos!O75","v":6.4240694046020505E-8},null,"2029-12-28",{"$f":"IF(G75<CALCULADORA!$C$23,0,IF(CALCULADORA!$C$27>'TIR de Tenencia'!G75,E75,CALCULADORA!$C$33))","v":29996990701},{"$f":"IF(H75=H74, \" \", IF(G75 > CALCULADORA!$C$27, CALCULADORA!$C$27, G75))","v":" "}," ",null,28,1,2030]
[{"$f":"+Flujos!A76","v":"2030-01-28"},{"$f":"+Flujos!L76","v":5.4836273193359375E-6},{"$f":"+Flujos!M76","v":0},{"$f":"+Flujos!N76","v":6.4240694046020505E-8},{"$f":"+Flujos!O76","v":6.4240694046020505E-8},null,"2030-01-28",{"$f":"IF(G76<CALCULADORA!$C$23,0,IF(CALCULADORA!$C$27>'TIR de Tenencia'!G76,E76,CALCULADORA!$C$33))","v":29996990701},{"$f":"IF(H76=H75, \" \", IF(G76 > CALCULADORA!$C$27, CALCULADORA!$C$27, G76))","v":" "}," ",null,28,2,2030]
[{"$f":"+Flujos!A77","v":"2030-02-28"},{"$f":"+Flujos!L77","v":5.4836273193359375E-6},{"$f":"+Flujos!M77","v":0},{"$f":"+Flujos!N77","v":6.4240694046020505E-8},{"$f":"+Flujos!O77","v":6.4240694046020505E-8},null,"2030-02-28",{"$f":"IF(G77<CALCULADORA!$C$23,0,IF(CALCULADORA!$C$27>'TIR de Tenencia'!G77,E77,CALCULADORA!$C$33))","v":29996990701},{"$f":"IF(H77=H76, \" \", IF(G77 > CALCULADORA!$C$27, CALCULADORA!$C$27, G77))","v":" "}," ",null,28,3,2030]
[{"$f":"+Flujos!A78","v":"2030-03-28"},{"$f":"+Flujos!L78","v":5.4836273193359375E-6},{"$f":"+Flujos!M78","v":0},{"$f":"+Flujos!N78","v":6.4240694046020505E-8},{"$f":"+Flujos!O78","v":6.4240694046020505E-8},null,"2030-03-28",{"$f":"IF(G78<CALCULADORA!$C$23,0,IF(CALCULADORA!$C$27>'TIR de Tenencia'!G78,E78,CALCULADORA!$C$33))","v":29996990701},{"$f":"IF(H78=H77, \" \", IF(G78 > CALCULADORA!$C$27, CALCULADORA!$C$27, G78))","v":" "}," ",null,28,4,2030]
[{"$f":"+Flujos!A79","v":"2030-04-28"},{"$f":"+Flujos!L79","v":5.4836273193359375E-6},{"$f":"+Flujos!M79","v":0},{"$f":"+Flujos!N79","v":6.4240694046020505E-8},{"$f":"+Flujos!O79","v":6.4240694046020505E-8},null,"2030-04-28",{"$f":"IF(G79<CALCULADORA!$C$23,0,IF(CALCULADORA!$C$27>'TIR de Tenencia'!G79,E79,CALCULADORA!$C$33))","v":29996990701},{"$f":"IF(H79=H78, \" \", IF(G79 > CALCULADORA!$C$27, CALCULADORA!$C$27, G79))","v":" "}," ",null,28,5,2030]
[{"$f":"+Flujos!A80","v":"2030-05-28"},{"$f":"+Flujos!L80","v":5.4836273193359375E-6},{"$f":"+Flujos!M80","v":0},{"$f":"+Flujos!N80","v":6.4240694046020505E-8},{"$f":"+Flujos!O80","v":6.4240694046020505E-8},null,"2030-05-28",{"$f":"IF(G80<CALCULADORA!$C$23,0,IF(CALCULADORA!$C$27>'TIR de Tenencia'!G80,E80,CALCULADORA!$C$33))","v":29996990701},{"$f":"IF(H80=H79, \" \", IF(G80 > CALCULADORA!$C$27, CALCULADORA!$C$27, G80))","v":" "}," ",null,28,6,2030]
[{"$f":"+Flujos!A81","v":"2030-06-28"},{"$f":"+Flujos!L81","v":5.4836273193359375E-6},{"$f":"+Flujos!M81","v":0},{"$f":"+Flujos!N81","v":6.4240694046020505E-8},{"$f":"+Flujos!O81","v":6.4240694046020505E-8},null,"2030-06-28",{"$f":"IF(G81<CALCULADORA!$C$23,0,IF(CALCULADORA!$C$27>'TIR de Tenencia'!G81,E81,CALCULADORA!$C$33))","v":29996990701},{"$f":"IF(H81=H80, \" \", IF(G81 > CALCULADORA!$C$27, CALCULADORA!$C$27, G81))","v":" "}," ",null,28,7,2030]
[{"$f":"+Flujos!A82","v":"2030-07-28"},{"$f":"+Flujos!L82","v":5.4836273193359375E-6},{"$f":"+Flujos!M82","v":0},{"$f":"+Flujos!N82","v":6.4240694046020505E-8},{"$f":"+Flujos!O82","v":6.4240694046020505E-8},null,"2030-07-28",{"$f":"IF(G82<CALCULADORA!$C$23,0,IF(CALCULADORA!$C$27>'TIR de Tenencia'!G82,E82,CALCULADORA!$C$33))","v":29996990701},{"$f":"IF(H82=H81, \" \", IF(G82 > CALCULADORA!$C$27, CALCULADORA!$C$27, G82))","v":" "}," ",null,28,8,2030]
[{"$f":"+Flujos!A83","v":"2030-08-28"},{"$f":"+Flujos!L83","v":5.4836273193359375E-6},{"$f":"+Flujos!M83","v":0},{"$f":"+Flujos!N83","v":6.4240694046020505E-8},{"$f":"+Flujos!O83","v":6.4240694046020505E-8},null,"2030-08-28",{"$f":"IF(G83<CALCULADORA!$C$23,0,IF(CALCULADORA!$C$27>'TIR de Tenencia'!G83,E83,CALCULADORA!$C$33))","v":29996990701},{"$f":"IF(H83=H82, \" \", IF(G83 > CALCULADORA!$C$27, CALCULADORA!$C$27, G83))","v":" "}," ",null,28,9,2030]
[{"$f":"+Flujos!A84","v":"2030-09-28"},{"$f":"+Flujos!L84","v":5.4836273193359375E-6},{"$f":"+Flujos!M84","v":0},{"$f":"+Flujos!N84","v":6.4240694046020505E-8},{"$f":"+Flujos!O84","v":6.4240694046020505E-8},null,"2030-09-28",{"$f":"IF(G84<CALCULADORA!$C$23,0,IF(CALCULADORA!$C$27>'TIR de Tenencia'!G84,E84,CALCULADORA!$C$33))","v":29996990701},{"$f":"IF(H84=H83, \" \", IF(G84 > CALCULADORA!$C$27, CALCULADORA!$C$27, G84))","v":" "}," ",null,28,10,2030]
[{"$f":"+Flujos!A85","v":"2030-10-28"},{"$f":"+Flujos!L85","v":5.4836273193359375E-6},{"$f":"+Flujos!M85","v":0},{"$f":"+Flujos!N85","v":6.4240694046020505E-8},{"$f":"+Flujos!O85","v":6.4240694046020505E-8},null,"2030-10-28",{"$f":"IF(G85<CALCULADORA!$C$23,0,IF(CALCULADORA!$C$27>'TIR de Tenencia'!G85,E85,CALCULADORA!$C$33))","v":29996990701},{"$f":"IF(H85=H84, \" \", IF(G85 > CALCULADORA!$C$27, CALCULADORA!$C$27, G85))","v":" "}," ",null,28,11,2030]
[{"$f":"+Flujos!A86","v":"2030-11-28"},{"$f":"+Flujos!L86","v":5.4836273193359375E-6},{"$f":"+Flujos!M86","v":0},{"$f":"+Flujos!N86","v":6.4240694046020505E-8},{"$f":"+Flujos!O86","v":6.4240694046020505E-8},null,"2030-11-28",{"$f":"IF(G86<CALCULADORA!$C$23,0,IF(CALCULADORA!$C$27>'TIR de Tenencia'!G86,E86,CALCULADORA!$C$33))","v":29996990701},{"$f":"IF(H86=H85, \" \", IF(G86 > CALCULADORA!$C$27, CALCULADORA!$C$27, G86))","v":" "}," ",null,28,12,2030]
[{"$f":"+Flujos!A87","v":"2030-12-28"},{"$f":"+Flujos!L87","v":5.4836273193359375E-6},{"$f":"+Flujos!M87","v":0},{"$f":"+Flujos!N87","v":6.4240694046020505E-8},{"$f":"+Flujos!O87","v":6.4240694046020505E-8},null,"2030-12-28",{"$f":"IF(G87<CALCULADORA!$C$23,0,IF(CALCULADORA!$C$27>'TIR de Tenencia'!G87,E87,CALCULADORA!$C$33))","v":29996990701},{"$f":"IF(H87=H86, \" \", IF(G87 > CALCULADORA!$C$27, CALCULADORA!$C$27, G87))","v":" "}," ",null,28,1,2031]
[{"$f":"+Flujos!A88","v":"2031-01-28"},{"$f":"+Flujos!L88","v":5.4836273193359375E-6},{"$f":"+Flujos!M88","v":0},{"$f":"+Flujos!N88","v":6.4240694046020505E-8},{"$f":"+Flujos!O88","v":6.4240694046020505E-8},null,"2031-01-28",{"$f":"IF(G88<CALCULADORA!$C$23,0,IF(CALCULADORA!$C$27>'TIR de Tenencia'!G88,E88,CALCULADORA!$C$33))","v":29996990701},{"$f":"IF(H88=H87, \" \", IF(G88 > CALCULADORA!$C$27, CALCULADORA!$C$27, G88))","v":" "}," ",null,28,2,2031]
[{"$f":"+Flujos!A89","v":"2031-02-28"},{"$f":"+Flujos!L89","v":5.4836273193359375E-6},{"$f":"+Flujos!M89","v":0},{"$f":"+Flujos!N89","v":6.4240694046020505E-8},{"$f":"+Flujos!O89","v":6.4240694046020505E-8},null,"2031-02-28",{"$f":"IF(G89<CALCULADORA!$C$23,0,IF(CALCULADORA!$C$27>'TIR de Tenencia'!G89,E89,CALCULADORA!$C$33))","v":29996990701},{"$f":"IF(H89=H88, \" \", IF(G89 > CALCULADORA!$C$27, CALCULADORA!$C$27, G89))","v":" "}," ",null,28,3,2031]
[{"$f":"+Flujos!A90","v":"2031-03-28"},{"$f":"+Flujos!L90","v":5.4836273193359375E-6},{"$f":"+Flujos!M90","v":0},{"$f":"+Flujos!N90","v":6.4240694046020505E-8},{"$f":"+Flujos!O90","v":6.4240694046020505E-8},null,"2031-03-28",{"$f":"IF(G90<CALCULADORA!$C$23,0,IF(CALCULADORA!$C$27>'TIR de Tenencia'!G90,E90,CALCULADORA!$C$33))","v":29996990701},{"$f":"IF(H90=H89, \" \", IF(G90 > CALCULADORA!$C$27, CALCULADORA!$C$27, G90))","v":" "}," ",null,28,4,2031]
[{"$f":"+Flujos!A91","v":"2031-04-28"},{"$f":"+Flujos!L91","v":5.4836273193359375E-6},{"$f":"+Flujos!M91","v":0},{"$f":"+Flujos!N91","v":6.4240694046020505E-8},{"$f":"+Flujos!O91","v":6.4240694046020505E-8},null,"2031-04-28",{"$f":"IF(G91<CALCULADORA!$C$23,0,IF(CALCULADORA!$C$27>'TIR de Tenencia'!G91,E91,CALCULADORA!$C$33))","v":29996990701},{"$f":"IF(H91=H90, \" \", IF(G91 > CALCULADORA!$C$27, CALCULADORA!$C$27, G91))","v":" "}," ",null,28,5,2031]
[{"$f":"+Flujos!A92","v":"2031-05-28"},{"$f":"+Flujos!L92","v":5.4836273193359375E-6},{"$f":"+Flujos!M92","v":0},{"$f":"+Flujos!N92","v":6.4240694046020505E-8},{"$f":"+Flujos!O92","v":6.4240694046020505E-8},null,"2031-05-28",{"$f":"IF(G92<CALCULADORA!$C$23,0,IF(CALCULADORA!$C$27>'TIR de Tenencia'!G92,E92,CALCULADORA!$C$33))","v":29996990701},{"$f":"IF(H92=H91, \" \", IF(G92 > CALCULADORA!$C$27, CALCULADORA!$C$27, G92))","v":" "}," ",null,28,6,2031]
[{"$f":"+Flujos!A93","v":"2031-06-28"},{"$f":"+Flujos!L93","v":5.4836273193359375E-6},{"$f":"+Flujos!M93","v":0},{"$f":"+Flujos!N93","v":6.4240694046020505E-8},{"$f":"+Flujos!O93","v":6.4240694046020505E-8},null,"2031-06-28",{"$f":"IF(G93<CALCULADORA!$C$23,0,IF(CALCULADORA!$C$27>'TIR de Tenencia'!G93,E93,CALCULADORA!$C$33))","v":29996990701},{"$f":"IF(H93=H92, \" \", IF(G93 > CALCULADORA!$C$27, CALCULADORA!$C$27, G93))","v":" "}," ",null,28,7,2031]
[{"$f":"+Flujos!A94","v":"2031-07-28"},{"$f":"+Flujos!L94","v":5.4836273193359375E-6},{"$f":"+Flujos!M94","v":0},{"$f":"+Flujos!N94","v":6.4240694046020505E-8},{"$f":"+Flujos!O94","v":6.4240694046020505E-8},null,"2031-07-28",{"$f":"IF(G94<CALCULADORA!$C$23,0,IF(CALCULADORA!$C$27>'TIR de Tenencia'!G94,E94,CALCULADORA!$C$33))","v":29996990701},{"$f":"IF(H94=H93, \" \", IF(G94 > CALCULADORA!$C$27, CALCULADORA!$C$27, G94))","v":" "}," ",null,28,8,2031]
[{"$f":"+Flujos!A95","v":"2031-08-28"},{"$f":"+Flujos!L95","v":5.4836273193359375E-6},{"$f":"+Flujos!M95","v":0},{"$f":"+Flujos!N95","v":6.4240694046020505E-8},{"$f":"+Flujos!O95","v":6.4240694046020505E-8},null,"2031-08-28",{"$f":"IF(G95<CALCULADORA!$C$23,0,IF(CALCULADORA!$C$27>'TIR de Tenencia'!G95,E95,CALCULADORA!$C$33))","v":29996990701},{"$f":"IF(H95=H94, \" \", IF(G95 > CALCULADORA!$C$27, CALCULADORA!$C$27, G95))","v":" "}," ",null,28,9,2031]
[{"$f":"+Flujos!A96","v":"2031-09-28"},{"$f":"+Flujos!L96","v":5.4836273193359375E-6},{"$f":"+Flujos!M96","v":0},{"$f":"+Flujos!N96","v":6.4240694046020505E-8},{"$f":"+Flujos!O96","v":6.4240694046020505E-8},null,"2031-09-28",{"$f":"IF(G96<CALCULADORA!$C$23,0,IF(CALCULADORA!$C$27>'TIR de Tenencia'!G96,E96,CALCULADORA!$C$33))","v":29996990701},{"$f":"IF(H96=H95, \" \", IF(G96 > CALCULADORA!$C$27, CALCULADORA!$C$27, G96))","v":" "}," ",null,28,10,2031]
[{"$f":"+Flujos!A97","v":"2031-10-28"},{"$f":"+Flujos!L97","v":5.4836273193359375E-6},{"$f":"+Flujos!M97","v":0},{"$f":"+Flujos!N97","v":6.4240694046020505E-8},{"$f":"+Flujos!O97","v":6.4240694046020505E-8},null,"2031-10-28",{"$f":"IF(G97<CALCULADORA!$C$23,0,IF(CALCULADORA!$C$27>'TIR de Tenencia'!G97,E97,CALCULADORA!$C$33))","v":29996990701},{"$f":"IF(H97=H96, \" \", IF(G97 > CALCULADORA!$C$27, CALCULADORA!$C$27, G97))","v":" "}," ",null,28,11,2031]
[{"$f":"+Flujos!A98","v":"2031-11-28"},{"$f":"+Flujos!L98","v":5.4836273193359375E-6},{"$f":"+Flujos!M98","v":0},{"$f":"+Flujos!N98","v":6.4240694046020505E-8},{"$f":"+Flujos!O98","v":6.4240694046020505E-8},null,"2031-11-28",{"$f":"IF(G98<CALCULADORA!$C$23,0,IF(CALCULADORA!$C$27>'TIR de Tenencia'!G98,E98,CALCULADORA!$C$33))","v":29996990701},{"$f":"IF(H98=H97, \" \", IF(G98 > CALCULADORA!$C$27, CALCULADORA!$C$27, G98))","v":" "}," ",null,28,12,2031]
[{"$f":"+Flujos!A99","v":"2031-12-28"},{"$f":"+Flujos!L99","v":5.4836273193359375E-6},{"$f":"+Flujos!M99","v":0},{"$f":"+Flujos!N99","v":6.4240694046020505E-8},{"$f":"+Flujos!O99","v":6.4240694046020505E-8},null,{"$f":"+DATE(N98,M98,L98)","v":"2031-12-28"},{"$f":"IF(G99<CALCULADORA!$C$23,0,IF(CALCULADORA!$C$27>'TIR de Tenencia'!G99,E99,CALCULADORA!$C$33))","v":29996990701},{"$f":"IF(H99=H98, \" \", IF(G99 > CALCULADORA!$C$27, CALCULADORA!$C$27, G99))","v":" "}," ",null,28,1,2032]
[{"$f":"+Flujos!A100","v":"2032-01-28"},{"$f":"+Flujos!L100","v":5.4836273193359375E-6},{"$f":"+Flujos!M100","v":0},{"$f":"+Flujos!N100","v":6.4240694046020505E-8},{"$f":"+Flujos!O100","v":6.4240694046020505E-8},null,"2032-01-28",{"$f":"IF(G100<CALCULADORA!$C$23,0,IF(CALCULADORA!$C$27>'TIR de Tenencia'!G100,E100,CALCULADORA!$C$33))","v":29996990701},{"$f":"IF(H100=H99, \" \", IF(G100 > CALCULADORA!$C$27, CALCULADORA!$C$27, G100))","v":" "}," ",null,28,2,2032]
[{"$f":"+Flujos!A101","v":"2032-02-28"},{"$f":"+Flujos!L101","v":5.4836273193359375E-6},{"$f":"+Flujos!M101","v":0},{"$f":"+Flujos!N101","v":6.4240694046020505E-8},{"$f":"+Flujos!O101","v":6.4240694046020505E-8},null,"2032-02-28",{"$f":"IF(G101<CALCULADORA!$C$23,0,IF(CALCULADORA!$C$27>'TIR de Tenencia'!G101,E101,CALCULADORA!$C$33))","v":29996990701},{"$f":"IF(H101=H100, \" \", IF(G101 > CALCULADORA!$C$27, CALCULADORA!$C$27, G101))","v":" "}," ",null,28,3,2032]
[{"$f":"+Flujos!A102","v":"2032-03-28"},{"$f":"+Flujos!L102","v":5.4836273193359375E-6},{"$f":"+Flujos!M102","v":0},{"$f":"+Flujos!N102","v":6.4240694046020505E-8},{"$f":"+Flujos!O102","v":6.4240694046020505E-8},null,"2032-03-28",{"$f":"IF(G102<CALCULADORA!$C$23,0,IF(CALCULADORA!$C$27>'TIR de Tenencia'!G102,E102,CALCULADORA!$C$33))","v":29996990701},{"$f":"IF(H102=H101, \" \", IF(G102 > CALCULADORA!$C$27, CALCULADORA!$C$27, G102))","v":" "}," ",null,28,4,2032]
[{"$f":"+Flujos!A103","v":"2032-04-28"},{"$f":"+Flujos!L103","v":5.4836273193359375E-6},{"$f":"+Flujos!M103","v":0},{"$f":"+Flujos!N103","v":6.4240694046020505E-8},{"$f":"+Flujos!O103","v":6.4240694046020505E-8},null,"2032-04-28",{"$f":"IF(G103<CALCULADORA!$C$23,0,IF(CALCULADORA!$C$27>'TIR de Tenencia'!G103,E103,CALCULADORA!$C$33))","v":29996990701},{"$f":"IF(H103=H102, \" \", IF(G103 > CALCULADORA!$C$27, CALCULADORA!$C$27, G103))","v":" "}," ",null,28,5,2032]
[{"$f":"+Flujos!A104","v":"2032-05-28"},{"$f":"+Flujos!L104","v":5.4836273193359375E-6},{"$f":"+Flujos!M104","v":0},{"$f":"+Flujos!N104","v":6.4240694046020505E-8},{"$f":"+Flujos!O104","v":6.4240694046020505E-8},null,"2032-05-28",{"$f":"IF(G104<CALCULADORA!$C$23,0,IF(CALCULADORA!$C$27>'TIR de Tenencia'!G104,E104,CALCULADORA!$C$33))","v":29996990701},{"$f":"IF(H104=H103, \" \", IF(G104 > CALCULADORA!$C$27, CALCULADORA!$C$27, G104))","v":" "}," ",null,28,6,2032]
[{"$f":"+Flujos!A105","v":"2032-06-28"},{"$f":"+Flujos!L105","v":5.4836273193359375E-6},{"$f":"+Flujos!M105","v":0},{"$f":"+Flujos!N105","v":6.4240694046020505E-8},{"$f":"+Flujos!O105","v":6.4240694046020505E-8},null,"2032-06-28",{"$f":"IF(G105<CALCULADORA!$C$23,0,IF(CALCULADORA!$C$27>'TIR de Tenencia'!G105,E105,CALCULADORA!$C$33))","v":29996990701},{"$f":"IF(H105=H104, \" \", IF(G105 > CALCULADORA!$C$27, CALCULADORA!$C$27, G105))","v":" "}," ",null,28,7,2032]
[{"$f":"+Flujos!A106","v":"2032-07-28"},{"$f":"+Flujos!L106","v":5.4836273193359375E-6},{"$f":"+Flujos!M106","v":0},{"$f":"+Flujos!N106","v":6.4240694046020505E-8},{"$f":"+Flujos!O106","v":6.4240694046020505E-8},null,"2032-07-28",{"$f":"IF(G106<CALCULADORA!$C$23,0,IF(CALCULADORA!$C$27>'TIR de Tenencia'!G106,E106,CALCULADORA!$C$33))","v":29996990701},{"$f":"IF(H106=H105, \" \", IF(G106 > CALCULADORA!$C$27, CALCULADORA!$C$27, G106))","v":" "}," ",null,28,8,2032]
[{"$f":"+Flujos!A107","v":"2032-08-28"},{"$f":"+Flujos!L107","v":5.4836273193359375E-6},{"$f":"+Flujos!M107","v":0},{"$f":"+Flujos!N107","v":6.4240694046020505E-8},{"$f":"+Flujos!O107","v":6.4240694046020505E-8},null,"2032-08-28",{"$f":"IF(G107<CALCULADORA!$C$23,0,IF(CALCULADORA!$C$27>'TIR de Tenencia'!G107,E107,CALCULADORA!$C$33))","v":29996990701},{"$f":"IF(H107=H106, \" \", IF(G107 > CALCULADORA!$C$27, CALCULADORA!$C$27, G107))","v":" "}," ",null,28,9,2032]
[{"$f":"+Flujos!A108","v":"2032-09-28"},{"$f":"+Flujos!L108","v":5.4836273193359375E-6},{"$f":"+Flujos!M108","v":0},{"$f":"+Flujos!N108","v":6.4240694046020505E-8},{"$f":"+Flujos!O108","v":6.4240694046020505E-8},null,"2032-09-28",{"$f":"IF(G108<CALCULADORA!$C$23,0,IF(CALCULADORA!$C$27>'TIR de Tenencia'!G108,E108,CALCULADORA!$C$33))","v":29996990701},{"$f":"IF(H108=H107, \" \", IF(G108 > CALCULADORA!$C$27, CALCULADORA!$C$27, G108))","v":" "}," ",null,28,10,2032]
[{"$f":"+Flujos!A109","v":"2032-10-28"},{"$f":"+Flujos!L109","v":5.4836273193359375E-6},{"$f":"+Flujos!M109","v":0},{"$f":"+Flujos!N109","v":6.4240694046020505E-8},{"$f":"+Flujos!O109","v":6.4240694046020505E-8},null,"2032-10-28",{"$f":"IF(G109<CALCULADORA!$C$23,0,IF(CALCULADORA!$C$27>'TIR de Tenencia'!G109,E109,CALCULADORA!$C$33))","v":29996990701},{"$f":"IF(H109=H108, \" \", IF(G109 > CALCULADORA!$C$27, CALCULADORA!$C$27, G109))","v":" "}," ",null,28,11,2032]
[{"$f":"+Flujos!A110","v":"2032-11-28"},{"$f":"+Flujos!L110","v":5.4836273193359375E-6},{"$f":"+Flujos!M110","v":0},{"$f":"+Flujos!N110","v":6.4240694046020505E-8},{"$f":"+Flujos!O110","v":6.4240694046020505E-8},null,"2032-11-28",{"$f":"IF(G110<CALCULADORA!$C$23,0,IF(CALCULADORA!$C$27>'TIR de Tenencia'!G110,E110,CALCULADORA!$C$33))","v":29996990701},{"$f":"IF(H110=H109, \" \", IF(G110 > CALCULADORA!$C$27, CALCULADORA!$C$27, G110))","v":" "}," ",null,28,12,2032]
[{"$f":"+Flujos!A111","v":"2032-12-28"},{"$f":"+Flujos!L111","v":5.4836273193359375E-6},{"$f":"+Flujos!M111","v":0},{"$f":"+Flujos!N111","v":6.4240694046020505E-8},{"$f":"+Flujos!O111","v":6.4240694046020505E-8},null,"2032-12-28",{"$f":"IF(G111<CALCULADORA!$C$23,0,IF(CALCULADORA!$C$27>'TIR de Tenencia'!G111,E111,CALCULADORA!$C$33))","v":29996990701},{"$f":"IF(H111=H110, \" \", IF(G111 > CALCULADORA!$C$27, CALCULADORA!$C$27, G111))","v":" "}," ",null,28,1,{"$f":"+IF(M111=1,N110+1,N110)","v":2033}]
[{"$f":"+Flujos!A112","v":"2033-01-28"},{"$f":"+Flujos!L112","v":5.4836273193359375E-6},{"$f":"+Flujos!M112","v":0},{"$f":"+Flujos!N112","v":6.4240694046020505E-8},{"$f":"+Flujos!O112","v":6.4240694046020505E-8},null,"2033-01-28",{"$f":"IF(G112<CALCULADORA!$C$23,0,IF(CALCULADORA!$C$27>'TIR de Tenencia'!G112,E112,CALCULADORA!$C$33))","v":29996990701},{"$f":"IF(H112=H111, \" \", IF(G112 > CALCULADORA!$C$27, CALCULADORA!$C$27, G112))","v":" "}," ",null,28,2,2033]
[{"$f":"+Flujos!A113","v":"2033-02-28"},{"$f":"+Flujos!L113","v":5.4836273193359375E-6},{"$f":"+Flujos!M113","v":0},{"$f":"+Flujos!N113","v":6.4240694046020505E-8},{"$f":"+Flujos!O113","v":6.4240694046020505E-8},null,"2033-02-28",{"$f":"IF(G113<CALCULADORA!$C$23,0,IF(CALCULADORA!$C$27>'TIR de Tenencia'!G113,E113,CALCULADORA!$C$33))","v":29996990701},{"$f":"IF(H113=H112, \" \", IF(G113 > CALCULADORA!$C$27, CALCULADORA!$C$27, G113))","v":" "}," ",null,28,3,2033]
[{"$f":"+Flujos!A114","v":"2033-03-28"},{"$f":"+Flujos!L114","v":5.4836273193359375E-6},{"$f":"+Flujos!M114","v":0},{"$f":"+Flujos!N114","v":6.4240694046020505E-8},{"$f":"+Flujos!O114","v":6.4240694046020505E-8},null,"2033-03-28",{"$f":"IF(G114<CALCULADORA!$C$23,0,IF(CALCULADORA!$C$27>'TIR de Tenencia'!G114,E114,CALCULADORA!$C$33))","v":29996990701},{"$f":"IF(H114=H113, \" \", IF(G114 > CALCULADORA!$C$27, CALCULADORA!$C$27, G114))","v":" "}," ",null,28,4,2033]
[{"$f":"+Flujos!A115","v":"2033-04-28"},{"$f":"+Flujos!L115","v":5.4836273193359375E-6},{"$f":"+Flujos!M115","v":0},{"$f":"+Flujos!N115","v":6.4240694046020505E-8},{"$f":"+Flujos!O115","v":6.4240694046020505E-8},null,"2033-04-28",{"$f":"IF(G115<CALCULADORA!$C$23,0,IF(CALCULADORA!$C$27>'TIR de Tenencia'!G115,E115,CALCULADORA!$C$33))","v":29996990701},{"$f":"IF(H115=H114, \" \", IF(G115 > CALCULADORA!$C$27, CALCULADORA!$C$27, G115))","v":" "}," ",null,28,5,2033]
[{"$f":"+Flujos!A116","v":"2033-05-28"},{"$f":"+Flujos!L116","v":5.4836273193359375E-6},{"$f":"+Flujos!M116","v":0},{"$f":"+Flujos!N116","v":6.4240694046020505E-8},{"$f":"+Flujos!O116","v":6.4240694046020505E-8},null,"2033-05-28",{"$f":"IF(G116<CALCULADORA!$C$23,0,IF(CALCULADORA!$C$27>'TIR de Tenencia'!G116,E116,CALCULADORA!$C$33))","v":29996990701},{"$f":"IF(H116=H115, \" \", IF(G116 > CALCULADORA!$C$27, CALCULADORA!$C$27, G116))","v":" "}," ",null,28,6,2033]
[{"$f":"+Flujos!A117","v":"2033-06-28"},{"$f":"+Flujos!L117","v":5.4836273193359375E-6},{"$f":"+Flujos!M117","v":0},{"$f":"+Flujos!N117","v":6.4240694046020505E-8},{"$f":"+Flujos!O117","v":6.4240694046020505E-8},null,"2033-06-28",{"$f":"IF(G117<CALCULADORA!$C$23,0,IF(CALCULADORA!$C$27>'TIR de Tenencia'!G117,E117,CALCULADORA!$C$33))","v":29996990701},{"$f":"IF(H117=H116, \" \", IF(G117 > CALCULADORA!$C$27, CALCULADORA!$C$27, G117))","v":" "}," ",null,28,7,2033]
[{"$f":"+Flujos!A118","v":"2033-07-28"},{"$f":"+Flujos!L118","v":5.4836273193359375E-6},{"$f":"+Flujos!M118","v":0},{"$f":"+Flujos!N118","v":6.4240694046020505E-8},{"$f":"+Flujos!O118","v":6.4240694046020505E-8},null,"2033-07-28",{"$f":"IF(G118<CALCULADORA!$C$23,0,IF(CALCULADORA!$C$27>'TIR de Tenencia'!G118,E118,CALCULADORA!$C$33))","v":29996990701},{"$f":"IF(H118=H117, \" \", IF(G118 > CALCULADORA!$C$27, CALCULADORA!$C$27, G118))","v":" "}," ",null,28,8,2033]
[{"$f":"+Flujos!A119","v":"2033-08-28"},{"$f":"+Flujos!L119","v":5.4836273193359375E-6},{"$f":"+Flujos!M119","v":0},{"$f":"+Flujos!N119","v":6.4240694046020505E-8},{"$f":"+Flujos!O119","v":6.4240694046020505E-8},null,"2033-08-28",{"$f":"IF(G119<CALCULADORA!$C$23,0,IF(CALCULADORA!$C$27>'TIR de Tenencia'!G119,E119,CALCULADORA!$C$33))","v":29996990701},{"$f":"IF(H119=H118, \" \", IF(G119 > CALCULADORA!$C$27, CALCULADORA!$C$27, G119))","v":" "}," ",null,28,9,2033]
[{"$f":"+Flujos!A120","v":"2033-09-28"},{"$f":"+Flujos!L120","v":5.4836273193359375E-6},{"$f":"+Flujos!M120","v":0},{"$f":"+Flujos!N120","v":6.4240694046020505E-8},{"$f":"+Flujos!O120","v":6.4240694046020505E-8},null,"2033-09-28",{"$f":"IF(G120<CALCULADORA!$C$23,0,IF(CALCULADORA!$C$27>'TIR de Tenencia'!G120,E120,CALCULADORA!$C$33))","v":29996990701},{"$f":"IF(H120=H119, \" \", IF(G120 > CALCULADORA!$C$27, CALCULADORA!$C$27, G120))","v":" "}," ",null,28,10,2033]
[{"$f":"+Flujos!A121","v":"2033-10-28"},{"$f":"+Flujos!L121","v":5.4836273193359375E-6},{"$f":"+Flujos!M121","v":0},{"$f":"+Flujos!N121","v":6.4240694046020505E-8},{"$f":"+Flujos!O121","v":6.4240694046020505E-8},null,"2033-10-28",{"$f":"IF(G121<CALCULADORA!$C$23,0,IF(CALCULADORA!$C$27>'TIR de Tenencia'!G121,E121,CALCULADORA!$C$33))","v":29996990701},{"$f":"IF(H121=H120, \" \", IF(G121 > CALCULADORA!$C$27, CALCULADORA!$C$27, G121))","v":" "}," ",null,28,11,2033]
[{"$f":"+Flujos!A122","v":"2033-11-28"},{"$f":"+Flujos!L122","v":5.4836273193359375E-6},{"$f":"+Flujos!M122","v":0},{"$f":"+Flujos!N122","v":6.4240694046020505E-8},{"$f":"+Flujos!O122","v":6.4240694046020505E-8},null,"2033-11-28",{"$f":"IF(G122<CALCULADORA!$C$23,0,IF(CALCULADORA!$C$27>'TIR de Tenencia'!G122,E122,CALCULADORA!$C$33))","v":29996990701},{"$f":"IF(H122=H121, \" \", IF(G122 > CALCULADORA!$C$27, CALCULADORA!$C$27, G122))","v":" "}," ",null,28,12,2033]
[{"$f":"+Flujos!A123","v":"2033-12-28"},{"$f":"+Flujos!L123","v":5.4836273193359375E-6},{"$f":"+Flujos!M123","v":0},{"$f":"+Flujos!N123","v":6.4240694046020505E-8},{"$f":"+Flujos!O123","v":6.4240694046020505E-8},null,"2033-12-28",{"$f":"IF(G123<CALCULADORA!$C$23,0,IF(CALCULADORA!$C$27>'TIR de Tenencia'!G123,E123,CALCULADORA!$C$33))","v":29996990701},{"$f":"IF(H123=H122, \" \", IF(G123 > CALCULADORA!$C$27, CALCULADORA!$C$27, G123))","v":" "}," ",null,28,1,2034]
[{"$f":"+Flujos!A124","v":"2034-01-28"},{"$f":"+Flujos!L124","v":5.4836273193359375E-6},{"$f":"+Flujos!M124","v":0},{"$f":"+Flujos!N124","v":6.4240694046020505E-8},{"$f":"+Flujos!O124","v":6.4240694046020505E-8},null,"2034-01-28",{"$f":"IF(G124<CALCULADORA!$C$23,0,IF(CALCULADORA!$C$27>'TIR de Tenencia'!G124,E124,CALCULADORA!$C$33))","v":29996990701},{"$f":"IF(H124=H123, \" \", IF(G124 > CALCULADORA!$C$27, CALCULADORA!$C$27, G124))","v":" "}," ",null,28,2,2034]
[{"$f":"+Flujos!A125","v":"2034-02-28"},{"$f":"+Flujos!L125","v":5.4836273193359375E-6},{"$f":"+Flujos!M125","v":0},{"$f":"+Flujos!N125","v":6.4240694046020505E-8},{"$f":"+Flujos!O125","v":6.4240694046020505E-8},null,"2034-02-28",{"$f":"IF(G125<CALCULADORA!$C$23,0,IF(CALCULADORA!$C$27>'TIR de Tenencia'!G125,E125,CALCULADORA!$C$33))","v":29996990701},{"$f":"IF(H125=H124, \" \", IF(G125 > CALCULADORA!$C$27, CALCULADORA!$C$27, G125))","v":" "}," ",null,28,3,2034]
[{"$f":"+Flujos!A126","v":"2034-03-28"},{"$f":"+Flujos!L126","v":5.4836273193359375E-6},{"$f":"+Flujos!M126","v":0},{"$f":"+Flujos!N126","v":6.4240694046020505E-8},{"$f":"+Flujos!O126","v":6.4240694046020505E-8},null,"2034-03-28",{"$f":"IF(G126<CALCULADORA!$C$23,0,IF(CALCULADORA!$C$27>'TIR de Tenencia'!G126,E126,CALCULADORA!$C$33))","v":29996990701},{"$f":"IF(H126=H125, \" \", IF(G126 > CALCULADORA!$C$27, CALCULADORA!$C$27, G126))","v":" "}," ",null,28,4,2034]
[{"$f":"+Flujos!A127","v":"2034-04-28"},{"$f":"+Flujos!L127","v":5.4836273193359375E-6},{"$f":"+Flujos!M127","v":0},{"$f":"+Flujos!N127","v":6.4240694046020505E-8},{"$f":"+Flujos!O127","v":6.4240694046020505E-8},null,"2034-04-28",{"$f":"IF(G127<CALCULADORA!$C$23,0,IF(CALCULADORA!$C$27>'TIR de Tenencia'!G127,E127,CALCULADORA!$C$33))","v":29996990701},{"$f":"IF(H127=H126, \" \", IF(G127 > CALCULADORA!$C$27, CALCULADORA!$C$27, G127))","v":" "}," ",null,28,5,2034]
[{"$f":"+Flujos!A128","v":"2034-05-28"},{"$f":"+Flujos!L128","v":5.4836273193359375E-6},{"$f":"+Flujos!M128","v":0},{"$f":"+Flujos!N128","v":6.4240694046020505E-8},{"$f":"+Flujos!O128","v":6.4240694046020505E-8},null,"2034-05-28",{"$f":"IF(G128<CALCULADORA!$C$23,0,IF(CALCULADORA!$C$27>'TIR de Tenencia'!G128,E128,CALCULADORA!$C$33))","v":29996990701},{"$f":"IF(H128=H127, \" \", IF(G128 > CALCULADORA!$C$27, CALCULADORA!$C$27, G128))","v":" "}," ",null,28,6,2034]
[{"$f":"+Flujos!A129","v":"2034-06-28"},{"$f":"+Flujos!L129","v":5.4836273193359375E-6},{"$f":"+Flujos!M129","v":0},{"$f":"+Flujos!N129","v":6.4240694046020505E-8},{"$f":"+Flujos!O129","v":6.4240694046020505E-8},null,"2034-06-28",{"$f":"IF(G129<CALCULADORA!$C$23,0,IF(CALCULADORA!$C$27>'TIR de Tenencia'!G129,E129,CALCULADORA!$C$33))","v":29996990701},{"$f":"IF(H129=H128, \" \", IF(G129 > CALCULADORA!$C$27, CALCULADORA!$C$27, G129))","v":" "}," ",null,28,7,2034]
[{"$f":"+Flujos!A130","v":"2034-07-28"},{"$f":"+Flujos!L130","v":5.4836273193359375E-6},{"$f":"+Flujos!M130","v":0},{"$f":"+Flujos!N130","v":6.4240694046020505E-8},{"$f":"+Flujos!O130","v":6.4240694046020505E-8},null,"2034-07-28",{"$f":"IF(G130<CALCULADORA!$C$23,0,IF(CALCULADORA!$C$27>'TIR de Tenencia'!G130,E130,CALCULADORA!$C$33))","v":29996990701},{"$f":"IF(H130=H129, \" \", IF(G130 > CALCULADORA!$C$27, CALCULADORA!$C$27, G130))","v":" "}," ",null,28,8,2034]
[{"$f":"+Flujos!A131","v":"2034-08-28"},{"$f":"+Flujos!L131","v":5.4836273193359375E-6},{"$f":"+Flujos!M131","v":0},{"$f":"+Flujos!N131","v":6.4240694046020505E-8},{"$f":"+Flujos!O131","v":6.4240694046020505E-8},null,{"$f":"+DATE(N130,M130,L130)","v":"2034-08-28"},{"$f":"IF(G131<CALCULADORA!$C$23,0,IF(CALCULADORA!$C$27>'TIR de Tenencia'!G131,E131,CALCULADORA!$C$33))","v":29996990701},{"$f":"IF(H131=H130, \" \", IF(G131 > CALCULADORA!$C$27, CALCULADORA!$C$27, G131))","v":" "}," ",null,{"$f":"+L130","v":28},{"$f":"+IF(M130=12,1,M130+1)","v":9},{"$f":"+IF(M131=1,N130+1,N130)","v":2034}]
[{"$f":"+Flujos!A132","v":"2034-09-28"},{"$f":"+Flujos!L132","v":5.4836273193359375E-6},{"$f":"+Flujos!M132","v":0},{"$f":"+Flujos!N132","v":6.4240694046020505E-8},{"$f":"+Flujos!O132","v":6.4240694046020505E-8},null,"2034-09-28",{"$f":"IF(G132<CALCULADORA!$C$23,0,IF(CALCULADORA!$C$27>'TIR de Tenencia'!G132,E132,CALCULADORA!$C$33))","v":29996990701},{"$f":"IF(H132=H131, \" \", IF(G132 > CALCULADORA!$C$27, CALCULADORA!$C$27, G132))","v":" "},{"$f":"+IF(H132=H131,\" \",H132)","v":" "},null,28,10,2034]
[{"$f":"+Flujos!A133","v":"2034-10-28"},{"$f":"+Flujos!L133","v":5.4836273193359375E-6},{"$f":"+Flujos!M133","v":0},{"$f":"+Flujos!N133","v":6.4240694046020505E-8},{"$f":"+Flujos!O133","v":6.4240694046020505E-8},null,"2034-10-28",{"$f":"IF(G133<CALCULADORA!$C$23,0,IF(CALCULADORA!$C$27>'TIR de Tenencia'!G133,E133,CALCULADORA!$C$33))","v":29996990701},{"$f":"IF(H133=H132, \" \", IF(G133 > CALCULADORA!$C$27, CALCULADORA!$C$27, G133))","v":" "}," ",null,28,11,2034]
[{"$f":"+Flujos!A134","v":"2034-11-28"},{"$f":"+Flujos!L134","v":5.4836273193359375E-6},{"$f":"+Flujos!M134","v":0},{"$f":"+Flujos!N134","v":6.4240694046020505E-8},{"$f":"+Flujos!O134","v":6.4240694046020505E-8},null,"2034-11-28",{"$f":"IF(G134<CALCULADORA!$C$23,0,IF(CALCULADORA!$C$27>'TIR de Tenencia'!G134,E134,CALCULADORA!$C$33))","v":29996990701},{"$f":"IF(H134=H133, \" \", IF(G134 > CALCULADORA!$C$27, CALCULADORA!$C$27, G134))","v":" "}," ",null,28,12,2034]
[{"$f":"+Flujos!A135","v":"2034-12-28"},{"$f":"+Flujos!L135","v":5.4836273193359375E-6},{"$f":"+Flujos!M135","v":0},{"$f":"+Flujos!N135","v":6.4240694046020505E-8},{"$f":"+Flujos!O135","v":6.4240694046020505E-8},null,"2034-12-28",{"$f":"IF(G135<CALCULADORA!$C$23,0,IF(CALCULADORA!$C$27>'TIR de Tenencia'!G135,E135,CALCULADORA!$C$33))","v":29996990701},{"$f":"IF(H135=H134, \" \", IF(G135 > CALCULADORA!$C$27, CALCULADORA!$C$27, G135))","v":" "}," ",null,28,1,2035]
[{"$f":"+Flujos!A136","v":"2035-01-28"},{"$f":"+Flujos!L136","v":5.4836273193359375E-6},{"$f":"+Flujos!M136","v":0},{"$f":"+Flujos!N136","v":6.4240694046020505E-8},{"$f":"+Flujos!O136","v":6.4240694046020505E-8},null,"2035-01-28",{"$f":"IF(G136<CALCULADORA!$C$23,0,IF(CALCULADORA!$C$27>'TIR de Tenencia'!G136,E136,CALCULADORA!$C$33))","v":29996990701},{"$f":"IF(H136=H135, \" \", IF(G136 > CALCULADORA!$C$27, CALCULADORA!$C$27, G136))","v":" "}," ",null,28,2,2035]
[{"$f":"+Flujos!A137","v":"2035-02-28"},{"$f":"+Flujos!L137","v":5.4836273193359375E-6},{"$f":"+Flujos!M137","v":0},{"$f":"+Flujos!N137","v":6.4240694046020505E-8},{"$f":"+Flujos!O137","v":6.4240694046020505E-8},null,"2035-02-28",{"$f":"IF(G137<CALCULADORA!$C$23,0,IF(CALCULADORA!$C$27>'TIR de Tenencia'!G137,E137,CALCULADORA!$C$33))","v":29996990701},{"$f":"IF(H137=H136, \" \", IF(G137 > CALCULADORA!$C$27, CALCULADORA!$C$27, G137))","v":" "}," ",null,28,3,2035]
[{"$f":"+Flujos!A138","v":"2035-03-28"},{"$f":"+Flujos!L138","v":5.4836273193359375E-6},{"$f":"+Flujos!M138","v":0},{"$f":"+Flujos!N138","v":6.4240694046020505E-8},{"$f":"+Flujos!O138","v":6.4240694046020505E-8},null,"2035-03-28",{"$f":"IF(G138<CALCULADORA!$C$23,0,IF(CALCULADORA!$C$27>'TIR de Tenencia'!G138,E138,CALCULADORA!$C$33))","v":29996990701},{"$f":"IF(H138=H137, \" \", IF(G138 > CALCULADORA!$C$27, CALCULADORA!$C$27, G138))","v":" "}," ",null,28,4,2035]
[{"$f":"+Flujos!A139","v":"2035-04-28"},{"$f":"+Flujos!L139","v":5.4836273193359375E-6},{"$f":"+Flujos!M139","v":0},{"$f":"+Flujos!N139","v":6.4240694046020505E-8},{"$f":"+Flujos!O139","v":6.4240694046020505E-8},null,"2035-04-28",{"$f":"IF(G139<CALCULADORA!$C$23,0,IF(CALCULADORA!$C$27>'TIR de Tenencia'!G139,E139,CALCULADORA!$C$33))","v":29996990701},{"$f":"IF(H139=H138, \" \", IF(G139 > CALCULADORA!$C$27, CALCULADORA!$C$27, G139))","v":" "}," ",null,28,5,2035]
[{"$f":"+Flujos!A140","v":"2035-05-28"},{"$f":"+Flujos!L140","v":5.4836273193359375E-6},{"$f":"+Flujos!M140","v":0},{"$f":"+Flujos!N140","v":6.4240694046020505E-8},{"$f":"+Flujos!O140","v":6.4240694046020505E-8},null,"2035-05-28",{"$f":"IF(G140<CALCULADORA!$C$23,0,IF(CALCULADORA!$C$27>'TIR de Tenencia'!G140,E140,CALCULADORA!$C$33))","v":29996990701},{"$f":"IF(H140=H139, \" \", IF(G140 > CALCULADORA!$C$27, CALCULADORA!$C$27, G140))","v":" "}," ",null,28,6,2035]
[{"$f":"+Flujos!A141","v":"2035-06-28"},{"$f":"+Flujos!L141","v":5.4836273193359375E-6},{"$f":"+Flujos!M141","v":0},{"$f":"+Flujos!N141","v":6.4240694046020505E-8},{"$f":"+Flujos!O141","v":6.4240694046020505E-8},null,"2035-06-28",{"$f":"IF(G141<CALCULADORA!$C$23,0,IF(CALCULADORA!$C$27>'TIR de Tenencia'!G141,E141,CALCULADORA!$C$33))","v":29996990701},{"$f":"IF(H141=H140, \" \", IF(G141 > CALCULADORA!$C$27, CALCULADORA!$C$27, G141))","v":" "}," ",null,28,7,2035]
[{"$f":"+Flujos!A142","v":"2035-07-28"},{"$f":"+Flujos!L142","v":5.4836273193359375E-6},{"$f":"+Flujos!M142","v":0},{"$f":"+Flujos!N142","v":6.4240694046020505E-8},{"$f":"+Flujos!O142","v":6.4240694046020505E-8},null,"2035-07-28",{"$f":"IF(G142<CALCULADORA!$C$23,0,IF(CALCULADORA!$C$27>'TIR de Tenencia'!G142,E142,CALCULADORA!$C$33))","v":29996990701},{"$f":"IF(H142=H141, \" \", IF(G142 > CALCULADORA!$C$27, CALCULADORA!$C$27, G142))","v":" "}," ",null,28,8,2035]
[{"$f":"+Flujos!A143","v":"2035-08-28"},{"$f":"+Flujos!L143","v":5.4836273193359375E-6},{"$f":"+Flujos!M143","v":0},{"$f":"+Flujos!N143","v":6.4240694046020505E-8},{"$f":"+Flujos!O143","v":6.4240694046020505E-8},null,"2035-08-28",{"$f":"IF(G143<CALCULADORA!$C$23,0,IF(CALCULADORA!$C$27>'TIR de Tenencia'!G143,E143,CALCULADORA!$C$33))","v":29996990701},{"$f":"IF(H143=H142, \" \", IF(G143 > CALCULADORA!$C$27, CALCULADORA!$C$27, G143))","v":" "}," ",null,28,9,2035]
[{"$f":"+Flujos!A144","v":"2035-09-28"},{"$f":"+Flujos!L144","v":5.4836273193359375E-6},{"$f":"+Flujos!M144","v":0},{"$f":"+Flujos!N144","v":6.4240694046020505E-8},{"$f":"+Flujos!O144","v":6.4240694046020505E-8},null,"2035-09-28",{"$f":"IF(G144<CALCULADORA!$C$23,0,IF(CALCULADORA!$C$27>'TIR de Tenencia'!G144,E144,CALCULADORA!$C$33))","v":29996990701},{"$f":"IF(H144=H143, \" \", IF(G144 > CALCULADORA!$C$27, CALCULADORA!$C$27, G144))","v":" "}," ",null,28,10,2035]
[{"$f":"+Flujos!A145","v":"2035-10-28"},{"$f":"+Flujos!L145","v":5.4836273193359375E-6},{"$f":"+Flujos!M145","v":0},{"$f":"+Flujos!N145","v":6.4240694046020505E-8},{"$f":"+Flujos!O145","v":6.4240694046020505E-8},null,"2035-10-28",{"$f":"IF(G145<CALCULADORA!$C$23,0,IF(CALCULADORA!$C$27>'TIR de Tenencia'!G145,E145,CALCULADORA!$C$33))","v":29996990701},{"$f":"IF(H145=H144, \" \", IF(G145 > CALCULADORA!$C$27, CALCULADORA!$C$27, G145))","v":" "}," ",null,28,11,2035]
[{"$f":"+Flujos!A146","v":"2035-11-28"},{"$f":"+Flujos!L146","v":5.4836273193359375E-6},{"$f":"+Flujos!M146","v":0},{"$f":"+Flujos!N146","v":6.4240694046020505E-8},{"$f":"+Flujos!O146","v":6.4240694046020505E-8},null,"2035-11-28",{"$f":"IF(G146<CALCULADORA!$C$23,0,IF(CALCULADORA!$C$27>'TIR de Tenencia'!G146,E146,CALCULADORA!$C$33))","v":29996990701},{"$f":"IF(H146=H145, \" \", IF(G146 > CALCULADORA!$C$27, CALCULADORA!$C$27, G146))","v":" "}," ",null,28,12,2035]
[{"$f":"+Flujos!A147","v":"2035-12-28"},{"$f":"+Flujos!L147","v":5.4836273193359375E-6},{"$f":"+Flujos!M147","v":0},{"$f":"+Flujos!N147","v":6.4240694046020505E-8},{"$f":"+Flujos!O147","v":6.4240694046020505E-8},null,"2035-12-28",{"$f":"IF(G147<CALCULADORA!$C$23,0,IF(CALCULADORA!$C$27>'TIR de Tenencia'!G147,E147,CALCULADORA!$C$33))","v":29996990701},{"$f":"IF(H147=H146, \" \", IF(G147 > CALCULADORA!$C$27, CALCULADORA!$C$27, G147))","v":" "}," ",null,28,1,2036]
[{"$f":"+Flujos!A148","v":"2036-01-28"},{"$f":"+Flujos!L148","v":5.4836273193359375E-6},{"$f":"+Flujos!M148","v":0},{"$f":"+Flujos!N148","v":6.4240694046020505E-8},{"$f":"+Flujos!O148","v":6.4240694046020505E-8},null,"2036-01-28",{"$f":"IF(G148<CALCULADORA!$C$23,0,IF(CALCULADORA!$C$27>'TIR de Tenencia'!G148,E148,CALCULADORA!$C$33))","v":29996990701},{"$f":"IF(H148=H147, \" \", IF(G148 > CALCULADORA!$C$27, CALCULADORA!$C$27, G148))","v":" "}," ",null,28,2,2036]
[{"$f":"+Flujos!A149","v":"2036-02-28"},{"$f":"+Flujos!L149","v":5.4836273193359375E-6},{"$f":"+Flujos!M149","v":0},{"$f":"+Flujos!N149","v":6.4240694046020505E-8},{"$f":"+Flujos!O149","v":6.4240694046020505E-8},null,"2036-02-28",{"$f":"IF(G149<CALCULADORA!$C$23,0,IF(CALCULADORA!$C$27>'TIR de Tenencia'!G149,E149,CALCULADORA!$C$33))","v":29996990701},{"$f":"IF(H149=H148, \" \", IF(G149 > CALCULADORA!$C$27, CALCULADORA!$C$27, G149))","v":" "}," ",null,28,3,2036]
[{"$f":"+Flujos!A150","v":"2036-03-28"},{"$f":"+Flujos!L150","v":5.4836273193359375E-6},{"$f":"+Flujos!M150","v":0},{"$f":"+Flujos!N150","v":6.4240694046020505E-8},{"$f":"+Flujos!O150","v":6.4240694046020505E-8},null,"2036-03-28",{"$f":"IF(G150<CALCULADORA!$C$23,0,IF(CALCULADORA!$C$27>'TIR de Tenencia'!G150,E150,CALCULADORA!$C$33))","v":29996990701},{"$f":"IF(H150=H149, \" \", IF(G150 > CALCULADORA!$C$27, CALCULADORA!$C$27, G150))","v":" "}," ",null,28,4,2036]
[{"$f":"+Flujos!A151","v":"2036-04-28"},{"$f":"+Flujos!L151","v":5.4836273193359375E-6},{"$f":"+Flujos!M151","v":0},{"$f":"+Flujos!N151","v":6.4240694046020505E-8},{"$f":"+Flujos!O151","v":6.4240694046020505E-8},null,"2036-04-28",{"$f":"IF(G151<CALCULADORA!$C$23,0,IF(CALCULADORA!$C$27>'TIR de Tenencia'!G151,E151,CALCULADORA!$C$33))","v":29996990701},{"$f":"IF(H151=H150, \" \", IF(G151 > CALCULADORA!$C$27, CALCULADORA!$C$27, G151))","v":" "}," ",null,28,5,2036]
[{"$f":"+Flujos!A152","v":"2036-05-28"},{"$f":"+Flujos!L152","v":5.4836273193359375E-6},{"$f":"+Flujos!M152","v":0},{"$f":"+Flujos!N152","v":6.4240694046020505E-8},{"$f":"+Flujos!O152","v":6.4240694046020505E-8},null,"2036-05-28",{"$f":"IF(G152<CALCULADORA!$C$23,0,IF(CALCULADORA!$C$27>'TIR de Tenencia'!G152,E152,CALCULADORA!$C$33))","v":29996990701},{"$f":"IF(H152=H151, \" \", IF(G152 > CALCULADORA!$C$27, CALCULADORA!$C$27, G152))","v":" "}," ",null,28,6,2036]
[{"$f":"+Flujos!A153","v":"2036-06-28"},{"$f":"+Flujos!L153","v":5.4836273193359375E-6},{"$f":"+Flujos!M153","v":0},{"$f":"+Flujos!N153","v":6.4240694046020505E-8},{"$f":"+Flujos!O153","v":6.4240694046020505E-8},null,"2036-06-28",{"$f":"IF(G153<CALCULADORA!$C$23,0,IF(CALCULADORA!$C$27>'TIR de Tenencia'!G153,E153,CALCULADORA!$C$33))","v":29996990701},{"$f":"IF(H153=H152, \" \", IF(G153 > CALCULADORA!$C$27, CALCULADORA!$C$27, G153))","v":" "}," ",null,28,7,2036]
[{"$f":"+Flujos!A154","v":"2036-07-28"},{"$f":"+Flujos!L154","v":5.4836273193359375E-6},{"$f":"+Flujos!M154","v":0},{"$f":"+Flujos!N154","v":6.4240694046020505E-8},{"$f":"+Flujos!O154","v":6.4240694046020505E-8},null,"2036-07-28",{"$f":"IF(G154<CALCULADORA!$C$23,0,IF(CALCULADORA!$C$27>'TIR de Tenencia'!G154,E154,CALCULADORA!$C$33))","v":29996990701},{"$f":"IF(H154=H153, \" \", IF(G154 > CALCULADORA!$C$27, CALCULADORA!$C$27, G154))","v":" "}," ",null,28,8,2036]
[{"$f":"+Flujos!A155","v":"2036-08-28"},{"$f":"+Flujos!L155","v":5.4836273193359375E-6},{"$f":"+Flujos!M155","v":0},{"$f":"+Flujos!N155","v":6.4240694046020505E-8},{"$f":"+Flujos!O155","v":6.4240694046020505E-8},null,"2036-08-28",{"$f":"IF(G155<CALCULADORA!$C$23,0,IF(CALCULADORA!$C$27>'TIR de Tenencia'!G155,E155,CALCULADORA!$C$33))","v":29996990701},{"$f":"IF(H155=H154, \" \", IF(G155 > CALCULADORA!$C$27, CALCULADORA!$C$27, G155))","v":" "}," ",null,28,9,2036]
[{"$f":"+Flujos!A156","v":"2036-09-28"},{"$f":"+Flujos!L156","v":5.4836273193359375E-6},{"$f":"+Flujos!M156","v":0},{"$f":"+Flujos!N156","v":6.4240694046020505E-8},{"$f":"+Flujos!O156","v":6.4240694046020505E-8},null,"2036-09-28",{"$f":"IF(G156<CALCULADORA!$C$23,0,IF(CALCULADORA!$C$27>'TIR de Tenencia'!G156,E156,CALCULADORA!$C$33))","v":29996990701},{"$f":"IF(H156=H155, \" \", IF(G156 > CALCULADORA!$C$27, CALCULADORA!$C$27, G156))","v":" "}," ",null,28,10,2036]
[{"$f":"+Flujos!A157","v":"2036-10-28"},{"$f":"+Flujos!L157","v":5.4836273193359375E-6},{"$f":"+Flujos!M157","v":0},{"$f":"+Flujos!N157","v":6.4240694046020505E-8},{"$f":"+Flujos!O157","v":6.4240694046020505E-8},null,"2036-10-28",{"$f":"IF(G157<CALCULADORA!$C$23,0,IF(CALCULADORA!$C$27>'TIR de Tenencia'!G157,E157,CALCULADORA!$C$33))","v":29996990701},{"$f":"IF(H157=H156, \" \", IF(G157 > CALCULADORA!$C$27, CALCULADORA!$C$27, G157))","v":" "}," ",null,28,11,2036]
[{"$f":"+Flujos!A158","v":"2036-11-28"},{"$f":"+Flujos!L158","v":5.4836273193359375E-6},{"$f":"+Flujos!M158","v":0},{"$f":"+Flujos!N158","v":6.4240694046020505E-8},{"$f":"+Flujos!O158","v":6.4240694046020505E-8},null,"2036-11-28",{"$f":"IF(G158<CALCULADORA!$C$23,0,IF(CALCULADORA!$C$27>'TIR de Tenencia'!G158,E158,CALCULADORA!$C$33))","v":29996990701},{"$f":"IF(H158=H157, \" \", IF(G158 > CALCULADORA!$C$27, CALCULADORA!$C$27, G158))","v":" "}," ",null,28,12,2036]
[{"$f":"+Flujos!A159","v":"2036-12-28"},{"$f":"+Flujos!L159","v":5.4836273193359375E-6},{"$f":"+Flujos!M159","v":0},{"$f":"+Flujos!N159","v":6.4240694046020505E-8},{"$f":"+Flujos!O159","v":6.4240694046020505E-8},null,"2036-12-28",{"$f":"IF(G159<CALCULADORA!$C$23,0,IF(CALCULADORA!$C$27>'TIR de Tenencia'!G159,E159,CALCULADORA!$C$33))","v":29996990701},{"$f":"IF(H159=H158, \" \", IF(G159 > CALCULADORA!$C$27, CALCULADORA!$C$27, G159))","v":" "}," ",null,28,1,2037]
[{"$f":"+Flujos!A160","v":"2037-01-28"},{"$f":"+Flujos!L160","v":5.4836273193359375E-6},{"$f":"+Flujos!M160","v":0},{"$f":"+Flujos!N160","v":6.4240694046020505E-8},{"$f":"+Flujos!O160","v":6.4240694046020505E-8},null,"2037-01-28",{"$f":"IF(G160<CALCULADORA!$C$23,0,IF(CALCULADORA!$C$27>'TIR de Tenencia'!G160,E160,CALCULADORA!$C$33))","v":29996990701},{"$f":"IF(H160=H159, \" \", IF(G160 > CALCULADORA!$C$27, CALCULADORA!$C$27, G160))","v":" "}," ",null,28,2,2037]
[{"$f":"+Flujos!A161","v":"2037-02-28"},{"$f":"+Flujos!L161","v":5.4836273193359375E-6},{"$f":"+Flujos!M161","v":0},{"$f":"+Flujos!N161","v":6.4240694046020505E-8},{"$f":"+Flujos!O161","v":6.4240694046020505E-8},null,"2037-02-28",{"$f":"IF(G161<CALCULADORA!$C$23,0,IF(CALCULADORA!$C$27>'TIR de Tenencia'!G161,E161,CALCULADORA!$C$33))","v":29996990701},{"$f":"IF(H161=H160, \" \", IF(G161 > CALCULADORA!$C$27, CALCULADORA!$C$27, G161))","v":" "}," ",null,28,3,2037]
[{"$f":"+Flujos!A162","v":"2037-03-28"},{"$f":"+Flujos!L162","v":5.4836273193359375E-6},{"$f":"+Flujos!M162","v":0},{"$f":"+Flujos!N162","v":6.4240694046020505E-8},{"$f":"+Flujos!O162","v":6.4240694046020505E-8},null,"2037-03-28",{"$f":"IF(G162<CALCULADORA!$C$23,0,IF(CALCULADORA!$C$27>'TIR de Tenencia'!G162,E162,CALCULADORA!$C$33))","v":29996990701},{"$f":"IF(H162=H161, \" \", IF(G162 > CALCULADORA!$C$27, CALCULADORA!$C$27, G162))","v":" "}," ",null,28,4,2037]
[{"$f":"+Flujos!A163","v":"2037-04-28"},{"$f":"+Flujos!L163","v":5.4836273193359375E-6},{"$f":"+Flujos!M163","v":0},{"$f":"+Flujos!N163","v":6.4240694046020505E-8},{"$f":"+Flujos!O163","v":6.4240694046020505E-8},null,{"$f":"+DATE(N162,M162,L162)","v":"2037-04-28"},{"$f":"IF(G163<CALCULADORA!$C$23,0,IF(CALCULADORA!$C$27>'TIR de Tenencia'!G163,E163,CALCULADORA!$C$33))","v":29996990701},{"$f":"IF(H163=H162, \" \", IF(G163 > CALCULADORA!$C$27, CALCULADORA!$C$27, G163))","v":" "}," ",null,28,5,2037]
[{"$f":"+Flujos!A164","v":"2037-05-28"},{"$f":"+Flujos!L164","v":5.4836273193359375E-6},{"$f":"+Flujos!M164","v":0},{"$f":"+Flujos!N164","v":6.4240694046020505E-8},{"$f":"+Flujos!O164","v":6.4240694046020505E-8},null,"2037-05-28",{"$f":"IF(G164<CALCULADORA!$C$23,0,IF(CALCULADORA!$C$27>'TIR de Tenencia'!G164,E164,CALCULADORA!$C$33))","v":29996990701},{"$f":"IF(H164=H163, \" \", IF(G164 > CALCULADORA!$C$27, CALCULADORA!$C$27, G164))","v":" "}," ",null,28,6,2037]
[{"$f":"+Flujos!A165","v":"2037-06-28"},{"$f":"+Flujos!L165","v":5.4836273193359375E-6},{"$f":"+Flujos!M165","v":0},{"$f":"+Flujos!N165","v":6.4240694046020505E-8},{"$f":"+Flujos!O165","v":6.4240694046020505E-8},null,"2037-06-28",{"$f":"IF(G165<CALCULADORA!$C$23,0,IF(CALCULADORA!$C$27>'TIR de Tenencia'!G165,E165,CALCULADORA!$C$33))","v":29996990701},{"$f":"IF(H165=H164, \" \", IF(G165 > CALCULADORA!$C$27, CALCULADORA!$C$27, G165))","v":" "}," ",null,28,7,2037]
[{"$f":"+Flujos!A166","v":"2037-07-28"},{"$f":"+Flujos!L166","v":5.4836273193359375E-6},{"$f":"+Flujos!M166","v":0},{"$f":"+Flujos!N166","v":6.4240694046020505E-8},{"$f":"+Flujos!O166","v":6.4240694046020505E-8},null,"2037-07-28",{"$f":"IF(G166<CALCULADORA!$C$23,0,IF(CALCULADORA!$C$27>'TIR de Tenencia'!G166,E166,CALCULADORA!$C$33))","v":29996990701},{"$f":"IF(H166=H165, \" \", IF(G166 > CALCULADORA!$C$27, CALCULADORA!$C$27, G166))","v":" "}," ",null,28,8,2037]
[{"$f":"+Flujos!A167","v":"2037-08-28"},{"$f":"+Flujos!L167","v":5.4836273193359375E-6},{"$f":"+Flujos!M167","v":0},{"$f":"+Flujos!N167","v":6.4240694046020505E-8},{"$f":"+Flujos!O167","v":6.4240694046020505E-8},null,"2037-08-28",{"$f":"IF(G167<CALCULADORA!$C$23,0,IF(CALCULADORA!$C$27>'TIR de Tenencia'!G167,E167,CALCULADORA!$C$33))","v":29996990701},{"$f":"IF(H167=H166, \" \", IF(G167 > CALCULADORA!$C$27, CALCULADORA!$C$27, G167))","v":" "}," ",null,28,9,2037]
[{"$f":"+Flujos!A168","v":"2037-09-28"},{"$f":"+Flujos!L168","v":5.4836273193359375E-6},{"$f":"+Flujos!M168","v":0},{"$f":"+Flujos!N168","v":6.4240694046020505E-8},{"$f":"+Flujos!O168","v":6.4240694046020505E-8},null,"2037-09-28",{"$f":"IF(G168<CALCULADORA!$C$23,0,IF(CALCULADORA!$C$27>'TIR de Tenencia'!G168,E168,CALCULADORA!$C$33))","v":29996990701},{"$f":"IF(H168=H167, \" \", IF(G168 > CALCULADORA!$C$27, CALCULADORA!$C$27, G168))","v":" "}," ",null,28,10,2037]
[{"$f":"+Flujos!A169","v":"2037-10-28"},{"$f":"+Flujos!L169","v":5.4836273193359375E-6},{"$f":"+Flujos!M169","v":0},{"$f":"+Flujos!N169","v":6.4240694046020505E-8},{"$f":"+Flujos!O169","v":6.4240694046020505E-8},null,"2037-10-28",{"$f":"IF(G169<CALCULADORA!$C$23,0,IF(CALCULADORA!$C$27>'TIR de Tenencia'!G169,E169,CALCULADORA!$C$33))","v":29996990701},{"$f":"IF(H169=H168, \" \", IF(G169 > CALCULADORA!$C$27, CALCULADORA!$C$27, G169))","v":" "}," ",null,28,11,2037]
[{"$f":"+Flujos!A170","v":"2037-11-28"},{"$f":"+Flujos!L170","v":5.4836273193359375E-6},{"$f":"+Flujos!M170","v":0},{"$f":"+Flujos!N170","v":6.4240694046020505E-8},{"$f":"+Flujos!O170","v":6.4240694046020505E-8},null,"2037-11-28",{"$f":"IF(G170<CALCULADORA!$C$23,0,IF(CALCULADORA!$C$27>'TIR de Tenencia'!G170,E170,CALCULADORA!$C$33))","v":29996990701},{"$f":"IF(H170=H169, \" \", IF(G170 > CALCULADORA!$C$27, CALCULADORA!$C$27, G170))","v":" "}," ",null,28,12,2037]
[{"$f":"+Flujos!A171","v":"2037-12-28"},{"$f":"+Flujos!L171","v":5.4836273193359375E-6},{"$f":"+Flujos!M171","v":0},{"$f":"+Flujos!N171","v":6.4240694046020505E-8},{"$f":"+Flujos!O171","v":6.4240694046020505E-8},null,"2037-12-28",{"$f":"IF(G171<CALCULADORA!$C$23,0,IF(CALCULADORA!$C$27>'TIR de Tenencia'!G171,E171,CALCULADORA!$C$33))","v":29996990701},{"$f":"IF(H171=H170, \" \", IF(G171 > CALCULADORA!$C$27, CALCULADORA!$C$27, G171))","v":" "}," ",null,28,1,2038]
[{"$f":"+Flujos!A172","v":"2038-01-28"},{"$f":"+Flujos!L172","v":5.4836273193359375E-6},{"$f":"+Flujos!M172","v":0},{"$f":"+Flujos!N172","v":6.4240694046020505E-8},{"$f":"+Flujos!O172","v":6.4240694046020505E-8},null,"2038-01-28",{"$f":"IF(G172<CALCULADORA!$C$23,0,IF(CALCULADORA!$C$27>'TIR de Tenencia'!G172,E172,CALCULADORA!$C$33))","v":29996990701},{"$f":"IF(H172=H171, \" \", IF(G172 > CALCULADORA!$C$27, CALCULADORA!$C$27, G172))","v":" "}," ",null,28,2,2038]
[{"$f":"+Flujos!A173","v":"2038-02-28"},{"$f":"+Flujos!L173","v":5.4836273193359375E-6},{"$f":"+Flujos!M173","v":0},{"$f":"+Flujos!N173","v":6.4240694046020505E-8},{"$f":"+Flujos!O173","v":6.4240694046020505E-8},null,"2038-02-28",{"$f":"IF(G173<CALCULADORA!$C$23,0,IF(CALCULADORA!$C$27>'TIR de Tenencia'!G173,E173,CALCULADORA!$C$33))","v":29996990701},{"$f":"IF(H173=H172, \" \", IF(G173 > CALCULADORA!$C$27, CALCULADORA!$C$27, G173))","v":" "}," ",null,28,3,2038]
[{"$f":"+Flujos!A174","v":"2038-03-28"},{"$f":"+Flujos!L174","v":5.4836273193359375E-6},{"$f":"+Flujos!M174","v":0},{"$f":"+Flujos!N174","v":6.4240694046020505E-8},{"$f":"+Flujos!O174","v":6.4240694046020505E-8},null,"2038-03-28",{"$f":"IF(G174<CALCULADORA!$C$23,0,IF(CALCULADORA!$C$27>'TIR de Tenencia'!G174,E174,CALCULADORA!$C$33))","v":29996990701},{"$f":"IF(H174=H173, \" \", IF(G174 > CALCULADORA!$C$27, CALCULADORA!$C$27, G174))","v":" "}," ",null,28,4,2038]
[{"$f":"+Flujos!A175","v":"2038-04-28"},{"$f":"+Flujos!L175","v":5.4836273193359375E-6},{"$f":"+Flujos!M175","v":0},{"$f":"+Flujos!N175","v":6.4240694046020505E-8},{"$f":"+Flujos!O175","v":6.4240694046020505E-8},null,"2038-04-28",{"$f":"IF(G175<CALCULADORA!$C$23,0,IF(CALCULADORA!$C$27>'TIR de Tenencia'!G175,E175,CALCULADORA!$C$33))","v":29996990701},{"$f":"IF(H175=H174, \" \", IF(G175 > CALCULADORA!$C$27, CALCULADORA!$C$27, G175))","v":" "}," ",null,28,5,2038]
[{"$f":"+Flujos!A176","v":"2038-05-28"},{"$f":"+Flujos!L176","v":5.4836273193359375E-6},{"$f":"+Flujos!M176","v":0},{"$f":"+Flujos!N176","v":6.4240694046020505E-8},{"$f":"+Flujos!O176","v":6.4240694046020505E-8},null,"2038-05-28",{"$f":"IF(G176<CALCULADORA!$C$23,0,IF(CALCULADORA!$C$27>'TIR de Tenencia'!G176,E176,CALCULADORA!$C$33))","v":29996990701},{"$f":"IF(H176=H175, \" \", IF(G176 > CALCULADORA!$C$27, CALCULADORA!$C$27, G176))","v":" "}," ",null,28,6,2038]
[{"$f":"+Flujos!A177","v":"2038-06-28"},{"$f":"+Flujos!L177","v":5.4836273193359375E-6},{"$f":"+Flujos!M177","v":0},{"$f":"+Flujos!N177","v":6.4240694046020505E-8},{"$f":"+Flujos!O177","v":6.4240694046020505E-8},null,"2038-06-28",{"$f":"IF(G177<CALCULADORA!$C$23,0,IF(CALCULADORA!$C$27>'TIR de Tenencia'!G177,E177,CALCULADORA!$C$33))","v":29996990701},{"$f":"IF(H177=H176, \" \", IF(G177 > CALCULADORA!$C$27, CALCULADORA!$C$27, G177))","v":" "}," ",null,28,7,2038]
[{"$f":"+Flujos!A178","v":"2038-07-28"},{"$f":"+Flujos!L178","v":5.4836273193359375E-6},{"$f":"+Flujos!M178","v":0},{"$f":"+Flujos!N178","v":6.4240694046020505E-8},{"$f":"+Flujos!O178","v":6.4240694046020505E-8},null,"2038-07-28",{"$f":"IF(G178<CALCULADORA!$C$23,0,IF(CALCULADORA!$C$27>'TIR de Tenencia'!G178,E178,CALCULADORA!$C$33))","v":29996990701},{"$f":"IF(H178=H177, \" \", IF(G178 > CALCULADORA!$C$27, CALCULADORA!$C$27, G178))","v":" "}," ",null,28,8,2038]
[{"$f":"+Flujos!A179","v":"2038-08-28"},{"$f":"+Flujos!L179","v":5.4836273193359375E-6},{"$f":"+Flujos!M179","v":0},{"$f":"+Flujos!N179","v":6.4240694046020505E-8},{"$f":"+Flujos!O179","v":6.4240694046020505E-8},null,"2038-08-28",{"$f":"IF(G179<CALCULADORA!$C$23,0,IF(CALCULADORA!$C$27>'TIR de Tenencia'!G179,E179,CALCULADORA!$C$33))","v":29996990701},{"$f":"IF(H179=H178, \" \", IF(G179 > CALCULADORA!$C$27, CALCULADORA!$C$27, G179))","v":" "}," ",null,28,9,2038]
[{"$f":"+Flujos!A180","v":"2038-09-28"},{"$f":"+Flujos!L180","v":5.4836273193359375E-6},{"$f":"+Flujos!M180","v":0},{"$f":"+Flujos!N180","v":6.4240694046020505E-8},{"$f":"+Flujos!O180","v":6.4240694046020505E-8},null,"2038-09-28",{"$f":"IF(G180<CALCULADORA!$C$23,0,IF(CALCULADORA!$C$27>'TIR de Tenencia'!G180,E180,CALCULADORA!$C$33))","v":29996990701},{"$f":"IF(H180=H179, \" \", IF(G180 > CALCULADORA!$C$27, CALCULADORA!$C$27, G180))","v":" "}," ",null,28,10,2038]
[{"$f":"+Flujos!A181","v":"2038-10-28"},{"$f":"+Flujos!L181","v":5.4836273193359375E-6},{"$f":"+Flujos!M181","v":0},{"$f":"+Flujos!N181","v":6.4240694046020505E-8},{"$f":"+Flujos!O181","v":6.4240694046020505E-8},null,"2038-10-28",{"$f":"IF(G181<CALCULADORA!$C$23,0,IF(CALCULADORA!$C$27>'TIR de Tenencia'!G181,E181,CALCULADORA!$C$33))","v":29996990701},{"$f":"IF(H181=H180, \" \", IF(G181 > CALCULADORA!$C$27, CALCULADORA!$C$27, G181))","v":" "}," ",null,28,11,2038]
[{"$f":"+Flujos!A182","v":"2038-11-28"},{"$f":"+Flujos!L182","v":5.4836273193359375E-6},{"$f":"+Flujos!M182","v":0},{"$f":"+Flujos!N182","v":6.4240694046020505E-8},{"$f":"+Flujos!O182","v":6.4240694046020505E-8},null,"2038-11-28",{"$f":"IF(G182<CALCULADORA!$C$23,0,IF(CALCULADORA!$C$27>'TIR de Tenencia'!G182,E182,CALCULADORA!$C$33))","v":29996990701},{"$f":"IF(H182=H181, \" \", IF(G182 > CALCULADORA!$C$27, CALCULADORA!$C$27, G182))","v":" "}," ",null,28,12,2038]
[null,"Totales",{"$f":"SUM(C2:C182)","v":37223006647.202454},4456822339.6183615,41679828986.820801]
[null,null,null,null,null,null,null,null,{"$f":"+IF(H184=H183,\" \",H184)","v":" "},null,{"$f":"+MONTH(A184)","v":1},{"$f":"+YEAR(A184)","v":1900}]
[null,null,null,null,null,null,null,null," ",null,1,1900]
[null,null,null,null,null,null,null,null," ",null,1,1900]
[null,null,null,null,null,null,null,null," ",null,1,1900]
[null,null,null,null,null,null,null,null," ",null,1,1900]
[null,null,null,null,null,null,null,null," ",null,1,1900]
[null,null,null,null,null,null,null,null," ",null,1,1900]
[null,null,null,null,null,null,null,null," ",null,1,1900]
[null,null,null,null,null,null,null,null," ",null,1,1900]
[null,null,null,null,null,null,null,null," ",null,1,1900]
[null,null,null,null,null,null,null,null," ",null,1,1900]
[null,null,null,null,null,null,null,null," ",null,1,1900]
[null,null,null,null,null,null,null,null," ",null,1,1900]
[null,null,null,null,null,null,null,null," ",null,1,1900]
[null,null,null,null,null,null,null,null," ",null,1,1900]
[null,null,null,null,null,null,null,null," ",null,1,1900]
[null,null,null,null,null,null,null,null," ",null,1,1900]
[null,null,null,null,null,null,null,null," ",null,1,1900]
[null,null,null,null,null,null,null,null," ",null,1,1900]
[null,null,null,null,null,null,null,null," ",null,1,1900]
[null,null,null,null,null,null,null,null," ",null,1,1900]
[null,null,null,null,null,null,null,null," ",null,1,1900]
[null,null,null,null,null,null,null,null," ",null,1,1900]
[null,null,null,null,null,null,null,null," ",null,1,1900]
[null,null,null,null,null,null,null,null," ",null,1,1900]
[null,null,null,null,null,null,null,null," ",null,1,1900]
[null,null,null,null,null,null,null,null," ",null,1,1900]
[null,null,null,null,null,null,null,null," ",null,1,1900]
[null,null,null,null,null,null,null,null," ",null,1,1900]
[null,null,null,null,null,null,null,null," ",null,1,1900]
[null,null,null,null,null,null,null,null," ",null,1,1900]
[null,null,null,null,null,null,null,null," ",null,1,1900]
[null,null,null,null,null,null,null,null," ",null,1,1900]
[null,null,null,null,null,null,null,null," ",null,1,1900]
[null,null,null,null,null,null,null,null," ",null,1,1900]
[null,null,null,null,null,null,null,null," ",null,1,1900]
[null,null,null,null,null,null,null,null," ",null,1,1900]
[null,null,null,null,null,null,null,null," ",null,1,1900]
[null,null,null,null,null,null,null,null," ",null,1,1900]
[null,null,null,null,null,null,null,null," ",null,1,1900]
[null,null,null,null,null,null,null,null," ",null,1,1900]
[null,null,null,null,null,null,null,null," ",null,1,1900]
[null,null,null,null,null,null,null,null," ",null,1,1900]
[null,null,null,null,null,null,null,null," ",null,1,1900]
[null,null,null,null,null,null,null,null," ",null,1,1900]
[null,null,null,null,null,null,null,null," ",null,1,1900]
[null,null,null,null,null,null,null,null," ",null,1,1900]
[null,null,null,null,null,null,null,null," ",null,1,1900]
[null,null,null,null,null,null,null,null," ",null,1,1900]
[null,null,null,null,null,null,null,null," ",null,1,1900]
[null,null,null,null,null,null,null,null," ",null,1,1900]
[null,null,null,null,null,null,null,null," ",null,1,1900]
[null,null,null,null,null,null,null,null," ",null,1,1900]
[null,null,null,null,null,null,null,null," ",null,1,1900]
[null,null,null,null,null,null,null,null," ",null,1,1900]
[null,null,null,null,null,null,null,null," ",null,1,1900]
[null,null,null,null,null,null,null,null," ",null,1,1900]
[null,null,null,null,null,null,null,null," ",null,1,1900]
[null,null,null,null,null,null,null,null," ",null,1,1900]
[null,null,null,null,null,null,null,null," ",null,1,1900]
[null,null,null,null,null,null,null,null," ",null,1,1900]
[null,null,null,null,null,null,null,null," ",null,1,1900]
[null,null,null,null,null,null,null,null," ",null,1,1900]
[null,null,null,null,null,null,null,null," ",null,1,1900]
[null,null,null,null,null,null,null,null,{"$f":"+IF(H248=H247,\" \",H248)","v":" "},null,{"$f":"+MONTH(A248)","v":1},{"$f":"+YEAR(A248)","v":1900}]
[null,null,null,null,null,null,null,null," ",null,1,1900]
[null,null,null,null,null,null,null,null," ",null,1,1900]
[null,null,null,null,null,null,null,null," ",null,1,1900]
[null,null,null,null,null,null,null,null," ",null,1,1900]
[null,null,null,null,null,null,null,null," ",null,1,1900]
[null,null,null,null,null,null,null,null," ",null,1,1900]
[null,null,null,null,null,null,null,null," ",null,1,1900]
[null,null,null,null,null,null,null,null," ",null,1,1900]
[null,null,null,null,null,null,null,null," ",null,1,1900]
[null,null,null,null,null,null,null,null," ",null,1,1900]
[null,null,null,null,null,null,null,null," ",null,1,1900]
[null,null,null,null,null,null,null,null," ",null,1,1900]
[null,null,null,null,null,null,null,null," ",null,1,1900]
[null,null,null,null,null,null,null,null," ",null,1,1900]
[null,null,null,null,null,null,null,null," ",null,1,1900]
[null,null,null,null,null,null,null,null," ",null,1,1900]
[null,null,null,null,null,null,null,null," ",null,1,1900]
[null,null,null,null,null,null,null,null," ",null,1,1900]
[null,null,null,null,null,null,null,null," ",null,1,1900]
[null,null,null,null,null,null,null,null," ",null,1,1900]
[null,null,null,null,null,null,null,null," ",null,1,1900]
[null,null,null,null,null,null,null,null," ",null,1,1900]
[null,null,null,null,null,null,null,null," ",null,1,1900]
[null,null,null,null,null,null,null,null," ",null,1,1900]
[null,null,null,null,null,null,null,null," ",null,1,1900]
[null,null,null,null,null,null,null,null," ",null,1,1900]
[null,null,null,null,null,null,null,null," ",null,1,1900]
[null,null,null,null,null,null,null,null," ",null,1,1900]
[null,null,null,null,null,null,null,null," ",null,1,1900]
[null,null,null,null,null,null,null,null," ",null,1,1900]
[null,null,null,null,null,null,null,null," ",null,1,1900]
[null,null,null,null,null,null,null,null," ",null,1,1900]
[null,null,null,null,null,null,null,null," ",null,1,1900]
[null,null,null,null,null,null,null,null," ",null,1,1900]
[null,null,null,null,null,null,null,null," ",null,1,1900]
[null,null,null,null,null,null,null,null," ",null,1,1900]
[null,null,null,null,null,null,null,null," ",null,1,1900]
[null,null,null,null,null,null,null,null," ",null,1,1900]
[null,null,null,null,null,null,null,null," ",null,1,1900]
[null,null,null,null,null,null,null,null," ",null,1,1900]
[null,null,null,null,null,null,null,null," ",null,1,1900]
[null,null,null,null,null,null,null,null," ",null,1,1900]
[null,null,null,null,null,null,null,null," ",null,1,1900]
[null,null,null,null,null,null,null,null," ",null,1,1900]
[null,null,null,null,null,null,null,null," ",null,1,1900]
[null,null,null,null,null,null,null,null," ",null,1,1900]
[null,null,null,null,null,null,null,null," ",null,1,1900]
[null,null,null,null,null,null,null,null," ",null,1,1900]
[null,null,null,null,null,null,null,null," ",null,1,1900]
[null,null,null,null,null,null,null,null," ",null,1,1900]
[null,null,null,null,null,null,null,null," ",null,1,1900]
[null,null,null,null,null,null,null,null," ",null,1,1900]
[null,null,null,null,null,null,null,null," ",null,1,1900]
[null,null,null,null,null,null,null,null," ",null,1,1900]
[null,null,null,null,null,null,null,null," ",null,1,1900]
[null,null,null,null,null,null,null,null," ",null,1,1900]
[null,null,null,null,null,null,null,null," ",null,1,1900]
[null,null,null,null,null,null,null,null," ",null,1,1900]
[null,null,null,null,null,null,null,null," ",null,1,1900]
[null,null,null,null,null,null,null,null," ",null,1,1900]
[null,null,null,null,null,null,null,null," ",null,1,1900]
[null,null,null,null,null,null,null,null," ",null,1,1900]
[null,null,null,null,null,null,null,null," ",null,1,1900]
[null,null,null,null,null,null,null,null,{"$f":"+IF(H312=H311,\" \",H312)","v":" "},null,{"$f":"+MONTH(A312)","v":1},{"$f":"+YEAR(A312)","v":1900}]
[null,null,null,null,null,null,null,null," ",null,1,1900]
[null,null,null,null,null,null,null,null," ",null,1,1900]
[null,null,null,null,null,null,null,null," ",null,1,1900]
[null,null,null,null,null,null,null,null," ",null,1,1900]
[null,null,null,null,null,null,null,null," ",null,1,1900]
[null,null,null,null,null,null,null,null," ",null,1,1900]
[null,null,null,null,null,null,null,null," ",null,1,1900]
[null,null,null,null,null,null,null,null," ",null,1,1900]
[null,null,null,null,null,null,null,null," ",null,1,1900]
[null,null,null,null,null,null,null,null," ",null,1,1900]
[null,null,null,null,null,null,null,null," ",null,1,1900]
[null,null,null,null,null,null,null,null," ",null,1,1900]
[null,null,null,null,null,null,null,null," ",null,1,1900]
[null,null,null,null,null,null,null,null," ",null,1,1900]
[null,null,null,null,null,null,null,null," ",null,1,1900]
[null,null,null,null,null,null,null,null," ",null,1,1900]
[null,null,null,null,null,null,null,null," ",null,1,1900]
[null,null,null,null,null,null,null,null," ",null,1,1900]
[null,null,null,null,null,null,null,null," ",null,1,1900]
[null,null,null,null,null,null,null,null," ",null,1,1900]
[null,null,null,null,null,null,null,null," ",null,1,1900]
[null,null,null,null,null,null,null,null," ",null,1,1900]
[null,null,null,null,null,null,null,null," ",null,1,1900]
[null,null,null,null,null,null,null,null," ",null,1,1900]
[null,null,null,null,null,null,null,null," ",null,1,1900]
[null,null,null,null,null,null,null,null," ",null,1,1900]
[null,null,null,null,null,null,null,null," ",null,1,1900]
[null,null,null,null,null,null,null,null," ",null,1,1900]
[null,null,null,null,null,null,null,null," ",null,1,1900]
[null,null,null,null,null,null,null,null," ",null,1,1900]
[null,null,null,null,null,null,null,null," ",null,1,1900]
[null,null,null,null,null,null,null,null," ",null,1,1900]
[null,null,null,null,null,null,null,null," ",null,1,1900]
[null,null,null,null,null,null,null,null," ",null,1,1900]
[null,null,null,null,null,null,null,null," ",null,1,1900]
[null,null,null,null,null,null,null,null," ",null,1,1900]
[null,null,null,null,null,null,null,null," ",null,1,1900]
[null,null,null,null,null,null,null,null," ",null,1,1900]
[null,null,null,null,null,null,null,null," ",null,1,1900]
[null,null,null,null,null,null,null,null," ",null,1,1900]
[null,null,null,null,null,null,null,null," ",null,1,1900]
[null,null,null,null,null,null,null,null," ",null,1,1900]
[null,null,null,null,null,null,null,null," ",null,1,1900]
[null,null,null,null,null,null,null,null," ",null,1,1900]
[null,null,null,null,null,null,null,null," ",null,1,1900]
[null,null,null,null,null,null,null,null," ",null,1,1900]
[null,null,null,null,null,null,null,null," ",null,1,1900]
[null,null,null,null,null,null,null,null," ",null,1,1900]
[null,null,null,null,null,null,null,null," ",null,1,1900]
[null,null,null,null,null,null,null,null," ",null,1,1900]
[null,null,null,null,null,null,null,null," ",null,1,1900]
[null,null,null,null,null,null,null,null," ",null,1,1900]
[null,null,null,null,null,null,null,null," ",null,1,1900]
[null,null,null,null,null,null,null,null," ",null,1,1900]
[null,null,null,null,null,null,null,null," ",null,1,1900]
[null,null,null,null,null,null,null,null," ",null,1,1900]
[null,null,null,null,null,null,null,null," ",null,1,1900]
[null,null,null,null,null,null,null,null," ",null,1,1900]
[null,null,null,null,null,null,null,null," ",null,1,1900]
[null,null,null,null,null,null,null,null," ",null,1,1900]
[null,null,null,null,null,null,null,null," ",null,1,1900]
[null,null,null,null,null,null,null,null," ",null,1,1900]
[null,null,null,null,null,null,null,null," ",null,1,1900]
[null,null,null,null,null,null,null,null,{"$f":"+IF(H376=H375,\" \",H376)","v":" "},null,{"$f":"+MONTH(A376)","v":1},{"$f":"+YEAR(A376)","v":1900}]
[null,null,null,null,null,null,null,null," ",null,1,1900]
[null,null,null,null,null,null,null,null," ",null,1,1900]
[null,null,null,null,null,null,null,null," ",null,1,1900]
[null,null,null,null,null,null,null,null," ",null,1,1900]
[null,null,null,null,null,null,null,null," ",null,1,1900]
[null,null,null,null,null,null,null,null," ",null,1,1900]
[null,null,null,null,null,null,null,null," ",null,1,1900]
[null,null,null,null,null,null,null,null," ",null,1,1900]
[null,null,null,null,null,null,null,null," ",null,1,1900]
[null,null,null,null,null,null,null,null," ",null,1,1900]
[null,null,null,null,null,null,null,null," ",null,1,1900]
[null,null,null,null,null,null,null,null," ",null,1,1900]
[null,null,null,null,null,null,null,null," ",null,1,1900]
[null,null,null,null,null,null,null,null," ",null,1,1900]
[null,null,null,null,null,null,null,null," ",null,1,1900]
[null,null,null,null,null,null,null,null," ",null,1,1900]
[null,null,null,null,null,null,null,null," ",null,1,1900]
[null,null,null,null,null,null,null,null," ",null,1,1900]
[null,null,null,null,null,null,null,null," ",null,1,1900]
[null,null,null,null,null,null,null,null," ",null,1,1900]
[null,null,null,null,null,null,null,null," ",null,1,1900]
[null,null,null,null,null,null,null,null," ",null,1,1900]
[null,null,null,null,null,null,null,null," ",null,1,1900]
[null,null,null,null,null,null,null,null," ",null,1,1900]
[null,null,null,null,null,null,null,null," ",null,1,1900]
[null,null,null,null,null,null,null,null," ",null,1,1900]
[null,null,null,null,null,null,null,null," ",null,1,1900]
[null,null,null,null,null,null,null,null," ",null,1,1900]
[null,null,null,null,null,null,null,null," ",null,1,1900]
[null,null,null,null,null,null,null,null," ",null,1,1900]
[null,null,null,null,null,null,null,null," ",null,1,1900]
[null,null,null,null,null,null,null,null," ",null,1,1900]
[null,null,null,null,null,null,null,null," ",null,1,1900]
[null,null,null,null,null,null,null,null," ",null,1,1900]
[null,null,null,null,null,null,null,null," ",null,1,1900]
[null,null,null,null,null,null,null,null," ",null,1,1900]
[null,null,null,null,null,null,null,null," ",null,1,1900]
[null,null,null,null,null,null,null,null," ",null,1,1900]
[null,null,null,null,null,null,null,null," ",null,1,1900]
[null,null,null,null,null,null,null,null," ",null,1,1900]
[null,null,null,null,null,null,null,null," ",null,1,1900]
[null,null,null,null,null,null,null,null," ",null,1,1900]
[null,null,null,null,null,null,null,null," ",null,1,1900]
[null,null,null,null,null,null,null,null," ",null,1,1900]
[null,null,null,null,null,null,null,null," ",null,1,1900]
[null,null,null,null,null,null,null,null," ",null,1,1900]
[null,null,null,null,null,null,null,null," ",null,1,1900]
[null,null,null,null,null,null,null,null," ",null,1,1900]
[null,null,null,null,null,null,null,null," ",null,1,1900]
[null,null,null,null,null,null,null,null," ",null,1,1900]
[null,null,null,null,null,null,null,null," ",null,1,1900]
[null,null,null,null,null,null,null,null," ",null,1,1900]
[null,null,null,null,null,null,null,null," ",null,1,1900]
[null,null,null,null,null,null,null,null," ",null,1,1900]
[null,null,null,null,null,null,null,null," ",null,1,1900]
[null,null,null,null,null,null,null,null," ",null,1,1900]
[null,null,null,null,null,null,null,null," ",null,1,1900]
[null,null,null,null,null,null,null,null," ",null,1,1900]
[null,null,null,null,null,null,null,null," ",null,1,1900]
[null,null,null,null,null,null,null,null," ",null,1,1900]
[null,null,null,null,null,null,null,null," ",null,1,1900]
[null,null,null,null,null,null,null,null," ",null,1,1900]
[null,null,null,null,null,null,null,null," ",null,1,1900]
[null,null,null,null,null,null,null,null,{"$f":"+IF(H440=H439,\" \",H440)","v":" "},null,{"$f":"+MONTH(A440)","v":1},{"$f":"+YEAR(A440)","v":1900}]
[null,null,null,null,null,null,null,null," ",null,1,1900]
[null,null,null,null,null,null,null,null," ",null,1,1900]
[null,null,null,null,null,null,null,null," ",null,1,1900]
[null,null,null,null,null,null,null,null," ",null,1,1900]
[null,null,null,null,null,null,null,null," ",null,1,1900]
[null,null,null,null,null,null,null,null," ",null,1,1900]
[null,null,null,null,null,null,null,null," ",null,1,1900]
[null,null,null,null,null,null,null,null," ",null,1,1900]
[null,null,null,null,null,null,null,null," ",null,1,1900]
[null,null,null,null,null,null,null,null," ",null,1,1900]
[null,null,null,null,null,null,null,null," ",null,1,1900]
[null,null,null,null,null,null,null,null," ",null,1,1900]
[null,null,null,null,null,null,null,null," ",null,1,1900]
[null,null,null,null,null,null,null,null," ",null,1,1900]
[null,null,null,null,null,null,null,null," ",null,1,1900]
[null,null,null,null,null,null,null,null," ",null,1,1900]
[null,null,null,null,null,null,null,null," ",null,1,1900]
[null,null,null,null,null,null,null,null," ",null,1,1900]
[null,null,null,null,null,null,null,null," ",null,1,1900]
[null,null,null,null,null,null,null,null," ",null,1,1900]
[null,null,null,null,null,null,null,null," ",null,1,1900]
[null,null,null,null,null,null,null,null," ",null,1,1900]
[null,null,null,null,null,null,null,null," ",null,1,1900]
[null,null,null,null,null,null,null,null," ",null,1,1900]
[null,null,null,null,null,null,null,null," ",null,1,1900]
[null,null,null,null,null,null,null,null," ",null,1,1900]
[null,null,null,null,null,null,null,null," ",null,1,1900]
[null,null,null,null,null,null,null,null," ",null,1,1900]
[null,null,null,null,null,null,null,null," ",null,1,1900]
[null,null,null,null,null,null,null,null," ",null,1,1900]
[null,null,null,null,null,null,null,null," ",null,1,1900]
[null,null,null,null,null,null,null,null," ",null,1,1900]
[null,null,null,null,null,null,null,null," ",null,1,1900]
[null,null,null,null,null,null,null,null," ",null,1,1900]
[null,null,null,null,null,null,null,null," ",null,1,1900]
[null,null,null,null,null,null,null,null," ",null,1,1900]
[null,null,null,null,null,null,null,null," ",null,1,1900]
[null,null,null,null,null,null,null,null," ",null,1,1900]
[null,null,null,null,null,null,null,null," ",null,1,1900]
[null,null,null,null,null,null,null,null," ",null,1,1900]
[null,null,null,null,null,null,null,null," ",null,1,1900]
[null,null,null,null,null,null,null,null," ",null,1,1900]
[null,null,null,null,null,null,null,null," ",null,1,1900]
[null,null,null,null,null,null,null,null," ",null,1,1900]
[null,null,null,null,null,null,null,null," ",null,1,1900]
[null,null,null,null,null,null,null,null," ",null,1,1900]
[null,null,null,null,null,null,null,null," ",null,1,1900]
[null,null,null,null,null,null,null,null," ",null,1,1900]
[null,null,null,null,null,null,null,null," ",null,1,1900]
[null,null,null,null,null,null,null,null," ",null,1,1900]
[null,null,null,null,null,null,null,null," ",null,1,1900]
[null,null,null,null,null,null,null,null," ",null,1,1900]
[null,null,null,null,null,null,null,null," ",null,1,1900]
[null,null,null,null,null,null,null,null," ",null,1,1900]
[null,null,null,null,null,null,null,null," ",null,1,1900]
[null,null,null,null,null,null,null,null," ",null,1,1900]
[null,null,null,null,null,null,null,null," ",null,1,1900]
[null,null,null,null,null,null,null,null," ",null,1,1900]
[null,null,null,null,null,null,null,null," ",null,1,1900]
[null,null,null,null,null,null,null,null," ",null,1,1900]
[null,null,null,null,null,null,null,null," ",null,1,1900]
[null,null,null,null,null,null,null,null," ",null,1,1900]
[null,null,null,null,null,null,null,null," ",null,1,1900]
[null,null,null,null,null,null,null,null,{"$f":"+IF(H504=H503,\" \",H504)","v":" "},null,{"$f":"+MONTH(A504)","v":1},{"$f":"+YEAR(A504)","v":1900}]
[null,null,null,null,null,null,null,null," ",null,1,1900]
[null,null,null,null,null,null,null,null," ",null,1,1900]
[null,null,null,null,null,null,null,null," ",null,1,1900]
[null,null,null,null,null,null,null,null," ",null,1,1900]
[null,null,null,null,null,null,null,null," ",null,1,1900]
[null,null,null,null,null,null,null,null," ",null,1,1900]
[null,null,null,null,null,null,null,null," ",null,1,1900]
[null,null,null,null,null,null,null,null," ",null,1,1900]
[null,null,null,null,null,null,null,null," ",null,1,1900]
[null,null,null,null,null,null,null,null," ",null,1,1900]
[null,null,null,null,null,null,null,null," ",null,1,1900]
[null,null,null,null,null,null,null,null," ",null,1,1900]
[null,null,null,null,null,null,null,null," ",null,1,1900]
[null,null,null,null,null,null,null,null," ",null,1,1900]
[null,null,null,null,null,null,null,null," ",null,1,1900]
[null,null,null,null,null,null,null,null," ",null,1,1900]
[null,null,null,null,null,null,null,null," ",null,1,1900]
[null,null,null,null,null,null,null,null," ",null,1,1900]
[null,null,null,null,null,null,null,null," ",null,1,1900]
[null,null,null,null,null,null,null,null," ",null,1,1900]
[null,null,null,null,null,null,null,null," ",null,1,1900]
[null,null,null,null,null,null,null,null," ",null,1,1900]
[null,null,null,null,null,null,null,null," ",null,1,1900]
[null,null,null,null,null,null,null,null," ",null,1,1900]
[null,null,null,null,null,null,null,null," ",null,1,1900]
[null,null,null,null,null,null,null,null," ",null,1,1900]
[null,null,null,null,null,null,null,null," ",null,1,1900]
[null,null,null,null,null,null,null,null," ",null,1,1900]
[null,null,null,null,null,null,null,null," ",null,1,1900]
[null,null,null,null,null,null,null,null," ",null,1,1900]
[null,null,null,null,null,null,null,null," ",null,1,1900]
[null,null,null,null,null,null,null,null," ",null,1,1900]
[null,null,null,null,null,null,null,null," ",null,1,1900]
[null,null,null,null,null,null,null,null," ",null,1,1900]
[null,null,null,null,null,null,null,null," ",null,1,1900]
[null,null,null,null,null,null,null,null," ",null,1,1900]
[null,null,null,null,null,null,null,null," ",null,1,1900]
[null,null,null,null,null,null,null,null," ",null,1,1900]
[null,null,null,null,null,null,null,null," ",null,1,1900]
[null,null,null,null,null,null,null,null," ",null,1,1900]
[null,null,null,null,null,null,null,null," ",null,1,1900]
[null,null,null,null,null,null,null,null," ",null,1,1900]
[null,null,null,null,null,null,null,null," ",null,1,1900]
[null,null,null,null,null,null,null,null," ",null,1,1900]
[null,null,null,null,null,null,null,null," ",null,1,1900]
[null,null,null,null,null,null,null,null," ",null,1,1900]
[null,null,null,null,null,null,null,null," ",null,1,1900]
[null,null,null,null,null,null,null,null," ",null,1,1900]
[null,null,null,null,null,null,null,null," ",null,1,1900]
[null,null,null,null,null,null,null,null," ",null,1,1900]
[null,null,null,null,null,null,null,null," ",null,1,1900]
[null,null,null,null,null,null,null,null," ",null,1,1900]
[null,null,null,null,null,null,null,null," ",null,1,1900]
[null,null,null,null,null,null,null,null," ",null,1,1900]
[null,null,null,null,null,null,null,null," ",null,1,1900]
[null,null,null,null,null,null,null,null," ",null,1,1900]
[null,null,null,null,null,null,null,null," ",null,1,1900]
[null,null,null,null,null,null,null,null," ",null,1,1900]
[null,null,null,null,null,null,null,null," ",null,1,1900]
[null,null,null,null,null,null,null,null," ",null,1,1900]
[null,null,null,null,null,null,null,null," ",null,1,1900]
[null,null,null,null,null,null,null,null," ",null,1,1900]
[null,null,null,null,null,null,null,null," ",null,1,1900]
[null,null,null,null,null,null,null,null,{"$f":"+IF(H568=H567,\" \",H568)","v":" "},null,{"$f":"+MONTH(A568)","v":1},{"$f":"+YEAR(A568)","v":1900}]
[null,null,null,null,null,null,null,null," ",null,1,1900]
[null,null,null,null,null,null,null,null," ",null,1,1900]
[null,null,null,null,null,null,null,null," ",null,1,1900]
[null,null,null,null,null,null,null,null," ",null,1,1900]
[null,null,null,null,null,null,null,null," ",null,1,1900]
[null,null,null,null,null,null,null,null," ",null,1,1900]
[null,null,null,null,null,null,null,null," ",null,1,1900]
[null,null,null,null,null,null,null,null," ",null,1,1900]
[null,null,null,null,null,null,null,null," ",null,1,1900]
[null,null,null,null,null,null,null,null," ",null,1,1900]
[null,null,null,null,null,null,null,null," ",null,1,1900]
[null,null,null,null,null,null,null,null," ",null,1,1900]
[null,null,null,null,null,null,null,null," ",null,1,1900]
[null,null,null,null,null,null,null,null," ",null,1,1900]
[null,null,null,null,null,null,null,null," ",null,1,1900]
[null,null,null,null,null,null,null,null," ",null,1,1900]
[null,null,null,null,null,null,null,null," ",null,1,1900]
[null,null,null,null,null,null,null,null," ",null,1,1900]
[null,null,null,null,null,null,null,null," ",null,1,1900]
[null,null,null,null,null,null,null,null," ",null,1,1900]
[null,null,null,null,null,null,null,null," ",null,1,1900]
[null,null,null,null,null,null,null,null," ",null,1,1900]
[null,null,null,null,null,null,null,null," ",null,1,1900]
[null,null,null,null,null,null,null,null," ",null,1,1900]
[null,null,null,null,null,null,null,null," ",null,1,1900]
[null,null,null,null,null,null,null,null," ",null,1,1900]
[null,null,null,null,null,null,null,null," ",null,1,1900]
[null,null,null,null,null,null,null,null," ",null,1,1900]
[null,null,null,null,null,null,null,null," ",null,1,1900]
[null,null,null,null,null,null,null,null," ",null,1,1900]
[null,null,null,null,null,null,null,null," ",null,1,1900]
[null,null,null,null,null,null,null,null," ",null,1,1900]
[null,null,null,null,null,null,null,null," ",null,1,1900]
[null,null,null,null,null,null,null,null," ",null,1,1900]
[null,null,null,null,null,null,null,null," ",null,1,1900]
[null,null,null,null,null,null,null,null," ",null,1,1900]
[null,null,null,null,null,null,null,null," ",null,1,1900]
[null,null,null,null,null,null,null,null," ",null,1,1900]
[null,null,null,null,null,null,null,null," ",null,1,1900]
[null,null,null,null,null,null,null,null," ",null,1,1900]
[null,null,null,null,null,null,null,null," ",null,1,1900]
[null,null,null,null,null,null,null,null," ",null,1,1900]
[null,null,null,null,null,null,null,null," ",null,1,1900]
[null,null,null,null,null,null,null,null," ",null,1,1900]
[null,null,null,null,null,null,null,null," ",null,1,1900]
[null,null,null,null,null,null,null,null," ",null,1,1900]
[null,null,null,null,null,null,null,null," ",null,1,1900]
[null,null,null,null,null,null,null,null," ",null,1,1900]
[null,null,null,null,null,null,null,null," ",null,1,1900]
[null,null,null,null,null,null,null,null," ",null,1,1900]
[null,null,null,null,null,null,null,null," ",null,1,1900]
[null,null,null,null,null,null,null,null," ",null,1,1900]
[null,null,null,null,null,null,null,null," ",null,1,1900]
[null,null,null,null,null,null,null,null," ",null,1,1900]
[null,null,null,null,null,null,null,null," ",null,1,1900]
[null,null,null,null,null,null,null,null," ",null,1,1900]
[null,null,null,null,null,null,null,null," ",null,1,1900]
[null,null,null,null,null,null,null,null," ",null,1,1900]
[null,null,null,null,null,null,null,null," ",null,1,1900]
[null,null,null,null,null,null,null,null," ",null,1,1900]
[null,null,null,null,null,null,null,null," ",null,1,1900]
[null,null,null,null,null,null,null,null," ",null,1,1900]
[null,null,null,null,null,null,null,null," ",null,1,1900]
[null,null,null,null,null,null,null,null,{"$f":"+IF(H632=H631,\" \",H632)","v":" "},null,{"$f":"+MONTH(A632)","v":1},{"$f":"+YEAR(A632)","v":1900}]
[null,null,null,null,null,null,null,null," ",null,1,1900]
[null,null,null,null,null,null,null,null," ",null,1,1900]
[null,null,null,null,null,null,null,null," ",null,1,1900]
[null,null,null,null,null,null,null,null," ",null,1,1900]
[null,null,null,null,null,null,null,null," ",null,1,1900]
[null,null,null,null,null,null,null,null," ",null,1,1900]
[null,null,null,null,null,null,null,null," ",null,1,1900]
[null,null,null,null,null,null,null,null," ",null,1,1900]
[null,null,null,null,null,null,null,null," ",null,1,1900]
[null,null,null,null,null,null,null,null," ",null,1,1900]
[null,null,null,null,null,null,null,null," ",null,1,1900]
[null,null,null,null,null,null,null,null," ",null,1,1900]
[null,null,null,null,null,null,null,null," ",null,1,1900]
[null,null,null,null,null,null,null,null," ",null,1,1900]
[null,null,null,null,null,null,null,null," ",null,1,1900]
[null,null,null,null,null,null,null,null," ",null,1,1900]
[null,null,null,null,null,null,null,null," ",null,1,1900]
[null,null,null,null,null,null,null,null," ",null,1,1900]
[null,null,null,null,null,null,null,null," ",null,1,1900]
[null,null,null,null,null,null,null,null," ",null,1,1900]
[null,null,null,null,null,null,null,null," ",null,1,1900]
[null,null,null,null,null,null,null,null," ",null,1,1900]
[null,null,null,null,null,null,null,null," ",null,1,1900]
[null,null,null,null,null,null,null,null," ",null,1,1900]
[null,null,null,null,null,null,null,null," ",null,1,1900]
[null,null,null,null,null,null,null,null," ",null,1,1900]
[null,null,null,null,null,null,null,null," ",null,1,1900]
[null,null,null,null,null,null,null,null," ",null,1,1900]
[null,null,null,null,null,null,null,null," ",null,1,1900]
[null,null,null,null,null,null,null,null," ",null,1,1900]
[null,null,null,null,null,null,null,null," ",null,1,1900]
[null,null,null,null,null,null,null,null," ",null,1,1900]
[null,null,null,null,null,null,null,null," ",null,1,1900]
[null,null,null,null,null,null,null,null," ",null,1,1900]
[null,null,null,null,null,null,null,null," ",null,1,1900]
[null,null,null,null,null,null,null,null," ",null,1,1900]
[null,null,null,null,null,null,null,null," ",null,1,1900]
[null,null,null,null,null,null,null,null," ",null,1,1900]
[null,null,null,null,null,null,null,null," ",null,1,1900]
[null,null,null,null,null,null,null,null," ",null,1,1900]
[null,null,null,null,null,null,null,null," ",null,1,1900]
[null,null,null,null,null,null,null,null," ",null,1,1900]
[null,null,null,null,null,null,null,null," ",null,1,1900]
[null,null,null,null,null,null,null,null," ",null,1,1900]
[null,null,null,null,null,null,null,null," ",null,1,1900]
[null,null,null,null,null,null,null,null," ",null,1,1900]
[null,null,null,null,null,null,null,null," ",null,1,1900]
[null,null,null,null,null,null,null,null," ",null,1,1900]
[null,null,null,null,null,null,null,null," ",null,1,1900]
[null,null,null,null,null,null,null,null," ",null,1,1900]
[null,null,null,null,null,null,null,null," ",null,1,1900]
[null,null,null,null,null,null,null,null," ",null,1,1900]
[null,null,null,null,null,null,null,null," ",null,1,1900]
[null,null,null,null,null,null,null,null," ",null,1,1900]
[null,null,null,null,null,null,null,null," ",null,1,1900]
[null,null,null,null,null,null,null,null," ",null,1,1900]
[null,null,null,null,null,null,null,null," ",null,1,1900]
[null,null,null,null,null,null,null,null," ",null,1,1900]
[null,null,null,null,null,null,null,null," ",null,1,1900]
[null,null,null,null,null,null,null,null," ",null,1,1900]
[null,null,null,null,null,null,null,null," ",null,1,1900]
[null,null,null,null,null,null,null,null," ",null,1,1900]
[null,null,null,null,null,null,null,null," ",null,1,1900]
[null,null,null,null,null,null,null,null,{"$f":"+IF(H696=H695,\" \",H696)","v":" "},null,{"$f":"+MONTH(A696)","v":1},{"$f":"+YEAR(A696)","v":1900}]
[null,null,null,null,null,null,null,null," ",null,1,1900]
[null,null,null,null,null,null,null,null," ",null,1,1900]
[null,null,null,null,null,null,null,null," ",null,1,1900]
[null,null,null,null,null,null,null,null," ",null,1,1900]
[null,null,null,null,null,null,null,null," ",null,1,1900]
[null,null,null,null,null,null,null,null," ",null,1,1900]
[null,null,null,null,null,null,null,null," ",null,1,1900]
[null,null,null,null,null,null,null,null," ",null,1,1900]
[null,null,null,null,null,null,null,null," ",null,1,1900]
[null,null,null,null,null,null,null,null," ",null,1,1900]
[null,null,null,null,null,null,null,null," ",null,1,1900]
[null,null,null,null,null,null,null,null," ",null,1,1900]
[null,null,null,null,null,null,null,null," ",null,1,1900]
[null,null,null,null,null,null,null,null," ",null,1,1900]
[null,null,null,null,null,null,null,null," ",null,1,1900]
[null,null,null,null,null,null,null,null," ",null,1,1900]
[null,null,null,null,null,null,null,null," ",null,1,1900]
[null,null,null,null,null,null,null,null," ",null,1,1900]
[null,null,null,null,null,null,null,null," ",null,1,1900]
[null,null,null,null,null,null,null,null," ",null,1,1900]
[null,null,null,null,null,null,null,null," ",null,1,1900]
[null,null,null,null,null,null,null,null," ",null,1,1900]
[null,null,null,null,null,null,null,null," ",null,1,1900]
[null,null,null,null,null,null,null,null," ",null,1,1900]
[null,null,null,null,null,null,null,null," ",null,1,1900]
[null,null,null,null,null,null,null,null," ",null,1,1900]
[null,null,null,null,null,null,null,null," ",null,1,1900]
[null,null,null,null,null,null,null,null," ",null,1,1900]
[null,null,null,null,null,null,null,null," ",null,1,1900]
[null,null,null,null,null,null,null,null," ",null,1,1900]
[null,null,null,null,null,null,null,null," ",null,1,1900]
[null,null,null,null,null,null,null,null," ",null,1,1900]
[null,null,null,null,null,null,null,null," ",null,1,1900]
[null,null,null,null,null,null,null,null," ",null,1,1900]
[null,null,null,null,null,null,null,null," ",null,1,1900]
[null,null,null,null,null,null,null,null," ",null,1,1900]
[null,null,null,null,null,null,null,null," ",null,1,1900]
[null,null,null,null,null,null,null,null," ",null,1,1900]
[null,null,null,null,null,null,null,null," ",null,1,1900]
[null,null,null,null,null,null,null,null," ",null,1,1900]
[null,null,null,null,null,null,null,null," ",null,1,1900]
[null,null,null,null,null,null,null,null," ",null,1,1900]
[null,null,null,null,null,null,null,null," ",null,1,1900]
[null,null,null,null,null,null,null,null," ",null,1,1900]
[null,null,null,null,null,null,null,null," ",null,1,1900]
[null,null,null,null,null,null,null,null," ",null,1,1900]
[null,null,null,null,null,null,null,null," ",null,1,1900]
[null,null,null,null,null,null,null,null," ",null,1,1900]
[null,null,null,null,null,null,null,null," ",null,1,1900]
[null,null,null,null,null,null,null,null," ",null,1,1900]
[null,null,null,null,null,null,null,null," ",null,1,1900]
[null,null,null,null,null,null,null,null," ",null,1,1900]
[null,null,null,null,null,null,null,null," ",null,1,1900]
[null,null,null,null,null,null,null,null," ",null,1,1900]
[null,null,null,null,null,null,null,null," ",null,1,1900]
[null,null,null,null,null,null,null,null," ",null,1,1900]
[null,null,null,null,null,null,null,null," ",null,1,1900]
[null,null,null,null,null,null,null,null," ",null,1,1900]
[null,null,null,null,null,null,null,null," ",null,1,1900]
[null,null,null,null,null,null,null,null," ",null,1,1900]
[null,null,null,null,null,null,null,null," ",null,1,1900]
[null,null,null,null,null,null,null,null," ",null,1,1900]
[null,null,null,null,null,null,null,null," ",null,1,1900]
[null,null,null,null,null,null,null,null,{"$f":"+IF(H760=H759,\" \",H760)","v":" "},null,{"$f":"+MONTH(A760)","v":1},{"$f":"+YEAR(A760)","v":1900}]
[null,null,null,null,null,null,null,null," ",null,1,1900]
[null,null,null,null,null,null,null,null," ",null,1,1900]
[null,null,null,null,null,null,null,null," ",null,1,1900]
[null,null,null,null,null,null,null,null," ",null,1,1900]
[null,null,null,null,null,null,null,null," ",null,1,1900]
[null,null,null,null,null,null,null,null," ",null,1,1900]
[null,null,null,null,null,null,null,null," ",null,1,1900]
[null,null,null,null,null,null,null,null," ",null,1,1900]
[null,null,null,null,null,null,null,null," ",null,1,1900]
[null,null,null,null,null,null,null,null," ",null,1,1900]
[null,null,null,null,null,null,null,null," ",null,1,1900]
[null,null,null,null,null,null,null,null," ",null,1,1900]
[null,null,null,null,null,null,null,null," ",null,1,1900]
[null,null,null,null,null,null,null,null," ",null,1,1900]
[null,null,null,null,null,null,null,null," ",null,1,1900]
[null,null,null,null,null,null,null,null," ",null,1,1900]
[null,null,null,null,null,null,null,null," ",null,1,1900]
[null,null,null,null,null,null,null,null," ",null,1,1900]
[null,null,null,null,null,null,null,null," ",null,1,1900]
[null,null,null,null,null,null,null,null," ",null,1,1900]
[null,null,null,null,null,null,null,null," ",null,1,1900]
[null,null,null,null,null,null,null,null," ",null,1,1900]
[null,null,null,null,null,null,null,null," ",null,1,1900]
[null,null,null,null,null,null,null,null," ",null,1,1900]
[null,null,null,null,null,null,null,null," ",null,1,1900]
[null,null,null,null,null,null,null,null," ",null,1,1900]
[null,null,null,null,null,null,null,null," ",null,1,1900]
[null,null,null,null,null,null,null,null," ",null,1,1900]
[null,null,null,null,null,null,null,null," ",null,1,1900]
[null,null,null,null,null,null,null,null," ",null,1,1900]
[null,null,null,null,null,null,null,null," ",null,1,1900]
[null,null,null,null,null,null,null,null," ",null,1,1900]
[null,null,null,null,null,null,null,null," ",null,1,1900]
[null,null,null,null,null,null,null,null," ",null,1,1900]
[null,null,null,null,null,null,null,null," ",null,1,1900]
[null,null,null,null,null,null,null,null," ",null,1,1900]
[null,null,null,null,null,null,null,null," ",null,1,1900]
[null,null,null,null,null,null,null,null," ",null,1,1900]
[null,null,null,null,null,null,null,null," ",null,1,1900]
[null,null,null,null,null,null,null,null," ",null,1,1900]
[null,null,null,null,null,null,null,null," ",null,1,1900]
[null,null,null,null,null,null,null,null," ",null,1,1900]
[null,null,null,null,null,null,null,null," ",null,1,1900]
[null,null,null,null,null,null,null,null," ",null,1,1900]
[null,null,null,null,null,null,null,null," ",null,1,1900]
[null,null,null,null,null,null,null,null," ",null,1,1900]
[null,null,null,null,null,null,null,null," ",null,1,1900]
[null,null,null,null,null,null,null,null," ",null,1,1900]
[null,null,null,null,null,null,null,null," ",null,1,1900]
[null,null,null,null,null,null,null,null," ",null,1,1900]
[null,null,null,null,null,null,null,null," ",null,1,1900]
[null,null,null,null,null,null,null,null," ",null,1,1900]
[null,null,null,null,null,null,null,null," ",null,1,1900]
[null,null,null,null,null,null,null,null," ",null,1,1900]
[null,null,null,null,null,null,null,null," ",null,1,1900]
[null,null,null,null,null,null,null,null," ",null,1,1900]
[null,null,null,null,null,null,null,null," ",null,1,1900]
[null,null,null,null,null,null,null,null," ",null,1,1900]
[null,null,null,null,null,null,null,null," ",null,1,1900]
[null,null,null,null,null,null,null,null," ",null,1,1900]
[null,null,null,null,null,null,null,null," ",null,1,1900]
[null,null,null,null,null,null,null,null," ",null,1,1900]
[null,null,null,null,null,null,null,null," ",null,1,1900]
[null,null,null,null,null,null,null,null,{"$f":"+IF(H824=H823,\" \",H824)","v":" "},null,{"$f":"+MONTH(A824)","v":1},{"$f":"+YEAR(A824)","v":1900}]
[null,null,null,null,null,null,null,null," ",null,1,1900]
[null,null,null,null,null,null,null,null," ",null,1,1900]
[null,null,null,null,null,null,null,null," ",null,1,1900]
[null,null,null,null,null,null,null,null," ",null,1,1900]
[null,null,null,null,null,null,null,null," ",null,1,1900]
[null,null,null,null,null,null,null,null," ",null,1,1900]
[null,null,null,null,null,null,null,null," ",null,1,1900]
[null,null,null,null,null,null,null,null," ",null,1,1900]
[null,null,null,null,null,null,null,null," ",null,1,1900]
[null,null,null,null,null,null,null,null," ",null,1,1900]
[null,null,null,null,null,null,null,null," ",null,1,1900]
[null,null,null,null,null,null,null,null," ",null,1,1900]
[null,null,null,null,null,null,null,null," ",null,1,1900]
[null,null,null,null,null,null,null,null," ",null,1,1900]
[null,null,null,null,null,null,null,null," ",null,1,1900]
[null,null,null,null,null,null,null,null," ",null,1,1900]
[null,null,null,null,null,null,null,null," ",null,1,1900]
[null,null,null,null,null,null,null,null," ",null,1,1900]
[null,null,null,null,null,null,null,null," ",null,1,1900]
[null,null,null,null,null,null,null,null," ",null,1,1900]
[null,null,null,null,null,null,null,null," ",null,1,1900]
[null,null,null,null,null,null,null,null," ",null,1,1900]
[null,null,null,null,null,null,null,null," ",null,1,1900]
[null,null,null,null,null,null,null,null," ",null,1,1900]
[null,null,null,null,null,null,null,null," ",null,1,1900]
[null,null,null,null,null,null,null,null," ",null,1,1900]
[null,null,null,null,null,null,null,null," ",null,1,1900]
[null,null,null,null,null,null,null,null," ",null,1,1900]
[null,null,null,null,null,null,null,null," ",null,1,1900]
[null,null,null,null,null,null,null,null," ",null,1,1900]
[null,null,null,null,null,null,null,null," ",null,1,1900]
[null,null,null,null,null,null,null,null," ",null,1,1900]
[null,null,null,null,null,null,null,null," ",null,1,1900]
[null,null,null,null,null,null,null,null," ",null,1,1900]
[null,null,null,null,null,null,null,null," ",null,1,1900]
[null,null,null,null,null,null,null,null," ",null,1,1900]
[null,null,null,null,null,null,null,null," ",null,1,1900]
[null,null,null,null,null,null,null,null," ",null,1,1900]
[null,null,null,null,null,null,null,null," ",null,1,1900]
[null,null,null,null,null,null,null,null," ",null,1,1900]
[null,null,null,null,null,null,null,null," ",null,1,1900]
[null,null,null,null,null,null,null,null," ",null,1,1900]
[null,null,null,null,null,null,null,null," ",null,1,1900]
[null,null,null,null,null,null,null,null," ",null,1,1900]
[null,null,null,null,null,null,null,null," ",null,1,1900]
[null,null,null,null,null,null,null,null," ",null,1,1900]
[null,null,null,null,null,null,null,null," ",null,1,1900]
[null,null,null,null,null,null,null,null," ",null,1,1900]
[null,null,null,null,null,null,null,null," ",null,1,1900]
[null,null,null,null,null,null,null,null," ",null,1,1900]
[null,null,null,null,null,null,null,null," ",null,1,1900]
[null,null,null,null,null,null,null,null," ",null,1,1900]
[null,null,null,null,null,null,null,null," ",null,1,1900]
[null,null,null,null,null,null,null,null," ",null,1,1900]
[null,null,null,null,null,null,null,null," ",null,1,1900]
[null,null,null,null,null,null,null,null," ",null,1,1900]
[null,null,null,null,null,null,null,null," ",null,1,1900]
[null,null,null,null,null,null,null,null," ",null,1,1900]
[null,null,null,null,null,null,null,null," ",null,1,1900]
[null,null,null,null,null,null,null,null," ",null,1,1900]
[null,null,null,null,null,null,null,null," ",null,1,1900]
[null,null,null,null,null,null,null,null," ",null,1,1900]
[null,null,null,null,null,null,null,null," ",null,1,1900]
[null,null,null,null,null,null,null,null,{"$f":"+IF(H888=H887,\" \",H888)","v":" "},null,{"$f":"+MONTH(A888)","v":1},{"$f":"+YEAR(A888)","v":1900}]
[null,null,null,null,null,null,null,null," ",null,1,1900]
[null,null,null,null,null,null,null,null," ",null,1,1900]
[null,null,null,null,null,null,null,null," ",null,1,1900]
[null,null,null,null,null,null,null,null," ",null,1,1900]
[null,null,null,null,null,null,null,null," ",null,1,1900]
[null,null,null,null,null,null,null,null," ",null,1,1900]
[null,null,null,null,null,null,null,null," ",null,1,1900]
[null,null,null,null,null,null,null,null," ",null,1,1900]
[null,null,null,null,null,null,null,null," ",null,1,1900]
[null,null,null,null,null,null,null,null," ",null,1,1900]
[null,null,null,null,null,null,null,null," ",null,1,1900]
[null,null,null,null,null,null,null,null," ",null,1,1900]
[null,null,null,null,null,null,null,null," ",null,1,1900]
[null,null,null,null,null,null,null,null," ",null,1,1900]
[null,null,null,null,null,null,null,null," ",null,1,1900]
[null,null,null,null,null,null,null,null," ",null,1,1900]
[null,null,null,null,null,null,null,null," ",null,1,1900]
[null,null,null,null,null,null,null,null," ",null,1,1900]
[null,null,null,null,null,null,null,null," ",null,1,1900]
[null,null,null,null,null,null,null,null," ",null,1,1900]
[null,null,null,null,null,null,null,null," ",null,1,1900]
[null,null,null,null,null,null,null,null," ",null,1,1900]
[null,null,null,null,null,null,null,null," ",null,1,1900]
[null,null,null,null,null,null,null,null," ",null,1,1900]
[null,null,null,null,null,null,null,null," ",null,1,1900]
[null,null,null,null,null,null,null,null," ",null,1,1900]
[null,null,null,null,null,null,null,null," ",null,1,1900]
[null,null,null,null,null,null,null,null," ",null,1,1900]
[null,null,null,null,null,null,null,null," ",null,1,1900]
[null,null,null,null,null,null,null,null," ",null,1,1900]
[null,null,null,null,null,null,null,null," ",null,1,1900]
[null,null,null,null,null,null,null,null," ",null,1,1900]
[null,null,null,null,null,null,null,null," ",null,1,1900]
[null,null,null,null,null,null,null,null," ",null,1,1900]
[null,null,null,null,null,null,null,null," ",null,1,1900]
[null,null,null,null,null,null,null,null," ",null,1,1900]
[null,null,null,null,null,null,null,null," ",null,1,1900]
[null,null,null,null,null,null,null,null," ",null,1,1900]
[null,null,null,null,null,null,null,null," ",null,1,1900]
[null,null,null,null,null,null,null,null," ",null,1,1900]
[null,null,null,null,null,null,null,null," ",null,1,1900]
[null,null,null,null,null,null,null,null," ",null,1,1900]
[null,null,null,null,null,null,null,null," ",null,1,1900]
[null,null,null,null,null,null,null,null," ",null,1,1900]
[null,null,null,null,null,null,null,null," ",null,1,1900]
[null,null,null,null,null,null,null,null," ",null,1,1900]
[null,null,null,null,null,null,null,null," ",null,1,1900]
[null,null,null,null,null,null,null,null," ",null,1,1900]
[null,null,null,null,null,null,null,null," ",null,1,1900]
[null,null,null,null,null,null,null,null," ",null,1,1900]
[null,null,null,null,null,null,null,null," ",null,1,1900]
[null,null,null,null,null,null,null,null," ",null,1,1900]
[null,null,null,null,null,null,null,null," ",null,1,1900]
[null,null,null,null,null,null,null,null," ",null,1,1900]
[null,null,null,null,null,null,null,null," ",null,1,1900]
[null,null,null,null,null,null,null,null," ",null,1,1900]
[null,null,null,null,null,null,null,null," ",null,1,1900]
[null,null,null,null,null,null,null,null," ",null,1,1900]
[null,null,null,null,null,null,null,null," ",null,1,1900]
[null,null,null,null,null,null,null,null," ",null,1,1900]
[null,null,null,null,null,null,null,null," ",null,1,1900]
[null,null,null,null,null,null,null,null," ",null,1,1900]
[null,null,null,null,null,null,null,null," ",null,1,1900]
[null,null,null,null,null,null,null,null,{"$f":"+IF(H952=H951,\" \",H952)","v":" "},null,{"$f":"+MONTH(A952)","v":1},{"$f":"+YEAR(A952)","v":1900}]
[null,null,null,null,null,null,null,null," ",null,1,1900]
[null,null,null,null,null,null,null,null," ",null,1,1900]
[null,null,null,null,null,null,null,null," ",null,1,1900]
[null,null,null,null,null,null,null,null," ",null,1,1900]
[null,null,null,null,null,null,null,null," ",null,1,1900]
[null,null,null,null,null,null,null,null," ",null,1,1900]
[null,null,null,null,null,null,null,null," ",null,1,1900]
[null,null,null,null,null,null,null,null," ",null,1,1900]
[null,null,null,null,null,null,null,null," ",null,1,1900]
[null,null,null,null,null,null,null,null," ",null,1,1900]
[null,null,null,null,null,null,null,null," ",null,1,1900]
[null,null,null,null,null,null,null,null," ",null,1,1900]
[null,null,null,null,null,null,null,null," ",null,1,1900]
[null,null,null,null,null,null,null,null," ",null,1,1900]
[null,null,null,null,null,null,null,null," ",null,1,1900]
[null,null,null,null,null,null,null,null," ",null,1,1900]
[null,null,null,null,null,null,null,null," ",null,1,1900]
[null,null,null,null,null,null,null,null," ",null,1,1900]
[null,null,null,null,null,null,null,null," ",null,1,1900]
[null,null,null,null,null,null,null,null," ",null,1,1900]
[null,null,null,null,null,null,null,null," ",null,1,1900]
[null,null,null,null,null,null,null,null," ",null,1,1900]
[null,null,null,null,null,null,null,null," ",null,1,1900]
[null,null,null,null,null,null,null,null," ",null,1,1900]
[null,null,null,null,null,null,null,null," ",null,1,1900]
[null,null,null,null,null,null,null,null," ",null,1,1900]
[null,null,null,null,null,null,null,null," ",null,1,1900]
[null,null,null,null,null,null,null,null," ",null,1,1900]
[null,null,null,null,null,null,null,null," ",null,1,1900]
[null,null,null,null,null,null,null,null," ",null,1,1900]
[null,null,null,null,null,null,null,null," ",null,1,1900]
[null,null,null,null,null,null,null,null," ",null,1,1900]
[null,null,null,null,null,null,null,null," ",null,1,1900]
[null,null,null,null,null,null,null,null," ",null,1,1900]
[null,null,null,null,null,null,null,null," ",null,1,1900]
[null,null,null,null,null,null,null,null," ",null,1,1900]
[null,null,null,null,null,null,null,null," ",null,1,1900]
[null,null,null,null,null,null,null,null," ",null,1,1900]
[null,null,null,null,null,null,null,null," ",null,1,1900]
[null,null,null,null,null,null,null,null," ",null,1,1900]
[null,null,null,null,null,null,null,null," ",null,1,1900]
[null,null,null,null,null,null,null,null," ",null,1,1900]
[null,null,null,null,null,null,null,null," ",null,1,1900]
[null,null,null,null,null,null,null,null," ",null,1,1900]
[null,null,null,null,null,null,null,null," ",null,1,1900]
[null,null,null,null,null,null,null,null," ",null,1,1900]
[null,null,null,null,null,null,null,null," ",null,1,1900]
[null,null,null,null,null,null,null,null," ",null,1,1900]
[null,null,null,null,null,null,null,null," ",null,1,1900]
[null,null,null,null,null,null,null,null," ",null,1,1900]
[null,null,null,null,null,null,null,null," ",null,1,1900]
[null,null,null,null,null,null,null,null," ",null,1,1900]
[null,null,null,null,null,null,null,null," ",null,1,1900]
[null,null,null,null,null,null,null,null," ",null,1,1900]
[null,null,null,null,null,null,null,null," ",null,1,1900]
[null,null,null,null,null,null,null,null," ",null,1,1900]
[null,null,null,null,null,null,null,null," ",null,1,1900]
[null,null,null,null,null,null,null,null," ",null,1,1900]
[null,null,null,null,null,null,null,null," ",null,1,1900]
[null,null,null,null,null,null,null,null," ",null,1,1900]
[null,null,null,null,null,null,null,null," ",null,1,1900]
[null,null,null,null,null,null,null,null," ",null,1,1900]
[null,null,null,null,null,null,null,null," ",null,1,1900]
[null,null,null,null,null,null,null,null,{"$f":"+IF(H1016=H1015,\" \",H1016)","v":" "},null,{"$f":"+MONTH(A1016)","v":1},{"$f":"+YEAR(A1016)","v":1900}]
[null,null,null,null,null,null,null,null," ",null,1,1900]
[null,null,null,null,null,null,null,null," ",null,1,1900]
[null,null,null,null,null,null,null,null," ",null,1,1900]
[null,null,null,null,null,null,null,null," ",null,1,1900]
[null,null,null,null,null,null,null,null," ",null,1,1900]
[null,null,null,null,null,null,null,null," ",null,1,1900]
[null,null,null,null,null,null,null,null," ",null,1,1900]
[null,null,null,null,null,null,null,null," ",null,1,1900]
[null,null,null,null,null,null,null,null," ",null,1,1900]
[null,null,null,null,null,null,null,null," ",null,1,1900]
[null,null,null,null,null,null,null,null," ",null,1,1900]
[null,null,null,null,null,null,null,null," ",null,1,1900]
[null,null,null,null,null,null,null,null," ",null,1,1900]
[null,null,null,null,null,null,null,null," ",null,1,1900]
[null,null,null,null,null,null,null,null," ",null,1,1900]
[null,null,null,null,null,null,null,null," ",null,1,1900]
[null,null,null,null,null,null,null,null," ",null,1,1900]
[null,null,null,null,null,null,null,null," ",null,1,1900]
[null,null,null,null,null,null,null,null," ",null,1,1900]
[null,null,null,null,null,null,null,null," ",null,1,1900]
[null,null,null,null,null,null,null,null," ",null,1,1900]
[null,null,null,null,null,null,null,null," ",null,1,1900]
[null,null,null,null,null,null,null,null," ",null,1,1900]
[null,null,null,null,null,null,null,null," ",null,1,1900]
[null,null,null,null,null,null,null,null," ",null,1,1900]
[null,null,null,null,null,null,null,null," ",null,1,1900]
[null,null,null,null,null,null,null,null," ",null,1,1900]
[null,null,null,null,null,null,null,null," ",null,1,1900]
[null,null,null,null,null,null,null,null," ",null,1,1900]
[null,null,null,null,null,null,null,null," ",null,1,1900]
[null,null,null,null,null,null,null,null," ",null,1,1900]
[null,null,null,null,null,null,null,null," ",null,1,1900]
[null,null,null,null,null,null,null,null," ",null,1,1900]
[null,null,null,null,null,null,null,null," ",null,1,1900]
[null,null,null,null,null,null,null,null," ",null,1,1900]
[null,null,null,null,null,null,null,null," ",null,1,1900]
[null,null,null,null,null,null,null,null," ",null,1,1900]
[null,null,null,null,null,null,null,null," ",null,1,1900]
[null,null,null,null,null,null,null,null," ",null,1,1900]
[null,null,null,null,null,null,null,null," ",null,1,1900]
[null,null,null,null,null,null,null,null," ",null,1,1900]
[null,null,null,null,null,null,null,null," ",null,1,1900]
[null,null,null,null,null,null,null,null," ",null,1,1900]
[null,null,null,null,null,null,null,null," ",null,1,1900]
[null,null,null,null,null,null,null,null," ",null,1,1900]
[null,null,null,null,null,null,null,null," ",null,1,1900]
[null,null,null,null,null,null,null,null," ",null,1,1900]
[null,null,null,null,null,null,null,null," ",null,1,1900]
[null,null,null,null,null,null,null,null," ",null,1,1900]
[null,null,null,null,null,null,null,null," ",null,1,1900]
[null,null,null,null,null,null,null,null," ",null,1,1900]
[null,null,null,null,null,null,null,null," ",null,1,1900]
[null,null,null,null,null,null,null,null," ",null,1,1900]
[null,null,null,null,null,null,null,null," ",null,1,1900]
[null,null,null,null,null,null,null,null," ",null,1,1900]
[null,null,null,null,null,null,null,null," ",null,1,1900]
[null,null,null,null,null,null,null,null," ",null,1,1900]
[null,null,null,null,null,null,null,null," ",null,1,1900]
[null,null,null,null,null,null,null,null," ",null,1,1900]
[null,null,null,null,null,null,null,null," ",null,1,1900]
[null,null,null,null,null,null,null,null," ",null,1,1900]
[null,null,null,null,null,null,null,null," ",null,1,1900]
[null,null,null,null,null,null,null,null," ",null,1,1900]
[null,null,null,null,null,null,null,null,{"$f":"+IF(H1080=H1079,\" \",H1080)","v":" "},null,{"$f":"+MONTH(A1080)","v":1},{"$f":"+YEAR(A1080)","v":1900}]
[null,null,null,null,null,null,null,null," ",null,1,1900]
[null,null,null,null,null,null,null,null," ",null,1,1900]
[null,null,null,null,null,null,null,null," ",null,1,1900]
[null,null,null,null,null,null,null,null," ",null,1,1900]
[null,null,null,null,null,null,null,null," ",null,1,1900]
[null,null,null,null,null,null,null,null," ",null,1,1900]
[null,null,null,null,null,null,null,null," ",null,1,1900]
[null,null,null,null,null,null,null,null," ",null,1,1900]
[null,null,null,null,null,null,null,null," ",null,1,1900]
[null,null,null,null,null,null,null,null," ",null,1,1900]
[null,null,null,null,null,null,null,null," ",null,1,1900]
[null,null,null,null,null,null,null,null," ",null,1,1900]
[null,null,null,null,null,null,null,null," ",null,1,1900]
[null,null,null,null,null,null,null,null," ",null,1,1900]
[null,null,null,null,null,null,null,null," ",null,1,1900]
[null,null,null,null,null,null,null,null," ",null,1,1900]
[null,null,null,null,null,null,null,null," ",null,1,1900]
[null,null,null,null,null,null,null,null," ",null,1,1900]
[null,null,null,null,null,null,null,null," ",null,1,1900]
[null,null,null,null,null,null,null,null," ",null,1,1900]
[null,null,null,null,null,null,null,null," ",null,1,1900]
[null,null,null,null,null,null,null,null," ",null,1,1900]
[null,null,null,null,null,null,null,null," ",null,1,1900]
[null,null,null,null,null,null,null,null," ",null,1,1900]
[null,null,null,null,null,null,null,null," ",null,1,1900]
[null,null,null,null,null,null,null,null," ",null,1,1900]
[null,null,null,null,null,null,null,null," ",null,1,1900]
[null,null,null,null,null,null,null,null," ",null,1,1900]
[null,null,null,null,null,null,null,null," ",null,1,1900]
[null,null,null,null,null,null,null,null," ",null,1,1900]
[null,null,null,null,null,null,null,null," ",null,1,1900]
[null,null,null,null,null,null,null,null," ",null,1,1900]
[null,null,null,null,null,null,null,null," ",null,1,1900]
[null,null,null,null,null,null,null,null," ",null,1,1900]
[null,null,null,null,null,null,null,null," ",null,1,1900]
[null,null,null,null,null,null,null,null," ",null,1,1900]
[null,null,null,null,null,null,null,null," ",null,1,1900]
[null,null,null,null,null,null,null,null," ",null,1,1900]
[null,null,null,null,null,null,null,null," ",null,1,1900]
[null,null,null,null,null,null,null,null," ",null,1,1900]
[null,null,null,null,null,null,null,null," ",null,1,1900]
[null,null,null,null,null,null,null,null," ",null,1,1900]
[null,null,null,null,null,null,null,null," ",null,1,1900]
[null,null,null,null,null,null,null,null," ",null,1,1900]
[null,null,null,null,null,null,null,null," ",null,1,1900]
[null,null,null,null,null,null,null,null," ",null,1,1900]
[null,null,null,null,null,null,null,null," ",null,1,1900]
[null,null,null,null,null,null,null,null," ",null,1,1900]
[null,null,null,null,null,null,null,null," ",null,1,1900]
[null,null,null,null,null,null,null,null," ",null,1,1900]
[null,null,null,null,null,null,null,null," ",null,1,1900]
[null,null,null,null,null,null,null,null," ",null,1,1900]
[null,null,null,null,null,null,null,null," ",null,1,1900]
[null,null,null,null,null,null,null,null," ",null,1,1900]
[null,null,null,null,null,null,null,null," ",null,1,1900]
[null,null,null,null,null,null,null,null," ",null,1,1900]
[null,null,null,null,null,null,null,null," ",null,1,1900]
[null,null,null,null,null,null,null,null," ",null,1,1900]
[null,null,null,null,null,null,null,null," ",null,1,1900]
[null,null,null,null,null,null,null,null," ",null,1,1900]
[null,null,null,null,null,null,null,null," ",null,1,1900]
[null,null,null,null,null,null,null,null," ",null,1,1900]
[null,null,null,null,null,null,null,null," ",null,1,1900]
[null,null,null,null,null,null,null,null,{"$f":"+IF(H1144=H1143,\" \",H1144)","v":" "},null,{"$f":"+MONTH(A1144)","v":1},{"$f":"+YEAR(A1144)","v":1900}]
[null,null,null,null,null,null,null,null," ",null,1,1900]
[null,null,null,null,null,null,null,null," ",null,1,1900]
[null,null,null,null,null,null,null,null," ",null,1,1900]
[null,null,null,null,null,null,null,null," ",null,1,1900]
[null,null,null,null,null,null,null,null," ",null,1,1900]
[null,null,null,null,null,null,null,null," ",null,1,1900]
[null,null,null,null,null,null,null,null," ",null,1,1900]
[null,null,null,null,null,null,null,null," ",null,1,1900]
[null,null,null,null,null,null,null,null," ",null,1,1900]
[null,null,null,null,null,null,null,null," ",null,1,1900]
[null,null,null,null,null,null,null,null," ",null,1,1900]
[null,null,null,null,null,null,null,null," ",null,1,1900]
[null,null,null,null,null,null,null,null," ",null,1,1900]
[null,null,null,null,null,null,null,null," ",null,1,1900]
[null,null,null,null,null,null,null,null," ",null,1,1900]
[null,null,null,null,null,null,null,null," ",null,1,1900]
[null,null,null,null,null,null,null,null," ",null,1,1900]
[null,null,null,null,null,null,null,null," ",null,1,1900]
[null,null,null,null,null,null,null,null," ",null,1,1900]
[null,null,null,null,null,null,null,null," ",null,1,1900]
[null,null,null,null,null,null,null,null," ",null,1,1900]
[null,null,null,null,null,null,null,null," ",null,1,1900]
[null,null,null,null,null,null,null,null," ",null,1,1900]
[null,null,null,null,null,null,null,null," ",null,1,1900]
[null,null,null,null,null,null,null,null," ",null,1,1900]
[null,null,null,null,null,null,null,null," ",null,1,1900]
[null,null,null,null,null,null,null,null," ",null,1,1900]
[null,null,null,null,null,null,null,null," ",null,1,1900]
[null,null,null,null,null,null,null,null," ",null,1,1900]
[null,null,null,null,null,null,null,null," ",null,1,1900]
[null,null,null,null,null,null,null,null," ",null,1,1900]
[null,null,null,null,null,null,null,null," ",null,1,1900]
[null,null,null,null,null,null,null,null," ",null,1,1900]
[null,null,null,null,null,null,null,null," ",null,1,1900]
[null,null,null,null,null,null,null,null," ",null,1,1900]
[null,null,null,null,null,null,null,null," ",null,1,1900]
[null,null,null,null,null,null,null,null," ",null,1,1900]
[null,null,null,null,null,null,null,null," ",null,1,1900]
[null,null,null,null,null,null,null,null," ",null,1,1900]
[null,null,null,null,null,null,null,null," ",null,1,1900]
[null,null,null,null,null,null,null,null," ",null,1,1900]
[null,null,null,null,null,null,null,null," ",null,1,1900]
[null,null,null,null,null,null,null,null," ",null,1,1900]
[null,null,null,null,null,null,null,null," ",null,1,1900]
[null,null,null,null,null,null,null,null," ",null,1,1900]
[null,null,null,null,null,null,null,null," ",null,1,1900]
[null,null,null,null,null,null,null,null," ",null,1,1900]
[null,null,null,null,null,null,null,null," ",null,1,1900]
[null,null,null,null,null,null,null,null," ",null,1,1900]
[null,null,null,null,null,null,null,null," ",null,1,1900]
[null,null,null,null,null,null,null,null," ",null,1,1900]
[null,null,null,null,null,null,null,null," ",null,1,1900]
[null,null,null,null,null,null,null,null," ",null,1,1900]
[null,null,null,null,null,null,null,null," ",null,1,1900]
[null,null,null,null,null,null,null,null," ",null,1,1900]
[null,null,null,null,null,null,null,null," ",null,1,1900]
[null,null,null,null,null,null,null,null," ",null,1,1900]
[null,null,null,null,null,null,null,null," ",null,1,1900]
[null,null,null,null,null,null,null,null," ",null,1,1900]
[null,null,null,null,null,null,null,null," ",null,1,1900]
[null,null,null,null,null,null,null,null," ",null,1,1900]
[null,null,null,null,null,null,null,null," ",null,1,1900]
[null,null,null,null,null,null,null,null," ",null,1,1900]
[null,null,null,null,null,null,null,null,{"$f":"+IF(H1208=H1207,\" \",H1208)","v":" "},null,{"$f":"+MONTH(A1208)","v":1},{"$f":"+YEAR(A1208)","v":1900}]
[null,null,null,null,null,null,null,null," ",null,1,1900]
[null,null,null,null,null,null,null,null," ",null,1,1900]
[null,null,null,null,null,null,null,null," ",null,1,1900]
[null,null,null,null,null,null,null,null," ",null,1,1900]
[null,null,null,null,null,null,null,null," ",null,1,1900]
[null,null,null,null,null,null,null,null," ",null,1,1900]
[null,null,null,null,null,null,null,null," ",null,1,1900]
[null,null,null,null,null,null,null,null," ",null,1,1900]
[null,null,null,null,null,null,null,null," ",null,1,1900]
[null,null,null,null,null,null,null,null," ",null,1,1900]
[null,null,null,null,null,null,null,null," ",null,1,1900]
[null,null,null,null,null,null,null,null," ",null,1,1900]
[null,null,null,null,null,null,null,null," ",null,1,1900]
[null,null,null,null,null,null,null,null," ",null,1,1900]
[null,null,null,null,null,null,null,null," ",null,1,1900]
[null,null,null,null,null,null,null,null," ",null,1,1900]
[null,null,null,null,null,null,null,null," ",null,1,1900]
[null,null,null,null,null,null,null,null," ",null,1,1900]
[null,null,null,null,null,null,null,null," ",null,1,1900]
[null,null,null,null,null,null,null,null," ",null,1,1900]
[null,null,null,null,null,null,null,null," ",null,1,1900]
[null,null,null,null,null,null,null,null," ",null,1,1900]
[null,null,null,null,null,null,null,null," ",null,1,1900]
[null,null,null,null,null,null,null,null," ",null,1,1900]
[null,null,null,null,null,null,null,null," ",null,1,1900]
[null,null,null,null,null,null,null,null," ",null,1,1900]
[null,null,null,null,null,null,null,null," ",null,1,1900]
[null,null,null,null,null,null,null,null," ",null,1,1900]
[null,null,null,null,null,null,null,null," ",null,1,1900]
[null,null,null,null,null,null,null,null," ",null,1,1900]
[null,null,null,null,null,null,null,null," ",null,1,1900]
[null,null,null,null,null,null,null,null," ",null,1,1900]
[null,null,null,null,null,null,null,null," ",null,1,1900]
[null,null,null,null,null,null,null,null," ",null,1,1900]
[null,null,null,null,null,null,null,null," ",null,1,1900]
[null,null,null,null,null,null,null,null," ",null,1,1900]
[null,null,null,null,null,null,null,null," ",null,1,1900]
[null,null,null,null,null,null,null,null," ",null,1,1900]
[null,null,null,null,null,null,null,null," ",null,1,1900]
[null,null,null,null,null,null,null,null," ",null,1,1900]
[null,null,null,null,null,null,null,null," ",null,1,1900]
[null,null,null,null,null,null,null,null," ",null,1,1900]
[null,null,null,null,null,null,null,null," ",null,1,1900]
[null,null,null,null,null,null,null,null," ",null,1,1900]
[null,null,null,null,null,null,null,null," ",null,1,1900]
[null,null,null,null,null,null,null,null," ",null,1,1900]
[null,null,null,null,null,null,null,null," ",null,1,1900]
[null,null,null,null,null,null,null,null," ",null,1,1900]
[null,null,null,null,null,null,null,null," ",null,1,1900]
[null,null,null,null,null,null,null,null," ",null,1,1900]
[null,null,null,null,null,null,null,null," ",null,1,1900]
[null,null,null,null,null,null,null,null," ",null,1,1900]
[null,null,null,null,null,null,null,null," ",null,1,1900]
[null,null,null,null,null,null,null,null," ",null,1,1900]
[null,null,null,null,null,null,null,null," ",null,1,1900]
[null,null,null,null,null,null,null,null," ",null,1,1900]
[null,null,null,null,null,null,null,null," ",null,1,1900]
[null,null,null,null,null,null,null,null," ",null,1,1900]
[null,null,null,null,null,null,null,null," ",null,1,1900]
[null,null,null,null,null,null,null,null," ",null,1,1900]
[null,null,null,null,null,null,null,null," ",null,1,1900]
[null,null,null,null,null,null,null,null," ",null,1,1900]
[null,null,null,null,null,null,null,null," ",null,1,1900]
[null,null,null,null,null,null,null,null,{"$f":"+IF(H1272=H1271,\" \",H1272)","v":" "},null,{"$f":"+MONTH(A1272)","v":1},{"$f":"+YEAR(A1272)","v":1900}]
[null,null,null,null,null,null,null,null," ",null,1,1900]
[null,null,null,null,null,null,null,null," ",null,1,1900]
[null,null,null,null,null,null,null,null," ",null,1,1900]
[null,null,null,null,null,null,null,null," ",null,1,1900]
[null,null,null,null,null,null,null,null," ",null,1,1900]
[null,null,null,null,null,null,null,null," ",null,1,1900]
[null,null,null,null,null,null,null,null," ",null,1,1900]
[null,null,null,null,null,null,null,null," ",null,1,1900]
[null,null,null,null,null,null,null,null," ",null,1,1900]
[null,null,null,null,null,null,null,null," ",null,1,1900]
[null,null,null,null,null,null,null,null," ",null,1,1900]
[null,null,null,null,null,null,null,null," ",null,1,1900]
[null,null,null,null,null,null,null,null," ",null,1,1900]
[null,null,null,null,null,null,null,null," ",null,1,1900]
[null,null,null,null,null,null,null,null," ",null,1,1900]
[null,null,null,null,null,null,null,null," ",null,1,1900]
[null,null,null,null,null,null,null,null," ",null,1,1900]
[null,null,null,null,null,null,null,null," ",null,1,1900]
[null,null,null,null,null,null,null,null," ",null,1,1900]
[null,null,null,null,null,null,null,null," ",null,1,1900]
[null,null,null,null,null,null,null,null," ",null,1,1900]
[null,null,null,null,null,null,null,null," ",null,1,1900]
[null,null,null,null,null,null,null,null," ",null,1,1900]
[null,null,null,null,null,null,null,null," ",null,1,1900]
[null,null,null,null,null,null,null,null," ",null,1,1900]
[null,null,null,null,null,null,null,null," ",null,1,1900]
[null,null,null,null,null,null,null,null," ",null,1,1900]
[null,null,null,null,null,null,null,null," ",null,1,1900]
[null,null,null,null,null,null,null,null," ",null,1,1900]
[null,null,null,null,null,null,null,null," ",null,1,1900]
[null,null,null,null,null,null,null,null," ",null,1,1900]
[null,null,null,null,null,null,null,null," ",null,1,1900]
[null,null,null,null,null,null,null,null," ",null,1,1900]
[null,null,null,null,null,null,null,null," ",null,1,1900]
[null,null,null,null,null,null,null,null," ",null,1,1900]
[null,null,null,null,null,null,null,null," ",null,1,1900]
[null,null,null,null,null,null,null,null," ",null,1,1900]
[null,null,null,null,null,null,null,null," ",null,1,1900]
[null,null,null,null,null,null,null,null," ",null,1,1900]
[null,null,null,null,null,null,null,null," ",null,1,1900]
[null,null,null,null,null,null,null,null," ",null,1,1900]
[null,null,null,null,null,null,null,null," ",null,1,1900]
[null,null,null,null,null,null,null,null," ",null,1,1900]
[null,null,null,null,null,null,null,null," ",null,1,1900]
[null,null,null,null,null,null,null,null," ",null,1,1900]
[null,null,null,null,null,null,null,null," ",null,1,1900]
[null,null,null,null,null,null,null,null," ",null,1,1900]
[null,null,null,null,null,null,null,null," ",null,1,1900]
[null,null,null,null,null,null,null,null," ",null,1,1900]
[null,null,null,null,null,null,null,null," ",null,1,1900]
[null,null,null,null,null,null,null,null," ",null,1,1900]
[null,null,null,null,null,null,null,null," ",null,1,1900]
[null,null,null,null,null,null,null,null," ",null,1,1900]
[null,null,null,null,null,null,null,null," ",null,1,1900]
[null,null,null,null,null,null,null,null," ",null,1,1900]
[null,null,null,null,null,null,null,null," ",null,1,1900]
[null,null,null,null,null,null,null,null," ",null,1,1900]
[null,null,null,null,null,null,null,null," ",null,1,1900]
[null,null,null,null,null,null,null,null," ",null,1,1900]
[null,null,null,null,null,null,null,null," ",null,1,1900]
[null,null,null,null,null,null,null,null," ",null,1,1900]
[null,null,null,null,null,null,null,null," ",null,1,1900]
[null,null,null,null,null,null,null,null," ",null,1,1900]
[null,null,null,null,null,null,null,null,{"$f":"+IF(H1336=H1335,\" \",H1336)","v":" "},null,{"$f":"+MONTH(A1336)","v":1},{"$f":"+YEAR(A1336)","v":1900}]
[null,null,null,null,null,null,null,null," ",null,1,1900]
[null,null,null,null,null,null,null,null," ",null,1,1900]
[null,null,null,null,null,null,null,null," ",null,1,1900]
[null,null,null,null,null,null,null,null," ",null,1,1900]
[null,null,null,null,null,null,null,null," ",null,1,1900]
[null,null,null,null,null,null,null,null," ",null,1,1900]
[null,null,null,null,null,null,null,null," ",null,1,1900]
[null,null,null,null,null,null,null,null," ",null,1,1900]
[null,null,null,null,null,null,null,null," ",null,1,1900]
[null,null,null,null,null,null,null,null," ",null,1,1900]
[null,null,null,null,null,null,null,null," ",null,1,1900]
[null,null,null,null,null,null,null,null," ",null,1,1900]
[null,null,null,null,null,null,null,null," ",null,1,1900]
[null,null,null,null,null,null,null,null," ",null,1,1900]
[null,null,null,null,null,null,null,null," ",null,1,1900]
[null,null,null,null,null,null,null,null," ",null,1,1900]
[null,null,null,null,null,null,null,null," ",null,1,1900]
[null,null,null,null,null,null,null,null," ",null,1,1900]
[null,null,null,null,null,null,null,null," ",null,1,1900]
[null,null,null,null,null,null,null,null," ",null,1,1900]
[null,null,null,null,null,null,null,null," ",null,1,1900]
[null,null,null,null,null,null,null,null," ",null,1,1900]
[null,null,null,null,null,null,null,null," ",null,1,1900]
[null,null,null,null,null,null,null,null," ",null,1,1900]
[null,null,null,null,null,null,null,null," ",null,1,1900]
[null,null,null,null,null,null,null,null," ",null,1,1900]
[null,null,null,null,null,null,null,null," ",null,1,1900]
[null,null,null,null,null,null,null,null," ",null,1,1900]
[null,null,null,null,null,null,null,null," ",null,1,1900]
[null,null,null,null,null,null,null,null," ",null,1,1900]
[null,null,null,null,null,null,null,null," ",null,1,1900]
[null,null,null,null,null,null,null,null," ",null,1,1900]
[null,null,null,null,null,null,null,null," ",null,1,1900]
[null,null,null,null,null,null,null,null," ",null,1,1900]
[null,null,null,null,null,null,null,null," ",null,1,1900]
[null,null,null,null,null,null,null,null," ",null,1,1900]
[null,null,null,null,null,null,null,null," ",null,1,1900]
[null,null,null,null,null,null,null,null," ",null,1,1900]
[null,null,null,null,null,null,null,null," ",null,1,1900]
[null,null,null,null,null,null,null,null," ",null,1,1900]
[null,null,null,null,null,null,null,null," ",null,1,1900]
[null,null,null,null,null,null,null,null," ",null,1,1900]
[null,null,null,null,null,null,null,null," ",null,1,1900]
[null,null,null,null,null,null,null,null," ",null,1,1900]
[null,null,null,null,null,null,null,null," ",null,1,1900]
[null,null,null,null,null,null,null,null," ",null,1,1900]
[null,null,null,null,null,null,null,null," ",null,1,1900]
[null,null,null,null,null,null,null,null," ",null,1,1900]
[null,null,null,null,null,null,null,null," ",null,1,1900]
[null,null,null,null,null,null,null,null," ",null,1,1900]
[null,null,null,null,null,null,null,null," ",null,1,1900]
[null,null,null,null,null,null,null,null," ",null,1,1900]
[null,null,null,null,null,null,null,null," ",null,1,1900]
[null,null,null,null,null,null,null,null," ",null,1,1900]
[null,null,null,null,null,null,null,null," ",null,1,1900]
[null,null,null,null,null,null,null,null," ",null,1,1900]
[null,null,null,null,null,null,null,null," ",null,1,1900]
[null,null,null,null,null,null,null,null," ",null,1,1900]
[null,null,null,null,null,null,null,null," ",null,1,1900]
[null,null,null,null,null,null,null,null," ",null,1,1900]
[null,null,null,null,null,null,null,null," ",null,1,1900]
[null,null,null,null,null,null,null,null," ",null,1,1900]
[null,null,null,null,null,null,null,null," ",null,1,1900]
[null,null,null,null,null,null,null,null,{"$f":"+IF(H1400=H1399,\" \",H1400)","v":" "},null,{"$f":"+MONTH(A1400)","v":1},{"$f":"+YEAR(A1400)","v":1900}]
[null,null,null,null,null,null,null,null," ",null,1,1900]
[null,null,null,null,null,null,null,null," ",null,1,1900]
[null,null,null,null,null,null,null,null," ",null,1,1900]
[null,null,null,null,null,null,null,null," ",null,1,1900]
[null,null,null,null,null,null,null,null," ",null,1,1900]
[null,null,null,null,null,null,null,null," ",null,1,1900]
[null,null,null,null,null,null,null,null," ",null,1,1900]
[null,null,null,null,null,null,null,null," ",null,1,1900]
[null,null,null,null,null,null,null,null," ",null,1,1900]
[null,null,null,null,null,null,null,null," ",null,1,1900]
[null,null,null,null,null,null,null,null," ",null,1,1900]
[null,null,null,null,null,null,null,null," ",null,1,1900]
[null,null,null,null,null,null,null,null," ",null,1,1900]
[null,null,null,null,null,null,null,null," ",null,1,1900]
[null,null,null,null,null,null,null,null," ",null,1,1900]
[null,null,null,null,null,null,null,null," ",null,1,1900]
[null,null,null,null,null,null,null,null," ",null,1,1900]
[null,null,null,null,null,null,null,null," ",null,1,1900]
[null,null,null,null,null,null,null,null," ",null,1,1900]
[null,null,null,null,null,null,null,null," ",null,1,1900]
[null,null,null,null,null,null,null,null," ",null,1,1900]
[null,null,null,null,null,null,null,null," ",null,1,1900]
[null,null,null,null,null,null,null,null," ",null,1,1900]
[null,null,null,null,null,null,null,null," ",null,1,1900]
[null,null,null,null,null,null,null,null," ",null,1,1900]
[null,null,null,null,null,null,null,null," ",null,1,1900]
[null,null,null,null,null,null,null,null," ",null,1,1900]
[null,null,null,null,null,null,null,null," ",null,1,1900]
[null,null,null,null,null,null,null,null," ",null,1,1900]
[null,null,null,null,null,null,null,null," ",null,1,1900]
[null,null,null,null,null,null,null,null," ",null,1,1900]
[null,null,null,null,null,null,null,null," ",null,1,1900]
[null,null,null,null,null,null,null,null," ",null,1,1900]
[null,null,null,null,null,null,null,null," ",null,1,1900]
[null,null,null,null,null,null,null,null," ",null,1,1900]
[null,null,null,null,null,null,null,null," ",null,1,1900]
[null,null,null,null,null,null,null,null," ",null,1,1900]
[null,null,null,null,null,null,null,null," ",null,1,1900]
[null,null,null,null,null,null,null,null," ",null,1,1900]
[null,null,null,null,null,null,null,null," ",null,1,1900]
[null,null,null,null,null,null,null,null," ",null,1,1900]
[null,null,null,null,null,null,null,null," ",null,1,1900]
[null,null,null,null,null,null,null,null," ",null,1,1900]
[null,null,null,null,null,null,null,null," ",null,1,1900]
[null,null,null,null,null,null,null,null," ",null,1,1900]
[null,null,null,null,null,null,null,null," ",null,1,1900]
[null,null,null,null,null,null,null,null," ",null,1,1900]
[null,null,null,null,null,null,null,null," ",null,1,1900]
[null,null,null,null,null,null,null,null," ",null,1,1900]
[null,null,null,null,null,null,null,null," ",null,1,1900]
[null,null,null,null,null,null,null,null," ",null,1,1900]
[null,null,null,null,null,null,null,null," ",null,1,1900]
[null,null,null,null,null,null,null,null," ",null,1,1900]
[null,null,null,null,null,null,null,null," ",null,1,1900]
[null,null,null,null,null,null,null,null," ",null,1,1900]
[null,null,null,null,null,null,null,null," ",null,1,1900]
[null,null,null,null,null,null,null,null," ",null,1,1900]
[null,null,null,null,null,null,null,null," ",null,1,1900]
[null,null,null,null,null,null,null,null," ",null,1,1900]
[null,null,null,null,null,null,null,null," ",null,1,1900]
[null,null,null,null,null,null,null,null," ",null,1,1900]
[null,null,null,null,null,null,null,null," ",null,1,1900]
[null,null,null,null,null,null,null,null," ",null,1,1900]
[null,null,null,null,null,null,null,null,{"$f":"+IF(H1464=H1463,\" \",H1464)","v":" "},null,{"$f":"+MONTH(A1464)","v":1},{"$f":"+YEAR(A1464)","v":1900}]
[null,null,null,null,null,null,null,null," ",null,1,1900]
[null,null,null,null,null,null,null,null," ",null,1,1900]
[null,null,null,null,null,null,null,null," ",null,1,1900]
[null,null,null,null,null,null,null,null," ",null,1,1900]
[null,null,null,null,null,null,null,null," ",null,1,1900]
[null,null,null,null,null,null,null,null," ",null,1,1900]
[null,null,null,null,null,null,null,null," ",null,1,1900]
[null,null,null,null,null,null,null,null," ",null,1,1900]
[null,null,null,null,null,null,null,null," ",null,1,1900]
[null,null,null,null,null,null,null,null," ",null,1,1900]
[null,null,null,null,null,null,null,null," ",null,1,1900]
[null,null,null,null,null,null,null,null," ",null,1,1900]
[null,null,null,null,null,null,null,null," ",null,1,1900]
[null,null,null,null,null,null,null,null," ",null,1,1900]
[null,null,null,null,null,null,null,null," ",null,1,1900]
[null,null,null,null,null,null,null,null," ",null,1,1900]
[null,null,null,null,null,null,null,null," ",null,1,1900]
[null,null,null,null,null,null,null,null," ",null,1,1900]
[null,null,null,null,null,null,null,null," ",null,1,1900]
[null,null,null,null,null,null,null,null," ",null,1,1900]
[null,null,null,null,null,null,null,null," ",null,1,1900]
[null,null,null,null,null,null,null,null," ",null,1,1900]
[null,null,null,null,null,null,null,null," ",null,1,1900]
[null,null,null,null,null,null,null,null," ",null,1,1900]
[null,null,null,null,null,null,null,null," ",null,1,1900]
[null,null,null,null,null,null,null,null," ",null,1,1900]
[null,null,null,null,null,null,null,null," ",null,1,1900]
[null,null,null,null,null,null,null,null," ",null,1,1900]
[null,null,null,null,null,null,null,null," ",null,1,1900]
[null,null,null,null,null,null,null,null," ",null,1,1900]
[null,null,null,null,null,null,null,null," ",null,1,1900]
[null,null,null,null,null,null,null,null," ",null,1,1900]
[null,null,null,null,null,null,null,null," ",null,1,1900]
[null,null,null,null,null,null,null,null," ",null,1,1900]
[null,null,null,null,null,null,null,null," ",null,1,1900]
[null,null,null,null,null,null,null,null," ",null,1,1900]
[null,null,null,null,null,null,null,null," ",null,1,1900]
[null,null,null,null,null,null,null,null," ",null,1,1900]
[null,null,null,null,null,null,null,null," ",null,1,1900]
[null,null,null,null,null,null,null,null," ",null,1,1900]
[null,null,null,null,null,null,null,null," ",null,1,1900]
[null,null,null,null,null,null,null,null," ",null,1,1900]
[null,null,null,null,null,null,null,null," ",null,1,1900]
[null,null,null,null,null,null,null,null," ",null,1,1900]
[null,null,null,null,null,null,null,null," ",null,1,1900]
[null,null,null,null,null,null,null,null," ",null,1,1900]
[null,null,null,null,null,null,null,null," ",null,1,1900]
[null,null,null,null,null,null,null,null," ",null,1,1900]
[null,null,null,null,null,null,null,null," ",null,1,1900]
[null,null,null,null,null,null,null,null," ",null,1,1900]
[null,null,null,null,null,null,null,null," ",null,1,1900]
[null,null,null,null,null,null,null,null," ",null,1,1900]
[null,null,null,null,null,null,null,null," ",null,1,1900]
[null,null,null,null,null,null,null,null," ",null,1,1900]
[null,null,null,null,null,null,null,null," ",null,1,1900]
[null,null,null,null,null,null,null,null," ",null,1,1900]
[null,null,null,null,null,null,null,null," ",null,1,1900]
[null,null,null,null,null,null,null,null," ",null,1,1900]
[null,null,null,null,null,null,null,null," ",null,1,1900]
[null,null,null,null,null,null,null,null," ",null,1,1900]
[null,null,null,null,null,null,null,null," ",null,1,1900]
[null,null,null,null,null,null,null,null," ",null,1,1900]
[null,null,null,null,null,null,null,null," ",null,1,1900]
[null,null,null,null,null,null,null,null,{"$f":"+IF(H1528=H1527,\" \",H1528)","v":" "},null,{"$f":"+MONTH(A1528)","v":1},{"$f":"+YEAR(A1528)","v":1900}]
[null,null,null,null,null,null,null,null," ",null,1,1900]
[null,null,null,null,null,null,null,null," ",null,1,1900]
[null,null,null,null,null,null,null,null," ",null,1,1900]
[null,null,null,null,null,null,null,null," ",null,1,1900]
[null,null,null,null,null,null,null,null," ",null,1,1900]
[null,null,null,null,null,null,null,null," ",null,1,1900]
[null,null,null,null,null,null,null,null," ",null,1,1900]
[null,null,null,null,null,null,null,null," ",null,1,1900]
[null,null,null,null,null,null,null,null," ",null,1,1900]
[null,null,null,null,null,null,null,null," ",null,1,1900]
[null,null,null,null,null,null,null,null," ",null,1,1900]
[null,null,null,null,null,null,null,null," ",null,1,1900]
[null,null,null,null,null,null,null,null," ",null,1,1900]
[null,null,null,null,null,null,null,null," ",null,1,1900]
[null,null,null,null,null,null,null,null," ",null,1,1900]
[null,null,null,null,null,null,null,null," ",null,1,1900]
[null,null,null,null,null,null,null,null," ",null,1,1900]
[null,null,null,null,null,null,null,null," ",null,1,1900]
[null,null,null,null,null,null,null,null," ",null,1,1900]
[null,null,null,null,null,null,null,null," ",null,1,1900]
[null,null,null,null,null,null,null,null," ",null,1,1900]
[null,null,null,null,null,null,null,null," ",null,1,1900]
[null,null,null,null,null,null,null,null," ",null,1,1900]
[null,null,null,null,null,null,null,null," ",null,1,1900]
[null,null,null,null,null,null,null,null," ",null,1,1900]
[null,null,null,null,null,null,null,null," ",null,1,1900]
[null,null,null,null,null,null,null,null," ",null,1,1900]
[null,null,null,null,null,null,null,null," ",null,1,1900]
[null,null,null,null,null,null,null,null," ",null,1,1900]
[null,null,null,null,null,null,null,null," ",null,1,1900]
[null,null,null,null,null,null,null,null," ",null,1,1900]
[null,null,null,null,null,null,null,null," ",null,1,1900]
[null,null,null,null,null,null,null,null," ",null,1,1900]
[null,null,null,null,null,null,null,null," ",null,1,1900]
[null,null,null,null,null,null,null,null," ",null,1,1900]
[null,null,null,null,null,null,null,null," ",null,1,1900]
[null,null,null,null,null,null,null,null," ",null,1,1900]
[null,null,null,null,null,null,null,null," ",null,1,1900]
[null,null,null,null,null,null,null,null," ",null,1,1900]
[null,null,null,null,null,null,null,null," ",null,1,1900]
[null,null,null,null,null,null,null,null," ",null,1,1900]
[null,null,null,null,null,null,null,null," ",null,1,1900]
[null,null,null,null,null,null,null,null," ",null,1,1900]
[null,null,null,null,null,null,null,null," ",null,1,1900]
[null,null,null,null,null,null,null,null," ",null,1,1900]
[null,null,null,null,null,null,null,null," ",null,1,1900]
[null,null,null,null,null,null,null,null," ",null,1,1900]
[null,null,null,null,null,null,null,null," ",null,1,1900]
[null,null,null,null,null,null,null,null," ",null,1,1900]
[null,null,null,null,null,null,null,null," ",null,1,1900]
[null,null,null,null,null,null,null,null," ",null,1,1900]
[null,null,null,null,null,null,null,null," ",null,1,1900]
[null,null,null,null,null,null,null,null," ",null,1,1900]
[null,null,null,null,null,null,null,null," ",null,1,1900]
[null,null,null,null,null,null,null,null," ",null,1,1900]
[null,null,null,null,null,null,null,null," ",null,1,1900]
[null,null,null,null,null,null,null,null," ",null,1,1900]
[null,null,null,null,null,null,null,null," ",null,1,1900]
[null,null,null,null,null,null,null,null," ",null,1,1900]
[null,null,null,null,null,null,null,null," ",null,1,1900]
[null,null,null,null,null,null,null,null," ",null,1,1900]
[null,null,null,null,null,null,null,null," ",null,1,1900]
[null,null,null,null,null,null,null,null," ",null,1,1900]
[null,null,null,null,null,null,null,null,{"$f":"+IF(H1592=H1591,\" \",H1592)","v":" "},null,{"$f":"+MONTH(A1592)","v":1},{"$f":"+YEAR(A1592)","v":1900}]
[null,null,null,null,null,null,null,null," ",null,1,1900]
[null,null,null,null,null,null,null,null," ",null,1,1900]
[null,null,null,null,null,null,null,null," ",null,1,1900]
[null,null,null,null,null,null,null,null," ",null,1,1900]
[null,null,null,null,null,null,null,null," ",null,1,1900]
[null,null,null,null,null,null,null,null," ",null,1,1900]
[null,null,null,null,null,null,null,null," ",null,1,1900]
[null,null,null,null,null,null,null,null," ",null,1,1900]
[null,null,null,null,null,null,null,null," ",null,1,1900]
[null,null,null,null,null,null,null,null," ",null,1,1900]
[null,null,null,null,null,null,null,null," ",null,1,1900]
[null,null,null,null,null,null,null,null," ",null,1,1900]
[null,null,null,null,null,null,null,null," ",null,1,1900]
[null,null,null,null,null,null,null,null," ",null,1,1900]
[null,null,null,null,null,null,null,null," ",null,1,1900]
[null,null,null,null,null,null,null,null," ",null,1,1900]
[null,null,null,null,null,null,null,null," ",null,1,1900]
[null,null,null,null,null,null,null,null," ",null,1,1900]
[null,null,null,null,null,null,null,null," ",null,1,1900]
[null,null,null,null,null,null,null,null," ",null,1,1900]
[null,null,null,null,null,null,null,null," ",null,1,1900]
[null,null,null,null,null,null,null,null," ",null,1,1900]
[null,null,null,null,null,null,null,null," ",null,1,1900]
[null,null,null,null,null,null,null,null," ",null,1,1900]
[null,null,null,null,null,null,null,null," ",null,1,1900]
[null,null,null,null,null,null,null,null," ",null,1,1900]
[null,null,null,null,null,null,null,null," ",null,1,1900]
[null,null,null,null,null,null,null,null," ",null,1,1900]
[null,null,null,null,null,null,null,null," ",null,1,1900]
[null,null,null,null,null,null,null,null," ",null,1,1900]
[null,null,null,null,null,null,null,null," ",null,1,1900]
[null,null,null,null,null,null,null,null," ",null,1,1900]
[null,null,null,null,null,null,null,null," ",null,1,1900]
[null,null,null,null,null,null,null,null," ",null,1,1900]
[null,null,null,null,null,null,null,null," ",null,1,1900]
[null,null,null,null,null,null,null,null," ",null,1,1900]
[null,null,null,null,null,null,null,null," ",null,1,1900]
[null,null,null,null,null,null,null,null," ",null,1,1900]
[null,null,null,null,null,null,null,null," ",null,1,1900]
[null,null,null,null,null,null,null,null," ",null,1,1900]
[null,null,null,null,null,null,null,null," ",null,1,1900]
[null,null,null,null,null,null,null,null," ",null,1,1900]
[null,null,null,null,null,null,null,null," ",null,1,1900]
[null,null,null,null,null,null,null,null," ",null,1,1900]
[null,null,null,null,null,null,null,null," ",null,1,1900]
[null,null,null,null,null,null,null,null," ",null,1,1900]
[null,null,null,null,null,null,null,null," ",null,1,1900]
[null,null,null,null,null,null,null,null," ",null,1,1900]
[null,null,null,null,null,null,null,null," ",null,1,1900]
[null,null,null,null,null,null,null,null," ",null,1,1900]
[null,null,null,null,null,null,null,null," ",null,1,1900]
[null,null,null,null,null,null,null,null," ",null,1,1900]
[null,null,null,null,null,null,null,null," ",null,1,1900]
[null,null,null,null,null,null,null,null," ",null,1,1900]
[null,null,null,null,null,null,null,null," ",null,1,1900]
[null,null,null,null,null,null,null,null," ",null,1,1900]
[null,null,null,null,null,null,null,null," ",null,1,1900]
[null,null,null,null,null,null,null,null," ",null,1,1900]
[null,null,null,null,null,null,null,null," ",null,1,1900]
[null,null,null,null,null,null,null,null," ",null,1,1900]
[null,null,null,null,null,null,null,null," ",null,1,1900]
[null,null,null,null,null,null,null,null," ",null,1,1900]
[null,null,null,null,null,null,null,null," ",null,1,1900]
[null,null,null,null,null,null,null,null,{"$f":"+IF(H1656=H1655,\" \",H1656)","v":" "},null,{"$f":"+MONTH(A1656)","v":1},{"$f":"+YEAR(A1656)","v":1900}]
[null,null,null,null,null,null,null,null," ",null,1,1900]
[null,null,null,null,null,null,null,null," ",null,1,1900]
[null,null,null,null,null,null,null,null," ",null,1,1900]
[null,null,null,null,null,null,null,null," ",null,1,1900]
[null,null,null,null,null,null,null,null," ",null,1,1900]
[null,null,null,null,null,null,null,null," ",null,1,1900]
[null,null,null,null,null,null,null,null," ",null,1,1900]
[null,null,null,null,null,null,null,null," ",null,1,1900]
[null,null,null,null,null,null,null,null," ",null,1,1900]
[null,null,null,null,null,null,null,null," ",null,1,1900]
[null,null,null,null,null,null,null,null," ",null,1,1900]
[null,null,null,null,null,null,null,null," ",null,1,1900]
[null,null,null,null,null,null,null,null," ",null,1,1900]
[null,null,null,null,null,null,null,null," ",null,1,1900]
[null,null,null,null,null,null,null,null," ",null,1,1900]
[null,null,null,null,null,null,null,null," ",null,1,1900]
[null,null,null,null,null,null,null,null," ",null,1,1900]
[null,null,null,null,null,null,null,null," ",null,1,1900]
[null,null,null,null,null,null,null,null," ",null,1,1900]
[null,null,null,null,null,null,null,null," ",null,1,1900]
[null,null,null,null,null,null,null,null," ",null,1,1900]
[null,null,null,null,null,null,null,null," ",null,1,1900]
[null,null,null,null,null,null,null,null," ",null,1,1900]
[null,null,null,null,null,null,null,null," ",null,1,1900]
[null,null,null,null,null,null,null,null," ",null,1,1900]
[null,null,null,null,null,null,null,null," ",null,1,1900]
[null,null,null,null,null,null,null,null," ",null,1,1900]
[null,null,null,null,null,null,null,null," ",null,1,1900]
[null,null,null,null,null,null,null,null," ",null,1,1900]
[null,null,null,null,null,null,null,null," ",null,1,1900]
[null,null,null,null,null,null,null,null," ",null,1,1900]
[null,null,null,null,null,null,null,null," ",null,1,1900]
[null,null,null,null,null,null,null,null," ",null,1,1900]
[null,null,null,null,null,null,null,null," ",null,1,1900]
[null,null,null,null,null,null,null,null," ",null,1,1900]
[null,null,null,null,null,null,null,null," ",null,1,1900]
[null,null,null,null,null,null,null,null," ",null,1,1900]
[null,null,null,null,null,null,null,null," ",null,1,1900]
[null,null,null,null,null,null,null,null," ",null,1,1900]
[null,null,null,null,null,null,null,null," ",null,1,1900]
[null,null,null,null,null,null,null,null," ",null,1,1900]
[null,null,null,null,null,null,null,null," ",null,1,1900]
[null,null,null,null,null,null,null,null," ",null,1,1900]
[null,null,null,null,null,null,null,null," ",null,1,1900]
[null,null,null,null,null,null,null,null," ",null,1,1900]
[null,null,null,null,null,null,null,null," ",null,1,1900]
[null,null,null,null,null,null,null,null," ",null,1,1900]
[null,null,null,null,null,null,null,null," ",null,1,1900]
[null,null,null,null,null,null,null,null," ",null,1,1900]
[null,null,null,null,null,null,null,null," ",null,1,1900]
[null,null,null,null,null,null,null,null," ",null,1,1900]
[null,null,null,null,null,null,null,null," ",null,1,1900]
[null,null,null,null,null,null,null,null," ",null,1,1900]
[null,null,null,null,null,null,null,null," ",null,1,1900]
[null,null,null,null,null,null,null,null," ",null,1,1900]
[null,null,null,null,null,null,null,null," ",null,1,1900]
[null,null,null,null,null,null,null,null," ",null,1,1900]
[null,null,null,null,null,null,null,null," ",null,1,1900]
[null,null,null,null,null,null,null,null," ",null,1,1900]
[null,null,null,null,null,null,null,null," ",null,1,1900]
[null,null,null,null,null,null,null,null," ",null,1,1900]
[null,null,null,null,null,null,null,null," ",null,1,1900]
[null,null,null,null,null,null,null,null," ",null,1,1900]
[null,null,null,null,null,null,null,null,{"$f":"+IF(H1720=H1719,\" \",H1720)","v":" "},null,{"$f":"+MONTH(A1720)","v":1},{"$f":"+YEAR(A1720)","v":1900}]
[null,null,null,null,null,null,null,null," ",null,1,1900]
[null,null,null,null,null,null,null,null," ",null,1,1900]
[null,null,null,null,null,null,null,null," ",null,1,1900]
[null,null,null,null,null,null,null,null," ",null,1,1900]
[null,null,null,null,null,null,null,null," ",null,1,1900]
[null,null,null,null,null,null,null,null," ",null,1,1900]
[null,null,null,null,null,null,null,null," ",null,1,1900]
[null,null,null,null,null,null,null,null," ",null,1,1900]
[null,null,null,null,null,null,null,null," ",null,1,1900]
[null,null,null,null,null,null,null,null," ",null,1,1900]
[null,null,null,null,null,null,null,null," ",null,1,1900]
[null,null,null,null,null,null,null,null," ",null,1,1900]
[null,null,null,null,null,null,null,null," ",null,1,1900]
[null,null,null,null,null,null,null,null," ",null,1,1900]
[null,null,null,null,null,null,null,null," ",null,1,1900]
[null,null,null,null,null,null,null,null," ",null,1,1900]
[null,null,null,null,null,null,null,null," ",null,1,1900]
[null,null,null,null,null,null,null,null," ",null,1,1900]
[null,null,null,null,null,null,null,null," ",null,1,1900]
[null,null,null,null,null,null,null,null," ",null,1,1900]
[null,null,null,null,null,null,null,null," ",null,1,1900]
[null,null,null,null,null,null,null,null," ",null,1,1900]
[null,null,null,null,null,null,null,null," ",null,1,1900]
[null,null,null,null,null,null,null,null," ",null,1,1900]
[null,null,null,null,null,null,null,null," ",null,1,1900]
[null,null,null,null,null,null,null,null," ",null,1,1900]
[null,null,null,null,null,null,null,null," ",null,1,1900]
[null,null,null,null,null,null,null,null," ",null,1,1900]
[null,null,null,null,null,null,null,null," ",null,1,1900]
[null,null,null,null,null,null,null,null," ",null,1,1900]
[null,null,null,null,null,null,null,null," ",null,1,1900]
[null,null,null,null,null,null,null,null," ",null,1,1900]
[null,null,null,null,null,null,null,null," ",null,1,1900]
[null,null,null,null,null,null,null,null," ",null,1,1900]
[null,null,null,null,null,null,null,null," ",null,1,1900]
[null,null,null,null,null,null,null,null," ",null,1,1900]
[null,null,null,null,null,null,null,null," ",null,1,1900]
[null,null,null,null,null,null,null,null," ",null,1,1900]
[null,null,null,null,null,null,null,null," ",null,1,1900]
[null,null,null,null,null,null,null,null," ",null,1,1900]
[null,null,null,null,null,null,null,null," ",null,1,1900]
[null,null,null,null,null,null,null,null," ",null,1,1900]
[null,null,null,null,null,null,null,null," ",null,1,1900]
[null,null,null,null,null,null,null,null," ",null,1,1900]
[null,null,null,null,null,null,null,null," ",null,1,1900]
[null,null,null,null,null,null,null,null," ",null,1,1900]
[null,null,null,null,null,null,null,null," ",null,1,1900]
[null,null,null,null,null,null,null,null," ",null,1,1900]
[null,null,null,null,null,null,null,null," ",null,1,1900]
[null,null,null,null,null,null,null,null," ",null,1,1900]
[null,null,null,null,null,null,null,null," ",null,1,1900]
[null,null,null,null,null,null,null,null," ",null,1,1900]
[null,null,null,null,null,null,null,null," ",null,1,1900]
[null,null,null,null,null,null,null,null," ",null,1,1900]
[null,null,null,null,null,null,null,null," ",null,1,1900]
[null,null,null,null,null,null,null,null," ",null,1,1900]
[null,null,null,null,null,null,null,null," ",null,1,1900]
[null,null,null,null,null,null,null,null," ",null,1,1900]
[null,null,null,null,null,null,null,null," ",null,1,1900]
[null,null,null,null,null,null,null,null," ",null,1,1900]
[null,null,null,null,null,null,null,null," ",null,1,1900]
[null,null,null,null,null,null,null,null," ",null,1,1900]
[null,null,null,null,null,null,null,null," ",null,1,1900]
[null,null,null,null,null,null,null,null,{"$f":"+IF(H1784=H1783,\" \",H1784)","v":" "},null,{"$f":"+MONTH(A1784)","v":1},{"$f":"+YEAR(A1784)","v":1900}]
[null,null,null,null,null,null,null,null," ",null,1,1900]
[null,null,null,null,null,null,null,null," ",null,1,1900]
[null,null,null,null,null,null,null,null," ",null,1,1900]
[null,null,null,null,null,null,null,null," ",null,1,1900]
[null,null,null,null,null,null,null,null," ",null,1,1900]
[null,null,null,null,null,null,null,null," ",null,1,1900]
[null,null,null,null,null,null,null,null," ",null,1,1900]
[null,null,null,null,null,null,null,null," ",null,1,1900]
[null,null,null,null,null,null,null,null," ",null,1,1900]
[null,null,null,null,null,null,null,null," ",null,1,1900]
[null,null,null,null,null,null,null,null," ",null,1,1900]
[null,null,null,null,null,null,null,null," ",null,1,1900]
[null,null,null,null,null,null,null,null," ",null,1,1900]
[null,null,null,null,null,null,null,null," ",null,1,1900]
[null,null,null,null,null,null,null,null," ",null,1,1900]
[null,null,null,null,null,null,null,null," ",null,1,1900]
[null,null,null,null,null,null,null,null," ",null,1,1900]
[null,null,null,null,null,null,null,null," ",null,1,1900]
[null,null,null,null,null,null,null,null," ",null,1,1900]
[null,null,null,null,null,null,null,null," ",null,1,1900]
[null,null,null,null,null,null,null,null," ",null,1,1900]
[null,null,null,null,null,null,null,null," ",null,1,1900]
[null,null,null,null,null,null,null,null," ",null,1,1900]
[null,null,null,null,null,null,null,null," ",null,1,1900]
[null,null,null,null,null,null,null,null," ",null,1,1900]
[null,null,null,null,null,null,null,null," ",null,1,1900]
[null,null,null,null,null,null,null,null," ",null,1,1900]
[null,null,null,null,null,null,null,null," ",null,1,1900]
[null,null,null,null,null,null,null,null," ",null,1,1900]
[null,null,null,null,null,null,null,null," ",null,1,1900]
[null,null,null,null,null,null,null,null," ",null,1,1900]
[null,null,null,null,null,null,null,null," ",null,1,1900]
[null,null,null,null,null,null,null,null," ",null,1,1900]
[null,null,null,null,null,null,null,null," ",null,1,1900]
[null,null,null,null,null,null,null,null," ",null,1,1900]
[null,null,null,null,null,null,null,null," ",null,1,1900]
[null,null,null,null,null,null,null,null," ",null,1,1900]
[null,null,null,null,null,null,null,null," ",null,1,1900]
[null,null,null,null,null,null,null,null," ",null,1,1900]
[null,null,null,null,null,null,null,null," ",null,1,1900]
[null,null,null,null,null,null,null,null," ",null,1,1900]
[null,null,null,null,null,null,null,null," ",null,1,1900]
[null,null,null,null,null,null,null,null," ",null,1,1900]
[null,null,null,null,null,null,null,null," ",null,1,1900]
[null,null,null,null,null,null,null,null," ",null,1,1900]
[null,null,null,null,null,null,null,null," ",null,1,1900]
[null,null,null,null,null,null,null,null," ",null,1,1900]
[null,null,null,null,null,null,null,null," ",null,1,1900]
[null,null,null,null,null,null,null,null," ",null,1,1900]
[null,null,null,null,null,null,null,null," ",null,1,1900]
[null,null,null,null,null,null,null,null," ",null,1,1900]
[null,null,null,null,null,null,null,null," ",null,1,1900]
[null,null,null,null,null,null,null,null," ",null,1,1900]
[null,null,null,null,null,null,null,null," ",null,1,1900]
[null,null,null,null,null,null,null,null," ",null,1,1900]
[null,null,null,null,null,null,null,null," ",null,1,1900]
[null,null,null,null,null,null,null,null," ",null,1,1900]
[null,null,null,null,null,null,null,null," ",null,1,1900]
[null,null,null,null,null,null,null,null," ",null,1,1900]
[null,null,null,null,null,null,null,null," ",null,1,1900]
[null,null,null,null,null,null,null,null," ",null,1,1900]
[null,null,null,null,null,null,null,null," ",null,1,1900]
[null,null,null,null,null,null,null,null," ",null,1,1900]
[null,null,null,null,null,null,null,null,{"$f":"+IF(H1848=H1847,\" \",H1848)","v":" "},null,{"$f":"+MONTH(A1848)","v":1},{"$f":"+YEAR(A1848)","v":1900}]
[null,null,null,null,null,null,null,null," ",null,1,1900]
[null,null,null,null,null,null,null,null," ",null,1,1900]
[null,null,null,null,null,null,null,null," ",null,1,1900]
[null,null,null,null,null,null,null,null," ",null,1,1900]
[null,null,null,null,null,null,null,null," ",null,1,1900]
[null,null,null,null,null,null,null,null," ",null,1,1900]
[null,null,null,null,null,null,null,null," ",null,1,1900]
[null,null,null,null,null,null,null,null," ",null,1,1900]
[null,null,null,null,null,null,null,null," ",null,1,1900]
[null,null,null,null,null,null,null,null," ",null,1,1900]
[null,null,null,null,null,null,null,null," ",null,1,1900]
[null,null,null,null,null,null,null,null," ",null,1,1900]
[null,null,null,null,null,null,null,null," ",null,1,1900]
[null,null,null,null,null,null,null,null," ",null,1,1900]
[null,null,null,null,null,null,null,null," ",null,1,1900]
[null,null,null,null,null,null,null,null," ",null,1,1900]
[null,null,null,null,null,null,null,null," ",null,1,1900]
[null,null,null,null,null,null,null,null," ",null,1,1900]
[null,null,null,null,null,null,null,null," ",null,1,1900]
[null,null,null,null,null,null,null,null," ",null,1,1900]
[null,null,null,null,null,null,null,null," ",null,1,1900]
[null,null,null,null,null,null,null,null," ",null,1,1900]
[null,null,null,null,null,null,null,null," ",null,1,1900]
[null,null,null,null,null,null,null,null," ",null,1,1900]
[null,null,null,null,null,null,null,null," ",null,1,1900]
[null,null,null,null,null,null,null,null," ",null,1,1900]
[null,null,null,null,null,null,null,null," ",null,1,1900]
[null,null,null,null,null,null,null,null," ",null,1,1900]
[null,null,null,null,null,null,null,null," ",null,1,1900]
[null,null,null,null,null,null,null,null," ",null,1,1900]
[null,null,null,null,null,null,null,null," ",null,1,1900]
[null,null,null,null,null,null,null,null," ",null,1,1900]
[null,null,null,null,null,null,null,null," ",null,1,1900]
[null,null,null,null,null,null,null,null," ",null,1,1900]
[null,null,null,null,null,null,null,null," ",null,1,1900]
[null,null,null,null,null,null,null,null," ",null,1,1900]
[null,null,null,null,null,null,null,null," ",null,1,1900]
[null,null,null,null,null,null,null,null," ",null,1,1900]
[null,null,null,null,null,null,null,null," ",null,1,1900]
[null,null,null,null,null,null,null,null," ",null,1,1900]
[null,null,null,null,null,null,null,null," ",null,1,1900]
[null,null,null,null,null,null,null,null," ",null,1,1900]
[null,null,null,null,null,null,null,null," ",null,1,1900]
[null,null,null,null,null,null,null,null," ",null,1,1900]
[null,null,null,null,null,null,null,null," ",null,1,1900]
[null,null,null,null,null,null,null,null," ",null,1,1900]
[null,null,null,null,null,null,null,null," ",null,1,1900]
[null,null,null,null,null,null,null,null," ",null,1,1900]
[null,null,null,null,null,null,null,null," ",null,1,1900]
[null,null,null,null,null,null,null,null," ",null,1,1900]
[null,null,null,null,null,null,null,null," ",null,1,1900]
[null,null,null,null,null,null,null,null," ",null,1,1900]
[null,null,null,null,null,null,null,null," ",null,1,1900]
[null,null,null,null,null,null,null,null," ",null,1,1900]
[null,null,null,null,null,null,null,null," ",null,1,1900]
[null,null,null,null,null,null,null,null," ",null,1,1900]
[null,null,null,null,null,null,null,null," ",null,1,1900]
[null,null,null,null,null,null,null,null," ",null,1,1900]
[null,null,null,null,null,null,null,null," ",null,1,1900]
[null,null,null,null,null,null,null,null," ",null,1,1900]
[null,null,null,null,null,null,null,null," ",null,1,1900]
[null,null,null,null,null,null,null,null," ",null,1,1900]
[null,null,null,null,null,null,null,null," ",null,1,1900]
[null,null,null,null,null,null,null,null,{"$f":"+IF(H1912=H1911,\" \",H1912)","v":" "},null,{"$f":"+MONTH(A1912)","v":1},{"$f":"+YEAR(A1912)","v":1900}]
[null,null,null,null,null,null,null,null," ",null,1,1900]
[null,null,null,null,null,null,null,null," ",null,1,1900]
[null,null,null,null,null,null,null,null," ",null,1,1900]
[null,null,null,null,null,null,null,null," ",null,1,1900]
[null,null,null,null,null,null,null,null," ",null,1,1900]
[null,null,null,null,null,null,null,null," ",null,1,1900]
[null,null,null,null,null,null,null,null," ",null,1,1900]
[null,null,null,null,null,null,null,null," ",null,1,1900]
[null,null,null,null,null,null,null,null," ",null,1,1900]
[null,null,null,null,null,null,null,null," ",null,1,1900]
[null,null,null,null,null,null,null,null," ",null,1,1900]
[null,null,null,null,null,null,null,null," ",null,1,1900]
[null,null,null,null,null,null,null,null," ",null,1,1900]
[null,null,null,null,null,null,null,null," ",null,1,1900]
[null,null,null,null,null,null,null,null," ",null,1,1900]
[null,null,null,null,null,null,null,null," ",null,1,1900]
[null,null,null,null,null,null,null,null," ",null,1,1900]
[null,null,null,null,null,null,null,null," ",null,1,1900]
[null,null,null,null,null,null,null,null," ",null,1,1900]
[null,null,null,null,null,null,null,null," ",null,1,1900]
[null,null,null,null,null,null,null,null," ",null,1,1900]
[null,null,null,null,null,null,null,null," ",null,1,1900]
[null,null,null,null,null,null,null,null," ",null,1,1900]
[null,null,null,null,null,null,null,null," ",null,1,1900]
[null,null,null,null,null,null,null,null," ",null,1,1900]
[null,null,null,null,null,null,null,null," ",null,1,1900]
[null,null,null,null,null,null,null,null," ",null,1,1900]
[null,null,null,null,null,null,null,null," ",null,1,1900]
[null,null,null,null,null,null,null,null," ",null,1,1900]
[null,null,null,null,null,null,null,null," ",null,1,1900]
[null,null,null,null,null,null,null,null," ",null,1,1900]
[null,null,null,null,null,null,null,null," ",null,1,1900]
[null,null,null,null,null,null,null,null," ",null,1,1900]
[null,null,null,null,null,null,null,null," ",null,1,1900]
[null,null,null,null,null,null,null,null," ",null,1,1900]
[null,null,null,null,null,null,null,null," ",null,1,1900]
[null,null,null,null,null,null,null,null," ",null,1,1900]
[null,null,null,null,null,null,null,null," ",null,1,1900]
[null,null,null,null,null,null,null,null," ",null,1,1900]
[null,null,null,null,null,null,null,null," ",null,1,1900]
[null,null,null,null,null,null,null,null," ",null,1,1900]
[null,null,null,null,null,null,null,null," ",null,1,1900]
[null,null,null,null,null,null,null,null," ",null,1,1900]
[null,null,null,null,null,null,null,null," ",null,1,1900]
[null,null,null,null,null,null,null,null," ",null,1,1900]
[null,null,null,null,null,null,null,null," ",null,1,1900]
[null,null,null,null,null,null,null,null," ",null,1,1900]
[null,null,null,null,null,null,null,null," ",null,1,1900]
[null,null,null,null,null,null,null,null," ",null,1,1900]
[null,null,null,null,null,null,null,null," ",null,1,1900]
[null,null,null,null,null,null,null,null," ",null,1,1900]
[null,null,null,null,null,null,null,null," ",null,1,1900]
[null,null,null,null,null,null,null,null," ",null,1,1900]
[null,null,null,null,null,null,null,null," ",null,1,1900]
[null,null,null,null,null,null,null,null," ",null,1,1900]
[null,null,null,null,null,null,null,null," ",null,1,1900]
[null,null,null,null,null,null,null,null," ",null,1,1900]
[null,null,null,null,null,null,null,null," ",null,1,1900]
[null,null,null,null,null,null,null,null," ",null,1,1900]
[null,null,null,null,null,null,null,null," ",null,1,1900]
[null,null,null,null,null,null,null,null," ",null,1,1900]
[null,null,null,null,null,null,null,null," ",null,1,1900]
[null,null,null,null,null,null,null,null," ",null,1,1900]
[null,null,null,null,null,null,null,null,{"$f":"+IF(H1976=H1975,\" \",H1976)","v":" "},null,{"$f":"+MONTH(A1976)","v":1},{"$f":"+YEAR(A1976)","v":1900}]
[null,null,null,null,null,null,null,null," ",null,1,1900]
[null,null,null,null,null,null,null,null," ",null,1,1900]
[null,null,null,null,null,null,null,null," ",null,1,1900]
[null,null,null,null,null,null,null,null," ",null,1,1900]
[null,null,null,null,null,null,null,null," ",null,1,1900]
[null,null,null,null,null,null,null,null," ",null,1,1900]
[null,null,null,null,null,null,null,null," ",null,1,1900]
[null,null,null,null,null,null,null,null," ",null,1,1900]
[null,null,null,null,null,null,null,null," ",null,1,1900]
[null,null,null,null,null,null,null,null," ",null,1,1900]
[null,null,null,null,null,null,null,null," ",null,1,1900]
[null,null,null,null,null,null,null,null," ",null,1,1900]
[null,null,null,null,null,null,null,null," ",null,1,1900]
[null,null,null,null,null,null,null,null," ",null,1,1900]
[null,null,null,null,null,null,null,null," ",null,1,1900]
[null,null,null,null,null,null,null,null," ",null,1,1900]
[null,null,null,null,null,null,null,null," ",null,1,1900]
[null,null,null,null,null,null,null,null," ",null,1,1900]
[null,null,null,null,null,null,null,null," ",null,1,1900]
[null,null,null,null,null,null,null,null," ",null,1,1900]
[null,null,null,null,null,null,null,null," ",null,1,1900]
[null,null,null,null,null,null,null,null," ",null,1,1900]
[null,null,null,null,null,null,null,null," ",null,1,1900]
[null,null,null,null,null,null,null,null," ",null,1,1900]
[null,null,null,null,null,null,null,null," ",null,1,1900]
[null,null,null,null,null,null,null,null," ",null,1,1900]
[null,null,null,null,null,null,null,null," ",null,1,1900]
[null,null,null,null,null,null,null,null," ",null,1,1900]
[null,null,null,null,null,null,null,null," ",null,1,1900]
[null,null,null,null,null,null,null,null," ",null,1,1900]
[null,null,null,null,null,null,null,null," ",null,1,1900]
[null,null,null,null,null,null,null,null," ",null,1,1900]
[null,null,null,null,null,null,null,null," ",null,1,1900]
[null,null,null,null,null,null,null,null," ",null,1,1900]
[null,null,null,null,null,null,null,null," ",null,1,1900]
[null,null,null,null,null,null,null,null," ",null,1,1900]
[null,null,null,null,null,null,null,null," ",null,1,1900]
[null,null,null,null,null,null,null,null," ",null,1,1900]
[null,null,null,null,null,null,null,null," ",null,1,1900]
[null,null,null,null,null,null,null,null," ",null,1,1900]
[null,null,null,null,null,null,null,null," ",null,1,1900]
[null,null,null,null,null,null,null,null," ",null,1,1900]
[null,null,null,null,null,null,null,null," ",null,1,1900]
[null,null,null,null,null,null,null,null," ",null,1,1900]
[null,null,null,null,null,null,null,null," ",null,1,1900]
[null,null,null,null,null,null,null,null," ",null,1,1900]
[null,null,null,null,null,null,null,null," ",null,1,1900]
[null,null,null,null,null,null,null,null," ",null,1,1900]
[null,null,null,null,null,null,null,null," ",null,1,1900]
[null,null,null,null,null,null,null,null," ",null,1,1900]
[null,null,null,null,null,null,null,null," ",null,1,1900]
[null,null,null,null,null,null,null,null," ",null,1,1900]
[null,null,null,null,null,null,null,null," ",null,1,1900]
[null,null,null,null,null,null,null,null," ",null,1,1900]
[null,null,null,null,null,null,null,null," ",null,1,1900]
[null,null,null,null,null,null,null,null," ",null,1,1900]
[null,null,null,null,null,null,null,null," ",null,1,1900]
[null,null,null,null,null,null,null,null," ",null,1,1900]
[null,null,null,null,null,null,null,null," ",null,1,1900]
[null,null,null,null,null,null,null,null," ",null,1,1900]
[null,null,null,null,null,null,null,null," ",null,1,1900]
[null,null,null,null,null,null,null,null," ",null,1,1900]
[null,null,null,null,null,null,null,null," ",null,1,1900]
[null,null,null,null,null,null,null,null," ",null,1,1900]
[null,null,null,null,null,null,null,null," ",null,1,1900]
[null,null,null,null,null,null,null,null," ",null,1,1900]
[null,null,null,null,null,null,null,null," ",null,1,1900]
[null,null,null,null,null,null,null,null," ",null,1,1900]
[null,null,null,null,null,null,null,null," ",null,1,1900]
[null,null,null,null,null,null,null,null," ",null,1,1900]
[null,null,null,null,null,null,null,null," ",null,1,1900]
[null,null,null,null,null,null,null,null," ",null,1,1900]
[null,null,null,null,null,null,null,null," ",null,1,1900]
[null,null,null,null,null,null,null,null," ",null,1,1900]
[null,null,null,null,null,null,null,null," ",null,1,1900]
[null,null,null,null,null,null,null,null," ",null,1,1900]
[null,null,null,null,null,null,null,null," ",null,1,1900]
[null,null,null,null,null,null,null,null," ",null,1,1900]
[null,null,null,null,null,null,null,null," ",null,1,1900]
[null,null,null,null,null,null,null,null," ",null,1,1900]
[null,null,null,null,null,null,null,null," ",null,1,1900]
[null,null,null,null,null,null,null,null," ",null,1,1900]
[null,null,null,null,null,null,null,null," ",null,1,1900]
[null,null,null,null,null,null,null,null," ",null,1,1900]
[null,null,null,null,null,null,null,null," ",null,1,1900]
[null,null,null,null,null,null,null,null," ",null,1,1900]
[null,null,null,null,null,null,null,null," ",null,1,1900]
[null,null,null,null,null,null,null,null," ",null,1,1900]
[null,null,null,null,null,null,null,null," ",null,1,1900]
[null,null,null,null,null,null,null,null," ",null,1,1900]
[null,null,null,null,null,null,null,null," ",null,1,1900]
[null,null,null,null,null,null,null,null," ",null,1,1900]
[null,null,null,null,null,null,null,null," ",null,1,1900]
[null,null,null,null,null,null,null,null," ",null,1,1900]
[null,null,null,null,null,null,null,null," ",null,1,1900]
[null,null,null,null,null,null,null,null," ",null,1,1900]
[null,null,null,null,null,null,null,null," ",null,1,1900]
[null,null,null,null,null,null,null,null," ",null,1,1900]
[null,null,null,null,null,null,null,null," ",null,1,1900]
[null,null,null,null,null,null,null,null," ",null,1,1900]
[null,null,null,null,null,null,null,null," ",null,1,1900]
[null,null,null,null,null,null,null,null," ",null,1,1900]
[null,null,null,null,null,null,null,null," ",null,1,1900]
[null,null,null,null,null,null,null,null," ",null,1,1900]
[null,null,null,null,null,null,null,null," ",null,1,1900]
[null,null,null,null,null,null,null,null," ",null,1,1900]
[null,null,null,null,null,null,null,null," ",null,1,1900]
[null,null,null,null,null,null,null,null," ",null,1,1900]
[null,null,null,null,null,null,null,null," ",null,1,1900]
[null,null,null,null,null,null,null,null," ",null,1,1900]
[null,null,null,null,null,null,null,null," ",null,1,1900]
[null,null,null,null,null,null,null,null," ",null,1,1900]
[null,null,null,null,null,null,null,null," ",null,1,1900]
[null,null,null,null,null,null,null,null," ",null,1,1900]
[null,null,null,null,null,null,null,null,{"$f":"+IF(H4856=H4855,\" \",H4856)","v":" "},null,{"$f":"+MONTH(A4856)","v":1},{"$f":"+YEAR(A4856)","v":1900}]
[null,null,null,null,null,null,null,null," ",null,1,1900]
[null,null,null,null,null,null,null,null," ",null,1,1900]
[null,null,null,null,null,null,null,null," ",null,1,1900]
[null,null,null,null,null,null,null,null," ",null,1,1900]
[null,null,null,null,null,null,null,null," ",null,1,1900]
[null,null,null,null,null,null,null,null," ",null,1,1900]
[null,null,null,null,null,null,null,null," ",null,1,1900]
[null,null,null,null,null,null,null,null," ",null,1,1900]
[null,null,null,null,null,null,null,null," ",null,1,1900]
[null,null,null,null,null,null,null,null," ",null,1,1900]
[null,null,null,null,null,null,null,null," ",null,1,1900]
[null,null,null,null,null,null,null,null," ",null,1,1900]
[null,null,null,null,null,null,null,null," ",null,1,1900]
[null,null,null,null,null,null,null,null," ",null,1,1900]
[null,null,null,null,null,null,null,null," ",null,1,1900]
[null,null,null,null,null,null,null,null," ",null,1,1900]
[null,null,null,null,null,null,null,null," ",null,1,1900]
[null,null,null,null,null,null,null,null," ",null,1,1900]
[null,null,null,null,null,null,null,null," ",null,1,1900]
[null,null,null,null,null,null,null,null," ",null,1,1900]
[null,null,null,null,null,null,null,null," ",null,1,1900]
[null,null,null,null,null,null,null,null,{"$f":"+IF(H5560=H5559,\" \",H5560)","v":" "},null,{"$f":"+MONTH(A5560)","v":1},{"$f":"+YEAR(A5560)","v":1900}]
[null,null,null,null,null,null,null,null," ",null,1,1900]
[null,null,null,null,null,null,null,null," ",null,1,1900]
[null,null,null,null,null,null,null,null," ",null,1,1900]
[null,null,null,null,null,null,null,null," ",null,1,1900]
[null,null,null,null,null,null,null,null," ",null,1,1900]
[null,null,null,null,null,null,null,null," ",null,1,1900]
[null,null,null,null,null,null,null,null," ",null,1,1900]
[null,null,null,null,null,null,null,null," ",null,1,1900]
[null,null,null,null,null,null,null,null,{"$f":"+IF(H5816=H5815,\" \",H5816)","v":" "},null,{"$f":"+MONTH(A5816)","v":1},{"$f":"+YEAR(A5816)","v":1900}]
[null,null,null,null,null,null,null,null," ",null,1,1900]
[null,null,null,null,null,null,null,null," ",null,1,1900]
[null,null,null,null,null,null,null,null," ",null,1,1900]
[null,null,null,null,null,null,null,null," ",null,1,1900]
[null,null,null,null,null,null,null,null," ",null,1,1900]
[null,null,null,null,null,null,null,null," ",null,1,1900]
[null,null,null,null,null,null,null,null," ",null,1,1900]
[null,null,null,null,null,null,null,null," ",null,1,1900]
[null,null,null,null,null,null,null,null," ",null,1,1900]
[null,null,null,null,null,null,null,null," ",null,1,1900]
[null,null,null,null,null,null,null,null," ",null,1,1900]
[null,null,null,null,null,null,null,null," ",null,1,1900]
[null,null,null,null,null,null,null,null," ",null,1,1900]
[null,null,null,null,null,null,null,null," ",null,1,1900]
[null,null,null,null,null,null,null,null," ",null,1,1900]
[null,null,null,null,null,null,null,null," ",null,1,1900]
[null,null,null,null,null,null,null,null," ",null,1,1900]
[null,null,null,null,null,null,null,null," ",null,1,1900]
[null,null,null,null,null,null,null,null," ",null,1,1900]
[null,null,null,null,null,null,null,null," ",null,1,1900]
[null,null,null,null,null,null,null,null," ",null,1,1900]
[null,null,null,null,null,null,null,null," ",null,1,1900]
[null,null,null,null,null,null,null,null," ",null,1,1900]
[null,null,null,null,null,null,null,null,{"$f":"+IF(H6584=H6583,\" \",H6584)","v":" "},null,{"$f":"+MONTH(A6584)","v":1},{"$f":"+YEAR(A6584)","v":1900}]
[null,null,null,null,null,null,null,null," ",null,1,1900]
[null,null,null,null,null,null,null,null," ",null,1,1900]
[null,null,null,null,null,null,null,null," ",null,1,1900]
[null,null,null,null,null,null,null,null," ",null,1,1900]
[null,null,null,null,null,null,null,null," ",null,1,1900]
[null,null,null,null,null,null,null,null," ",null,1,1900]
[null,null,null,null,null,null,null,null," ",null,1,1900]
[null,null,null,null,null,null,null,null," ",null,1,1900]
[null,null,null,null,null,null,null,null," ",null,1,1900]
[null,null,null,null,null,null,null,null," ",null,1,1900]
[null,null,null,null,null,null,null,null," ",null,1,1900]
[null,null,null,null,null,null,null,null," ",null,1,1900]
[null,null,null,null,null,null,null,null," ",null,1,1900]
[null,null,null,null,null,null,null,null," ",null,1,1900]
[null,null,null,null,null,null,null,null," ",null,1,1900]
[null,null,null,null,null,null,null,null," ",null,1,1900]
[null,null,null,null,null,null,null,null," ",null,1,1900]
[null,null,null,null,null,null,null,null," ",null,1,1900]
[null,null,null,null,null,null,null,null," ",null,1,1900]
[null,null,null,null,null,null,null,null," ",null,1,1900]
[null,null,null,null,null,null,null,null," ",null,1,1900]
[null,null,null,null,null,null,null,null," ",null,1,1900]
[null,null,null,null,null,null,null,null," ",null,1,1900]
[null,null,null,null,null,null,null,null," ",null,1,1900]
[null,null,null,null,null,null,null,null," ",null,1,1900]
[null,null,null,null,null,null,null,null," ",null,1,1900]
[null,null,null,null,null,null,null,null," ",null,1,1900]
[null,null,null,null,null,null,null,null," ",null,1,1900]
[null,null,null,null,null,null,null,null," ",null,1,1900]
[null,null,null,null,null,null,null,null," ",null,1,1900]
[null,null,null,null,null,null,null,null," ",null,1,1900]
[null,null,null,null,null,null,null,null," ",null,1,1900]
[null,null,null,null,null,null,null,null," ",null,1,1900]
[null,null,null,null,null,null,null,null," ",null,1,1900]
[null,null,null,null,null,null,null,null," ",null,1,1900]
[null,null,null,null,null,null,null,null," ",null,1,1900]
[null,null,null,null,null,null,null,null," ",null,1,1900]
[null,null,null,null,null,null,null,null," ",null,1,1900]
[null,null,null,null,null,null,null,null," ",null,1,1900]
[null,null,null,null,null,null,null,null," ",null,1,1900]
[null,null,null,null,null,null,null,null," ",null,1,1900]
[null,null,null,null,null,null,null,null," ",null,1,1900]
[null,null,null,null,null,null,null,null," ",null,1,1900]
[null,null,null,null,null,null,null,null," ",null,1,1900]
[null,null,null,null,null,null,null,null," ",null,1,1900]
[null,null,null,null,null,null,null,null," ",null,1,1900]
[null,null,null,null,null,null,null,null," ",null,1,1900]
[null,null,null,null,null,null,null,null," ",null,1,1900]
[null,null,null,null,null,null,null,null," ",null,1,1900]
[null,null,null,null,null,null,null,null," ",null,1,1900]
[null,null,null,null,null,null,null,null," ",null,1,1900]
[null,null,null,null,null,null,null,null," ",null,1,1900]
[null,null,null,null,null,null,null,null," ",null,1,1900]
[null,null,null,null,null,null,null,null," ",null,1,1900]
[null,null,null,null,null,null,null,null," ",null,1,1900]
[null,null,null,null,null,null,null,null," ",null,1,1900]
[null,null,null,null,null,null,null,null," ",null,1,1900]
[null,null,null,null,null,null,null,null," ",null,1,1900]
[null,null,null,null,null,null,null,null," ",null,1,1900]
[null,null,null,null,null,null,null,null," ",null,1,1900]
[null,null,null,null,null,null,null,null," ",null,1,1900]
[null,null,null,null,null,null,null,null," ",null,1,1900]
[null,null,null,null,null,null,null,null," ",null,1,1900]
[null,null,null,null,null,null,null,null," ",null,1,1900]
[null,null,null,null,null,null,null,null," ",null,1,1900]
[null,null,null,null,null,null,null,null," ",null,1,1900]
[null,null,null,null,null,null,null,null," ",null,1,1900]
[null,null,null,null,null,null,null,null," ",null,1,1900]
[null,null,null,null,null,null,null,null,{"$f":"+IF(H8760=H8759,\" \",H8760)","v":" "},null,{"$f":"+MONTH(A8760)","v":1},{"$f":"+YEAR(A8760)","v":1900}]
[null,null,null,null,null,null,null,null," ",null,1,1900]
[null,null,null,null,null,null,null,null," ",null,1,1900]
[null,null,null,null,null,null,null,null," ",null,1,1900]
[null,null,null,null,null,null,null,null," ",null,1,1900]
[null,null,null,null,null,null,null,null," ",null,1,1900]
[null,null,null,null,null,null,null,null," ",null,1,1900]
[null,null,null,null,null,null,null,null," ",null,1,1900]
[null,null,null,null,null,null,null,null," ",null,1,1900]
[null,null,null,null,null,null,null,null," ",null,1,1900]
[null,null,null,null,null,null,null,null," ",null,1,1900]
[null,null,null,null,null,null,null,null," ",null,1,1900]
[null,null,null,null,null,null,null,null," ",null,1,1900]
[null,null,null,null,null,null,null,null," ",null,1,1900]
[null,null,null,null,null,null,null,null," ",null,1,1900]
[null,null,null,null,null,null,null,null," ",null,1,1900]
[null,null,null,null,null,null,null,null," ",null,1,1900]
[null,null,null,null,null,null,null,null," ",null,1,1900]
[null,null,null,null,null,null,null,null," ",null,1,1900]
[null,null,null,null,null,null,null,null," ",null,1,1900]
[null,null,null,null,null,null,null,null," ",null,1,1900]
[null,null,null,null,null,null,null,null," ",null,1,1900]
[null,null,null,null,null,null,null,null," ",null,1,1900]
[null,null,null,null,null,null,null,null," ",null,1,1900]
[null,null,null,null,null,null,null,null," ",null,1,1900]
[null,null,null,null,null,null,null,null," ",null,1,1900]
[null,null,null,null,null,null,null,null,{"$f":"+IF(H9592=H9591,\" \",H9592)","v":" "},null,{"$f":"+MONTH(A9592)","v":1},{"$f":"+YEAR(A9592)","v":1900}]
[null,null,null,null,null,null,null,null," ",null,1,1900]
[null,null,null,null,null,null,null,null," ",null,1,1900]
[null,null,null,null,null,null,null,null," ",null,1,1900]
[null,null,null,null,null,null,null,null," ",null,1,1900]
[null,null,null,null,null,null,null,null," ",null,1,1900]
[null,null,null,null,null,null,null,null," ",null,1,1900]
[null,null,null,null,null,null,null,null," ",null,1,1900]
[null,null,null,null,null,null,null,null," ",null,1,1900]
[null,null,null,null,null,null,null,null," ",null,1,1900]
[null,null,null,null,null,null,null,null," ",null,1,1900]
[null,null,null,null,null,null,null,null," ",null,1,1900]
[null,null,null,null,null,null,null,null," ",null,1,1900]
[null,null,null,null,null,null,null,null," ",null,1,1900]
[null,null,null,null,null,null,null,null," ",null,1,1900]
[null,null,null,null,null,null,null,null," ",null,1,1900]
[null,null,null,null,null,null,null,null," ",null,1,1900]
[null,null,null,null,null,null,null,null," ",null,1,1900]
[null,null,null,null,null,null,null,null," ",null,1,1900]
[null,null,null,null,null,null,null,null," ",null,1,1900]
[null,null,null,null,null,null,null,null," ",null,1,1900]
[null,null,null,null,null,null,null,null," ",null,1,1900]
[null,null,null,null,null,null,null,null," ",null,1,1900]
[null,null,null,null,null,null,null,null," ",null,1,1900]
[null,null,null,null,null,null,null,null," ",null,1,1900]
[null,null,null,null,null,null,null,null," ",null,1,1900]
[null,null,null,null,null,null,null,null," ",null,1,1900]
[null,null,null,null,null,null,null,null," ",null,1,1900]
[null,null,null,null,null,null,null,null," ",null,1,1900]
[null,null,null,null,null,null,null,null," ",null,1,1900]
[null,null,null,null,null,null,null,null," ",null,1,1900]
[null,null,null,null,null,null,null,null," ",null,1,1900]
[null,null,null,null,null,null,null,null," ",null,1,1900]
[null,null,null,null,null,null,null,null,{"$f":"+IF(H10616=H10615,\" \",H10616)","v":" "},null,{"$f":"+MONTH(A10616)","v":1},{"$f":"+YEAR(A10616)","v":1900}]
[null,null,null,null,null,null,null,null," ",null,1,1900]
[null,null,null,null,null,null,null,null," ",null,1,1900]
[null,null,null,null,null,null,null,null," ",null,1,1900]
[null,null,null,null,null,null,null,null," ",null,1,1900]
[null,null,null,null,null,null,null,null," ",null,1,1900]
[null,null,null,null,null,null,null,null," ",null,1,1900]
[null,null,null,null,null,null,null,null," ",null,1,1900]
[null,null,null,null,null,null,null,null," ",null,1,1900]
[null,null,null,null,null,null,null,null," ",null,1,1900]
[null,null,null,null,null,null,null,null," ",null,1,1900]
[null,null,null,null,null,null,null,null," ",null,1,1900]
[null,null,null,null,null,null,null,null," ",null,1,1900]
[null,null,null,null,null,null,null,null," ",null,1,1900]
[null,null,null,null,null,null,null,null," ",null,1,1900]
[null,null,null,null,null,null,null,null," ",null,1,1900]
[null,null,null,null,null,null,null,null," ",null,1,1900]
[null,null,null,null,null,null,null,null," ",null,1,1900]
[null,null,null,null,null,null,null,null," ",null,1,1900]
[null,null,null,null,null,null,null,null," ",null,1,1900]
[null,null,null,null,null,null,null,null," ",null,1,1900]
[null,null,null,null,null,null,null,null," ",null,1,1900]
[null,null,null,null,null,null,null,null," ",null,1,1900]
[null,null,null,null,null,null,null,null," ",null,1,1900]
[null,null,null,null,null,null,null,null," ",null,1,1900]
[null,null,null,null,null,null,null,null," ",null,1,1900]
[null,null,null,null,null,null,null,null," ",null,1,1900]
[null,null,null,null,null,null,null,null," ",null,1,1900]
[null,null,null,null,null,null,null,null," ",null,1,1900]
[null,null,null,null,null,null,null,null," ",null,1,1900]
[null,null,null,null,null,null,null,null," ",null,1,1900]
[null,null,null,null,null,null,null,null," ",null,1,1900]
[null,null,null,null,null,null,null,null," ",null,1,1900]
[null,null,null,null,null,null,null,null," ",null,1,1900]
[null,null,null,null,null,null,null,null," ",null,1,1900]
[null,null,null,null,null,null,null,null," ",null,1,1900]
[null,null,null,null,null,null,null,null," ",null,1,1900]
[null,null,null,null,null,null,null,null," ",null,1,1900]
[null,null,null,null,null,null,null,null," ",null,1,1900]
[null,null,null,null,null,null,null,null," ",null,1,1900]
[null,null,null,null,null,null,null,null," ",null,1,1900]
[null,null,null,null,null,null,null,null," ",null,1,1900]
[null,null,null,null,null,null,null,null," ",null,1,1900]
[null,null,null,null,null,null,null,null," ",null,1,1900]
[null,null,null,null,null,null,null,null," ",null,1,1900]
[null,null,null,null,null,null,null,null," ",null,1,1900]
[null,null,null,null,null,null,null,null," ",null,1,1900]
[null,null,null,null,null,null,null,null," ",null,1,1900]
[null,null,null,null,null,null,null,null," ",null,1,1900]
[null,null,null,null,null,null,null,null," ",null,1,1900]
[null,null,null,null,null,null,null,null," ",null,1,1900]
[null,null,null,null,null,null,null,null," ",null,1,1900]
[null,null,null,null,null,null,null,null," ",null,1,1900]
[null,null,null,null,null,null,null,null," ",null,1,1900]
[null,null,null,null,null,null,null,null," ",null,1,1900]
[null,null,null,null,null,null,null,null," ",null,1,1900]
[null,null,null,null,null,null,null,null," ",null,1,1900]
[null,null,null,null,null,null,null,null," ",null,1,1900]
[null,null,null,null,null,null,null,null," ",null,1,1900]
[null,null,null,null,null,null,null,null," ",null,1,1900]
[null,null,null,null,null,null,null,null," ",null,1,1900]
[null,null,null,null,null,null,null,null," ",null,1,1900]
[null,null,null,null,null,null,null,null," ",null,1,1900]
[null,null,null,null,null,null,null,null," ",null,1,1900]
[null,null,null,null,null,null,null,null," ",null,1,1900]
[null,null,null,null,null,null,null,null," ",null,1,1900]
[null,null,null,null,null,null,null,null," ",null,1,1900]
[null,null,null,null,null,null,null,null," ",null,1,1900]
[null,null,null,null,null,null,null,null," ",null,1,1900]
[null,null,null,null,null,null,null,null," ",null,1,1900]
[null,null,null,null,null,null,null,null," ",null,1,1900]
[null,null,null,null,null,null,null,null," ",null,1,1900]
[null,null,null,null,null,null,null,null," ",null,1,1900]
[null,null,null,null,null,null,null,null," ",null,1,1900]
[null,null,null,null,null,null,null,null," ",null,1,1900]
[null,null,null,null,null,null,null,null," ",null,1,1900]
[null,null,null,null,null,null,null,null," ",null,1,1900]
[null,null,null,null,null,null,null,null," ",null,1,1900]
[null,null,null,null,null,null,null,null," ",null,1,1900]
[null,null,null,null,null,null,null,null," ",null,1,1900]
[null,null,null,null,null,null,null,null," ",null,1,1900]
[null,null,null,null,null,null,null,null," ",null,1,1900]
[null,null,null,null,null,null,null,null," ",null,1,1900]
[null,null,null,null,null,null,null,null," ",null,1,1900]
[null,null,null,null,null,null,null,null," ",null,1,1900]
[null,null,null,null,null,null,null,null," ",null,1,1900]
[null,null,null,null,null,null,null,null," ",null,1,1900]
[null,null,null,null,null,null,null,null," ",null,1,1900]
[null,null,null,null,null,null,null,null," ",null,1,1900]
[null,null,null,null,null,null,null,null," ",null,1,1900]
[null,null,null,null,null,null,null,null," ",null,1,1900]
[null,null,null,null,null,null,null,null," ",null,1,1900]
[null,null,null,null,null,null,null,null," ",null,1,1900]
[null,null,null,null,null,null,null,null," ",null,1,1900]
[null,null,null,null,null,null,null,null," ",null,1,1900]
[null,null,null,null,null,null,null,null," ",null,1,1900]
[null,null,null,null,null,null,null,null," ",null,1,1900]
[null,null,null,null,null,null,null,null," ",null,1,1900]
[null,null,null,null,null,null,null,null," ",null,1,1900]
[null,null,null,null,null,null,null,null," ",null,1,1900]
[null,null,null,null,null,null,null,null," ",null,1,1900]
[null,null,null,null,null,null,null,null," ",null,1,1900]
[null,null,null,null,null,null,null,null," ",null,1,1900]
[null,null,null,null,null,null,null,null," ",null,1,1900]
[null,null,null,null,null,null,null,null," ",null,1,1900]
[null,null,null,null,null,null,null,null," ",null,1,1900]
[null,null,null,null,null,null,null,null," ",null,1,1900]
[null,null,null,null,null,null,null,null," ",null,1,1900]
[null,null,null,null,null,null,null,null," ",null,1,1900]
[null,null,null,null,null,null,null,null," ",null,1,1900]
[null,null,null,null,null,null,null,null," ",null,1,1900]
[null,null,null,null,null,null,null,null," ",null,1,1900]
[null,null,null,null,null,null,null,null," ",null,1,1900]
[null,null,null,null,null,null,null,null," ",null,1,1900]
[null,null,null,null,null,null,null,null," ",null,1,1900]
[null,null,null,null,null,null,null,null," ",null,1,1900]
[null,null,null,null,null,null,null,null," ",null,1,1900]
[null,null,null,null,null,null,null,null," ",null,1,1900]
[null,null,null,null,null,null,null,null," ",null,1,1900]
[null,null,null,null,null,null,null,null," ",null,1,1900]
[null,null,null,null,null,null,null,null," ",null,1,1900]
[null,null,null,null,null,null,null,null," ",null,1,1900]
[null,null,null,null,null,null,null,null," ",null,1,1900]
[null,null,null,null,null,null,null,null," ",null,1,1900]
[null,null,null,null,null,null,null,null," ",null,1,1900]
[null,null,null,null,null,null,null,null," ",null,1,1900]
[null,null,null,null,null,null,null,null," ",null,1,1900]
[null,null,null,null,null,null,null,null," ",null,1,1900]
[null,null,null,null,null,null,null,null," ",null,1,1900]
[null,null,null,null,null,null,null,null," ",null,1,1900]
[null,null,null,null,null,null,null,null," ",null,1,1900]
[null,null,null,null,null,null,null,null," ",null,1,1900]
[null,null,null,null,null,null,null,null," ",null,1,1900]
[null,null,null,null,null,null,null,null," ",null,1,1900]
[null,null,null,null,null,null,null,null," ",null,1,1900]
[null,null,null,null,null,null,null,null," ",null,1,1900]
[null,null,null,null,null,null,null,null," ",null,1,1900]
[null,null,null,null,null,null,null,null," ",null,1,1900]
[null,null,null,null,null,null,null,null," ",null,1,1900]
[null,null,null,null,null,null,null,null," ",null,1,1900]
[null,null,null,null,null,null,null,null," ",null,1,1900]
[null,null,null,null,null,null,null,null," ",null,1,1900]
[null,null,null,null,null,null,null,null," ",null,1,1900]
[null,null,null,null,null,null,null,null," ",null,1,1900]
[null,null,null,null,null,null,null,null,{"$f":"+IF(H15160=H15159,\" \",H15160)","v":" "},null,{"$f":"+MONTH(A15160)","v":1},{"$f":"+YEAR(A15160)","v":1900}]
[null,null,null,null,null,null,null,null," ",null,1,1900]
[null,null,null,null,null,null,null,null," ",null,1,1900]
[null,null,null,null,null,null,null,null," ",null,1,1900]
[null,null,null,null,null,null,null,null," ",null,1,1900]
[null,null,null,null,null,null,null,null," ",null,1,1900]
[null,null,null,null,null,null,null,null," ",null,1,1900]
[null,null,null,null,null,null,null,null," ",null,1,1900]
[null,null,null,null,null,null,null,null," ",null,1,1900]
[null,null,null,null,null,null,null,null," ",null,1,1900]
[null,null,null,null,null,null,null,null," ",null,1,1900]
[null,null,null,null,null,null,null,null," ",null,1,1900]
[null,null,null,null,null,null,null,null," ",null,1,1900]
[null,null,null,null,null,null,null,null," ",null,1,1900]
[null,null,null,null,null,null,null,null," ",null,1,1900]
[null,null,null,null,null,null,null,null," ",null,1,1900]
[null,null,null,null,null,null,null,null," ",null,1,1900]
[null,null,null,null,null,null,null,null," ",null,1,1900]
[null,null,null,null,null,null,null,null," ",null,1,1900]
[null,null,null,null,null,null,null,null," ",null,1,1900]
[null,null,null,null,null,null,null,null," ",null,1,1900]
[null,null,null,null,null,null,null,null," ",null,1,1900]
[null,null,null,null,null,null,null,null," ",null,1,1900]
[null,null,null,null,null,null,null,null," ",null,1,1900]
[null,null,null,null,null,null,null,null," ",null,1,1900]
[null,null,null,null,null,null,null,null," ",null,1,1900]
[null,null,null,null,null,null,null,null," ",null,1,1900]
[null,null,null,null,null,null,null,null," ",null,1,1900]
[null,null,null,null,null,null,null,null," ",null,1,1900]
[null,null,null,null,null,null,null,null," ",null,1,1900]
[null,null,null,null,null,null,null,null," ",null,1,1900]
[null,null,null,null,null,null,null,null," ",null,1,1900]
[null,null,null,null,null,null,null,null," ",null,1,1900]
[null,null,null,null,null,null,null,null," ",null,1,1900]
[null,null,null,null,null,null,null,null," ",null,1,1900]
[null,null,null,null,null,null,null,null," ",null,1,1900]
[null,null,null,null,null,null,null,null," ",null,1,1900]
[null,null,null,null,null,null,null,null," ",null,1,1900]
[null,null,null,null,null,null,null,null," ",null,1,1900]
[null,null,null,null,null,null,null,null," ",null,1,1900]
[null,null,null,null,null,null,null,null," ",null,1,1900]
[null,null,null,null,null,null,null,null," ",null,1,1900]
[null,null,null,null,null,null,null,null," ",null,1,1900]
[null,null,null,null,null,null,null,null," ",null,1,1900]
[null,null,null,null,null,null,null,null," ",null,1,1900]
[null,null,null,null,null,null,null,null," ",null,1,1900]
[null,null,null,null,null,null,null,null," ",null,1,1900]
[null,null,null,null,null,null,null,null," ",null,1,1900]
[null,null,null,null,null,null,null,null," ",null,1,1900]
[null,null,null,null,null,null,null,null," ",null,1,1900]
[null,null,null,null,null,null,null,null," ",null,1,1900]
[null,null,null,null,null,null,null,null," ",null,1,1900]
[null,null,null,null,null,null,null,null," ",null,1,1900]
[null,null,null,null,null,null,null,null," ",null,1,1900]
[null,null,null,null,null,null,null,null," ",null,1,1900]
[null,null,null,null,null,null,null,null," ",null,1,1900]
[null,null,null,null,null,null,null,null," ",null,1,1900]
[null,null,null,null,null,null,null,null," ",null,1,1900]
[null,null,null,null,null,null,null,null," ",null,1,1900]
[null,null,null,null,null,null,null,null," ",null,1,1900]
[null,null,null,null,null,null,null,null," ",null,1,1900]
[null,null,null,null,null,null,null,null," ",null,1,1900]
[null,null,null,null,null,null,null,null," ",null,1,1900]
[null,null,null,null,null,null,null,null," ",null,1,1900]
[null,null,null,null,null,null,null,null," ",null,1,1900]
[null,null,null,null,null,null,null,null," ",null,1,1900]
[null,null,null,null,null,null,null,null," ",null,1,1900]
[null,null,null,null,null,null,null,null," ",null,1,1900]
[null,null,null,null,null,null,null,null," ",null,1,1900]
[null,null,null,null,null,null,null,null," ",null,1,1900]
[null,null,null,null,null,null,null,null," ",null,1,1900]
[null,null,null,null,null,null,null,null," ",null,1,1900]
[null,null,null,null,null,null,null,null," ",null,1,1900]
[null,null,null,null,null,null,null,null," ",null,1,1900]
[null,null,null,null,null,null,null,null," ",null,1,1900]
[null,null,null,null,null,null,null,null," ",null,1,1900]
[null,null,null,null,null,null,null,null," ",null,1,1900]
[null,null,null,null,null,null,null,null," ",null,1,1900]
[null,null,null,null,null,null,null,null," ",null,1,1900]
[null,null,null,null,null,null,null,null," ",null,1,1900]
[null,null,null,null,null,null,null,null," ",null,1,1900]
[null,null,null,null,null,null,null,null," ",null,1,1900]
[null,null,null,null,null,null,null,null," ",null,1,1900]
[null,null,null,null,null,null,null,null," ",null,1,1900]
[null,null,null,null,null,null,null,null," ",null,1,1900]
[null,null,null,null,null,null,null,null," ",null,1,1900]
[null,null,null,null,null,null,null,null," ",null,1,1900]
[null,null,null,null,null,null,null,null," ",null,1,1900]
[null,null,null,null,null,null,null,null," ",null,1,1900]
[null,null,null,null,null,null,null,null," ",null,1,1900]
[null,null,null,null,null,null,null,null," ",null,1,1900]
[null,null,null,null,null,null,null,null," ",null,1,1900]
[null,null,null,null,null,null,null,null," ",null,1,1900]
[null,null,null,null,null,null,null,null," ",null,1,1900]
[null,null,null,null,null,null,null,null," ",null,1,1900]
[null,null,null,null,null,null,null,null,{"$f":"+IF(H18168=H18167,\" \",H18168)","v":" "},null,{"$f":"+MONTH(A18168)","v":1},{"$f":"+YEAR(A18168)","v":1900}]
[null,null,null,null,null,null,null,null," ",null,1,1900]
[null,null,null,null,null,null,null,null," ",null,1,1900]
[null,null,null,null,null,null,null,null," ",null,1,1900]
[null,null,null,null,null,null,null,null," ",null,1,1900]
[null,null,null,null,null,null,null,null," ",null,1,1900]
[null,null,null,null,null,null,null,null," ",null,1,1900]
[null,null,null,null,null,null,null,null," ",null,1,1900]
[null,null,null,null,null,null,null,null," ",null,1,1900]
[null,null,null,null,null,null,null,null," ",null,1,1900]
[null,null,null,null,null,null,null,null," ",null,1,1900]
[null,null,null,null,null,null,null,null," ",null,1,1900]
[null,null,null,null,null,null,null,null," ",null,1,1900]
[null,null,null,null,null,null,null,null," ",null,1,1900]
[null,null,null,null,null,null,null,null," ",null,1,1900]
[null,null,null,null,null,null,null,null," ",null,1,1900]
[null,null,null,null,null,null,null,null," ",null,1,1900]
[null,null,null,null,null,null,null,null," ",null,1,1900]
[null,null,null,null,null,null,null,null," ",null,1,1900]
[null,null,null,null,null,null,null,null," ",null,1,1900]
[null,null,null,null,null,null,null,null," ",null,1,1900]
[null,null,null,null,null,null,null,null," ",null,1,1900]
[null,null,null,null,null,null,null,null," ",null,1,1900]
[null,null,null,null,null,null,null,null," ",null,1,1900]
[null,null,null,null,null,null,null,null," ",null,1,1900]
[null,null,null,null,null,null,null,null," ",null,1,1900]
[null,null,null,null,null,null,null,null," ",null,1,1900]
[null,null,null,null,null,null,null,null," ",null,1,1900]
[null,null,null,null,null,null,null,null," ",null,1,1900]
[null,null,null,null,null,null,null,null," ",null,1,1900]
[null,null,null,null,null,null,null,null," ",null,1,1900]
[null,null,null,null,null,null,null,null," ",null,1,1900]
[null,null,null,null,null,null,null,null," ",null,1,1900]
[null,null,null,null,null,null,null,null,{"$f":"+IF(H19192=H19191,\" \",H19192)","v":" "},null,{"$f":"+MONTH(A19192)","v":1},{"$f":"+YEAR(A19192)","v":1900}]
[null,null,null,null,null,null,null,null," ",null,1,1900]
[null,null,null,null,null,null,null,null," ",null,1,1900]
[null,null,null,null,null,null,null,null," ",null,1,1900]
[null,null,null,null,null,null,null,null," ",null,1,1900]
[null,null,null,null,null,null,null,null," ",null,1,1900]
[null,null,null,null,null,null,null,null," ",null,1,1900]
[null,null,null,null,null,null,null,null," ",null,1,1900]
[null,null,null,null,null,null,null,null," ",null,1,1900]
[null,null,null,null,null,null,null,null," ",null,1,1900]
[null,null,null,null,null,null,null,null," ",null,1,1900]
[null,null,null,null,null,null,null,null," ",null,1,1900]
[null,null,null,null,null,null,null,null," ",null,1,1900]
[null,null,null,null,null,null,null,null," ",null,1,1900]
[null,null,null,null,null,null,null,null," ",null,1,1900]
[null,null,null,null,null,null,null,null," ",null,1,1900]
[null,null,null,null,null,null,null,null," ",null,1,1900]
[null,null,null,null,null,null,null,null," ",null,1,1900]
[null,null,null,null,null,null,null,null," ",null,1,1900]
[null,null,null,null,null,null,null,null," ",null,1,1900]
[null,null,null,null,null,null,null,null," ",null,1,1900]
[null,null,null,null,null,null,null,null," ",null,1,1900]
[null,null,null,null,null,null,null,null," ",null,1,1900]
[null,null,null,null,null,null,null,null," ",null,1,1900]
[null,null,null,null,null,null,null,null," ",null,1,1900]
[null,null,null,null,null,null,null,null," ",null,1,1900]
[null,null,null,null,null,null,null,null," ",null,1,1900]
[null,null,null,null,null,null,null,null," ",null,1,1900]
[null,null,null,null,null,null,null,null," ",null,1,1900]
[null,null,null,null,null,null,null,null," ",null,1,1900]
[null,null,null,null,null,null,null,null," ",null,1,1900]
[null,null,null,null,null,null,null,null," ",null,1,1900]
[null,null,null,null,null,null,null,null," ",null,1,1900]
[null,null,null,null,null,null,null,null," ",null,1,1900]
[null,null,null,null,null,null,null,null," ",null,1,1900]
[null,null,null,null,null,null,null,null," ",null,1,1900]
[null,null,null,null,null,null,null,null," ",null,1,1900]
[null,null,null,null,null,null,null,null," ",null,1,1900]
[null,null,null,null,null,null,null,null," ",null,1,1900]
[null,null,null,null,null,null,null,null,{"$f":"+IF(H20408=H20407,\" \",H20408)","v":" "},null,{"$f":"+MONTH(A20408)","v":1},{"$f":"+YEAR(A20408)","v":1900}]
[null,null,null,null,null,null,null,null," ",null,1,1900]
[null,null,null,null,null,null,null,null," ",null,1,1900]
[null,null,null,null,null,null,null,null," ",null,1,1900]
[null,null,null,null,null,null,null,null," ",null,1,1900]
[null,null,null,null,null,null,null,null," ",null,1,1900]
[null,null,null,null,null,null,null,null," ",null,1,1900]
[null,null,null,null,null,null,null,null," ",null,1,1900]
[null,null,null,null,null,null,null,null," ",null,1,1900]
[null,null,null,null,null,null,null,null," ",null,1,1900]
[null,null,null,null,null,null,null,null," ",null,1,1900]
[null,null,null,null,null,null,null,null," ",null,1,1900]
[null,null,null,null,null,null,null,null," ",null,1,1900]
[null,null,null,null,null,null,null,null," ",null,1,1900]
[null,null,null,null,null,null,null,null," ",null,1,1900]
[null,null,null,null,null,null,null,null," ",null,1,1900]
[null,null,null,null,null,null,null,null," ",null,1,1900]
[null,null,null,null,null,null,null,null," ",null,1,1900]
[null,null,null,null,null,null,null,null," ",null,1,1900]
[null,null,null,null,null,null,null,null," ",null,1,1900]
[null,null,null,null,null,null,null,null," ",null,1,1900]
[null,null,null,null,null,null,null,null," ",null,1,1900]
[null,null,null,null,null,null,null,null," ",null,1,1900]
[null,null,null,null,null,null,null,null," ",null,1,1900]
[null,null,null,null,null,null,null,null," ",null,1,1900]
[null,null,null,null,null,null,null,null," ",null,1,1900]
[null,null,null,null,null,null,null,null," ",null,1,1900]
[null,null,null,null,null,null,null,null," ",null,1,1900]
[null,null,null,null,null,null,null,null," ",null,1,1900]
[null,null,null,null,null,null,null,null," ",null,1,1900]
[null,null,null,null,null,null,null,null," ",null,1,1900]
[null,null,null,null,null,null,null,null," ",null,1,1900]
[null,null,null,null,null,null,null,null," ",null,1,1900]
[null,null,null,null,null,null,null,null," ",null,1,1900]
[null,null,null,null,null,null,null,null," ",null,1,1900]
[null,null,null,null,null,null,null,null," ",null,1,1900]
[null,null,null,null,null,null,null,null," ",null,1,1900]
[null,null,null,null,null,null,null,null," ",null,1,1900]
[null,null,null,null,null,null,null,null," ",null,1,1900]
[null,null,null,null,null,null,null,null," ",null,1,1900]
[null,null,null,null,null,null,null,null," ",null,1,1900]
[null,null,null,null,null,null,null,null," ",null,1,1900]
[null,null,null,null,null,null,null,null," ",null,1,1900]
[null,null,null,null,null,null,null,null," ",null,1,1900]
[null,null,null,null,null,null,null,null," ",null,1,1900]
[null,null,null,null,null,null,null,null," ",null,1,1900]
[null,null,null,null,null,null,null,null," ",null,1,1900]
[null,null,null,null,null,null,null,null," ",null,1,1900]
[null,null,null,null,null,null,null,null," ",null,1,1900]
[null,null,null,null,null,null,null,null," ",null,1,1900]
[null,null,null,null,null,null,null,null," ",null,1,1900]
[null,null,null,null,null,null,null,null," ",null,1,1900]
[null,null,null,null,null,null,null,null," ",null,1,1900]
[null,null,null,null,null,null,null,null," ",null,1,1900]
[null,null,null,null,null,null,null,null," ",null,1,1900]
[null,null,null,null,null,null,null,null," ",null,1,1900]
[null,null,null,null,null,null,null,null," ",null,1,1900]
[null,null,null,null,null,null,null,null," ",null,1,1900]
[null,null,null,null,null,null,null,null," ",null,1,1900]
[null,null,null,null,null,null,null,null," ",null,1,1900]
[null,null,null,null,null,null,null,null," ",null,1,1900]
[null,null,null,null,null,null,null,null," ",null,1,1900]
[null,null,null,null,null,null,null,null,{"$f":"+IF(H22392=H22391,\" \",H22392)","v":" "},null,{"$f":"+MONTH(A22392)","v":1},{"$f":"+YEAR(A22392)","v":1900}]
[null,null,null,null,null,null,null,null," ",null,1,1900]
[null,null,null,null,null,null,null,null," ",null,1,1900]
[null,null,null,null,null,null,null,null," ",null,1,1900]
[null,null,null,null,null,null,null,null," ",null,1,1900]
[null,null,null,null,null,null,null,null," ",null,1,1900]
[null,null,null,null,null,null,null,null," ",null,1,1900]
[null,null,null,null,null,null,null,null," ",null,1,1900]
[null,null,null,null,null,null,null,null," ",null,1,1900]
[null,null,null,null,null,null,null,null," ",null,1,1900]
[null,null,null,null,null,null,null,null," ",null,1,1900]
[null,null,null,null,null,null,null,null," ",null,1,1900]
[null,null,null,null,null,null,null,null," ",null,1,1900]
[null,null,null,null,null,null,null,null," ",null,1,1900]
[null,null,null,null,null,null,null,null," ",null,1,1900]
[null,null,null,null,null,null,null,null," ",null,1,1900]
[null,null,null,null,null,null,null,null," ",null,1,1900]
[null,null,null,null,null,null,null,null," ",null,1,1900]
[null,null,null,null,null,null,null,null," ",null,1,1900]
[null,null,null,null,null,null,null,null," ",null,1,1900]
[null,null,null,null,null,null,null,null," ",null,1,1900]
[null,null,null,null,null,null,null,null," ",null,1,1900]
[null,null,null,null,null,null,null,null," ",null,1,1900]
[null,null,null,null,null,null,null,null," ",null,1,1900]
[null,null,null,null,null,null,null,null," ",null,1,1900]
[null,null,null,null,null,null,null,null," ",null,1,1900]
[null,null,null,null,null,null,null,null," ",null,1,1900]
[null,null,null,null,null,null,null,null," ",null,1,1900]
[null,null,null,null,null,null,null,null," ",null,1,1900]
[null,null,null,null,null,null,null,null," ",null,1,1900]
[null,null,null,null,null,null,null,null," ",null,1,1900]
[null,null,null,null,null,null,null,null,{"$f":"+IF(H23352=H23351,\" \",H23352)","v":" "},null,{"$f":"+MONTH(A23352)","v":1},{"$f":"+YEAR(A23352)","v":1900}]
[null,null,null,null,null,null,null,null," ",null,1,1900]
[null,null,null,null,null,null,null,null," ",null,1,1900]
[null,null,null,null,null,null,null,null," ",null,1,1900]
[null,null,null,null,null,null,null,null," ",null,1,1900]
[null,null,null,null,null,null,null,null," ",null,1,1900]
[null,null,null,null,null,null,null,null," ",null,1,1900]
[null,null,null,null,null,null,null,null," ",null,1,1900]
[null,null,null,null,null,null,null,null," ",null,1,1900]
[null,null,null,null,null,null,null,null," ",null,1,1900]
[null,null,null,null,null,null,null,null," ",null,1,1900]
[null,null,null,null,null,null,null,null," ",null,1,1900]
[null,null,null,null,null,null,null,null," ",null,1,1900]
[null,null,null,null,null,null,null,null," ",null,1,1900]
[null,null,null,null,null,null,null,null," ",null,1,1900]
[null,null,null,null,null,null,null,null," ",null,1,1900]
[null,null,null,null,null,null,null,null," ",null,1,1900]
[null,null,null,null,null,null,null,null," ",null,1,1900]
[null,null,null,null,null,null,null,null," ",null,1,1900]
[null,null,null,null,null,null,null,null," ",null,1,1900]
[null,null,null,null,null,null,null,null," ",null,1,1900]
[null,null,null,null,null,null,null,null," ",null,1,1900]
[null,null,null,null,null,null,null,null," ",null,1,1900]
[null,null,null,null,null,null,null,null," ",null,1,1900]
[null,null,null,null,null,null,null,null," ",null,1,1900]
[null,null,null,null,null,null,null,null," ",null,1,1900]
[null,null,null,null,null,null,null,null," ",null,1,1900]
[null,null,null,null,null,null,null,null," ",null,1,1900]
[null,null,null,null,null,null,null,null," ",null,1,1900]
[null,null,null,null,null,null,null,null," ",null,1,1900]
[null,null,null,null,null,null,null,null," ",null,1,1900]
[null,null,null,null,null,null,null,null," ",null,1,1900]
[null,null,null,null,null,null,null,null," ",null,1,1900]
[null,null,null,null,null,null,null,null," ",null,1,1900]
[null,null,null,null,null,null,null,null," ",null,1,1900]
[null,null,null,null,null,null,null,null," ",null,1,1900]
[null,null,null,null,null,null,null,null," ",null,1,1900]
[null,null,null,null,null,null,null,null," ",null,1,1900]
[null,null,null,null,null,null,null,null," ",null,1,1900]
[null,null,null,null,null,null,null,null," ",null,1,1900]
[null,null,null,null,null,null,null,null," ",null,1,1900]
[null,null,null,null,null,null,null,null," ",null,1,1900]
[null,null,null,null,null,null,null,null," ",null,1,1900]
[null,null,null,null,null,null,null,null," ",null,1,1900]
[null,null,null,null,null,null,null,null," ",null,1,1900]
[null,null,null,null,null,null,null,null," ",null,1,1900]
[null,null,null,null,null,null,null,null," ",null,1,1900]
[null,null,null,null,null,null,null,null," ",null,1,1900]
[null,null,null,null,null,null,null,null," ",null,1,1900]
[null,null,null,null,null,null,null,null," ",null,1,1900]
[null,null,null,null,null,null,null,null," ",null,1,1900]
[null,null,null,null,null,null,null,null," ",null,1,1900]
[null,null,null,null,null,null,null,null," ",null,1,1900]
[null,null,null,null,null,null,null,null," ",null,1,1900]
[null,null,null,null,null,null,null,null," ",null,1,1900]
[null,null,null,null,null,null,null,null," ",null,1,1900]
[null,null,null,null,null,null,null,null," ",null,1,1900]
[null,null,null,null,null,null,null,null," ",null,1,1900]
[null,null,null,null,null,null,null,null," ",null,1,1900]
[null,null,null,null,null,null,null,null," ",null,1,1900]
[null,null,null,null,null,null,null,null," ",null,1,1900]
[null,null,null,null,null,null,null,null," ",null,1,1900]
[null,null,null,null,null,null,null,null," ",null,1,1900]
[null,null,null,null,null,null,null,null," ",null,1,1900]
[null,null,null,null,null,null,null,null," ",null,1,1900]
[null,null,null,null,null,null,null,null," ",null,1,1900]
[null,null,null,null,null,null,null,null," ",null,1,1900]
[null,null,null,null,null,null,null,null," ",null,1,1900]
[null,null,null,null,null,null,null,null," ",null,1,1900]
[null,null,null,null,null,null,null,null," ",null,1,1900]
[null,null,null,null,null,null,null,null," ",null,1,1900]
[null,null,null,null,null,null,null,null," ",null,1,1900]
[null,null,null,null,null,null,null,null," ",null,1,1900]
[null,null,null,null,null,null,null,null," ",null,1,1900]
[null,null,null,null,null,null,null,null," ",null,1,1900]
[null,null,null,null,null,null,null,null," ",null,1,1900]
[null,null,null,null,null,null,null,null," ",null,1,1900]
[null,null,null,null,null,null,null,null," ",null,1,1900]
[null,null,null,null,null,null,null,null," ",null,1,1900]
[null,null,null,null,null,null,null,null," ",null,1,1900]
[null,null,null,null,null,null,null,null," ",null,1,1900]
[null,null,null,null,null,null,null,null," ",null,1,1900]
[null,null,null,null,null,null,null,null," ",null,1,1900]
[null,null,null,null,null,null,null,null," ",null,1,1900]
[null,null,null,null,null,null,null,null," ",null,1,1900]
[null,null,null,null,null,null,null,null," ",null,1,1900]
[null,null,null,null,null,null,null,null," ",null,1,1900]
[null,null,null,null,null,null,null,null," ",null,1,1900]
[null,null,null,null,null,null,null,null," ",null,1,1900]
[null,null,null,null,null,null,null,null," ",null,1,1900]
[null,null,null,null,null,null,null,null," ",null,1,1900]
[null,null,null,null,null,null,null,null," ",null,1,1900]
[null,null,null,null,null,null,null,null," ",null,1,1900]
[null,null,null,null,null,null,null,null,{"$f":"+IF(H26296=H26295,\" \",H26296)","v":" "},null,{"$f":"+MONTH(A26296)","v":1},{"$f":"+YEAR(A26296)","v":1900}]
[null,null,null,null,null,null,null,null," ",null,1,1900]
[null,null,null,null,null,null,null,null," ",null,1,1900]
[null,null,null,null,null,null,null,null," ",null,1,1900]
[null,null,null,null,null,null,null,null," ",null,1,1900]
[null,null,null,null,null,null,null,null," ",null,1,1900]
[null,null,null,null,null,null,null,null," ",null,1,1900]
[null,null,null,null,null,null,null,null," ",null,1,1900]
[null,null,null,null,null,null,null,null," ",null,1,1900]
[null,null,null,null,null,null,null,null," ",null,1,1900]
[null,null,null,null,null,null,null,null," ",null,1,1900]
[null,null,null,null,null,null,null,null," ",null,1,1900]
[null,null,null,null,null,null,null,null," ",null,1,1900]
[null,null,null,null,null,null,null,null," ",null,1,1900]
[null,null,null,null,null,null,null,null," ",null,1,1900]
[null,null,null,null,null,null,null,null," ",null,1,1900]
[null,null,null,null,null,null,null,null," ",null,1,1900]
[null,null,null,null,null,null,null,null," ",null,1,1900]
[null,null,null,null,null,null,null,null," ",null,1,1900]
[null,null,null,null,null,null,null,null," ",null,1,1900]
[null,null,null,null,null,null,null,null," ",null,1,1900]
[null,null,null,null,null,null,null,null," ",null,1,1900]
[null,null,null,null,null,null,null,null," ",null,1,1900]
[null,null,null,null,null,null,null,null," ",null,1,1900]
[null,null,null,null,null,null,null,null," ",null,1,1900]
[null,null,null,null,null,null,null,null," ",null,1,1900]
[null,null,null,null,null,null,null,null," ",null,1,1900]
[null,null,null,null,null,null,null,null," ",null,1,1900]
[null,null,null,null,null,null,null,null," ",null,1,1900]
[null,null,null,null,null,null,null,null," ",null,1,1900]
[null,null,null,null,null,null,null,null," ",null,1,1900]
[null,null,null,null,null,null,null,null,{"$f":"+IF(H27256=H27255,\" \",H27256)","v":" "},null,{"$f":"+MONTH(A27256)","v":1},{"$f":"+YEAR(A27256)","v":1900}]
[null,null,null,null,null,null,null,null," ",null,1,1900]
[null,null,null,null,null,null,null,null," ",null,1,1900]
[null,null,null,null,null,null,null,null," ",null,1,1900]
[null,null,null,null,null,null,null,null," ",null,1,1900]
[null,null,null,null,null,null,null,null," ",null,1,1900]
[null,null,null,null,null,null,null,null," ",null,1,1900]
[null,null,null,null,null,null,null,null," ",null,1,1900]
[null,null,null,null,null,null,null,null," ",null,1,1900]
[null,null,null,null,null,null,null,null," ",null,1,1900]
[null,null,null,null,null,null,null,null," ",null,1,1900]
[null,null,null,null,null,null,null,null," ",null,1,1900]
[null,null,null,null,null,null,null,null," ",null,1,1900]
[null,null,null,null,null,null,null,null," ",null,1,1900]
[null,null,null,null,null,null,null,null," ",null,1,1900]
[null,null,null,null,null,null,null,null," ",null,1,1900]
[null,null,null,null,null,null,null,null,{"$f":"+IF(H27768=H27767,\" \",H27768)","v":" "},null,{"$f":"+MONTH(A27768)","v":1},{"$f":"+YEAR(A27768)","v":1900}]
[null,null,null,null,null,null,null,null," ",null,1,1900]
[null,null,null,null,null,null,null,null," ",null,1,1900]
[null,null,null,null,null,null,null,null," ",null,1,1900]
[null,null,null,null,null,null,null,null," ",null,1,1900]
[null,null,null,null,null,null,null,null," ",null,1,1900]
[null,null,null,null,null,null,null,null," ",null,1,1900]
[null,null,null,null,null,null,null,null," ",null,1,1900]
[null,null,null,null,null,null,null,null," ",null,1,1900]
[null,null,null,null,null,null,null,null," ",null,1,1900]
[null,null,null,null,null,null,null,null," ",null,1,1900]
[null,null,null,null,null,null,null,null," ",null,1,1900]
[null,null,null,null,null,null,null,null," ",null,1,1900]
[null,null,null,null,null,null,null,null," ",null,1,1900]
[null,null,null,null,null,null,null,null," ",null,1,1900]
[null,null,null,null,null,null,null,null," ",null,1,1900]
[null,null,null,null,null,null,null,null," ",null,1,1900]
[null,null,null,null,null,null,null,null," ",null,1,1900]
[null,null,null,null,null,null,null,null," ",null,1,1900]
[null,null,null,null,null,null,null,null," ",null,1,1900]
[null,null,null,null,null,null,null,null," ",null,1,1900]
[null,null,null,null,null,null,null,null," ",null,1,1900]
[null,null,null,null,null,null,null,null," ",null,1,1900]
[null,null,null,null,null,null,null,null," ",null,1,1900]
[null,null,null,null,null,null,null,null," ",null,1,1900]
[null,null,null,null,null,null,null,null," ",null,1,1900]
[null,null,null,null,null,null,null,null," ",null,1,1900]
[null,null,null,null,null,null,null,null," ",null,1,1900]
[null,null,null,null,null,null,null,null," ",null,1,1900]
[null,null,null,null,null,null,null,null," ",null,1,1900]
[null,null,null,null,null,null,null,null," ",null,1,1900]
[null,null,null,null,null,null,null,null," ",null,1,1900]
[null,null,null,null,null,null,null,null," ",null,1,1900]
[null,null,null,null,null,null,null,null," ",null,1,1900]
[null,null,null,null,null,null,null,null," ",null,1,1900]
[null,null,null,null,null,null,null,null," ",null,1,1900]
[null,null,null,null,null,null,null,null," ",null,1,1900]
[null,null,null,null,null,null,null,null," ",null,1,1900]
[null,null,null,null,null,null,null,null," ",null,1,1900]
[null,null,null,null,null,null,null,null," ",null,1,1900]
[null,null,null,null,null,null,null,null," ",null,1,1900]
[null,null,null,null,null,null,null,null," ",null,1,1900]
[null,null,null,null,null,null,null,null," ",null,1,1900]
[null,null,null,null,null,null,null,null," ",null,1,1900]
[null,null,null,null,null,null,null,null," ",null,1,1900]
[null,null,null,null,null,null,null,null," ",null,1,1900]
[null,null,null,null,null,null,null,null," ",null,1,1900]
[null,null,null,null,null,null,null,null," ",null,1,1900]
[null,null,null,null,null,null,null,null," ",null,1,1900]
[null,null,null,null,null,null,null,null," ",null,1,1900]
[null,null,null,null,null,null,null,null," ",null,1,1900]
[null,null,null,null,null,null,null,null," ",null,1,1900]
[null,null,null,null,null,null,null,null," ",null,1,1900]
[null,null,null,null,null,null,null,null," ",null,1,1900]
[null,null,null,null,null,null,null,null," ",null,1,1900]
[null,null,null,null,null,null,null,null," ",null,1,1900]
[null,null,null,null,null,null,null,null," ",null,1,1900]
[null,null,null,null,null,null,null,null," ",null,1,1900]
[null,null,null,null,null,null,null,null," ",null,1,1900]
[null,null,null,null,null,null,null,null," ",null,1,1900]
[null,null,null,null,null,null,null,null," ",null,1,1900]
[null,null,null,null,null,null,null,null," ",null,1,1900]
[null,null,null,null,null,null,null,null," ",null,1,1900]
[null,null,null,null,null,null,null,null," ",null,1,1900]
[null,null,null,null,null,null,null,null," ",null,1,1900]
[null,null,null,null,null,null,null,null," ",null,1,1900]
[null,null,null,null,null,null,null,null," ",null,1,1900]
[null,null,null,null,null,null,null,null," ",null,1,1900]
[null,null,null,null,null,null,null,null," ",null,1,1900]
[null,null,null,null,null,null,null,null," ",null,1,1900]
[null,null,null,null,null,null,null,null," ",null,1,1900]
[null,null,null,null,null,null,null,null," ",null,1,1900]
[null,null,null,null,null,null,null,null," ",null,1,1900]
[null,null,null,null,null,null,null,null," ",null,1,1900]
[null,null,null,null,null,null,null,null," ",null,1,1900]
[null,null,null,null,null,null,null,null," ",null,1,1900]
[null,null,null,null,null,null,null,null," ",null,1,1900]
[null,null,null,null,null,null,null,null," ",null,1,1900]
[null,null,null,null,null,null,null,null," ",null,1,1900]
[null,null,null,null,null,null,null,null," ",null,1,1900]
[null,null,null,null,null,null,null,null," ",null,1,1900]
[null,null,null,null,null,null,null,null," ",null,1,1900]
[null,null,null,null,null,null,null,null," ",null,1,1900]
[null,null,null,null,null,null,null,null," ",null,1,1900]
[null,null,null,null,null,null,null,null," ",null,1,1900]
[null,null,null,null,null,null,null,null," ",null,1,1900]
[null,null,null,null,null,null,null,null," ",null,1,1900]
[null,null,null,null,null,null,null,null," ",null,1,1900]
[null,null,null,null,null,null,null,null," ",null,1,1900]
[null,null,null,null,null,null,null,null," ",null,1,1900]
[null,null,null,null,null,null,null,null," ",null,1,1900]
[null,null,null,null,null,null,null,null," ",null,1,1900]
[null,null,null,null,null,null,null,null," ",null,1,1900]
[null,null,null,null,null,null,null,null," ",null,1,1900]
[null,null,null,null,null,null,null,null," ",null,1,1900]
[null,null,null,null,null,null,null,null," ",null,1,1900]
[null,null,null,null,null,null,null,null," ",null,1,1900]
[null,null,null,null,null,null,null,null," ",null,1,1900]
[null,null,null,null,null,null,null,null," ",null,1,1900]
[null,null,null,null,null,null,null,null," ",null,1,1900]
[null,null,null,null,null,null,null,null," ",null,1,1900]
[null,null,null,null,null,null,null,null," ",null,1,1900]
[null,null,null,null,null,null,null,null," ",null,1,1900]
[null,null,null,null,null,null,null,null," ",null,1,1900]
[null,null,null,null,null,null,null,null," ",null,1,1900]
[null,null,null,null,null,null,null,null," ",null,1,1900]
[null,null,null,null,null,null,null,null," ",null,1,1900]
[null,null,null,null,null,null,null,null," ",null,1,1900]
[null,null,null,null,null,null,null,null," ",null,1,1900]
[null,null,null,null,null,null,null,null," ",null,1,1900]
[null,null,null,null,null,null,null,null," ",null,1,1900]
[null,null,null,null,null,null,null,null," ",null,1,1900]
[null,null,null,null,null,null,null,null," ",null,1,1900]
[null,null,null,null,null,null,null,null," ",null,1,1900]
[null,null,null,null,null,null,null,null," ",null,1,1900]
[null,null,null,null,null,null,null,null," ",null,1,1900]
[null,null,null,null,null,null,null,null," ",null,1,1900]
[null,null,null,null,null,null,null,null," ",null,1,1900]
[null,null,null,null,null,null,null,null," ",null,1,1900]
[null,null,null,null,null,null,null,null," ",null,1,1900]
[null,null,null,null,null,null,null,null," ",null,1,1900]
[null,null,null,null,null,null,null,null," ",null,1,1900]
[null,null,null,null,null,null,null,null," ",null,1,1900]
[null,null,null,null,null,null,null,null," ",null,1,1900]
[null,null,null,null,null,null,null,null," ",null,1,1900]
[null,null,null,null,null,null,null,null," ",null,1,1900]
[null,null,null,null,null,null,null,null," ",null,1,1900]
[null,null,null,null,null,null,null,null," ",null,1,1900]
[null,null,null,null,null,null,null,null," ",null,1,1900]
[null,null,null,null,null,null,null,null," ",null,1,1900]
[null,null,null,null,null,null,null,null," ",null,1,1900]
[null,null,null,null,null,null,null,null," ",null,1,1900]
[null,null,null,null,null,null,null,null," ",null,1,1900]
[null,null,null,null,null,null,null,null," ",null,1,1900]
[null,null,null,null,null,null,null,null," ",null,1,1900]
[null,null,null,null,null,null,null,null," ",null,1,1900]
[null,null,null,null,null,null,null,null," ",null,1,1900]
[null,null,null,null,null,null,null,null," ",null,1,1900]
[null,null,null,null,null,null,null,null," ",null,1,1900]
[null,null,null,null,null,null,null,null," ",null,1,1900]
[null,null,null,null,null,null,null,null," ",null,1,1900]
[null,null,null,null,null,null,null,null," ",null,1,1900]
[null,null,null,null,null,null,null,null," ",null,1,1900]
[null,null,null,null,null,null,null,null," ",null,1,1900]
[null,null,null,null,null,null,null,null," ",null,1,1900]
[null,null,null,null,null,null,null,null," ",null,1,1900]
[null,null,null,null,null,null,null,null," ",null,1,1900]
[null,null,null,null,null,null,null,null," ",null,1,1900]
[null,null,null,null,null,null,null,null," ",null,1,1900]
[null,null,null,null,null,null,null,null," ",null,1,1900]
[null,null,null,null,null,null,null,null," ",null,1,1900]
[null,null,null,null,null,null,null,null," ",null,1,1900]
[null,null,null,null,null,null,null,null," ",null,1,1900]
[null,null,null,null,null,null,null,null," ",null,1,1900]
[null,null,null,null,null,null,null,null," ",null,1,1900]
[null,null,null,null,null,null,null,null," ",null,1,1900]
[null,null,null,null,null,null,null,null," ",null,1,1900]
[null,null,null,null,null,null,null,null," ",null,1,1900]
[null,null,null,null,null,null,null,null," ",null,1,1900]
[null,null,null,null,null,null,null,null," ",null,1,1900]
[null,null,null,null,null,null,null,null," ",null,1,1900]
[null,null,null,null,null,null,null,null," ",null,1,1900]
[null,null,null,null,null,null,null,null," ",null,1,1900]
[null,null,null,null,null,null,null,null," ",null,1,1900]
[null,null,null,null,null,null,null,null," ",null,1,1900]
[null,null,null,null,null,null,null,null," ",null,1,1900]
[null,null,null,null,null,null,null,null," ",null,1,1900]
[null,null,null,null,null,null,null,null," ",null,1,1900]
[null,null,null,null,null,null,null,null," ",null,1,1900]
[null,null,null,null,null,null,null,null," ",null,1,1900]
[null,null,null,null,null,null,null,null," ",null,1,1900]
[null,null,null,null,null,null,null,null," ",null,1,1900]
[null,null,null,null,null,null,null,null," ",null,1,1900]
[null,null,null,null,null,null,null,null," ",null,1,1900]
[null,null,null,null,null,null,null,null," ",null,1,1900]
[null,null,null,null,null,null,null,null," ",null,1,1900]
[null,null,null,null,null,null,null,null," ",null,1,1900]
[null,null,null,null,null,null,null,null," ",null,1,1900]
[null,null,null,null,null,null,null,null," ",null,1,1900]
[null,null,null,null,null,null,null,null," ",null,1,1900]
[null,null,null,null,null,null,null,null," ",null,1,1900]
[null,null,null,null,null,null,null,null," ",null,1,1900]
[null,null,null,null,null,null,null,null," ",null,1,1900]
[null,null,null,null,null,null,null,null," ",null,1,1900]
[null,null,null,null,null,null,null,null," ",null,1,1900]
[null,null,null,null,null,null,null,null," ",null,1,1900]
[null,null,null,null,null,null,null,null," ",null,1,1900]
[null,null,null,null,null,null,null,null," ",null,1,1900]
[null,null,null,null,null,null,null,null," ",null,1,1900]
[null,null,null,null,null,null,null,null," ",null,1,1900]
[null,null,null,null,null,null,null,null," ",null,1,1900]
[null,null,null,null,null,null,null,null," ",null,1,1900]
[null,null,null,null,null,null,null,null," ",null,1,1900]
[null,null,null,null,null,null,null,null," ",null,1,1900]
[null,null,null,null,null,null,null,null," ",null,1,1900]
[null,null,null,null,null,null,null,null," ",null,1,1900]
[null,null,null,null,null,null,null,null," ",null,1,1900]
[null,null,null,null,null,null,null,null," ",null,1,1900]
[null,null,null,null,null,null,null,null," ",null,1,1900]
[null,null,null,null,null,null,null,null," ",null,1,1900]
[null,null,null,null,null,null,null,null," ",null,1,1900]
[null,null,null,null,null,null,null,null," ",null,1,1900]
[null,null,null,null,null,null,null,null," ",null,1,1900]
[null,null,null,null,null,null,null,null," ",null,1,1900]
[null,null,null,null,null,null,null,null," ",null,1,1900]
[null,null,null,null,null,null,null,null," ",null,1,1900]
[null,null,null,null,null,null,null,null," ",null,1,1900]
[null,null,null,null,null,null,null,null," ",null,1,1900]
[null,null,null,null,null,null,null,null," ",null,1,1900]
[null,null,null,null,null,null,null,null," ",null,1,1900]
[null,null,null,null,null,null,null,null," ",null,1,1900]
[null,null,null,null,null,null,null,null," ",null,1,1900]
[null,null,null,null,null,null,null,null," ",null,1,1900]
[null,null,null,null,null,null,null,null," ",null,1,1900]
[null,null,null,null,null,null,null,null," ",null,1,1900]
[null,null,null,null,null,null,null,null," ",null,1,1900]
[null,null,null,null,null,null,null,null," ",null,1,1900]
[null,null,null,null,null,null,null,null," ",null,1,1900]
[null,null,null,null,null,null,null,null," ",null,1,1900]
[null,null,null,null,null,null,null,null," ",null,1,1900]
[null,null,null,null,null,null,null,null," ",null,1,1900]
[null,null,null,null,null,null,null,null," ",null,1,1900]
[null,null,null,null,null,null,null,null," ",null,1,1900]
[null,null,null,null,null,null,null,null," ",null,1,1900]
[null,null,null,null,null,null,null,null," ",null,1,1900]
[null,null,null,null,null,null,null,null," ",null,1,1900]
[null,null,null,null,null,null,null,null," ",null,1,1900]
[null,null,null,null,null,null,null,null," ",null,1,1900]
[null,null,null,null,null,null,null,null," ",null,1,1900]
[null,null,null,null,null,null,null,null," ",null,1,1900]
[null,null,null,null,null,null,null,null," ",null,1,1900]
[null,null,null,null,null,null,null,null," ",null,1,1900]
[null,null,null,null,null,null,null,null," ",null,1,1900]
[null,null,null,null,null,null,null,null," ",null,1,1900]
[null,null,null,null,null,null,null,null," ",null,1,1900]
[null,null,null,null,null,null,null,null," ",null,1,1900]
[null,null,null,null,null,null,null,null," ",null,1,1900]
[null,null,null,null,null,null,null,null," ",null,1,1900]
[null,null,null,null,null,null,null,null," ",null,1,1900]
[null,null,null,null,null,null,null,null," ",null,1,1900]
[null,null,null,null,null,null,null,null," ",null,1,1900]
[null,null,null,null,null,null,null,null," ",null,1,1900]
[null,null,null,null,null,null,null,null," ",null,1,1900]
[null,null,null,null,null,null,null,null," ",null,1,1900]
[null,null,null,null,null,null,null,null," ",null,1,1900]
[null,null,null,null,null,null,null,null," ",null,1,1900]
[null,null,null,null,null,null,null,null," ",null,1,1900]
[null,null,null,null,null,null,null,null," ",null,1,1900]
[null,null,null,null,null,null,null,null," ",null,1,1900]
[null,null,null,null,null,null,null,null," ",null,1,1900]
[null,null,null,null,null,null,null,null," ",null,1,1900]
[null,null,null,null,null,null,null,null," ",null,1,1900]
[null,null,null,null,null,null,null,null," ",null,1,1900]
[null,null,null,null,null,null,null,null," ",null,1,1900]
[null,null,null,null,null,null,null,null," ",null,1,1900]
[null,null,null,null,null,null,null,null," ",null,1,1900]
[null,null,null,null,null,null,null,null," ",null,1,1900]
[null,null,null,null,null,null,null,null," ",null,1,1900]
[null,null,null,null,null,null,null,null," ",null,1,1900]
[null,null,null,null,null,null,null,null," ",null,1,1900]
[null,null,null,null,null,null,null,null," ",null,1,1900]
[null,null,null,null,null,null,null,null," ",null,1,1900]
[null,null,null,null,null,null,null,null," ",null,1,1900]
[null,null,null,null,null,null,null,null," ",null,1,1900]
[null,null,null,null,null,null,null,null," ",null,1,1900]
[null,null,null,null,null,null,null,null," ",null,1,1900]
[null,null,null,null,null,null,null,null," ",null,1,1900]
[null,null,null,null,null,null,null,null," ",null,1,1900]
[null,null,null,null,null,null,null,null," ",null,1,1900]
[null,null,null,null,null,null,null,null," ",null,1,1900]
[null,null,null,null,null,null,null,null," ",null,1,1900]
[null,null,null,null,null,null,null,null," ",null,1,1900]
[null,null,null,null,null,null,null,null," ",null,1,1900]
[null,null,null,null,null,null,null,null," ",null,1,1900]
[null,null,null,null,null,null,null,null," ",null,1,1900]
[null,null,null,null,null,null,null,null," ",null,1,1900]
[null,null,null,null,null,null,null,null," ",null,1,1900]
[null,null,null,null,null,null,null,null," ",null,1,1900]
[null,null,null,null,null,null,null,null," ",null,1,1900]
[null,null,null,null,null,null,null,null," ",null,1,1900]
[null,null,null,null,null,null,null,null," ",null,1,1900]
[null,null,null,null,null,null,null,null," ",null,1,1900]
[null,null,null,null,null,null,null,null," ",null,1,1900]
[null,null,null,null,null,null,null,null," ",null,1,1900]
[null,null,null,null,null,null,null,null," ",null,1,1900]
[null,null,null,null,null,null,null,null," ",null,1,1900]
[null,null,null,null,null,null,null,null," ",null,1,1900]
[null,null,null,null,null,null,null,null," ",null,1,1900]
[null,null,null,null,null,null,null,null," ",null,1,1900]
[null,null,null,null,null,null,null,null," ",null,1,1900]
[null,null,null,null,null,null,null,null," ",null,1,1900]
[null,null,null,null,null,null,null,null," ",null,1,1900]
[null,null,null,null,null,null,null,null," ",null,1,1900]
[null,null,null,null,null,null,null,null," ",null,1,1900]
[null,null,null,null,null,null,null,null," ",null,1,1900]
[null,null,null,null,null,null,null,null," ",null,1,1900]
[null,null,null,null,null,null,null,null," ",null,1,1900]
[null,null,null,null,null,null,null,null," ",null,1,1900]
[null,null,null,null,null,null,null,null," ",null,1,1900]
[null,null,null,null,null,null,null,null," ",null,1,1900]
[null,null,null,null,null,null,null,null," ",null,1,1900]
[null,null,null,null,null,null,null,null," ",null,1,1900]
[null,null,null,null,null,null,null,null," ",null,1,1900]
[null,null,null,null,null,null,null,null," ",null,1,1900]
[null,null,null,null,null,null,null,null," ",null,1,1900]
[null,null,null,null,null,null,null,null," ",null,1,1900]
[null,null,null,null,null,null,null,null," ",null,1,1900]
[null,null,null,null,null,null,null,null," ",null,1,1900]
[null,null,null,null,null,null,null,null," ",null,1,1900]
[null,null,null,null,null,null,null,null," ",null,1,1900]
[null,null,null,null,null,null,null,null," ",null,1,1900]
[null,null,null,null,null,null,null,null," ",null,1,1900]
[null,null,null,null,null,null,null,null," ",null,1,1900]
[null,null,null,null,null,null,null,null," ",null,1,1900]
[null,null,null,null,null,null,null,null," ",null,1,1900]
[null,null,null,null,null,null,null,null," ",null,1,1900]
[null,null,null,null,null,null,null,null," ",null,1,1900]
[null,null,null,null,null,null,null,null," ",null,1,1900]
[null,null,null,null,null,null,null,null," ",null,1,1900]
[null,null,null,null,null,null,null,null," ",null,1,1900]
[null,null,null,null,null,null,null,null," ",null,1,1900]
[null,null,null,null,null,null,null,null," ",null,1,1900]
[null,null,null,null,null,null,null,null," ",null,1,1900]
[null,null,null,null,null,null,null,null,{"$f":"+IF(H37944=H37943,\" \",H37944)","v":" "},null,{"$f":"+MONTH(A37944)","v":1},{"$f":"+YEAR(A37944)","v":1900}]
[null,null,null,null,null,null,null,null," ",null,1,1900]
[null,null,null,null,null,null,null,null," ",null,1,1900]
[null,null,null,null,null,null,null,null," ",null,1,1900]
[null,null,null,null,null,null,null,null," ",null,1,1900]
[null,null,null,null,null,null,null,null," ",null,1,1900]
[null,null,null,null,null,null,null,null," ",null,1,1900]
[null,null,null,null,null,null,null,null," ",null,1,1900]
[null,null,null,null,null,null,null,null," ",null,1,1900]
[null,null,null,null,null,null,null,null," ",null,1,1900]
[null,null,null,null,null,null,null,null," ",null,1,1900]
[null,null,null,null,null,null,null,null," ",null,1,1900]
[null,null,null,null,null,null,null,null," ",null,1,1900]
[null,null,null,null,null,null,null,null," ",null,1,1900]
[null,null,null,null,null,null,null,null," ",null,1,1900]
[null,null,null,null,null,null,null,null," ",null,1,1900]
[null,null,null,null,null,null,null,null," ",null,1,1900]
[null,null,null,null,null,null,null,null," ",null,1,1900]
[null,null,null,null,null,null,null,null," ",null,1,1900]
[null,null,null,null,null,null,null,null," ",null,1,1900]
[null,null,null,null,null,null,null,null," ",null,1,1900]
[null,null,null,null,null,null,null,null," ",null,1,1900]
[null,null,null,null,null,null,null,null," ",null,1,1900]
[null,null,null,null,null,null,null,null," ",null,1,1900]
[null,null,null,null,null,null,null,null," ",null,1,1900]
[null,null,null,null,null,null,null,null," ",null,1,1900]
[null,null,null,null,null,null,null,null," ",null,1,1900]
[null,null,null,null,null,null,null,null," ",null,1,1900]
[null,null,null,null,null,null,null,null," ",null,1,1900]
[null,null,null,null,null,null,null,null," ",null,1,1900]
[null,null,null,null,null,null,null,null," ",null,1,1900]
[null,null,null,null,null,null,null,null," ",null,1,1900]
[null,null,null,null,null,null,null,null," ",null,1,1900]
[null,null,null,null,null,null,null,null," ",null,1,1900]
[null,null,null,null,null,null,null,null," ",null,1,1900]
[null,null,null,null,null,null,null,null," ",null,1,1900]
[null,null,null,null,null,null,null,null," ",null,1,1900]
[null,null,null,null,null,null,null,null," ",null,1,1900]
[null,null,null,null,null,null,null,null," ",null,1,1900]
[null,null,null,null,null,null,null,null," ",null,1,1900]
[null,null,null,null,null,null,null,null," ",null,1,1900]
[null,null,null,null,null,null,null,null," ",null,1,1900]
[null,null,null,null,null,null,null,null," ",null,1,1900]
[null,null,null,null,null,null,null,null," ",null,1,1900]
[null,null,null,null,null,null,null,null," ",null,1,1900]
[null,null,null,null,null,null,null,null," ",null,1,1900]
[null,null,null,null,null,null,null,null," ",null,1,1900]
[null,null,null,null,null,null,null,null," ",null,1,1900]
[null,null,null,null,null,null,null,null," ",null,1,1900]
[null,null,null,null,null,null,null,null," ",null,1,1900]
[null,null,null,null,null,null,null,null," ",null,1,1900]
[null,null,null,null,null,null,null,null," ",null,1,1900]
[null,null,null,null,null,null,null,null," ",null,1,1900]
[null,null,null,null,null,null,null,null," ",null,1,1900]
[null,null,null,null,null,null,null,null," ",null,1,1900]
[null,null,null,null,null,null,null,null," ",null,1,1900]
[null,null,null,null,null,null,null,null," ",null,1,1900]
[null,null,null,null,null,null,null,null," ",null,1,1900]
[null,null,null,null,null,null,null,null," ",null,1,1900]
[null,null,null,null,null,null,null,null,{"$f":"+IF(H39800=H39799,\" \",H39800)","v":" "},null,{"$f":"+MONTH(A39800)","v":1},{"$f":"+YEAR(A39800)","v":1900}]
[null,null,null,null,null,null,null,null," ",null,1,1900]
[null,null,null,null,null,null,null,null," ",null,1,1900]
[null,null,null,null,null,null,null,null," ",null,1,1900]
[null,null,null,null,null,null,null,null," ",null,1,1900]
[null,null,null,null,null,null,null,null," ",null,1,1900]
[null,null,null,null,null,null,null,null," ",null,1,1900]
[null,null,null,null,null,null,null,null," ",null,1,1900]
[null,null,null,null,null,null,null,null," ",null,1,1900]
[null,null,null,null,null,null,null,null," ",null,1,1900]
[null,null,null,null,null,null,null,null," ",null,1,1900]
[null,null,null,null,null,null,null,null," ",null,1,1900]
[null,null,null,null,null,null,null,null," ",null,1,1900]
[null,null,null,null,null,null,null,null," ",null,1,1900]
[null,null,null,null,null,null,null,null," ",null,1,1900]
[null,null,null,null,null,null,null,null," ",null,1,1900]
[null,null,null,null,null,null,null,null," ",null,1,1900]
[null,null,null,null,null,null,null,null," ",null,1,1900]
[null,null,null,null,null,null,null,null," ",null,1,1900]
[null,null,null,null,null,null,null,null," ",null,1,1900]
[null,null,null,null,null,null,null,null," ",null,1,1900]
[null,null,null,null,null,null,null,null," ",null,1,1900]
[null,null,null,null,null,null,null,null," ",null,1,1900]
[null,null,null,null,null,null,null,null," ",null,1,1900]
[null,null,null,null,null,null,null,null," ",null,1,1900]
[null,null,null,null,null,null,null,null," ",null,1,1900]
[null,null,null,null,null,null,null,null," ",null,1,1900]
[null,null,null,null,null,null,null,null," ",null,1,1900]
[null,null,null,null,null,null,null,null," ",null,1,1900]
[null,null,null,null,null,null,null,null," ",null,1,1900]
[null,null,null,null,null,null,null,null," ",null,1,1900]
[null,null,null,null,null,null,null,null," ",null,1,1900]
[null,null,null,null,null,null,null,null," ",null,1,1900]
[null,null,null,null,null,null,null,null," ",null,1,1900]
[null,null,null,null,null,null,null,null,{"$f":"+IF(H40888=H40887,\" \",H40888)","v":" "},null,{"$f":"+MONTH(A40888)","v":1},{"$f":"+YEAR(A40888)","v":1900}]
[null,null,null,null,null,null,null,null," ",null,1,1900]
[null,null,null,null,null,null,null,null," ",null,1,1900]
[null,null,null,null,null,null,null,null," ",null,1,1900]
[null,null,null,null,null,null,null,null," ",null,1,1900]
[null,null,null,null,null,null,null,null," ",null,1,1900]
[null,null,null,null,null,null,null,null," ",null,1,1900]
[null,null,null,null,null,null,null,null," ",null,1,1900]
[null,null,null,null,null,null,null,null," ",null,1,1900]
[null,null,null,null,null,null,null,null," ",null,1,1900]
[null,null,null,null,null,null,null,null," ",null,1,1900]
[null,null,null,null,null,null,null,null," ",null,1,1900]
[null,null,null,null,null,null,null,null," ",null,1,1900]
[null,null,null,null,null,null,null,null," ",null,1,1900]
[null,null,null,null,null,null,null,null," ",null,1,1900]
[null,null,null,null,null,null,null,null," ",null,1,1900]
[null,null,null,null,null,null,null,null," ",null,1,1900]
[null,null,null,null,null,null,null,null," ",null,1,1900]
[null,null,null,null,null,null,null,null," ",null,1,1900]
[null,null,null,null,null,null,null,null," ",null,1,1900]
[null,null,null,null,null,null,null,null," ",null,1,1900]
[null,null,null,null,null,null,null,null," ",null,1,1900]
[null,null,null,null,null,null,null,null," ",null,1,1900]
[null,null,null,null,null,null,null,null," ",null,1,1900]
[null,null,null,null,null,null,null,null," ",null,1,1900]
[null,null,null,null,null,null,null,null," ",null,1,1900]
[null,null,null,null,null,null,null,null," ",null,1,1900]
[null,null,null,null,null,null,null,null," ",null,1,1900]
[null,null,null,null,null,null,null,null," ",null,1,1900]
[null,null,null,null,null,null,null,null," ",null,1,1900]
[null,null,null,null,null,null,null,null," ",null,1,1900]
[null,null,null,null,null,null,null,null,{"$f":"+IF(H41848=H41847,\" \",H41848)","v":" "},null,{"$f":"+MONTH(A41848)","v":1},{"$f":"+YEAR(A41848)","v":1900}]
[null,null,null,null,null,null,null,null," ",null,1,1900]
[null,null,null,null,null,null,null,null," ",null,1,1900]
[null,null,null,null,null,null,null,null," ",null,1,1900]
[null,null,null,null,null,null,null,null," ",null,1,1900]
[null,null,null,null,null,null,null,null," ",null,1,1900]
[null,null,null,null,null,null,null,null," ",null,1,1900]
[null,null,null,null,null,null,null,null," ",null,1,1900]
[null,null,null,null,null,null,null,null," ",null,1,1900]
[null,null,null,null,null,null,null,null," ",null,1,1900]
[null,null,null,null,null,null,null,null," ",null,1,1900]
[null,null,null,null,null,null,null,null," ",null,1,1900]
[null,null,null,null,null,null,null,null," ",null,1,1900]
[null,null,null,null,null,null,null,null," ",null,1,1900]
[null,null,null,null,null,null,null,null," ",null,1,1900]
[null,null,null,null,null,null,null,null," ",null,1,1900]
[null,null,null,null,null,null,null,null," ",null,1,1900]
[null,null,null,null,null,null,null,null," ",null,1,1900]
[null,null,null,null,null,null,null,null," ",null,1,1900]
[null,null,null,null,null,null,null,null," ",null,1,1900]
[null,null,null,null,null,null,null,null," ",null,1,1900]
[null,null,null,null,null,null,null,null," ",null,1,1900]
[null,null,null,null,null,null,null,null," ",null,1,1900]
[null,null,null,null,null,null,null,null," ",null,1,1900]
[null,null,null,null,null,null,null,null," ",null,1,1900]
[null,null,null,null,null,null,null,null," ",null,1,1900]
[null,null,null,null,null,null,null,null," ",null,1,1900]
[null,null,null,null,null,null,null,null," ",null,1,1900]
[null,null,null,null,null,null,null,null," ",null,1,1900]
[null,null,null,null,null,null,null,null," ",null,1,1900]
[null,null,null,null,null,null,null,null," ",null,1,1900]
[null,null,null,null,null,null,null,null," ",null,1,1900]
[null,null,null,null,null,null,null,null," ",null,1,1900]
[null,null,null,null,null,null,null,null," ",null,1,1900]
[null,null,null,null,null,null,null,null," ",null,1,1900]
[null,null,null,null,null,null,null,null," ",null,1,1900]
[null,null,null,null,null,null,null,null," ",null,1,1900]
[null,null,null,null,null,null,null,null," ",null,1,1900]
[null,null,null,null,null,null,null,null," ",null,1,1900]
[null,null,null,null,null,null,null,null," ",null,1,1900]
[null,null,null,null,null,null,null,null," ",null,1,1900]
[null,null,null,null,null,null,null,null," ",null,1,1900]
[null,null,null,null,null,null,null,null," ",null,1,1900]
[null,null,null,null,null,null,null,null," ",null,1,1900]
[null,null,null,null,null,null,null,null," ",null,1,1900]
[null,null,null,null,null,null,null,null," ",null,1,1900]
[null,null,null,null,null,null,null,null," ",null,1,1900]
[null,null,null,null,null,null,null,null," ",null,1,1900]
[null,null,null,null,null,null,null,null," ",null,1,1900]
[null,null,null,null,null,null,null,null," ",null,1,1900]
[null,null,null,null,null,null,null,null," ",null,1,1900]
[null,null,null,null,null,null,null,null," ",null,1,1900]
[null,null,null,null,null,null,null,null," ",null,1,1900]
[null,null,null,null,null,null,null,null," ",null,1,1900]
[null,null,null,null,null,null,null,null," ",null,1,1900]
[null,null,null,null,null,null,null,null," ",null,1,1900]
[null,null,null,null,null,null,null,null," ",null,1,1900]
[null,null,null,null,null,null,null,null," ",null,1,1900]
[null,null,null,null,null,null,null,null," ",null,1,1900]
[null,null,null,null,null,null,null,null," ",null,1,1900]
[null,null,null,null,null,null,null,null," ",null,1,1900]
[null,null,null,null,null,null,null,null," ",null,1,1900]
[null,null,null,null,null,null,null,null," ",null,1,1900]
[null,null,null,null,null,null,null,null,{"$f":"+IF(H43832=H43831,\" \",H43832)","v":" "},null,{"$f":"+MONTH(A43832)","v":1},{"$f":"+YEAR(A43832)","v":1900}]
[null,null,null,null,null,null,null,null," ",null,1,1900]
[null,null,null,null,null,null,null,null," ",null,1,1900]
[null,null,null,null,null,null,null,null," ",null,1,1900]
[null,null,null,null,null,null,null,null," ",null,1,1900]
[null,null,null,null,null,null,null,null," ",null,1,1900]
[null,null,null,null,null,null,null,null," ",null,1,1900]
[null,null,null,null,null,null,null,null," ",null,1,1900]
[null,null,null,null,null,null,null,null," ",null,1,1900]
[null,null,null,null,null,null,null,null," ",null,1,1900]
[null,null,null,null,null,null,null,null," ",null,1,1900]
[null,null,null,null,null,null,null,null," ",null,1,1900]
[null,null,null,null,null,null,null,null," ",null,1,1900]
[null,null,null,null,null,null,null,null," ",null,1,1900]
[null,null,null,null,null,null,null,null," ",null,1,1900]
[null,null,null,null,null,null,null,null," ",null,1,1900]
[null,null,null,null,null,null,null,null," ",null,1,1900]
[null,null,null,null,null,null,null,null," ",null,1,1900]
[null,null,null,null,null,null,null,null," ",null,1,1900]
[null,null,null,null,null,null,null,null," ",null,1,1900]
[null,null,null,null,null,null,null,null," ",null,1,1900]
[null,null,null,null,null,null,null,null," ",null,1,1900]
[null,null,null,null,null,null,null,null," ",null,1,1900]
[null,null,null,null,null,null,null,null," ",null,1,1900]
[null,null,null,null,null,null,null,null," ",null,1,1900]
[null,null,null,null,null,null,null,null," ",null,1,1900]
[null,null,null,null,null,null,null,null," ",null,1,1900]
[null,null,null,null,null,null,null,null," ",null,1,1900]
[null,null,null,null,null,null,null,null," ",null,1,1900]
[null,null,null,null,null,null,null,null," ",null,1,1900]
[null,null,null,null,null,null,null,null,{"$f":"+IF(H44792=H44791,\" \",H44792)","v":" "},null,{"$f":"+MONTH(A44792)","v":1},{"$f":"+YEAR(A44792)","v":1900}]
[null,null,null,null,null,null,null,null," ",null,1,1900]
[null,null,null,null,null,null,null,null," ",null,1,1900]
[null,null,null,null,null,null,null,null," ",null,1,1900]
[null,null,null,null,null,null,null,null," ",null,1,1900]
[null,null,null,null,null,null,null,null," ",null,1,1900]
[null,null,null,null,null,null,null,null," ",null,1,1900]
[null,null,null,null,null,null,null,null," ",null,1,1900]
[null,null,null,null,null,null,null,null," ",null,1,1900]
[null,null,null,null,null,null,null,null," ",null,1,1900]
[null,null,null,null,null,null,null,null," ",null,1,1900]
[null,null,null,null,null,null,null,null," ",null,1,1900]
[null,null,null,null,null,null,null,null," ",null,1,1900]
[null,null,null,null,null,null,null,null," ",null,1,1900]
[null,null,null,null,null,null,null,null," ",null,1,1900]
[null,null,null,null,null,null,null,null," ",null,1,1900]
[null,null,null,null,null,null,null,null," ",null,1,1900]
[null,null,null,null,null,null,null,null," ",null,1,1900]
[null,null,null,null,null,null,null,null," ",null,1,1900]
[null,null,null,null,null,null,null,null," ",null,1,1900]
[null,null,null,null,null,null,null,null," ",null,1,1900]
[null,null,null,null,null,null,null,null," ",null,1,1900]
[null,null,null,null,null,null,null,null," ",null,1,1900]
[null,null,null,null,null,null,null,null," ",null,1,1900]
[null,null,null,null,null,null,null,null," ",null,1,1900]
[null,null,null,null,null,null,null,null," ",null,1,1900]
[null,null,null,null,null,null,null,null," ",null,1,1900]
[null,null,null,null,null,null,null,null," ",null,1,1900]
[null,null,null,null,null,null,null,null," ",null,1,1900]
[null,null,null,null,null,null,null,null," ",null,1,1900]
[null,null,null,null,null,null,null,null," ",null,1,1900]
[null,null,null,null,null,null,null,null,{"$f":"+IF(H45752=H45751,\" \",H45752)","v":" "},null,{"$f":"+MONTH(A45752)","v":1},{"$f":"+YEAR(A45752)","v":1900}]
[null,null,null,null,null,null,null,null," ",null,1,1900]
[null,null,null,null,null,null,null,null," ",null,1,1900]
[null,null,null,null,null,null,null,null," ",null,1,1900]
[null,null,null,null,null,null,null,null," ",null,1,1900]
[null,null,null,null,null,null,null,null," ",null,1,1900]
[null,null,null,null,null,null,null,null," ",null,1,1900]
[null,null,null,null,null,null,null,null," ",null,1,1900]
[null,null,null,null,null,null,null,null," ",null,1,1900]
[null,null,null,null,null,null,null,null," ",null,1,1900]
[null,null,null,null,null,null,null,null," ",null,1,1900]
[null,null,null,null,null,null,null,null," ",null,1,1900]
[null,null,null,null,null,null,null,null," ",null,1,1900]
[null,null,null,null,null,null,null,null," ",null,1,1900]
[null,null,null,null,null,null,null,null," ",null,1,1900]
[null,null,null,null,null,null,null,null," ",null,1,1900]
[null,null,null,null,null,null,null,null," ",null,1,1900]
[null,null,null,null,null,null,null,null," ",null,1,1900]
[null,null,null,null,null,null,null,null," ",null,1,1900]
[null,null,null,null,null,null,null,null," ",null,1,1900]
[null,null,null,null,null,null,null,null," ",null,1,1900]
[null,null,null,null,null,null,null,null," ",null,1,1900]
[null,null,null,null,null,null,null,null," ",null,1,1900]
[null,null,null,null,null,null,null,null," ",null,1,1900]
[null,null,null,null,null,null,null,null," ",null,1,1900]
[null,null,null,null,null,null,null,null," ",null,1,1900]
[null,null,null,null,null,null,null,null," ",null,1,1900]
[null,null,null,null,null,null,null,null," ",null,1,1900]
[null,null,null,null,null,null,null,null," ",null,1,1900]
[null,null,null,null,null,null,null,null," ",null,1,1900]
[null,null,null,null,null,null,null,null," ",null,1,1900]
[null,null,null,null,null,null,null,null," ",null,1,1900]
[null,null,null,null,null,null,null,null," ",null,1,1900]
[null,null,null,null,null,null,null,null," ",null,1,1900]
[null,null,null,null,null,null,null,null," ",null,1,1900]
[null,null,null,null,null,null,null,null," ",null,1,1900]
[null,null,null,null,null,null,null,null," ",null,1,1900]
[null,null,null,null,null,null,null,null," ",null,1,1900]
[null,null,null,null,null,null,null,null," ",null,1,1900]
[null,null,null,null,null,null,null,null," ",null,1,1900]
[null,null,null,null,null,null,null,null," ",null,1,1900]
[null,null,null,null,null,null,null,null," ",null,1,1900]
[null,null,null,null,null,null,null,null," ",null,1,1900]
[null,null,null,null,null,null,null,null," ",null,1,1900]
[null,null,null,null,null,null,null,null," ",null,1,1900]
[null,null,null,null,null,null,null,null," ",null,1,1900]
[null,null,null,null,null,null,null,null," ",null,1,1900]
[null,null,null,null,null,null,null,null," ",null,1,1900]
[null,null,null,null,null,null,null,null," ",null,1,1900]
[null,null,null,null,null,null,null,null," ",null,1,1900]
[null,null,null,null,null,null,null,null," ",null,1,1900]
[null,null,null,null,null,null,null,null," ",null,1,1900]
[null,null,null,null,null,null,null,null," ",null,1,1900]
[null,null,null,null,null,null,null,null," ",null,1,1900]
[null,null,null,null,null,null,null,null," ",null,1,1900]
[null,null,null,null,null,null,null,null," ",null,1,1900]
[null,null,null,null,null,null,null,null," ",null,1,1900]
[null,null,null,null,null,null,null,null," ",null,1,1900]
[null,null,null,null,null,null,null,null," ",null,1,1900]
[null,null,null,null,null,null,null,null," ",null,1,1900]
[null,null,null,null,null,null,null,null," ",null,1,1900]
[null,null,null,null,null,null,null,null," ",null,1,1900]
[null,null,null,null,null,null,null,null," ",null,1,1900]
[null,null,null,null,null,null,null,null," ",null,1,1900]
[null,null,null,null,null,null,null,null," ",null,1,1900]
[null,null,null,null,null,null,null,null," ",null,1,1900]
[null,null,null,null,null,null,null,null," ",null,1,1900]
[null,null,null,null,null,null,null,null," ",null,1,1900]
[null,null,null,null,null,null,null,null," ",null,1,1900]
[null,null,null,null,null,null,null,null," ",null,1,1900]
[null,null,null,null,null,null,null,null," ",null,1,1900]
[null,null,null,null,null,null,null,null," ",null,1,1900]
[null,null,null,null,null,null,null,null," ",null,1,1900]
[null,null,null,null,null,null,null,null," ",null,1,1900]
[null,null,null,null,null,null,null,null," ",null,1,1900]
[null,null,null,null,null,null,null,null," ",null,1,1900]
[null,null,null,null,null,null,null,null," ",null,1,1900]
[null,null,null,null,null,null,null,null," ",null,1,1900]
[null,null,null,null,null,null,null,null," ",null,1,1900]
[null,null,null,null,null,null,null,null," ",null,1,1900]
[null,null,null,null,null,null,null,null," ",null,1,1900]
[null,null,null,null,null,null,null,null," ",null,1,1900]
[null,null,null,null,null,null,null,null," ",null,1,1900]
[null,null,null,null,null,null,null,null," ",null,1,1900]
[null,null,null,null,null,null,null,null," ",null,1,1900]
[null,null,null,null,null,null,null,null," ",null,1,1900]
[null,null,null,null,null,null,null,null," ",null,1,1900]
[null,null,null,null,null,null,null,null," ",null,1,1900]
[null,null,null,null,null,null,null,null," ",null,1,1900]
[null,null,null,null,null,null,null,null," ",null,1,1900]
[null,null,null,null,null,null,null,null," ",null,1,1900]
[null,null,null,null,null,null,null,null," ",null,1,1900]
[null,null,null,null,null,null,null,null," ",null,1,1900]
[null,null,null,null,null,null,null,null," ",null,1,1900]
[null,null,null,null,null,null,null,null," ",null,1,1900]
[null,null,null,null,null,null,null,null," ",null,1,1900]
[null,null,null,null,null,null,null,null," ",null,1,1900]
[null,null,null,null,null,null,null,null," ",null,1,1900]
[null,null,null,null,null,null,null,null," ",null,1,1900]
[null,null,null,null,null,null,null,null," ",null,1,1900]
[null,null,null,null,null,null,null,null," ",null,1,1900]
[null,null,null,null,null,null,null,null," ",null,1,1900]
[null,null,null,null,null,null,null,null," ",null,1,1900]
[null,null,null,null,null,null,null,null," ",null,1,1900]
[null,null,null,null,null,null,null,null," ",null,1,1900]
[null,null,null,null,null,null,null,null," ",null,1,1900]
[null,null,null,null,null,null,null,null," ",null,1,1900]
[null,null,null,null,null,null,null,null," ",null,1,1900]
[null,null,null,null,null,null,null,null," ",null,1,1900]
[null,null,null,null,null,null,null,null," ",null,1,1900]
[null,null,null,null,null,null,null,null," ",null,1,1900]
[null,null,null,null,null,null,null,null," ",null,1,1900]
[null,null,null,null,null,null,null,null," ",null,1,1900]
[null,null,null,null,null,null,null,null," ",null,1,1900]
[null,null,null,null,null,null,null,null," ",null,1,1900]
[null,null,null,null,null,null,null,null," ",null,1,1900]
[null,null,null,null,null,null,null,null," ",null,1,1900]
[null,null,null,null,null,null,null,null," ",null,1,1900]
[null,null,null,null,null,null,null,null," ",null,1,1900]
[null,null,null,null,null,null,null,null," ",null,1,1900]
[null,null,null,null,null,null,null,null," ",null,1,1900]
[null,null,null,null,null,null,null,null," ",null,1,1900]
[null,null,null,null,null,null,null,null," ",null,1,1900]
[null,null,null,null,null,null,null,null," ",null,1,1900]
[null,null,null,null,null,null,null,null," ",null,1,1900]
[null,null,null,null,null,null,null,null," ",null,1,1900]
[null,null,null,null,null,null,null,null," ",null,1,1900]
[null,null,null,null,null,null,null,null," ",null,1,1900]
[null,null,null,null,null,null,null,null," ",null,1,1900]
[null,null,null,null,null,null,null,null," ",null,1,1900]
[null,null,null,null,null,null,null,null," ",null,1,1900]
[null,null,null,null,null,null,null,null," ",null,1,1900]
[null,null,null,null,null,null,null,null," ",null,1,1900]
[null,null,null,null,null,null,null,null," ",null,1,1900]
[null,null,null,null,null,null,null,null," ",null,1,1900]
[null,null,null,null,null,null,null,null," ",null,1,1900]
[null,null,null,null,null,null,null,null," ",null,1,1900]
[null,null,null,null,null,null,null,null," ",null,1,1900]
[null,null,null,null,null,null,null,null," ",null,1,1900]
[null,null,null,null,null,null,null,null," ",null,1,1900]
[null,null,null,null,null,null,null,null," ",null,1,1900]
[null,null,null,null,null,null,null,null," ",null,1,1900]
[null,null,null,null,null,null,null,null," ",null,1,1900]
[null,null,null,null,null,null,null,null," ",null,1,1900]
[null,null,null,null,null,null,null,null," ",null,1,1900]
[null,null,null,null,null,null,null,null," ",null,1,1900]
[null,null,null,null,null,null,null,null," ",null,1,1900]
[null,null,null,null,null,null,null,null," ",null,1,1900]
[null,null,null,null,null,null,null,null," ",null,1,1900]
[null,null,null,null,null,null,null,null," ",null,1,1900]
[null,null,null,null,null,null,null,null," ",null,1,1900]
[null,null,null,null,null,null,null,null," ",null,1,1900]
[null,null,null,null,null,null,null,null," ",null,1,1900]
[null,null,null,null,null,null,null,null," ",null,1,1900]
[null,null,null,null,null,null,null,null," ",null,1,1900]
[null,null,null,null,null,null,null,null," ",null,1,1900]
[null,null,null,null,null,null,null,null," ",null,1,1900]
[null,null,null,null,null,null,null,null," ",null,1,1900]
[null,null,null,null,null,null,null,null," ",null,1,1900]
[null,null,null,null,null,null,null,null," ",null,1,1900]
[null,null,null,null,null,null,null,null," ",null,1,1900]
[null,null,null,null,null,null,null,null," ",null,1,1900]
[null,null,null,null,null,null,null,null," ",null,1,1900]
[null,null,null,null,null,null,null,null," ",null,1,1900]
[null,null,null,null,null,null,null,null," ",null,1,1900]
[null,null,null,null,null,null,null,null," ",null,1,1900]
[null,null,null,null,null,null,null,null," ",null,1,1900]
[null,null,null,null,null,null,null,null," ",null,1,1900]
[null,null,null,null,null,null,null,null," ",null,1,1900]
[null,null,null,null,null,null,null,null," ",null,1,1900]
[null,null,null,null,null,null,null,null," ",null,1,1900]
[null,null,null,null,null,null,null,null," ",null,1,1900]
[null,null,null,null,null,null,null,null," ",null,1,1900]
[null,null,null,null,null,null,null,null," ",null,1,1900]
[null,null,null,null,null,null,null,null," ",null,1,1900]
[null,null,null,null,null,null,null,null," ",null,1,1900]
[null,null,null,null,null,null,null,null," ",null,1,1900]
[null,null,null,null,null,null,null,null," ",null,1,1900]
[null,null,null,null,null,null,null,null," ",null,1,1900]
[null,null,null,null,null,null,null,null," ",null,1,1900]
[null,null,null,null,null,null,null,null," ",null,1,1900]
[null,null,null,null,null,null,null,null," ",null,1,1900]
[null,null,null,null,null,null,null,null," ",null,1,1900]
[null,null,null,null,null,null,null,null," ",null,1,1900]
[null,null,null,null,null,null,null,null," ",null,1,1900]
[null,null,null,null,null,null,null,null," ",null,1,1900]
[null,null,null,null,null,null,null,null," ",null,1,1900]
[null,null,null,null,null,null,null,null," ",null,1,1900]
[null,null,null,null,null,null,null,null," ",null,1,1900]
[null,null,null,null,null,null,null,null," ",null,1,1900]
[null,null,null,null,null,null,null,null," ",null,1,1900]
[null,null,null,null,null,null,null,null," ",null,1,1900]
[null,null,null,null,null,null,null,null," ",null,1,1900]
[null,null,null,null,null,null,null,null," ",null,1,1900]
[null,null,null,null,null,null,null,null," ",null,1,1900]
[null,null,null,null,null,null,null,null," ",null,1,1900]
[null,null,null,null,null,null,null,null," ",null,1,1900]
[null,null,null,null,null,null,null,null," ",null,1,1900]
[null,null,null,null,null,null,null,null," ",null,1,1900]
[null,null,null,null,null,null,null,null," ",null,1,1900]
[null,null,null,null,null,null,null,null," ",null,1,1900]
[null,null,null,null,null,null,null,null," ",null,1,1900]
[null,null,null,null,null,null,null,null," ",null,1,1900]
[null,null,null,null,null,null,null,null," ",null,1,1900]
[null,null,null,null,null,null,null,null," ",null,1,1900]
[null,null,null,null,null,null,null,null," ",null,1,1900]
[null,null,null,null,null,null,null,null," ",null,1,1900]
[null,null,null,null,null,null,null,null," ",null,1,1900]
[null,null,null,null,null,null,null,null," ",null,1,1900]
[null,null,null,null,null,null,null,null," ",null,1,1900]
[null,null,null,null,null,null,null,null," ",null,1,1900]
[null,null,null,null,null,null,null,null,{"$f":"+IF(H52408=H52407,\" \",H52408)","v":" "},null,{"$f":"+MONTH(A52408)","v":1},{"$f":"+YEAR(A52408)","v":1900}]
[null,null,null,null,null,null,null,null," ",null,1,1900]
[null,null,null,null,null,null,null,null," ",null,1,1900]
[null,null,null,null,null,null,null,null," ",null,1,1900]
[null,null,null,null,null,null,null,null," ",null,1,1900]
[null,null,null,null,null,null,null,null," ",null,1,1900]
[null,null,null,null,null,null,null,null," ",null,1,1900]
[null,null,null,null,null,null,null,null," ",null,1,1900]
[null,null,null,null,null,null,null,null," ",null,1,1900]
[null,null,null,null,null,null,null,null," ",null,1,1900]
[null,null,null,null,null,null,null,null," ",null,1,1900]
[null,null,null,null,null,null,null,null," ",null,1,1900]
[null,null,null,null,null,null,null,null," ",null,1,1900]
[null,null,null,null,null,null,null,null," ",null,1,1900]
[null,null,null,null,null,null,null,null," ",null,1,1900]
[null,null,null,null,null,null,null,null," ",null,1,1900]
[null,null,null,null,null,null,null,null," ",null,1,1900]
[null,null,null,null,null,null,null,null," ",null,1,1900]
[null,null,null,null,null,null,null,null," ",null,1,1900]
[null,null,null,null,null,null,null,null," ",null,1,1900]
[null,null,null,null,null,null,null,null," ",null,1,1900]
[null,null,null,null,null,null,null,null," ",null,1,1900]
[null,null,null,null,null,null,null,null," ",null,1,1900]
[null,null,null,null,null,null,null,null," ",null,1,1900]
[null,null,null,null,null,null,null,null," ",null,1,1900]
[null,null,null,null,null,null,null,null," ",null,1,1900]
[null,null,null,null,null,null,null,null," ",null,1,1900]
[null,null,null,null,null,null,null,null," ",null,1,1900]
[null,null,null,null,null,null,null,null," ",null,1,1900]
[null,null,null,null,null,null,null,null," ",null,1,1900]
[null,null,null,null,null,null,null,null," ",null,1,1900]
[null,null,null,null,null,null,null,null," ",null,1,1900]
[null,null,null,null,null,null,null,null," ",null,1,1900]
[null,null,null,null,null,null,null,null," ",null,1,1900]
[null,null,null,null,null,null,null,null," ",null,1,1900]
[null,null,null,null,null,null,null,null," ",null,1,1900]
[null,null,null,null,null,null,null,null," ",null,1,1900]
[null,null,null,null,null,null,null,null," ",null,1,1900]
[null,null,null,null,null,null,null,null," ",null,1,1900]
[null,null,null,null,null,null,null,null," ",null,1,1900]
[null,null,null,null,null,null,null,null," ",null,1,1900]
[null,null,null,null,null,null,null,null," ",null,1,1900]
[null,null,null,null,null,null,null,null," ",null,1,1900]
[null,null,null,null,null,null,null,null," ",null,1,1900]
[null,null,null,null,null,null,null,null," ",null,1,1900]
[null,null,null,null,null,null,null,null," ",null,1,1900]
[null,null,null,null,null,null,null,null," ",null,1,1900]
[null,null,null,null,null,null,null,null," ",null,1,1900]
[null,null,null,null,null,null,null,null," ",null,1,1900]
[null,null,null,null,null,null,null,null," ",null,1,1900]
[null,null,null,null,null,null,null,null," ",null,1,1900]
[null,null,null,null,null,null,null,null," ",null,1,1900]
[null,null,null,null,null,null,null,null," ",null,1,1900]
[null,null,null,null,null,null,null,null," ",null,1,1900]
[null,null,null,null,null,null,null,null," ",null,1,1900]
[null,null,null,null,null,null,null,null," ",null,1,1900]
[null,null,null,null,null,null,null,null," ",null,1,1900]
[null,null,null,null,null,null,null,null," ",null,1,1900]
[null,null,null,null,null,null,null,null," ",null,1,1900]
[null,null,null,null,null,null,null,null," ",null,1,1900]
[null,null,null,null,null,null,null,null," ",null,1,1900]
[null,null,null,null,null,null,null,null," ",null,1,1900]
[null,null,null,null,null,null,null,null," ",null,1,1900]
[null,null,null,null,null,null,null,null," ",null,1,1900]
[null,null,null,null,null,null,null,null," ",null,1,1900]
[null,null,null,null,null,null,null,null," ",null,1,1900]
[null,null,null,null,null,null,null,null," ",null,1,1900]
[null,null,null,null,null,null,null,null," ",null,1,1900]
[null,null,null,null,null,null,null,null," ",null,1,1900]
[null,null,null,null,null,null,null,null," ",null,1,1900]
[null,null,null,null,null,null,null,null," ",null,1,1900]
[null,null,null,null,null,null,null,null," ",null,1,1900]
[null,null,null,null,null,null,null,null," ",null,1,1900]
[null,null,null,null,null,null,null,null," ",null,1,1900]
[null,null,null,null,null,null,null,null," ",null,1,1900]
[null,null,null,null,null,null,null,null," ",null,1,1900]
[null,null,null,null,null,null,null,null," ",null,1,1900]
[null,null,null,null,null,null,null,null," ",null,1,1900]
[null,null,null,null,null,null,null,null," ",null,1,1900]
[null,null,null,null,null,null,null,null," ",null,1,1900]
[null,null,null,null,null,null,null,null," ",null,1,1900]
[null,null,null,null,null,null,null,null," ",null,1,1900]
[null,null,null,null,null,null,null,null," ",null,1,1900]
[null,null,null,null,null,null,null,null," ",null,1,1900]
[null,null,null,null,null,null,null,null," ",null,1,1900]
[null,null,null,null,null,null,null,null," ",null,1,1900]
[null,null,null,null,null,null,null,null," ",null,1,1900]
[null,null,null,null,null,null,null,null," ",null,1,1900]
[null,null,null,null,null,null,null,null," ",null,1,1900]
[null,null,null,null,null,null,null,null," ",null,1,1900]
[null,null,null,null,null,null,null,null," ",null,1,1900]
[null,null,null,null,null,null,null,null," ",null,1,1900]
[null,null,null,null,null,null,null,null," ",null,1,1900]
[null,null,null,null,null,null,null,null," ",null,1,1900]
[null,null,null,null,null,null,null,null," ",null,1,1900]
[null,null,null,null,null,null,null,null," ",null,1,1900]
[null,null,null,null,null,null,null,null," ",null,1,1900]
[null,null,null,null,null,null,null,null,{"$f":"+IF(H55480=H55479,\" \",H55480)","v":" "},null,{"$f":"+MONTH(A55480)","v":1},{"$f":"+YEAR(A55480)","v":1900}]
[null,null,null,null,null,null,null,null," ",null,1,1900]
[null,null,null,null,null,null,null,null," ",null,1,1900]
[null,null,null,null,null,null,null,null," ",null,1,1900]
[null,null,null,null,null,null,null,null," ",null,1,1900]
[null,null,null,null,null,null,null,null," ",null,1,1900]
[null,null,null,null,null,null,null,null," ",null,1,1900]
[null,null,null,null,null,null,null,null," ",null,1,1900]
[null,null,null,null,null,null,null,null," ",null,1,1900]
[null,null,null,null,null,null,null,null," ",null,1,1900]
[null,null,null,null,null,null,null,null," ",null,1,1900]
[null,null,null,null,null,null,null,null," ",null,1,1900]
[null,null,null,null,null,null,null,null," ",null,1,1900]
[null,null,null,null,null,null,null,null," ",null,1,1900]
[null,null,null,null,null,null,null,null," ",null,1,1900]
[null,null,null,null,null,null,null,null," ",null,1,1900]
[null,null,null,null,null,null,null,null," ",null,1,1900]
[null,null,null,null,null,null,null,null," ",null,1,1900]
[null,null,null,null,null,null,null,null," ",null,1,1900]
[null,null,null,null,null,null,null,null," ",null,1,1900]
[null,null,null,null,null,null,null,null," ",null,1,1900]
[null,null,null,null,null,null,null,null," ",null,1,1900]
[null,null,null,null,null,null,null,null," ",null,1,1900]
[null,null,null,null,null,null,null,null," ",null,1,1900]
[null,null,null,null,null,null,null,null," ",null,1,1900]
[null,null,null,null,null,null,null,null," ",null,1,1900]
[null,null,null,null,null,null,null,null," ",null,1,1900]
[null,null,null,null,null,null,null,null," ",null,1,1900]
[null,null,null,null,null,null,null,null," ",null,1,1900]
[null,null,null,null,null,null,null,null," ",null,1,1900]
[null,null,null,null,null,null,null,null," ",null,1,1900]
[null,null,null,null,null,null,null,null,{"$f":"+IF(H56440=H56439,\" \",H56440)","v":" "},null,{"$f":"+MONTH(A56440)","v":1},{"$f":"+YEAR(A56440)","v":1900}]
[null,null,null,null,null,null,null,null," ",null,1,1900]
[null,null,null,null,null,null,null,null," ",null,1,1900]
[null,null,null,null,null,null,null,null," ",null,1,1900]
[null,null,null,null,null,null,null,null," ",null,1,1900]
[null,null,null,null,null,null,null,null," ",null,1,1900]
[null,null,null,null,null,null,null,null," ",null,1,1900]
[null,null,null,null,null,null,null,null," ",null,1,1900]
[null,null,null,null,null,null,null,null," ",null,1,1900]
[null,null,null,null,null,null,null,null," ",null,1,1900]
[null,null,null,null,null,null,null,null," ",null,1,1900]
[null,null,null,null,null,null,null,null," ",null,1,1900]
[null,null,null,null,null,null,null,null," ",null,1,1900]
[null,null,null,null,null,null,null,null," ",null,1,1900]
[null,null,null,null,null,null,null,null," ",null,1,1900]
[null,null,null,null,null,null,null,null," ",null,1,1900]
[null,null,null,null,null,null,null,null," ",null,1,1900]
[null,null,null,null,null,null,null,null," ",null,1,1900]
[null,null,null,null,null,null,null,null," ",null,1,1900]
[null,null,null,null,null,null,null,null," ",null,1,1900]
[null,null,null,null,null,null,null,null," ",null,1,1900]
[null,null,null,null,null,null,null,null," ",null,1,1900]
[null,null,null,null,null,null,null,null," ",null,1,1900]
[null,null,null,null,null,null,null,null," ",null,1,1900]
[null,null,null,null,null,null,null,null," ",null,1,1900]
[null,null,null,null,null,null,null,null," ",null,1,1900]
[null,null,null,null,null,null,null,null," ",null,1,1900]
[null,null,null,null,null,null,null,null," ",null,1,1900]
[null,null,null,null,null,null,null,null," ",null,1,1900]
[null,null,null,null,null,null,null,null," ",null,1,1900]
[null,null,null,null,null,null,null,null," ",null,1,1900]
[null,null,null,null,null,null,null,null," ",null,1,1900]
[null,null,null,null,null,null,null,null," ",null,1,1900]
[null,null,null,null,null,null,null,null," ",null,1,1900]
[null,null,null,null,null,null,null,null," ",null,1,1900]
[null,null,null,null,null,null,null,null," ",null,1,1900]
[null,null,null,null,null,null,null,null," ",null,1,1900]
[null,null,null,null,null,null,null,null," ",null,1,1900]
[null,null,null,null,null,null,null,null," ",null,1,1900]
[null,null,null,null,null,null,null,null," ",null,1,1900]
[null,null,null,null,null,null,null,null," ",null,1,1900]
[null,null,null,null,null,null,null,null," ",null,1,1900]
[null,null,null,null,null,null,null,null," ",null,1,1900]
[null,null,null,null,null,null,null,null," ",null,1,1900]
[null,null,null,null,null,null,null,null," ",null,1,1900]
[null,null,null,null,null,null,null,null," ",null,1,1900]
[null,null,null,null,null,null,null,null," ",null,1,1900]
[null,null,null,null,null,null,null,null," ",null,1,1900]
[null,null,null,null,null,null,null,null," ",null,1,1900]
[null,null,null,null,null,null,null,null," ",null,1,1900]
[null,null,null,null,null,null,null,null," ",null,1,1900]
[null,null,null,null,null,null,null,null," ",null,1,1900]
[null,null,null,null,null,null,null,null," ",null,1,1900]
[null,null,null,null,null,null,null,null," ",null,1,1900]
[null,null,null,null,null,null,null,null," ",null,1,1900]
[null,null,null,null,null,null,null,null," ",null,1,1900]
[null,null,null,null,null,null,null,null," ",null,1,1900]
[null,null,null,null,null,null,null,null," ",null,1,1900]
[null,null,null,null,null,null,null,null," ",null,1,1900]
[null,null,null,null,null,null,null,null," ",null,1,1900]
[null,null,null,null,null,null,null,null," ",null,1,1900]
[null,null,null,null,null,null,null,null," ",null,1,1900]
[null,null,null,null,null,null,null,null," ",null,1,1900]
[null,null,null,null,null,null,null,null," ",null,1,1900]
[null,null,null,null,null,null,null,null," ",null,1,1900]
[null,null,null,null,null,null,null,null," ",null,1,1900]
[null,null,null,null,null,null,null,null," ",null,1,1900]
[null,null,null,null,null,null,null,null," ",null,1,1900]
[null,null,null,null,null,null,null,null," ",null,1,1900]
[null,null,null,null,null,null,null,null," ",null,1,1900]
[null,null,null,null,null,null,null,null," ",null,1,1900]
[null,null,null,null,null,null,null,null," ",null,1,1900]
[null,null,null,null,null,null,null,null," ",null,1,1900]
[null,null,null,null,null,null,null,null," ",null,1,1900]
[null,null,null,null,null,null,null,null," ",null,1,1900]
[null,null,null,null,null,null,null,null," ",null,1,1900]
[null,null,null,null,null,null,null,null," ",null,1,1900]
[null,null,null,null,null,null,null,null," ",null,1,1900]
[null,null,null,null,null,null,null,null," ",null,1,1900]
[null,null,null,null,null,null,null,null," ",null,1,1900]
[null,null,null,null,null,null,null,null," ",null,1,1900]
[null,null,null,null,null,null,null,null," ",null,1,1900]
[null,null,null,null,null,null,null,null," ",null,1,1900]
[null,null,null,null,null,null,null,null," ",null,1,1900]
[null,null,null,null,null,null,null,null," ",null,1,1900]
[null,null,null,null,null,null,null,null," ",null,1,1900]
[null,null,null,null,null,null,null,null," ",null,1,1900]
[null,null,null,null,null,null,null,null," ",null,1,1900]
[null,null,null,null,null,null,null,null," ",null,1,1900]
[null,null,null,null,null,null,null,null," ",null,1,1900]
[null,null,null,null,null,null,null,null," ",null,1,1900]
[null,null,null,null,null,null,null,null," ",null,1,1900]
[null,null,null,null,null,null,null,null," ",null,1,1900]
[null,null,null,null,null,null,null,null,{"$f":"+IF(H59384=H59383,\" \",H59384)","v":" "},null,{"$f":"+MONTH(A59384)","v":1},{"$f":"+YEAR(A59384)","v":1900}]
[null,null,null,null,null,null,null,null," ",null,1,1900]
[null,null,null,null,null,null,null,null," ",null,1,1900]
[null,null,null,null,null,null,null,null," ",null,1,1900]
[null,null,null,null,null,null,null,null," ",null,1,1900]
[null,null,null,null,null,null,null,null," ",null,1,1900]
[null,null,null,null,null,null,null,null," ",null,1,1900]
[null,null,null,null,null,null,null,null," ",null,1,1900]
[null,null,null,null,null,null,null,null," ",null,1,1900]
[null,null,null,null,null,null,null,null," ",null,1,1900]
[null,null,null,null,null,null,null,null," ",null,1,1900]
[null,null,null,null,null,null,null,null," ",null,1,1900]
[null,null,null,null,null,null,null,null," ",null,1,1900]
[null,null,null,null,null,null,null,null," ",null,1,1900]
[null,null,null,null,null,null,null,null," ",null,1,1900]
[null,null,null,null,null,null,null,null," ",null,1,1900]
[null,null,null,null,null,null,null,null," ",null,1,1900]
[null,null,null,null,null,null,null,null," ",null,1,1900]
[null,null,null,null,null,null,null,null," ",null,1,1900]
[null,null,null,null,null,null,null,null," ",null,1,1900]
[null,null,null,null,null,null,null,null," ",null,1,1900]
[null,null,null,null,null,null,null,null," ",null,1,1900]
[null,null,null,null,null,null,null,null," ",null,1,1900]
[null,null,null,null,null,null,null,null," ",null,1,1900]
[null,null,null,null,null,null,null,null," ",null,1,1900]
[null,null,null,null,null,null,null,null," ",null,1,1900]
[null,null,null,null,null,null,null,null," ",null,1,1900]
[null,null,null,null,null,null,null,null," ",null,1,1900]
[null,null,null,null,null,null,null,null," ",null,1,1900]
[null,null,null,null,null,null,null,null," ",null,1,1900]
[null,null,null,null,null,null,null,null," ",null,1,1900]
[null,null,null,null,null,null,null,null,{"$f":"+IF(H60344=H60343,\" \",H60344)","v":" "},null,{"$f":"+MONTH(A60344)","v":1},{"$f":"+YEAR(A60344)","v":1900}]
[null,null,null,null,null,null,null,null," ",null,1,1900]
[null,null,null,null,null,null,null,null," ",null,1,1900]
[null,null,null,null,null,null,null,null," ",null,1,1900]
[null,null,null,null,null,null,null,null," ",null,1,1900]
[null,null,null,null,null,null,null,null," ",null,1,1900]
[null,null,null,null,null,null,null,null," ",null,1,1900]
[null,null,null,null,null,null,null,null," ",null,1,1900]
[null,null,null,null,null,null,null,null," ",null,1,1900]
[null,null,null,null,null,null,null,null," ",null,1,1900]
[null,null,null,null,null,null,null,null," ",null,1,1900]
[null,null,null,null,null,null,null,null," ",null,1,1900]
[null,null,null,null,null,null,null,null," ",null,1,1900]
[null,null,null,null,null,null,null,null," ",null,1,1900]
[null,null,null,null,null,null,null,null," ",null,1,1900]
[null,null,null,null,null,null,null,null," ",null,1,1900]
[null,null,null,null,null,null,null,null," ",null,1,1900]
[null,null,null,null,null,null,null,null," ",null,1,1900]
[null,null,null,null,null,null,null,null," ",null,1,1900]
[null,null,null,null,null,null,null,null," ",null,1,1900]
[null,null,null,null,null,null,null,null,{"$f":"+IF(H60984=H60983,\" \",H60984)","v":" "},null,{"$f":"+MONTH(A60984)","v":1},{"$f":"+YEAR(A60984)","v":1900}]
[null,null,null,null,null,null,null,null," ",null,1,1900]
[null,null,null,null,null,null,null,null," ",null,1,1900]
[null,null,null,null,null,null,null,null," ",null,1,1900]
[null,null,null,null,null,null,null,null," ",null,1,1900]
[null,null,null,null,null,null,null,null," ",null,1,1900]
[null,null,null,null,null,null,null,null," ",null,1,1900]
[null,null,null,null,null,null,null,null," ",null,1,1900]
[null,null,null,null,null,null,null,null," ",null,1,1900]
[null,null,null,null,null,null,null,null," ",null,1,1900]
[null,null,null,null,null,null,null,null," ",null,1,1900]
[null,null,null,null,null,null,null,null," ",null,1,1900]
[null,null,null,null,null,null,null,null," ",null,1,1900]
[null,null,null,null,null,null,null,null," ",null,1,1900]
[null,null,null,null,null,null,null,null," ",null,1,1900]
[null,null,null,null,null,null,null,null," ",null,1,1900]
[null,null,null,null,null,null,null,null," ",null,1,1900]
[null,null,null,null,null,null,null,null," ",null,1,1900]
[null,null,null,null,null,null,null,null," ",null,1,1900]
[null,null,null,null,null,null,null,null," ",null,1,1900]
[null,null,null,null,null,null,null,null," ",null,1,1900]
[null,null,null,null,null,null,null,null," ",null,1,1900]
[null,null,null,null,null,null,null,null," ",null,1,1900]
[null,null,null,null,null,null,null,null," ",null,1,1900]
[null,null,null,null,null,null,null,null," ",null,1,1900]
[null,null,null,null,null,null,null,null," ",null,1,1900]
[null,null,null,null,null,null,null,null," ",null,1,1900]
[null,null,null,null,null,null,null,null," ",null,1,1900]
[null,null,null,null,null,null,null,null," ",null,1,1900]
[null,null,null,null,null,null,null,null," ",null,1,1900]
[null,null,null,null,null,null,null,null," ",null,1,1900]
[null,null,null,null,null,null,null,null," ",null,1,1900]
[null,null,null,null,null,null,null,null," ",null,1,1900]
[null,null,null,null,null,null,null,null," ",null,1,1900]
[null,null,null,null,null,null,null,null," ",null,1,1900]
[null,null,null,null,null,null,null,null," ",null,1,1900]
[null,null,null,null,null,null,null,null," ",null,1,1900]
[null,null,null,null,null,null,null,null," ",null,1,1900]
[null,null,null,null,null,null,null,null," ",null,1,1900]
[null,null,null,null,null,null,null,null," ",null,1,1900]
[null,null,null,null,null,null,null,null," ",null,1,1900]
[null,null,null,null,null,null,null,null," ",null,1,1900]
[null,null,null,null,null,null,null,null," ",null,1,1900]
[null,null,null,null,null,null,null,null," ",null,1,1900]
[null,null,null,null,null,null,null,null," ",null,1,1900]
[null,null,null,null,null,null,null,null," ",null,1,1900]
[null,null,null,null,null,null,null,null," ",null,1,1900]
[null,null,null,null,null,null,null,null," ",null,1,1900]
[null,null,null,null,null,null,null,null," ",null,1,1900]
[null,null,null,null,null,null,null,null," ",null,1,1900]
[null,null,null,null,null,null,null,null," ",null,1,1900]
[null,null,null,null,null,null,null,null," ",null,1,1900]
[null,null,null,null,null,null,null,null," ",null,1,1900]
[null,null,null,null,null,null,null,null," ",null,1,1900]
[null,null,null,null,null,null,null,null," ",null,1,1900]
[null,null,null,null,null,null,null,null," ",null,1,1900]
[null,null,null,null,null,null,null,null," ",null,1,1900]
[null,null,null,null,null,null,null,null," ",null,1,1900]
[null,null,null,null,null,null,null,null," ",null,1,1900]
[null,null,null,null,null,null,null,null," ",null,1,1900]
[null,null,null,null,null,null,null,null," ",null,1,1900]
[null,null,null,null,null,null,null,null," ",null,1,1900]
[null,null,null,null,null,null,null,null," ",null,1,1900]
[null,null,null,null,null,null,null,null," ",null,1,1900]
[null,null,null,null,null,null,null,null," ",null,1,1900]
[null,null,null,null,null,null,null,null," ",null,1,1900]
[null,null,null,null,null,null,null,null," ",null,1,1900]
[null,null,null,null,null,null,null,null," ",null,1,1900]
[null,null,null,null,null,null,null,null," ",null,1,1900]
[null,null,null,null,null,null,null,null," ",null,1,1900]
[null,null,null,null,null,null,null,null," ",null,1,1900]
[null,null,null,null,null,null,null,null," ",null,1,1900]
[null,null,null,null,null,null,null,null," ",null,1,1900]
[null,null,null,null,null,null,null,null,{"$f":"+IF(H63288=H63287,\" \",H63288)","v":" "},null,{"$f":"+MONTH(A63288)","v":1},{"$f":"+YEAR(A63288)","v":1900}]
[null,null,null,null,null,null,null,null," ",null,1,1900]
[null,null,null,null,null,null,null,null," ",null,1,1900]
[null,null,null,null,null,null,null,null," ",null,1,1900]
[null,null,null,null,null,null,null,null," ",null,1,1900]
[null,null,null,null,null,null,null,null," ",null,1,1900]
[null,null,null,null,null,null,null,null," ",null,1,1900]
[null,null,null,null,null,null,null,null," ",null,1,1900]
[null,null,null,null,null,null,null,null," ",null,1,1900]
[null,null,null,null,null,null,null,null," ",null,1,1900]
[null,null,null,null,null,null,null,null," ",null,1,1900]
[null,null,null,null,null,null,null,null," ",null,1,1900]
[null,null,null,null,null,null,null,null," ",null,1,1900]
[null,null,null,null,null,null,null,null," ",null,1,1900]
[null,null,null,null,null,null,null,null," ",null,1,1900]
[null,null,null,null,null,null,null,null," ",null,1,1900]
[null,null,null,null,null,null,null,null," ",null,1,1900]
[null,null,null,null,null,null,null,null," ",null,1,1900]
[null,null,null,null,null,null,null,null," ",null,1,1900]
[null,null,null,null,null,null,null,null," ",null,1,1900]
[null,null,null,null,null,null,null,null," ",null,1,1900]
[null,null,null,null,null,null,null,null," ",null,1,1900]
[null,null,null,null,null,null,null,null,{"$f":"+IF(H63992=H63991,\" \",H63992)","v":" "},null,{"$f":"+MONTH(A63992)","v":1},{"$f":"+YEAR(A63992)","v":1900}]
[null,null,null,null,null,null,null,null," ",null,1,1900]
[null,null,null,null,null,null,null,null," ",null,1,1900]
[null,null,null,null,null,null,null,null," ",null,1,1900]
[null,null,null,null,null,null,null,null," ",null,1,1900]
[null,null,null,null,null,null,null,null," ",null,1,1900]
[null,null,null,null,null,null,null,null," ",null,1,1900]
[null,null,null,null,null,null,null,null," ",null,1,1900]
[null,null,null,null,null,null,null,null," ",null,1,1900]
[null,null,null,null,null,null,null,null," ",null,1,1900]
[null,null,null,null,null,null,null,null," ",null,1,1900]
[null,null,null,null,null,null,null,null," ",null,1,1900]
[null,null,null,null,null,null,null,null," ",null,1,1900]
[null,null,null,null,null,null,null,null," ",null,1,1900]
[null,null,null,null,null,null,null,null," ",null,1,1900]
[null,null,null,null,null,null,null,null," ",null,1,1900]
[null,null,null,null,null,null,null,null," ",null,1,1900]
[null,null,null,null,null,null,null,null," ",null,1,1900]
[null,null,null,null,null,null,null,null," ",null,1,1900]
[null,null,null,null,null,null,null,null," ",null,1,1900]
[null,null,null,null,null,null,null,null," ",null,1,1900]
[null,null,null,null,null,null,null,null," ",null,1,1900]
[null,null,null,null,null,null,null,null," ",null,1,1900]
[null,null,null,null,null,null,null,null," ",null,1,1900]
[null,null,null,null,null,null,null,null," ",null,1,1900]
[null,null,null,null,null,null,null,null," ",null,1,1900]
[null,null,null,null,null,null,null,null," ",null,1,1900]
[null,null,null,null,null,null,null,null," ",null,1,1900]
[null,null,null,null,null,null,null,null," ",null,1,1900]
[null,null,null,null,null,null,null,null," ",null,1,1900]
[null,null,null,null,null,null,null,null," ",null,1,1900]
[null,null,null,null,null,null,null,null," ",null,1,1900]
[null,null,null,null,null,null,null,null," ",null,1,1900]
[null,null,null,null,null,null,null,null," ",null,1,1900]
[null,null,null,null,null,null,null,null," ",null,1,1900]
[null,null,null,null,null,null,null,null," ",null,1,1900]
[null,null,null,null,null,null,null,null," ",null,1,1900]
[null,null,null,null,null,null,null,null," ",null,1,1900]
[null,null,null,null,null,null,null,null," ",null,1,1900]
[null,null,null,null,null,null,null,null," ",null,1,1900]
[null,null,null,null,null,null,null,null," ",null,1,1900]
[null,null,null,null,null,null,null,null," ",null,1,1900]
[null,null,null,null,null,null,null,null," ",null,1,1900]
[null,null,null,null,null,null,null,null," ",null,1,1900]
[null,null,null,null,null,null,null,null," ",null,1,1900]
[null,null,null,null,null,null,null,null," ",null,1,1900]
[null,null,null,null,null,null,null,null," ",null,1,1900]
[null,null,null,null,null,null,null,null," ",null,1,1900]
[null,null,null,null,null,null,null,null," ",null,1,1900]
[null,null,null,null,null,null,null,null," ",null,1,1900]
[null,null,null,null,null,null,null,null," ",null,1,1900]
[null,null,null,null,null,null,null,null," ",null,1,1900]
[null,null,null,null,null,null,null,null," ",null,1,1900]
[null,null,null,null,null,null,null,null," ",null,1,1900]
[null,null,null,null,null,null,null,null," ",null,1,1900]
[null,null,null,null,null,null,null,null," ",null,1,1900]
[null,null,null,null,null,null,null,null," ",null,1,1900]
[null,null,null,null,null,null,null,null," ",null,1,1900]
[null,null,null,null,null,null,null,null," ",null,1,1900]
[null,null,null,null,null,null,null,null," ",null,1,1900]
[null,null,null,null,null,null,null,null," ",null,1,1900]
[null,null,null,null,null,null,null,null," ",null,1,1900]
[null,null,null,null,null,null,null,null," ",null,1,1900]
[null,null,null,null,null,null,null,null," ",null,1,1900]
[null,null,null,null,null,null,null,null," ",null,1,1900]
[null,null,null,null,null,null,null,null," ",null,1,1900]
[null,null,null,null,null,null,null,null," ",null,1,1900]
[null,null,null,null,null,null,null,null," ",null,1,1900]
[null,null,null,null,null,null,null,null," ",null,1,1900]
[null,null,null,null,null,null,null,null," ",null,1,1900]
[null,null,null,null,null,null,null,null," ",null,1,1900]
[null,null,null,null,null,null,null,null," ",null,1,1900]
[null,null,null,null,null,null,null,null," ",null,1,1900]
[null,null,null,null,null,null,null,null," ",null,1,1900]
[null,null,null,null,null,null,null,null," ",null,1,1900]
[null,null,null,null,null,null,null,null," ",null,1,1900]
[null,null,null,null,null,null,null,null," ",null,1,1900]
[null,null,null,null,null,null,null,null,{"$f":"+IF(H65080=H65079,\" \",H65080)","v":" "},null,{"$f":"+MONTH(A65080)","v":1},{"$f":"+YEAR(A65080)","v":1900}]
[null,null,null,null,null,null,null,null," ",null,1,1900]
[null,null,null,null,null,null,null,null," ",null,1,1900]
[null,null,null,null,null,null,null,null," ",null,1,1900]
[null,null,null,null,null,null,null,null," ",null,1,1900]
[null,null,null,null,null,null,null,null," ",null,1,1900]
[null,null,null,null,null,null,null,null," ",null,1,1900]
[null,null,null,null,null,null,null,null," ",null,1,1900]
[null,null,null,null,null,null,null,null," ",null,1,1900]
[null,null,null,null,null,null,null,null," ",null,1,1900]
[null,null,null,null,null,null,null,null," ",null,1,1900]
[null,null,null,null,null,null,null,null," ",null,1,1900]
[null,null,null,null,null,null,null,null," ",null,1,1900]
[null,null,null,null,null,null,null,null," ",null,1,1900]
[null,null,null,null,null,null,null,null," ",null,1,1900]
[null,null,null,null,null,null,null,null," ",null,1,1900]
[null,null,null,null,null,null,null,null," ",null,1,1900]
[null,null,null,null,null,null,null,null," ",null,1,1900]
[null,null,null,null,null,null,null,null," ",null,1,1900]
[null,null,null,null,null,null,null,null," ",null,1,1900]
[null,null,null,null,null,null,null,null," ",null,1,1900]
[null,null,null,null,null,null,null,null," ",null,1,1900]
[null,null,null,null,null,null,null,null," ",null,1,1900]
[null,null,null,null,null,null,null,null," ",null,1,1900]
[null,null,null,null,null,null,null,null," ",null,1,1900]
[null,null,null,null,null,null,null,null," ",null,1,1900]
[null,null,null,null,null,null,null,null," ",null,1,1900]
[null,null,null,null,null,null,null,null," ",null,1,1900]
[null,null,null,null,null,null,null,null," ",null,1,1900]
[null,null,null,null,null,null,null,null," ",null,1,1900]
[null,null,null,null,null,null,null,null," ",null,1,1900]
[null,null,null,null,null,null,null,null," ",null,1,1900]
[null,null,null,null,null,null,null,null," ",null,1,1900]
[null,null,null,null,null,null,null,null," ",null,1,1900]
[null,null,null,null,null,null,null,null," ",null,1,1900]
[null,null,null,null,null,null,null,null," ",null,1,1900]
[null,null,null,null,null,null,null,null," ",null,1,1900]
[null,null,null,null,null,null,null,null," ",null,1,1900]
[null,null,null,null,null,null,null,null," ",null,1,1900]
[null,null,null,null,null,null,null,null," ",null,1,1900]
[null,null,null,null,null,null,null,null," ",null,1,1900]
[null,null,null,null,null,null,null,null," ",null,1,1900]
[null,null,null,null,null,null,null,null," ",null,1,1900]
[null,null,null,null,null,null,null,null," ",null,1,1900]
[null,null,null,null,null,null,null,null," ",null,1,1900]
[null,null,null,null,null,null,null,null," ",null,1,1900]
[null,null,null,null,null,null,null,null," ",null,1,1900]
[null,null,null,null,null,null,null,null," ",null,1,1900]
[null,null,null,null,null,null,null,null," ",null,1,1900]
[null,null,null,null,null,null,null,null," ",null,1,1900]
[null,null,null,null,null,null,null,null," ",null,1,1900]
[null,null,null,null,null,null,null,null," ",null,1,1900]
[null,null,null,null,null,null,null,null," ",null,1,1900]
[null,null,null,null,null,null,null,null," ",null,1,1900]
[null,null,null,null,null,null,null,null," ",null,1,1900]
[null,null,null,null,null,null,null,null," ",null,1,1900]
[null,null,null,null,null,null,null,null," ",null,1,1900]
[null,null,null,null,null,null,null,null," ",null,1,1900]
[null,null,null,null,null,null,null,null," ",null,1,1900]
[null,null,null,null,null,null,null,null," ",null,1,1900]
[null,null,null,null,null,null,null,null," ",null,1,1900]
[null,null,null,null,null,null,null,null," ",null,1,1900]
[null,null,null,null,null,null,null,null," ",null,1,1900]
[null,null,null,null,null,null,null,null," ",null,1,1900]
[null,null,null,null,null,null,null,null,{"$f":"+IF(H65144=H65143,\" \",H65144)","v":" "},null,{"$f":"+MONTH(A65144)","v":1},{"$f":"+YEAR(A65144)","v":1900}]
[null,null,null,null,null,null,null,null," ",null,1,1900]
[null,null,null,null,null,null,null,null," ",null,1,1900]
[null,null,null,null,null,null,null,null," ",null,1,1900]
[null,null,null,null,null,null,null,null," ",null,1,1900]
[null,null,null,null,null,null,null,null," ",null,1,1900]
[null,null,null,null,null,null,null,null," ",null,1,1900]
[null,null,null,null,null,null,null,null," ",null,1,1900]
[null,null,null,null,null,null,null,null," ",null,1,1900]
[null,null,null,null,null,null,null,null," ",null,1,1900]
[null,null,null,null,null,null,null,null," ",null,1,1900]
[null,null,null,null,null,null,null,null," ",null,1,1900]
[null,null,null,null,null,null,null,null," ",null,1,1900]
[null,null,null,null,null,null,null,null," ",null,1,1900]
[null,null,null,null,null,null,null,null," ",null,1,1900]
[null,null,null,null,null,null,null,null," ",null,1,1900]
[null,null,null,null,null,null,null,null," ",null,1,1900]
[null,null,null,null,null,null,null,null," ",null,1,1900]
[null,null,null,null,null,null,null,null," ",null,1,1900]
[null,null,null,null,null,null,null,null," ",null,1,1900]
[null,null,null,null,null,null,null,null," ",null,1,1900]
[null,null,null,null,null,null,null,null," ",null,1,1900]
[null,null,null,null,null,null,null,null," ",null,1,1900]
[null,null,null,null,null,null,null,null," ",null,1,1900]
[null,null,null,null,null,null,null,null," ",null,1,1900]
[null,null,null,null,null,null,null,null," ",null,1,1900]
[null,null,null,null,null,null,null,null," ",null,1,1900]
[null,null,null,null,null,null,null,null," ",null,1,1900]
[null,null,null,null,null,null,null,null," ",null,1,1900]
[null,null,null,null,null,null,null,null," ",null,1,1900]
[null,null,null,null,null,null,null,null," ",null,1,1900]
[null,null,null,null,null,null,null,null," ",null,1,1900]
[null,null,null,null,null,null,null,null," ",null,1,1900]
[null,null,null,null,null,null,null,null," ",null,1,1900]
[null,null,null,null,null,null,null,null," ",null,1,1900]
[null,null,null,null,null,null,null,null," ",null,1,1900]
[null,null,null,null,null,null,null,null," ",null,1,1900]
[null,null,null,null,null,null,null,null," ",null,1,1900]
[null,null,null,null,null,null,null,null," ",null,1,1900]
[null,null,null,null,null,null,null,null," ",null,1,1900]
[null,null,null,null,null,null,null,null," ",null,1,1900]
[null,null,null,null,null,null,null,null," ",null,1,1900]
[null,null,null,null,null,null,null,null," ",null,1,1900]
[null,null,null,null,null,null,null,null," ",null,1,1900]
[null,null,null,null,null,null,null,null," ",null,1,1900]
[null,null,null,null,null,null,null,null," ",null,1,1900]
[null,null,null,null,null,null,null,null," ",null,1,1900]
[null,null,null,null,null,null,null,null," ",null,1,1900]
[null,null,null,null,null,null,null,null," ",null,1,1900]
[null,null,null,null,null,null,null,null," ",null,1,1900]
[null,null,null,null,null,null,null,null," ",null,1,1900]
[null,null,null,null,null,null,null,null," ",null,1,1900]
[null,null,null,null,null,null,null,null," ",null,1,1900]
[null,null,null,null,null,null,null,null," ",null,1,1900]
[null,null,null,null,null,null,null,null," ",null,1,1900]
[null,null,null,null,null,null,null,null," ",null,1,1900]
[null,null,null,null,null,null,null,null," ",null,1,1900]
[null,null,null,null,null,null,null,null," ",null,1,1900]
[null,null,null,null,null,null,null,null," ",null,1,1900]
[null,null,null,null,null,null,null,null," ",null,1,1900]
[null,null,null,null,null,null,null,null," ",null,1,1900]
[null,null,null,null,null,null,null,null," ",null,1,1900]
[null,null,null,null,null,null,null,null," ",null,1,1900]
[null,null,null,null,null,null,null,null," ",null,1,1900]
[null,null,null,null,null,null,null,null,{"$f":"+IF(H65208=H65207,\" \",H65208)","v":" "},null,{"$f":"+MONTH(A65208)","v":1},{"$f":"+YEAR(A65208)","v":1900}]
[null,null,null,null,null,null,null,null," ",null,1,1900]
[null,null,null,null,null,null,null,null," ",null,1,1900]
[null,null,null,null,null,null,null,null," ",null,1,1900]
[null,null,null,null,null,null,null,null," ",null,1,1900]
[null,null,null,null,null,null,null,null," ",null,1,1900]
[null,null,null,null,null,null,null,null," ",null,1,1900]
[null,null,null,null,null,null,null,null," ",null,1,1900]
[null,null,null,null,null,null,null,null," ",null,1,1900]
[null,null,null,null,null,null,null,null," ",null,1,1900]
[null,null,null,null,null,null,null,null," ",null,1,1900]
[null,null,null,null,null,null,null,null," ",null,1,1900]
[null,null,null,null,null,null,null,null," ",null,1,1900]
[null,null,null,null,null,null,null,null," ",null,1,1900]
[null,null,null,null,null,null,null,null," ",null,1,1900]
[null,null,null,null,null,null,null,null," ",null,1,1900]
[null,null,null,null,null,null,null,null," ",null,1,1900]
[null,null,null,null,null,null,null,null," ",null,1,1900]
[null,null,null,null,null,null,null,null," ",null,1,1900]
[null,null,null,null,null,null,null,null," ",null,1,1900]
[null,null,null,null,null,null,null,null," ",null,1,1900]
[null,null,null,null,null,null,null,null," ",null,1,1900]
[null,null,null,null,null,null,null,null," ",null,1,1900]
[null,null,null,null,null,null,null,null," ",null,1,1900]
[null,null,null,null,null,null,null,null," ",null,1,1900]
[null,null,null,null,null,null,null,null," ",null,1,1900]
[null,null,null,null,null,null,null,null," ",null,1,1900]
[null,null,null,null,null,null,null,null," ",null,1,1900]
[null,null,null,null,null,null,null,null," ",null,1,1900]
[null,null,null,null,null,null,null,null," ",null,1,1900]
[null,null,null,null,null,null,null,null," ",null,1,1900]
[null,null,null,null,null,null,null,null," ",null,1,1900]
[null,null,null,null,null,null,null,null," ",null,1,1900]
[null,null,null,null,null,null,null,null," ",null,1,1900]
[null,null,null,null,null,null,null,null," ",null,1,1900]
[null,null,null,null,null,null,null,null," ",null,1,1900]
[null,null,null,null,null,null,null,null," ",null,1,1900]
[null,null,null,null,null,null,null,null," ",null,1,1900]
[null,null,null,null,null,null,null,null," ",null,1,1900]
[null,null,null,null,null,null,null,null," ",null,1,1900]
[null,null,null,null,null,null,null,null," ",null,1,1900]
[null,null,null,null,null,null,null,null," ",null,1,1900]
[null,null,null,null,null,null,null,null," ",null,1,1900]
[null,null,null,null,null,null,null,null," ",null,1,1900]
[null,null,null,null,null,null,null,null," ",null,1,1900]
[null,null,null,null,null,null,null,null," ",null,1,1900]
[null,null,null,null,null,null,null,null," ",null,1,1900]
[null,null,null,null,null,null,null,null," ",null,1,1900]
[null,null,null,null,null,null,null,null," ",null,1,1900]
[null,null,null,null,null,null,null,null," ",null,1,1900]
[null,null,null,null,null,null,null,null," ",null,1,1900]
[null,null,null,null,null,null,null,null," ",null,1,1900]
[null,null,null,null,null,null,null,null," ",null,1,1900]
[null,null,null,null,null,null,null,null," ",null,1,1900]
[null,null,null,null,null,null,null,null," ",null,1,1900]
[null,null,null,null,null,null,null,null," ",null,1,1900]
[null,null,null,null,null,null,null,null," ",null,1,1900]
[null,null,null,null,null,null,null,null," ",null,1,1900]
[null,null,null,null,null,null,null,null," ",null,1,1900]
[null,null,null,null,null,null,null,null," ",null,1,1900]
[null,null,null,null,null,null,null,null," ",null,1,1900]
[null,null,null,null,null,null,null,null," ",null,1,1900]
[null,null,null,null,null,null,null,null," ",null,1,1900]
[null,null,null,null,null,null,null,null," ",null,1,1900]
[null,null,null,null,null,null,null,null,{"$f":"+IF(H65272=H65271,\" \",H65272)","v":" "},null,{"$f":"+MONTH(A65272)","v":1},{"$f":"+YEAR(A65272)","v":1900}]
[null,null,null,null,null,null,null,null," ",null,1,1900]
[null,null,null,null,null,null,null,null," ",null,1,1900]
[null,null,null,null,null,null,null,null," ",null,1,1900]
[null,null,null,null,null,null,null,null," ",null,1,1900]
[null,null,null,null,null,null,null,null," ",null,1,1900]
[null,null,null,null,null,null,null,null," ",null,1,1900]
[null,null,null,null,null,null,null,null," ",null,1,1900]
[null,null,null,null,null,null,null,null," ",null,1,1900]
[null,null,null,null,null,null,null,null," ",null,1,1900]
[null,null,null,null,null,null,null,null," ",null,1,1900]
[null,null,null,null,null,null,null,null," ",null,1,1900]
[null,null,null,null,null,null,null,null," ",null,1,1900]
[null,null,null,null,null,null,null,null," ",null,1,1900]
[null,null,null,null,null,null,null,null," ",null,1,1900]
[null,null,null,null,null,null,null,null," ",null,1,1900]
[null,null,null,null,null,null,null,null," ",null,1,1900]
[null,null,null,null,null,null,null,null," ",null,1,1900]
[null,null,null,null,null,null,null,null," ",null,1,1900]
[null,null,null,null,null,null,null,null," ",null,1,1900]
[null,null,null,null,null,null,null,null," ",null,1,1900]
[null,null,null,null,null,null,null,null," ",null,1,1900]
[null,null,null,null,null,null,null,null," ",null,1,1900]
[null,null,null,null,null,null,null,null," ",null,1,1900]
[null,null,null,null,null,null,null,null," ",null,1,1900]
[null,null,null,null,null,null,null,null," ",null,1,1900]
[null,null,null,null,null,null,null,null," ",null,1,1900]
[null,null,null,null,null,null,null,null," ",null,1,1900]
[null,null,null,null,null,null,null,null," ",null,1,1900]
[null,null,null,null,null,null,null,null," ",null,1,1900]
[null,null,null,null,null,null,null,null," ",null,1,1900]
[null,null,null,null,null,null,null,null," ",null,1,1900]
[null,null,null,null,null,null,null,null," ",null,1,1900]
[null,null,null,null,null,null,null,null," ",null,1,1900]
[null,null,null,null,null,null,null,null," ",null,1,1900]
[null,null,null,null,null,null,null,null," ",null,1,1900]
[null,null,null,null,null,null,null,null," ",null,1,1900]
[null,null,null,null,null,null,null,null," ",null,1,1900]
[null,null,null,null,null,null,null,null," ",null,1,1900]
[null,null,null,null,null,null,null,null," ",null,1,1900]
[null,null,null,null,null,null,null,null," ",null,1,1900]
[null,null,null,null,null,null,null,null," ",null,1,1900]
[null,null,null,null,null,null,null,null," ",null,1,1900]
[null,null,null,null,null,null,null,null," ",null,1,1900]
[null,null,null,null,null,null,null,null," ",null,1,1900]
[null,null,null,null,null,null,null,null," ",null,1,1900]
[null,null,null,null,null,null,null,null," ",null,1,1900]
[null,null,null,null,null,null,null,null," ",null,1,1900]
[null,null,null,null,null,null,null,null," ",null,1,1900]
[null,null,null,null,null,null,null,null," ",null,1,1900]
[null,null,null,null,null,null,null,null," ",null,1,1900]
[null,null,null,null,null,null,null,null," ",null,1,1900]
[null,null,null,null,null,null,null,null," ",null,1,1900]
[null,null,null,null,null,null,null,null," ",null,1,1900]
[null,null,null,null,null,null,null,null," ",null,1,1900]
[null,null,null,null,null,null,null,null," ",null,1,1900]
[null,null,null,null,null,null,null,null," ",null,1,1900]
[null,null,null,null,null,null,null,null," ",null,1,1900]
[null,null,null,null,null,null,null,null," ",null,1,1900]
[null,null,null,null,null,null,null,null," ",null,1,1900]
[null,null,null,null,null,null,null,null," ",null,1,1900]
[null,null,null,null,null,null,null,null," ",null,1,1900]
[null,null,null,null,null,null,null,null," ",null,1,1900]
[null,null,null,null,null,null,null,null," ",null,1,1900]
[null,null,null,null,null,null,null,null,{"$f":"+IF(H65336=H65335,\" \",H65336)","v":" "},null,{"$f":"+MONTH(A65336)","v":1},{"$f":"+YEAR(A65336)","v":1900}]
[null,null,null,null,null,null,null,null," ",null,1,1900]
[null,null,null,null,null,null,null,null," ",null,1,1900]
[null,null,null,null,null,null,null,null," ",null,1,1900]
[null,null,null,null,null,null,null,null," ",null,1,1900]
[null,null,null,null,null,null,null,null," ",null,1,1900]
[null,null,null,null,null,null,null,null," ",null,1,1900]
[null,null,null,null,null,null,null,null," ",null,1,1900]
[null,null,null,null,null,null,null,null," ",null,1,1900]
[null,null,null,null,null,null,null,null," ",null,1,1900]
[null,null,null,null,null,null,null,null," ",null,1,1900]
[null,null,null,null,null,null,null,null," ",null,1,1900]
[null,null,null,null,null,null,null,null," ",null,1,1900]
[null,null,null,null,null,null,null,null," ",null,1,1900]
[null,null,null,null,null,null,null,null," ",null,1,1900]
[null,null,null,null,null,null,null,null," ",null,1,1900]
[null,null,null,null,null,null,null,null," ",null,1,1900]
[null,null,null,null,null,null,null,null," ",null,1,1900]
[null,null,null,null,null,null,null,null," ",null,1,1900]
[null,null,null,null,null,null,null,null," ",null,1,1900]
[null,null,null,null,null,null,null,null," ",null,1,1900]
[null,null,null,null,null,null,null,null," ",null,1,1900]
[null,null,null,null,null,null,null,null," ",null,1,1900]
[null,null,null,null,null,null,null,null," ",null,1,1900]
[null,null,null,null,null,null,null,null," ",null,1,1900]
[null,null,null,null,null,null,null,null," ",null,1,1900]
[null,null,null,null,null,null,null,null," ",null,1,1900]
[null,null,null,null,null,null,null,null," ",null,1,1900]
[null,null,null,null,null,null,null,null," ",null,1,1900]
[null,null,null,null,null,null,null,null," ",null,1,1900]
[null,null,null,null,null,null,null,null," ",null,1,1900]
[null,null,null,null,null,null,null,null," ",null,1,1900]
[null,null,null,null,null,null,null,null," ",null,1,1900]
[null,null,null,null,null,null,null,null," ",null,1,1900]
[null,null,null,null,null,null,null,null," ",null,1,1900]
[null,null,null,null,null,null,null,null," ",null,1,1900]
[null,null,null,null,null,null,null,null," ",null,1,1900]
[null,null,null,null,null,null,null,null," ",null,1,1900]
[null,null,null,null,null,null,null,null," ",null,1,1900]
[null,null,null,null,null,null,null,null," ",null,1,1900]
[null,null,null,null,null,null,null,null," ",null,1,1900]
[null,null,null,null,null,null,null,null," ",null,1,1900]
[null,null,null,null,null,null,null,null," ",null,1,1900]
[null,null,null,null,null,null,null,null," ",null,1,1900]
[null,null,null,null,null,null,null,null," ",null,1,1900]
[null,null,null,null,null,null,null,null," ",null,1,1900]
[null,null,null,null,null,null,null,null," ",null,1,1900]
[null,null,null,null,null,null,null,null," ",null,1,1900]
[null,null,null,null,null,null,null,null," ",null,1,1900]
[null,null,null,null,null,null,null,null," ",null,1,1900]
[null,null,null,null,null,null,null,null," ",null,1,1900]
[null,null,null,null,null,null,null,null," ",null,1,1900]
[null,null,null,null,null,null,null,null," ",null,1,1900]
[null,null,null,null,null,null,null,null," ",null,1,1900]
[null,null,null,null,null,null,null,null," ",null,1,1900]
[null,null,null,null,null,null,null,null," ",null,1,1900]
[null,null,null,null,null,null,null,null," ",null,1,1900]
[null,null,null,null,null,null,null,null," ",null,1,1900]
[null,null,null,null,null,null,null,null," ",null,1,1900]
[null,null,null,null,null,null,null,null," ",null,1,1900]
[null,null,null,null,null,null,null,null," ",null,1,1900]
[null,null,null,null,null,null,null,null," ",null,1,1900]
[null,null,null,null,null,null,null,null," ",null,1,1900]
[null,null,null,null,null,null,null,null," ",null,1,1900]
[null,null,null,null,null,null,null,null,{"$f":"+IF(H65400=H65399,\" \",H65400)","v":" "},null,{"$f":"+MONTH(A65400)","v":1},{"$f":"+YEAR(A65400)","v":1900}]
[null,null,null,null,null,null,null,null," ",null,1,1900]
[null,null,null,null,null,null,null,null," ",null,1,1900]
[null,null,null,null,null,null,null,null," ",null,1,1900]
[null,null,null,null,null,null,null,null," ",null,1,1900]
[null,null,null,null,null,null,null,null," ",null,1,1900]
[null,null,null,null,null,null,null,null," ",null,1,1900]
[null,null,null,null,null,null,null,null," ",null,1,1900]
[null,null,null,null,null,null,null,null," ",null,1,1900]
[null,null,null,null,null,null,null,null," ",null,1,1900]
[null,null,null,null,null,null,null,null," ",null,1,1900]
[null,null,null,null,null,null,null,null," ",null,1,1900]
[null,null,null,null,null,null,null,null," ",null,1,1900]
[null,null,null,null,null,null,null,null," ",null,1,1900]
[null,null,null,null,null,null,null,null," ",null,1,1900]
[null,null,null,null,null,null,null,null," ",null,1,1900]
[null,null,null,null,null,null,null,null," ",null,1,1900]
[null,null,null,null,null,null,null,null," ",null,1,1900]
[null,null,null,null,null,null,null,null," ",null,1,1900]
[null,null,null,null,null,null,null,null," ",null,1,1900]
[null,null,null,null,null,null,null,null," ",null,1,1900]
[null,null,null,null,null,null,null,null," ",null,1,1900]
[null,null,null,null,null,null,null,null," ",null,1,1900]
[null,null,null,null,null,null,null,null," ",null,1,1900]
[null,null,null,null,null,null,null,null," ",null,1,1900]
[null,null,null,null,null,null,null,null," ",null,1,1900]
[null,null,null,null,null,null,null,null," ",null,1,1900]
[null,null,null,null,null,null,null,null," ",null,1,1900]
[null,null,null,null,null,null,null,null," ",null,1,1900]
[null,null,null,null,null,null,null,null," ",null,1,1900]
[null,null,null,null,null,null,null,null," ",null,1,1900]
[null,null,null,null,null,null,null,null," ",null,1,1900]
[null,null,null,null,null,null,null,null," ",null,1,1900]
[null,null,null,null,null,null,null,null," ",null,1,1900]
[null,null,null,null,null,null,null,null," ",null,1,1900]
[null,null,null,null,null,null,null,null," ",null,1,1900]
[null,null,null,null,null,null,null,null," ",null,1,1900]
[null,null,null,null,null,null,null,null," ",null,1,1900]
[null,null,null,null,null,null,null,null," ",null,1,1900]
[null,null,null,null,null,null,null,null," ",null,1,1900]
[null,null,null,null,null,null,null,null," ",null,1,1900]
[null,null,null,null,null,null,null,null," ",null,1,1900]
[null,null,null,null,null,null,null,null," ",null,1,1900]
[null,null,null,null,null,null,null,null," ",null,1,1900]
[null,null,null,null,null,null,null,null," ",null,1,1900]
[null,null,null,null,null,null,null,null," ",null,1,1900]
[null,null,null,null,null,null,null,null," ",null,1,1900]
[null,null,null,null,null,null,null,null," ",null,1,1900]
[null,null,null,null,null,null,null,null," ",null,1,1900]
[null,null,null,null,null,null,null,null," ",null,1,1900]
[null,null,null,null,null,null,null,null," ",null,1,1900]
[null,null,null,null,null,null,null,null," ",null,1,1900]
[null,null,null,null,null,null,null,null," ",null,1,1900]
[null,null,null,null,null,null,null,null," ",null,1,1900]
[null,null,null,null,null,null,null,null," ",null,1,1900]
[null,null,null,null,null,null,null,null," ",null,1,1900]
[null,null,null,null,null,null,null,null," ",null,1,1900]
[null,null,null,null,null,null,null,null," ",null,1,1900]
[null,null,null,null,null,null,null,null," ",null,1,1900]
[null,null,null,null,null,null,null,null," ",null,1,1900]
[null,null,null,null,null,null,null,null," ",null,1,1900]
[null,null,null,null,null,null,null,null," ",null,1,1900]
[null,null,null,null,null,null,null,null," ",null,1,1900]
[null,null,null,null,null,null,null,null," ",null,1,1900]
[null,null,null,null,null,null,null,null,{"$f":"+IF(H65464=H65463,\" \",H65464)","v":" "},null,{"$f":"+MONTH(A65464)","v":1},{"$f":"+YEAR(A65464)","v":1900}]
[null,null,null,null,null,null,null,null," ",null,1,1900]
[null,null,null,null,null,null,null,null," ",null,1,1900]
[null,null,null,null,null,null,null,null," ",null,1,1900]
[null,null,null,null,null,null,null,null," ",null,1,1900]
[null,null,null,null,null,null,null,null," ",null,1,1900]
[null,null,null,null,null,null,null,null," ",null,1,1900]
[null,null,null,null,null,null,null,null," ",null,1,1900]
[null,null,null,null,null,null,null,null," ",null,1,1900]
[null,null,null,null,null,null,null,null," ",null,1,1900]
[null,null,null,null,null,null,null,null," ",null,1,1900]
[null,null,null,null,null,null,null,null," ",null,1,1900]
[null,null,null,null,null,null,null,null," ",null,1,1900]
[null,null,null,null,null,null,null,null," ",null,1,1900]
[null,null,null,null,null,null,null,null," ",null,1,1900]
[null,null,null,null,null,null,null,null," ",null,1,1900]
[null,null,null,null,null,null,null,null," ",null,1,1900]
[null,null,null,null,null,null,null,null," ",null,1,1900]
[null,null,null,null,null,null,null,null," ",null,1,1900]
[null,null,null,null,null,null,null,null," ",null,1,1900]
[null,null,null,null,null,null,null,null," ",null,1,1900]
[null,null,null,null,null,null,null,null," ",null,1,1900]
[null,null,null,null,null,null,null,null," ",null,1,1900]
[null,null,null,null,null,null,null,null," ",null,1,1900]
[null,null,null,null,null,null,null,null," ",null,1,1900]
[null,null,null,null,null,null,null,null," ",null,1,1900]
[null,null,null,null,null,null,null,null," ",null,1,1900]
[null,null,null,null,null,null,null,null," ",null,1,1900]
[null,null,null,null,null,null,null,null," ",null,1,1900]
[null,null,null,null,null,null,null,null," ",null,1,1900]
[null,null,null,null,null,null,null,null," ",null,1,1900]
[null,null,null,null,null,null,null,null," ",null,1,1900]
[null,null,null,null,null,null,null,null," ",null,1,1900]
[null,null,null,null,null,null,null,null," ",null,1,1900]
[null,null,null,null,null,null,null,null," ",null,1,1900]
[null,null,null,null,null,null,null,null," ",null,1,1900]
[null,null,null,null,null,null,null,null," ",null,1,1900]
[null,null,null,null,null,null,null,null," ",null,1,1900]
[null,null,null,null,null,null,null,null," ",null,1,1900]
[null,null,null,null,null,null,null,null," ",null,1,1900]
[null,null,null,null,null,null,null,null," ",null,1,1900]
[null,null,null,null,null,null,null,null," ",null,1,1900]
[null,null,null,null,null,null,null,null," ",null,1,1900]
[null,null,null,null,null,null,null,null," ",null,1,1900]
[null,null,null,null,null,null,null,null," ",null,1,1900]
[null,null,null,null,null,null,null,null," ",null,1,1900]
[null,null,null,null,null,null,null,null," ",null,1,1900]
[null,null,null,null,null,null,null,null," ",null,1,1900]
[null,null,null,null,null,null,null,null," ",null,1,1900]
[null,null,null,null,null,null,null,null," ",null,1,1900]
[null,null,null,null,null,null,null,null," ",null,1,1900]
[null,null,null,null,null,null,null,null," ",null,1,1900]
[null,null,null,null,null,null,null,null," ",null,1,1900]
[null,null,null,null,null,null,null,null," ",null,1,1900]
[null,null,null,null,null,null,null,null," ",null,1,1900]
[null,null,null,null,null,null,null,null," ",null,1,1900]
[null,null,null,null,null,null,null,null," ",null,1,1900]
[null,null,null,null,null,null,null,null," ",null,1,1900]
[null,null,null,null,null,null,null,null," ",null,1,1900]
[null,null,null,null,null,null,null,null," ",null,1,1900]
[null,null,null,null,null,null,null,null," ",null,1,1900]
[null,null,null,null,null,null,null,null," ",null,1,1900]
[null,null,null,null,null,null,null,null," ",null,1,1900]
[null,null,null,null,null,null,null,null," ",null,1,1900]
[null,null,null,null,null,null,null,null,{"$f":"+IF(H65528=H65527,\" \",H65528)","v":" "},null,{"$f":"+MONTH(A65528)","v":1},{"$f":"+YEAR(A65528)","v":1900}]
[null,null,null,null,null,null,null,null," ",null,1,1900]
[null,null,null,null,null,null,null,null," ",null,1,1900]
[null,null,null,null,null,null,null,null," ",null,1,1900]
[null,null,null,null,null,null,null,null," ",null,1,1900]
[null,null,null,null,null,null,null,null," ",null,1,1900]
[null,null,null,null,null,null,null,null," ",null,1,1900]
[null,null,null,null,null,null,null,null," ",null,1,1900]
[null,null,null,null,null,null,null,null," ",null,1,1900]

{"sheet":"Tabla de Amortizacion","index":4,"n_rows":184,"n_cols":13,"rows_kept":184,"cut":false,"hidden":true,"merged":[]}
["FECHA","Tabla de Amortización Valoración",null,null,"Tabla de Amortización Valoración","Tabla de Amortización Valoración","Tabla de Amortización Valoración","Tabla de Amortización Valoración","Tabla de Amortización Valoración","Tabla de Amortización Valoración","Tabla de Amortización Valoración","Tabla de Amortización Valoración","Tabla de Amortización Valoración"]
[null,{"$f":"+CALCULADORA!C9","v":"TIV V-6 A"},null,null,{"$f":"+Características!$B$1","v":"TIV V-2 A"},{"$f":"+Características!$C$1","v":"TIV V-3 A"},{"$f":"+Características!$D$1","v":"TIV V-4 A"},{"$f":"+Características!$E$1","v":"TIV V-5 A"},{"$f":"+Características!$F$1","v":"TIV V-6 A"},{"$f":"+Características!$G$1","v":0},{"$f":"+Características!$H$1","v":0},{"$f":"+Características!$I$1","v":0},{"$f":"+Características!$J$1","v":0}]
[{"$f":"+Flujos!A3","v":"2023-12-28"},{"$f":"+VLOOKUP(A3,$D$2:$M$182,MATCH($B$2,$D$2:$M$2,0),FALSE)","v":3.9758839999999997E-2},null,{"$f":"+A3","v":"2023-12-28"},2.2499999999999999E-2,0.02,3.062049E-2,4.6426549999999997E-2,3.9758839999999997E-2]
[{"$f":"+Flujos!A4","v":"2024-01-28"},{"$f":"+VLOOKUP(A4,$D$2:$M$182,MATCH($B$2,$D$2:$M$2,0),FALSE)","v":5.171535E-2},null,{"$f":"+A4","v":"2024-01-28"},2.2499999999999999E-2,0.02,5.7998649999999999E-2,3.9337949999999997E-2,5.171535E-2]
[{"$f":"+Flujos!A5","v":"2024-02-28"},5.3154399999999997E-2,null,"2024-02-28",2.2499999999999999E-2,0.02,5.7265440000000001E-2,5.9033370000000002E-2,5.3154399999999997E-2]
[{"$f":"+Flujos!A6","v":"2024-03-28"},5.7414819999999998E-2,null,"2024-03-28",2.2499999999999999E-2,0.02,5.5812760000000003E-2,4.388661E-2,5.7414819999999998E-2]
[{"$f":"+Flujos!A7","v":"2024-04-28"},4.4652009999999999E-2,null,"2024-04-28",2.2499999999999999E-2,0.02,3.8875769999999997E-2,4.698488E-2,4.4652009999999999E-2]
[{"$f":"+Flujos!A8","v":"2024-05-28"},4.3013460000000003E-2,null,"2024-05-28",2.2499999999999999E-2,0.02,4.52819E-2,4.241209E-2,4.3013460000000003E-2]
[{"$f":"+Flujos!A9","v":"2024-06-28"},5.4058620000000002E-2,null,"2024-06-28",2.2499999999999999E-2,0.02,3.9186840000000001E-2,3.399406E-2,5.4058620000000002E-2]
[{"$f":"+Flujos!A10","v":"2024-07-28"},6.5000000000000002E-2,null,"2024-07-28",2.2499999999999999E-2,0.02,4.0581430000000002E-2,4.1769340000000002E-2,6.5000000000000002E-2]
[{"$f":"+Flujos!A11","v":"2024-08-28"},6.5000000000000002E-2,null,"2024-08-28",2.2499999999999999E-2,0.02,5.0451910000000003E-2,4.034774E-2,6.5000000000000002E-2]
[{"$f":"+Flujos!A12","v":"2024-09-28"},5.4594459999999997E-2,null,"2024-09-28",2.2499999999999999E-2,0.02,3.8872829999999997E-2,3.9020119999999998E-2,5.4594459999999997E-2]
[{"$f":"+Flujos!A13","v":"2024-10-28"},5.2259659999999999E-2,null,"2024-10-28",2.2499999999999999E-2,0.02,4.0124699999999999E-2,3.7678780000000002E-2,5.2259659999999999E-2]
[{"$f":"+Flujos!A14","v":"2024-11-28"},4.9628739999999998E-2,null,"2024-11-28",2.2499999999999999E-2,4.8179899999999998E-2,3.6582450000000002E-2,3.5770290000000003E-2,4.9628739999999998E-2]
[{"$f":"+Flujos!A15","v":"2024-12-28"},5.3546509999999999E-2,null,"2024-12-28",2.2499999999999999E-2,6.5197309999999994E-2,3.2649919999999999E-2,3.8590640000000002E-2,5.3546509999999999E-2]
[{"$f":"+Flujos!A16","v":"2025-01-28"},5.1460720000000001E-2,null,"2025-01-28",2.2499999999999999E-2,5.4048550000000001E-2,4.022858E-2,3.741411E-2,5.1460720000000001E-2]
[{"$f":"+Flujos!A17","v":"2025-02-28"},4.9471920000000003E-2,null,"2025-02-28",2.2499999999999999E-2,5.5523839999999998E-2,4.043944E-2,3.6095889999999999E-2,4.9471920000000003E-2]
[{"$f":"+Flujos!A18","v":"2025-03-28"},4.753537E-2,null,"2025-03-28",2.2499999999999999E-2,4.5605779999999999E-2,3.5048669999999997E-2,3.4789599999999997E-2,4.753537E-2]
[{"$f":"+Flujos!A19","v":"2025-04-28"},4.5659650000000003E-2,null,"2025-04-28",2.2499999999999999E-2,5.110572E-2,3.3723629999999997E-2,3.3679340000000002E-2,4.5659650000000003E-2]
[{"$f":"+Flujos!A20","v":"2025-05-28"},4.3834140000000001E-2,null,"2025-05-28",2.2499999999999999E-2,5.441911E-2,3.241782E-2,3.244093E-2,4.3834140000000001E-2]
[{"$f":"+Flujos!A21","v":"2025-06-28"},4.2176760000000001E-2,null,"2025-06-28",2.2499999999999999E-2,4.9327549999999998E-2,3.1107470000000002E-2,3.1232989999999999E-2,4.2176760000000001E-2]
[{"$f":"+Flujos!A22","v":"2025-07-28"},3.6064569999999997E-2,null,"2025-07-28",2.2499999999999999E-2,3.8286939999999998E-2,0.02,3.0111510000000001E-2,3.6064569999999997E-2]
[{"$f":"+Flujos!A23","v":"2025-08-28"},0,null,"2025-08-28",2.2499999999999999E-2,4.780214E-2,2.6607309999999999E-2,2.9078050000000001E-2,0]
[{"$f":"+Flujos!A24","v":"2025-09-28"},0,null,"2025-09-28",2.2499999999999999E-2,4.0730059999999998E-2,3.1615219999999999E-2,2.8123180000000001E-2,0]
[{"$f":"+Flujos!A25","v":"2025-10-28"},0,null,"2025-10-28",2.2499999999999999E-2,3.6987409999999998E-2,3.0693089999999999E-2,2.7161040000000001E-2,0]
[{"$f":"+Flujos!A26","v":"2025-11-28"},0,null,"2025-11-28",2.2499999999999999E-2,3.9082199999999997E-2,2.906916E-2,2.547891E-2,0]
[{"$f":"+Flujos!A27","v":"2025-12-28"},0,null,"2025-12-28",2.2499999999999999E-2,3.792566E-2,2.872862E-2,2.5384919999999998E-2,0]
[{"$f":"+Flujos!A28","v":"2026-01-28"},0,null,"2026-01-28",2.2499999999999999E-2,3.8158360000000002E-2,2.791455E-2,2.4676090000000001E-2,0]
[{"$f":"+Flujos!A29","v":"2026-02-28"},0,null,"2026-02-28",2.2499999999999999E-2,2.9143800000000001E-2,2.6898789999999999E-2,2.377864E-2,0]
[{"$f":"+Flujos!A30","v":"2026-03-28"},0,null,"2026-03-28",2.2499999999999999E-2,4.1512189999999997E-2,1.2025600000000001E-3,2.2979630000000001E-2,0]
[{"$f":"+Flujos!A31","v":"2026-04-28"},0,null,"2026-04-28",2.2499999999999999E-2,6.9634800000000002E-3,0,1.232275E-2,0]
[{"$f":"+Flujos!A32","v":"2026-05-28"},0,null,"2026-05-28",2.2499999999999999E-2,0,0,0,0]
[{"$f":"+Flujos!A33","v":"2026-06-28"},0,null,"2026-06-28",2.2499999999999999E-2,0,0,0,0]
[{"$f":"+Flujos!A34","v":"2026-07-28"},0,null,"2026-07-28",2.2499999999999999E-2,0,0,0,0]
[{"$f":"+Flujos!A35","v":"2026-08-28"},0,null,"2026-08-28",2.2499999999999999E-2,0,0,0,0]
[{"$f":"+Flujos!A36","v":"2026-09-28"},0,null,"2026-09-28",2.2499999999999999E-2,0,0,0,0]
[{"$f":"+Flujos!A37","v":"2026-10-28"},0,null,"2026-10-28",2.2499999999999999E-2,0,0,0,0]
[{"$f":"+Flujos!A38","v":"2026-11-28"},0,null,"2026-11-28",2.2499999999999999E-2,0,0,0,0]
[{"$f":"+Flujos!A39","v":"2026-12-28"},0,null,"2026-12-28",5.6054649999999998E-2,0,0,0,0]
[{"$f":"+Flujos!A40","v":"2027-01-28"},0,null,"2027-01-28",4.4367330000000003E-2,0,0,0,0]
[{"$f":"+Flujos!A41","v":"2027-02-28"},0,null,"2027-02-28",4.4574549999999998E-2,0,0,0,0]
[{"$f":"+Flujos!A42","v":"2027-03-28"},0,null,"2027-03-28",4.5003469999999997E-2,0,0,0,0]
[{"$f":"+Flujos!A43","v":"2027-04-28"},0,null,"2027-04-28",0,0,0,0,0]
[{"$f":"+Flujos!A44","v":"2027-05-28"},0,null,"2027-05-28",0,0,0,0,0]
[{"$f":"+Flujos!A45","v":"2027-06-28"},0,null,"2027-06-28",0,0,0,0,0]
[{"$f":"+Flujos!A46","v":"2027-07-28"},0,null,"2027-07-28",0,0,0,0,0]
[{"$f":"+Flujos!A47","v":"2027-08-28"},0,null,"2027-08-28",0,0,0,0,0]
[{"$f":"+Flujos!A48","v":"2027-09-28"},0,null,"2027-09-28",0,0,0,0,0]
[{"$f":"+Flujos!A49","v":"2027-10-28"},0,null,"2027-10-28",0,0,0,0,0]
[{"$f":"+Flujos!A50","v":"2027-11-28"},0,null,"2027-11-28",0,0,0,0,0]
[{"$f":"+Flujos!A51","v":"2027-12-28"},0,null,"2027-12-28",0,0,0,0,0]
[{"$f":"+Flujos!A52","v":"2028-01-28"},0,null,"2028-01-28",0,0,0,0,0]
[{"$f":"+Flujos!A53","v":"2028-02-28"},0,null,"2028-02-28",0,0,0,0,0]
[{"$f":"+Flujos!A54","v":"2028-03-28"},0,null,"2028-03-28",0,0,0,0,0]
[{"$f":"+Flujos!A55","v":"2028-04-28"},0,null,"2028-04-28",0,0,0,0,0]
[{"$f":"+Flujos!A56","v":"2028-05-28"},0,null,"2028-05-28",0,0,0,0,0]
[{"$f":"+Flujos!A57","v":"2028-06-28"},0,null,"2028-06-28",0,0,0,0,0]
[{"$f":"+Flujos!A58","v":"2028-07-28"},0,null,"2028-07-28",0,0,0,0,0]
[{"$f":"+Flujos!A59","v":"2028-08-28"},0,null,"2028-08-28",0,0,0,0,0]
[{"$f":"+Flujos!A60","v":"2028-09-28"},0,null,"2028-09-28",0,0,0,0,0]
[{"$f":"+Flujos!A61","v":"2028-10-28"},0,null,"2028-10-28",0,0,0,0,0]
[{"$f":"+Flujos!A62","v":"2028-11-28"},0,null,"2028-11-28",0,0,0,0,0]
[{"$f":"+Flujos!A63","v":"2028-12-28"},0,null,"2028-12-28",0,0,0,0,0]
[{"$f":"+Flujos!A64","v":"2029-01-28"},0,null,"2029-01-28",0,0,0,0,0]
[{"$f":"+Flujos!A65","v":"2029-02-28"},0,null,"2029-02-28",0,0,0,0,0]
[{"$f":"+Flujos!A66","v":"2029-03-28"},0,null,"2029-03-28",0,0,0,0,0]
[{"$f":"+Flujos!A67","v":"2029-04-28"},0,null,"2029-04-28",0,0,0,0,0]
[{"$f":"+Flujos!A68","v":"2029-05-28"},{"$f":"+VLOOKUP(A68,$D$2:$M$182,MATCH($B$2,$D$2:$M$2,0),FALSE)","v":0},null,{"$f":"+A68","v":"2029-05-28"},0,0,0,0,0]
[{"$f":"+Flujos!A69","v":"2029-06-28"},0,null,"2029-06-28",0,0,0,0,0]
[{"$f":"+Flujos!A70","v":"2029-07-28"},0,null,"2029-07-28",0,0,0,0,0]
[{"$f":"+Flujos!A71","v":"2029-08-28"},0,null,"2029-08-28",0,0,0,0,0]
[{"$f":"+Flujos!A72","v":"2029-09-28"},0,null,"2029-09-28",0,0,0,0,0]
[{"$f":"+Flujos!A73","v":"2029-10-28"},0,null,"2029-10-28",0,0,0,0,0]
[{"$f":"+Flujos!A74","v":"2029-11-28"},0,null,"2029-11-28",0,0,0,0,0]
[{"$f":"+Flujos!A75","v":"2029-12-28"},0,null,"2029-12-28",0,0,0,0,0]
[{"$f":"+Flujos!A76","v":"2030-01-28"},0,null,"2030-01-28",0,0,0,0,0]
[{"$f":"+Flujos!A77","v":"2030-02-28"},0,null,"2030-02-28",0,0,0,0,0]
[{"$f":"+Flujos!A78","v":"2030-03-28"},0,null,"2030-03-28",0,0,0,0,0]
[{"$f":"+Flujos!A79","v":"2030-04-28"},0,null,"2030-04-28",0,0,0,0,0]
[{"$f":"+Flujos!A80","v":"2030-05-28"},0,null,"2030-05-28",0,0,0,0,0]
[{"$f":"+Flujos!A81","v":"2030-06-28"},0,null,"2030-06-28",0,0,0,0,0]
[{"$f":"+Flujos!A82","v":"2030-07-28"},0,null,"2030-07-28",0,0,0,0,0]
[{"$f":"+Flujos!A83","v":"2030-08-28"},0,null,"2030-08-28",0,0,0,0,0]
[{"$f":"+Flujos!A84","v":"2030-09-28"},0,null,"2030-09-28",0,0,0,0,0]
[{"$f":"+Flujos!A85","v":"2030-10-28"},0,null,"2030-10-28",0,0,0,0,0]
[{"$f":"+Flujos!A86","v":"2030-11-28"},0,null,"2030-11-28",0,0,0,0,0]
[{"$f":"+Flujos!A87","v":"2030-12-28"},0,null,"2030-12-28",0,0,0,0,0]
[{"$f":"+Flujos!A88","v":"2031-01-28"},0,null,"2031-01-28",0,0,0,0,0]
[{"$f":"+Flujos!A89","v":"2031-02-28"},0,null,"2031-02-28",0,0,0,0,0]
[{"$f":"+Flujos!A90","v":"2031-03-28"},0,null,"2031-03-28",0,0,0,0,0]
[{"$f":"+Flujos!A91","v":"2031-04-28"},0,null,"2031-04-28",0,0,0,0,0]
[{"$f":"+Flujos!A92","v":"2031-05-28"},0,null,"2031-05-28",0,0,0,0,0]
[{"$f":"+Flujos!A93","v":"2031-06-28"},0,null,"2031-06-28",0,0,0,0,0]
[{"$f":"+Flujos!A94","v":"2031-07-28"},0,null,"2031-07-28",0,0,0,0,0]
[{"$f":"+Flujos!A95","v":"2031-08-28"},0,null,"2031-08-28",0,0,0,0,0]
[{"$f":"+Flujos!A96","v":"2031-09-28"},0,null,"2031-09-28",0,0,0,0,0]
[{"$f":"+Flujos!A97","v":"2031-10-28"},0,null,"2031-10-28",0,0,0,0,0]
[{"$f":"+Flujos!A98","v":"2031-11-28"},0,null,"2031-11-28",0,0,0,0,0]
[{"$f":"+Flujos!A99","v":"2031-12-28"},0,null,"2031-12-28",0,0,0,0,0]
[{"$f":"+Flujos!A100","v":"2032-01-28"},0,null,"2032-01-28",0,0,0,0,0]
[{"$f":"+Flujos!A101","v":"2032-02-28"},0,null,"2032-02-28",0,0,0,0,0]
[{"$f":"+Flujos!A102","v":"2032-03-28"},0,null,"2032-03-28",0,0,0,0,0]
[{"$f":"+Flujos!A103","v":"2032-04-28"},0,null,"2032-04-28",0,0,0,0,0]
[{"$f":"+Flujos!A104","v":"2032-05-28"},0,null,"2032-05-28",0,0,0,0,0]
[{"$f":"+Flujos!A105","v":"2032-06-28"},0,null,"2032-06-28",0,0,0,0,0]
[{"$f":"+Flujos!A106","v":"2032-07-28"},0,null,"2032-07-28",0,0,0,0,0]
[{"$f":"+Flujos!A107","v":"2032-08-28"},0,null,"2032-08-28",0,0,0,0,0]
[{"$f":"+Flujos!A108","v":"2032-09-28"},0,null,"2032-09-28",0,0,0,0,0]
[{"$f":"+Flujos!A109","v":"2032-10-28"},0,null,"2032-10-28",0,0,0,0,0]
[{"$f":"+Flujos!A110","v":"2032-11-28"},0,null,"2032-11-28",0,0,0,0,0]
[{"$f":"+Flujos!A111","v":"2032-12-28"},0,null,"2032-12-28",0,0,0,0,0]
[{"$f":"+Flujos!A112","v":"2033-01-28"},0,null,"2033-01-28",0,0,0,0,0]
[{"$f":"+Flujos!A113","v":"2033-02-28"},0,null,"2033-02-28",0,0,0,0,0]
[{"$f":"+Flujos!A114","v":"2033-03-28"},0,null,"2033-03-28",0,0,0,0,0]
[{"$f":"+Flujos!A115","v":"2033-04-28"},0,null,"2033-04-28",0,0,0,0,0]
[{"$f":"+Flujos!A116","v":"2033-05-28"},0,null,"2033-05-28",0,0,0,0,0]
[{"$f":"+Flujos!A117","v":"2033-06-28"},0,null,"2033-06-28",0,0,0,0,0]
[{"$f":"+Flujos!A118","v":"2033-07-28"},0,null,"2033-07-28",0,0,0,0,0]
[{"$f":"+Flujos!A119","v":"2033-08-28"},0,null,"2033-08-28",0,0,0,0,0]
[{"$f":"+Flujos!A120","v":"2033-09-28"},0,null,"2033-09-28",0,0,0,0,0]
[{"$f":"+Flujos!A121","v":"2033-10-28"},0,null,"2033-10-28",0,0,0,0,0]
[{"$f":"+Flujos!A122","v":"2033-11-28"},0,null,"2033-11-28",0,0,0,0,0]
[{"$f":"+Flujos!A123","v":"2033-12-28"},0,null,"2033-12-28",0,0,0,0,0]
[{"$f":"+Flujos!A124","v":"2034-01-28"},0,null,"2034-01-28",0,0,0,0,0]
[{"$f":"+Flujos!A125","v":"2034-02-28"},0,null,"2034-02-28",0,0,0,0,0]
[{"$f":"+Flujos!A126","v":"2034-03-28"},0,null,"2034-03-28",0,0,0,0,0]
[{"$f":"+Flujos!A127","v":"2034-04-28"},0,null,"2034-04-28",0,0,0,0,0]
[{"$f":"+Flujos!A128","v":"2034-05-28"},0,null,"2034-05-28",0,0,0,0,0]
[{"$f":"+Flujos!A129","v":"2034-06-28"},0,null,"2034-06-28",0,0,0,0,0]
[{"$f":"+Flujos!A130","v":"2034-07-28"},0,null,"2034-07-28",0,0,0,0,0]
[{"$f":"+Flujos!A131","v":"2034-08-28"},0,null,"2034-08-28",0,0,0,0,0]
[{"$f":"+Flujos!A132","v":"2034-09-28"},{"$f":"+VLOOKUP(A132,$D$2:$M$182,MATCH($B$2,$D$2:$M$2,0),FALSE)","v":0},null,{"$f":"+A132","v":"2034-09-28"},0,0,0,0,0]
[{"$f":"+Flujos!A133","v":"2034-10-28"},0,null,"2034-10-28",0,0,0,0,0]
[{"$f":"+Flujos!A134","v":"2034-11-28"},0,null,"2034-11-28",0,0,0,0,0]
[{"$f":"+Flujos!A135","v":"2034-12-28"},0,null,"2034-12-28",0,0,0,0,0]
[{"$f":"+Flujos!A136","v":"2035-01-28"},0,null,"2035-01-28",0,0,0,0,0]
[{"$f":"+Flujos!A137","v":"2035-02-28"},0,null,"2035-02-28",0,0,0,0,0]
[{"$f":"+Flujos!A138","v":"2035-03-28"},0,null,"2035-03-28",0,0,0,0,0]
[{"$f":"+Flujos!A139","v":"2035-04-28"},0,null,"2035-04-28",0,0,0,0,0]
[{"$f":"+Flujos!A140","v":"2035-05-28"},0,null,"2035-05-28",0,0,0,0,0]
[{"$f":"+Flujos!A141","v":"2035-06-28"},0,null,"2035-06-28",0,0,0,0,0]
[{"$f":"+Flujos!A142","v":"2035-07-28"},0,null,"2035-07-28",0,0,0,0,0]
[{"$f":"+Flujos!A143","v":"2035-08-28"},0,null,"2035-08-28",0,0,0,0,0]
[{"$f":"+Flujos!A144","v":"2035-09-28"},0,null,"2035-09-28",0,0,0,0,0]
[{"$f":"+Flujos!A145","v":"2035-10-28"},0,null,"2035-10-28",0,0,0,0,0]
[{"$f":"+Flujos!A146","v":"2035-11-28"},0,null,"2035-11-28",0,0,0,0,0]
[{"$f":"+Flujos!A147","v":"2035-12-28"},0,null,"2035-12-28",0,0,0,0,0]
[{"$f":"+Flujos!A148","v":"2036-01-28"},0,null,"2036-01-28",0,0,0,0,0]
[{"$f":"+Flujos!A149","v":"2036-02-28"},0,null,"2036-02-28",0,0,0,0,0]
[{"$f":"+Flujos!A150","v":"2036-03-28"},0,null,"2036-03-28",0,0,0,0,0]
[{"$f":"+Flujos!A151","v":"2036-04-28"},0,null,"2036-04-28",0,0,0,0,0]
[{"$f":"+Flujos!A152","v":"2036-05-28"},0,null,"2036-05-28",0,0,0,0,0]
[{"$f":"+Flujos!A153","v":"2036-06-28"},0,null,"2036-06-28",0,0,0,0,0]
[{"$f":"+Flujos!A154","v":"2036-07-28"},0,null,"2036-07-28",0,0,0,0,0]
[{"$f":"+Flujos!A155","v":"2036-08-28"},0,null,"2036-08-28",0,0,0,0,0]
[{"$f":"+Flujos!A156","v":"2036-09-28"},0,null,"2036-09-28",0,0,0,0,0]
[{"$f":"+Flujos!A157","v":"2036-10-28"},0,null,"2036-10-28",0,0,0,0,0]
[{"$f":"+Flujos!A158","v":"2036-11-28"},0,null,"2036-11-28",0,0,0,0,0]
[{"$f":"+Flujos!A159","v":"2036-12-28"},0,null,"2036-12-28",0,0,0,0,0]
[{"$f":"+Flujos!A160","v":"2037-01-28"},0,null,"2037-01-28",0,0,0,0,0]
[{"$f":"+Flujos!A161","v":"2037-02-28"},0,null,"2037-02-28",0,0,0,0,0]
[{"$f":"+Flujos!A162","v":"2037-03-28"},0,null,"2037-03-28",0,0,0,0,0]
[{"$f":"+Flujos!A163","v":"2037-04-28"},0,null,"2037-04-28",0,0,0,0,0]
[{"$f":"+Flujos!A164","v":"2037-05-28"},0,null,"2037-05-28",0,0,0,0,0]
[{"$f":"+Flujos!A165","v":"2037-06-28"},0,null,"2037-06-28",0,0,0,0,0]
[{"$f":"+Flujos!A166","v":"2037-07-28"},0,null,"2037-07-28",0,0,0,0,0]
[{"$f":"+Flujos!A167","v":"2037-08-28"},0,null,"2037-08-28",0,0,0,0,0]
[{"$f":"+Flujos!A168","v":"2037-09-28"},0,null,"2037-09-28",0,0,0,0,0]
[{"$f":"+Flujos!A169","v":"2037-10-28"},0,null,"2037-10-28",0,0,0,0,0]
[{"$f":"+Flujos!A170","v":"2037-11-28"},0,null,"2037-11-28",0,0,0,0,0]
[{"$f":"+Flujos!A171","v":"2037-12-28"},0,null,"2037-12-28",0,0,0,0,0]
[{"$f":"+Flujos!A172","v":"2038-01-28"},0,null,"2038-01-28",0,0,0,0,0]
[{"$f":"+Flujos!A173","v":"2038-02-28"},0,null,"2038-02-28",0,0,0,0,0]
[{"$f":"+Flujos!A174","v":"2038-03-28"},0,null,"2038-03-28",0,0,0,0,0]
[{"$f":"+Flujos!A175","v":"2038-04-28"},0,null,"2038-04-28",0,0,0,0,0]
[{"$f":"+Flujos!A176","v":"2038-05-28"},0,null,"2038-05-28",0,0,0,0,0]
[{"$f":"+Flujos!A177","v":"2038-06-28"},0,null,"2038-06-28",0,0,0,0,0]
[{"$f":"+Flujos!A178","v":"2038-07-28"},0,null,"2038-07-28",0,0,0,0,0]
[{"$f":"+Flujos!A179","v":"2038-08-28"},0,null,"2038-08-28",0,0,0,0,0]
[{"$f":"+Flujos!A180","v":"2038-09-28"},0,null,"2038-09-28",0,0,0,0,0]
[{"$f":"+Flujos!A181","v":"2038-10-28"},0,null,"2038-10-28",0,0,0,0,0]
[{"$f":"+Flujos!A182","v":"2038-11-28"},0,null,"2038-11-28",0,0,0,0,0]
[null,{"$error":"#N/A"},null,null,{"$f":"SUM(E3:E182)","v":0.99999999999999978},0.99999999999999989,1.0000000000000002,1,1,0,0,0,{"$f":"SUM(M3:M182)","v":0}]
[null,{"$error":"#N/A"},null,null,{"$f":"1-E183","v":0},0,0,0,0,1,1,1,{"$f":"1-M183","v":1}]

{"sheet":"Tablas","index":5,"n_rows":181,"n_cols":5,"rows_kept":181,"cut":false,"hidden":true,"merged":[]}
["FECHA",{"$f":"+CALCULADORA!C9","v":"TIV V-6 A"},"Valoración"]
[{"$f":"+'Tabla de Amortizacion'!A3","v":"2023-12-28"},{"$f":"+ROUND(C2,8)","v":3.9758839999999997E-2},{"$f":"+VLOOKUP(A2,'Tabla de Amortizacion'!$D$2:$M$182,MATCH(Tablas!$B$1,'Tabla de Amortizacion'!$D$2:$M$2,0))","v":3.9758839999999997E-2},null,0]
[{"$f":"EDATE(A2,1)","v":"2024-01-28"},{"$f":"+ROUND(C3,8)","v":5.171535E-2},{"$f":"+VLOOKUP(A3,'Tabla de Amortizacion'!$D$2:$M$182,MATCH(Tablas!$B$1,'Tabla de Amortizacion'!$D$2:$M$2,0))","v":5.171535E-2},null,0]
["2024-02-28",5.3154399999999997E-2,{"$f":"+VLOOKUP(A4,'Tabla de Amortizacion'!$D$2:$M$182,MATCH(Tablas!$B$1,'Tabla de Amortizacion'!$D$2:$M$2,0))","v":5.3154399999999997E-2},null,0]
["2024-03-28",5.7414819999999998E-2,{"$f":"+VLOOKUP(A5,'Tabla de Amortizacion'!$D$2:$M$182,MATCH(Tablas!$B$1,'Tabla de Amortizacion'!$D$2:$M$2,0))","v":5.7414819999999998E-2},null,0]
["2024-04-28",4.4652009999999999E-2,{"$f":"+VLOOKUP(A6,'Tabla de Amortizacion'!$D$2:$M$182,MATCH(Tablas!$B$1,'Tabla de Amortizacion'!$D$2:$M$2,0))","v":4.4652009999999999E-2},null,0]
["2024-05-28",4.3013460000000003E-2,{"$f":"+VLOOKUP(A7,'Tabla de Amortizacion'!$D$2:$M$182,MATCH(Tablas!$B$1,'Tabla de Amortizacion'!$D$2:$M$2,0))","v":4.3013460000000003E-2},null,0]
["2024-06-28",5.4058620000000002E-2,{"$f":"+VLOOKUP(A8,'Tabla de Amortizacion'!$D$2:$M$182,MATCH(Tablas!$B$1,'Tabla de Amortizacion'!$D$2:$M$2,0))","v":5.4058620000000002E-2},null,0]
["2024-07-28",6.5000000000000002E-2,{"$f":"+VLOOKUP(A9,'Tabla de Amortizacion'!$D$2:$M$182,MATCH(Tablas!$B$1,'Tabla de Amortizacion'!$D$2:$M$2,0))","v":6.5000000000000002E-2},null,0]
["2024-08-28",6.5000000000000002E-2,{"$f":"+VLOOKUP(A10,'Tabla de Amortizacion'!$D$2:$M$182,MATCH(Tablas!$B$1,'Tabla de Amortizacion'!$D$2:$M$2,0))","v":6.5000000000000002E-2},null,0]
["2024-09-28",5.4594459999999997E-2,{"$f":"+VLOOKUP(A11,'Tabla de Amortizacion'!$D$2:$M$182,MATCH(Tablas!$B$1,'Tabla de Amortizacion'!$D$2:$M$2,0))","v":5.4594459999999997E-2},null,0]
["2024-10-28",5.2259659999999999E-2,{"$f":"+VLOOKUP(A12,'Tabla de Amortizacion'!$D$2:$M$182,MATCH(Tablas!$B$1,'Tabla de Amortizacion'!$D$2:$M$2,0))","v":5.2259659999999999E-2},null,0]
["2024-11-28",4.9628739999999998E-2,{"$f":"+VLOOKUP(A13,'Tabla de Amortizacion'!$D$2:$M$182,MATCH(Tablas!$B$1,'Tabla de Amortizacion'!$D$2:$M$2,0))","v":4.9628739999999998E-2},null,0]
["2024-12-28",5.3546509999999999E-2,{"$f":"+VLOOKUP(A14,'Tabla de Amortizacion'!$D$2:$M$182,MATCH(Tablas!$B$1,'Tabla de Amortizacion'!$D$2:$M$2,0))","v":5.3546509999999999E-2},null,0]
["2025-01-28",5.1460720000000001E-2,{"$f":"+VLOOKUP(A15,'Tabla de Amortizacion'!$D$2:$M$182,MATCH(Tablas!$B$1,'Tabla de Amortizacion'!$D$2:$M$2,0))","v":5.1460720000000001E-2},null,0]
["2025-02-28",4.9471920000000003E-2,{"$f":"+VLOOKUP(A16,'Tabla de Amortizacion'!$D$2:$M$182,MATCH(Tablas!$B$1,'Tabla de Amortizacion'!$D$2:$M$2,0))","v":4.9471920000000003E-2},null,0]
["2025-03-28",4.753537E-2,{"$f":"+VLOOKUP(A17,'Tabla de Amortizacion'!$D$2:$M$182,MATCH(Tablas!$B$1,'Tabla de Amortizacion'!$D$2:$M$2,0))","v":4.753537E-2},null,0]
["2025-04-28",4.5659650000000003E-2,{"$f":"+VLOOKUP(A18,'Tabla de Amortizacion'!$D$2:$M$182,MATCH(Tablas!$B$1,'Tabla de Amortizacion'!$D$2:$M$2,0))","v":4.5659650000000003E-2},null,0]
["2025-05-28",4.3834140000000001E-2,{"$f":"+VLOOKUP(A19,'Tabla de Amortizacion'!$D$2:$M$182,MATCH(Tablas!$B$1,'Tabla de Amortizacion'!$D$2:$M$2,0))","v":4.3834140000000001E-2},null,0]
["2025-06-28",4.2176760000000001E-2,{"$f":"+VLOOKUP(A20,'Tabla de Amortizacion'!$D$2:$M$182,MATCH(Tablas!$B$1,'Tabla de Amortizacion'!$D$2:$M$2,0))","v":4.2176760000000001E-2},null,0]
["2025-07-28",3.6064569999999997E-2,{"$f":"+VLOOKUP(A21,'Tabla de Amortizacion'!$D$2:$M$182,MATCH(Tablas!$B$1,'Tabla de Amortizacion'!$D$2:$M$2,0))","v":3.6064569999999997E-2},null,0]
["2025-08-28",0,{"$f":"+VLOOKUP(A22,'Tabla de Amortizacion'!$D$2:$M$182,MATCH(Tablas!$B$1,'Tabla de Amortizacion'!$D$2:$M$2,0))","v":0},null,0]
["2025-09-28",0,{"$f":"+VLOOKUP(A23,'Tabla de Amortizacion'!$D$2:$M$182,MATCH(Tablas!$B$1,'Tabla de Amortizacion'!$D$2:$M$2,0))","v":0},null,0]
["2025-10-28",0,{"$f":"+VLOOKUP(A24,'Tabla de Amortizacion'!$D$2:$M$182,MATCH(Tablas!$B$1,'Tabla de Amortizacion'!$D$2:$M$2,0))","v":0},null,0]
["2025-11-28",0,{"$f":"+VLOOKUP(A25,'Tabla de Amortizacion'!$D$2:$M$182,MATCH(Tablas!$B$1,'Tabla de Amortizacion'!$D$2:$M$2,0))","v":0},null,0]
["2025-12-28",0,{"$f":"+VLOOKUP(A26,'Tabla de Amortizacion'!$D$2:$M$182,MATCH(Tablas!$B$1,'Tabla de Amortizacion'!$D$2:$M$2,0))","v":0},null,0]
["2026-01-28",0,{"$f":"+VLOOKUP(A27,'Tabla de Amortizacion'!$D$2:$M$182,MATCH(Tablas!$B$1,'Tabla de Amortizacion'!$D$2:$M$2,0))","v":0},null,0]
["2026-02-28",0,{"$f":"+VLOOKUP(A28,'Tabla de Amortizacion'!$D$2:$M$182,MATCH(Tablas!$B$1,'Tabla de Amortizacion'!$D$2:$M$2,0))","v":0},null,0]
["2026-03-28",0,{"$f":"+VLOOKUP(A29,'Tabla de Amortizacion'!$D$2:$M$182,MATCH(Tablas!$B$1,'Tabla de Amortizacion'!$D$2:$M$2,0))","v":0},null,0]
["2026-04-28",0,{"$f":"+VLOOKUP(A30,'Tabla de Amortizacion'!$D$2:$M$182,MATCH(Tablas!$B$1,'Tabla de Amortizacion'!$D$2:$M$2,0))","v":0},null,0]
["2026-05-28",0,{"$f":"+VLOOKUP(A31,'Tabla de Amortizacion'!$D$2:$M$182,MATCH(Tablas!$B$1,'Tabla de Amortizacion'!$D$2:$M$2,0))","v":0},null,0]
["2026-06-28",0,{"$f":"+VLOOKUP(A32,'Tabla de Amortizacion'!$D$2:$M$182,MATCH(Tablas!$B$1,'Tabla de Amortizacion'!$D$2:$M$2,0))","v":0},null,0]
["2026-07-28",0,{"$f":"+VLOOKUP(A33,'Tabla de Amortizacion'!$D$2:$M$182,MATCH(Tablas!$B$1,'Tabla de Amortizacion'!$D$2:$M$2,0))","v":0},null,0]
["2026-08-28",0,{"$f":"+VLOOKUP(A34,'Tabla de Amortizacion'!$D$2:$M$182,MATCH(Tablas!$B$1,'Tabla de Amortizacion'!$D$2:$M$2,0))","v":0},null,0]
["2026-09-28",0,{"$f":"+VLOOKUP(A35,'Tabla de Amortizacion'!$D$2:$M$182,MATCH(Tablas!$B$1,'Tabla de Amortizacion'!$D$2:$M$2,0))","v":0},null,0]
["2026-10-28",0,{"$f":"+VLOOKUP(A36,'Tabla de Amortizacion'!$D$2:$M$182,MATCH(Tablas!$B$1,'Tabla de Amortizacion'!$D$2:$M$2,0))","v":0},null,0]
["2026-11-28",0,{"$f":"+VLOOKUP(A37,'Tabla de Amortizacion'!$D$2:$M$182,MATCH(Tablas!$B$1,'Tabla de Amortizacion'!$D$2:$M$2,0))","v":0},null,0]
["2026-12-28",0,{"$f":"+VLOOKUP(A38,'Tabla de Amortizacion'!$D$2:$M$182,MATCH(Tablas!$B$1,'Tabla de Amortizacion'!$D$2:$M$2,0))","v":0},null,0]
["2027-01-28",0,{"$f":"+VLOOKUP(A39,'Tabla de Amortizacion'!$D$2:$M$182,MATCH(Tablas!$B$1,'Tabla de Amortizacion'!$D$2:$M$2,0))","v":0},null,0]
["2027-02-28",0,{"$f":"+VLOOKUP(A40,'Tabla de Amortizacion'!$D$2:$M$182,MATCH(Tablas!$B$1,'Tabla de Amortizacion'!$D$2:$M$2,0))","v":0},null,0]
["2027-03-28",0,{"$f":"+VLOOKUP(A41,'Tabla de Amortizacion'!$D$2:$M$182,MATCH(Tablas!$B$1,'Tabla de Amortizacion'!$D$2:$M$2,0))","v":0},null,0]
["2027-04-28",0,{"$f":"+VLOOKUP(A42,'Tabla de Amortizacion'!$D$2:$M$182,MATCH(Tablas!$B$1,'Tabla de Amortizacion'!$D$2:$M$2,0))","v":0},null,0]
["2027-05-28",0,{"$f":"+VLOOKUP(A43,'Tabla de Amortizacion'!$D$2:$M$182,MATCH(Tablas!$B$1,'Tabla de Amortizacion'!$D$2:$M$2,0))","v":0},null,0]
["2027-06-28",0,{"$f":"+VLOOKUP(A44,'Tabla de Amortizacion'!$D$2:$M$182,MATCH(Tablas!$B$1,'Tabla de Amortizacion'!$D$2:$M$2,0))","v":0},null,0]
["2027-07-28",0,{"$f":"+VLOOKUP(A45,'Tabla de Amortizacion'!$D$2:$M$182,MATCH(Tablas!$B$1,'Tabla de Amortizacion'!$D$2:$M$2,0))","v":0},null,0]
["2027-08-28",0,{"$f":"+VLOOKUP(A46,'Tabla de Amortizacion'!$D$2:$M$182,MATCH(Tablas!$B$1,'Tabla de Amortizacion'!$D$2:$M$2,0))","v":0},null,0]
["2027-09-28",0,{"$f":"+VLOOKUP(A47,'Tabla de Amortizacion'!$D$2:$M$182,MATCH(Tablas!$B$1,'Tabla de Amortizacion'!$D$2:$M$2,0))","v":0},null,0]
["2027-10-28",0,{"$f":"+VLOOKUP(A48,'Tabla de Amortizacion'!$D$2:$M$182,MATCH(Tablas!$B$1,'Tabla de Amortizacion'!$D$2:$M$2,0))","v":0},null,0]
["2027-11-28",0,{"$f":"+VLOOKUP(A49,'Tabla de Amortizacion'!$D$2:$M$182,MATCH(Tablas!$B$1,'Tabla de Amortizacion'!$D$2:$M$2,0))","v":0},null,0]
["2027-12-28",0,{"$f":"+VLOOKUP(A50,'Tabla de Amortizacion'!$D$2:$M$182,MATCH(Tablas!$B$1,'Tabla de Amortizacion'!$D$2:$M$2,0))","v":0},null,0]
["2028-01-28",0,{"$f":"+VLOOKUP(A51,'Tabla de Amortizacion'!$D$2:$M$182,MATCH(Tablas!$B$1,'Tabla de Amortizacion'!$D$2:$M$2,0))","v":0},null,0]
["2028-02-28",0,{"$f":"+VLOOKUP(A52,'Tabla de Amortizacion'!$D$2:$M$182,MATCH(Tablas!$B$1,'Tabla de Amortizacion'!$D$2:$M$2,0))","v":0},null,0]
["2028-03-28",0,{"$f":"+VLOOKUP(A53,'Tabla de Amortizacion'!$D$2:$M$182,MATCH(Tablas!$B$1,'Tabla de Amortizacion'!$D$2:$M$2,0))","v":0},null,0]
["2028-04-28",0,{"$f":"+VLOOKUP(A54,'Tabla de Amortizacion'!$D$2:$M$182,MATCH(Tablas!$B$1,'Tabla de Amortizacion'!$D$2:$M$2,0))","v":0},null,0]
["2028-05-28",0,{"$f":"+VLOOKUP(A55,'Tabla de Amortizacion'!$D$2:$M$182,MATCH(Tablas!$B$1,'Tabla de Amortizacion'!$D$2:$M$2,0))","v":0},null,0]
["2028-06-28",0,{"$f":"+VLOOKUP(A56,'Tabla de Amortizacion'!$D$2:$M$182,MATCH(Tablas!$B$1,'Tabla de Amortizacion'!$D$2:$M$2,0))","v":0},null,0]
["2028-07-28",0,{"$f":"+VLOOKUP(A57,'Tabla de Amortizacion'!$D$2:$M$182,MATCH(Tablas!$B$1,'Tabla de Amortizacion'!$D$2:$M$2,0))","v":0},null,0]
["2028-08-28",0,{"$f":"+VLOOKUP(A58,'Tabla de Amortizacion'!$D$2:$M$182,MATCH(Tablas!$B$1,'Tabla de Amortizacion'!$D$2:$M$2,0))","v":0},null,0]
["2028-09-28",0,{"$f":"+VLOOKUP(A59,'Tabla de Amortizacion'!$D$2:$M$182,MATCH(Tablas!$B$1,'Tabla de Amortizacion'!$D$2:$M$2,0))","v":0},null,0]
["2028-10-28",0,{"$f":"+VLOOKUP(A60,'Tabla de Amortizacion'!$D$2:$M$182,MATCH(Tablas!$B$1,'Tabla de Amortizacion'!$D$2:$M$2,0))","v":0},null,0]
["2028-11-28",0,{"$f":"+VLOOKUP(A61,'Tabla de Amortizacion'!$D$2:$M$182,MATCH(Tablas!$B$1,'Tabla de Amortizacion'!$D$2:$M$2,0))","v":0},null,0]
["2028-12-28",0,{"$f":"+VLOOKUP(A62,'Tabla de Amortizacion'!$D$2:$M$182,MATCH(Tablas!$B$1,'Tabla de Amortizacion'!$D$2:$M$2,0))","v":0},null,0]
["2029-01-28",0,{"$f":"+VLOOKUP(A63,'Tabla de Amortizacion'!$D$2:$M$182,MATCH(Tablas!$B$1,'Tabla de Amortizacion'!$D$2:$M$2,0))","v":0},null,0]
["2029-02-28",0,{"$f":"+VLOOKUP(A64,'Tabla de Amortizacion'!$D$2:$M$182,MATCH(Tablas!$B$1,'Tabla de Amortizacion'!$D$2:$M$2,0))","v":0},null,0]
["2029-03-28",0,{"$f":"+VLOOKUP(A65,'Tabla de Amortizacion'!$D$2:$M$182,MATCH(Tablas!$B$1,'Tabla de Amortizacion'!$D$2:$M$2,0))","v":0},null,0]
["2029-04-28",0,{"$f":"+VLOOKUP(A66,'Tabla de Amortizacion'!$D$2:$M$182,MATCH(Tablas!$B$1,'Tabla de Amortizacion'!$D$2:$M$2,0))","v":0},null,0]
[{"$f":"EDATE(A66,1)","v":"2029-05-28"},{"$f":"+ROUND(C67,8)","v":0},{"$f":"+VLOOKUP(A67,'Tabla de Amortizacion'!$D$2:$M$182,MATCH(Tablas!$B$1,'Tabla de Amortizacion'!$D$2:$M$2,0))","v":0},null,0]
["2029-06-28",0,{"$f":"+VLOOKUP(A68,'Tabla de Amortizacion'!$D$2:$M$182,MATCH(Tablas!$B$1,'Tabla de Amortizacion'!$D$2:$M$2,0))","v":0},null,0]
["2029-07-28",0,{"$f":"+VLOOKUP(A69,'Tabla de Amortizacion'!$D$2:$M$182,MATCH(Tablas!$B$1,'Tabla de Amortizacion'!$D$2:$M$2,0))","v":0},null,0]
["2029-08-28",0,{"$f":"+VLOOKUP(A70,'Tabla de Amortizacion'!$D$2:$M$182,MATCH(Tablas!$B$1,'Tabla de Amortizacion'!$D$2:$M$2,0))","v":0},null,0]
["2029-09-28",0,{"$f":"+VLOOKUP(A71,'Tabla de Amortizacion'!$D$2:$M$182,MATCH(Tablas!$B$1,'Tabla de Amortizacion'!$D$2:$M$2,0))","v":0},null,0]
["2029-10-28",0,{"$f":"+VLOOKUP(A72,'Tabla de Amortizacion'!$D$2:$M$182,MATCH(Tablas!$B$1,'Tabla de Amortizacion'!$D$2:$M$2,0))","v":0},null,0]
["2029-11-28",0,{"$f":"+VLOOKUP(A73,'Tabla de Amortizacion'!$D$2:$M$182,MATCH(Tablas!$B$1,'Tabla de Amortizacion'!$D$2:$M$2,0))","v":0},null,0]
["2029-12-28",0,{"$f":"+VLOOKUP(A74,'Tabla de Amortizacion'!$D$2:$M$182,MATCH(Tablas!$B$1,'Tabla de Amortizacion'!$D$2:$M$2,0))","v":0},null,0]
["2030-01-28",0,{"$f":"+VLOOKUP(A75,'Tabla de Amortizacion'!$D$2:$M$182,MATCH(Tablas!$B$1,'Tabla de Amortizacion'!$D$2:$M$2,0))","v":0},null,0]
["2030-02-28",0,{"$f":"+VLOOKUP(A76,'Tabla de Amortizacion'!$D$2:$M$182,MATCH(Tablas!$B$1,'Tabla de Amortizacion'!$D$2:$M$2,0))","v":0},null,0]
["2030-03-28",0,{"$f":"+VLOOKUP(A77,'Tabla de Amortizacion'!$D$2:$M$182,MATCH(Tablas!$B$1,'Tabla de Amortizacion'!$D$2:$M$2,0))","v":0},null,0]
["2030-04-28",0,{"$f":"+VLOOKUP(A78,'Tabla de Amortizacion'!$D$2:$M$182,MATCH(Tablas!$B$1,'Tabla de Amortizacion'!$D$2:$M$2,0))","v":0},null,0]
["2030-05-28",0,{"$f":"+VLOOKUP(A79,'Tabla de Amortizacion'!$D$2:$M$182,MATCH(Tablas!$B$1,'Tabla de Amortizacion'!$D$2:$M$2,0))","v":0},null,0]
["2030-06-28",0,{"$f":"+VLOOKUP(A80,'Tabla de Amortizacion'!$D$2:$M$182,MATCH(Tablas!$B$1,'Tabla de Amortizacion'!$D$2:$M$2,0))","v":0},null,0]
["2030-07-28",0,{"$f":"+VLOOKUP(A81,'Tabla de Amortizacion'!$D$2:$M$182,MATCH(Tablas!$B$1,'Tabla de Amortizacion'!$D$2:$M$2,0))","v":0},null,0]
["2030-08-28",0,{"$f":"+VLOOKUP(A82,'Tabla de Amortizacion'!$D$2:$M$182,MATCH(Tablas!$B$1,'Tabla de Amortizacion'!$D$2:$M$2,0))","v":0},null,0]
["2030-09-28",0,{"$f":"+VLOOKUP(A83,'Tabla de Amortizacion'!$D$2:$M$182,MATCH(Tablas!$B$1,'Tabla de Amortizacion'!$D$2:$M$2,0))","v":0},null,0]
["2030-10-28",0,{"$f":"+VLOOKUP(A84,'Tabla de Amortizacion'!$D$2:$M$182,MATCH(Tablas!$B$1,'Tabla de Amortizacion'!$D$2:$M$2,0))","v":0},null,0]
["2030-11-28",0,{"$f":"+VLOOKUP(A85,'Tabla de Amortizacion'!$D$2:$M$182,MATCH(Tablas!$B$1,'Tabla de Amortizacion'!$D$2:$M$2,0))","v":0},null,0]
["2030-12-28",0,{"$f":"+VLOOKUP(A86,'Tabla de Amortizacion'!$D$2:$M$182,MATCH(Tablas!$B$1,'Tabla de Amortizacion'!$D$2:$M$2,0))","v":0},null,0]
["2031-01-28",0,{"$f":"+VLOOKUP(A87,'Tabla de Amortizacion'!$D$2:$M$182,MATCH(Tablas!$B$1,'Tabla de Amortizacion'!$D$2:$M$2,0))","v":0},null,0]
["2031-02-28",0,{"$f":"+VLOOKUP(A88,'Tabla de Amortizacion'!$D$2:$M$182,MATCH(Tablas!$B$1,'Tabla de Amortizacion'!$D$2:$M$2,0))","v":0},null,0]
["2031-03-28",0,{"$f":"+VLOOKUP(A89,'Tabla de Amortizacion'!$D$2:$M$182,MATCH(Tablas!$B$1,'Tabla de Amortizacion'!$D$2:$M$2,0))","v":0},null,0]
["2031-04-28",0,{"$f":"+VLOOKUP(A90,'Tabla de Amortizacion'!$D$2:$M$182,MATCH(Tablas!$B$1,'Tabla de Amortizacion'!$D$2:$M$2,0))","v":0},null,0]
["2031-05-28",0,{"$f":"+VLOOKUP(A91,'Tabla de Amortizacion'!$D$2:$M$182,MATCH(Tablas!$B$1,'Tabla de Amortizacion'!$D$2:$M$2,0))","v":0},null,0]
["2031-06-28",0,{"$f":"+VLOOKUP(A92,'Tabla de Amortizacion'!$D$2:$M$182,MATCH(Tablas!$B$1,'Tabla de Amortizacion'!$D$2:$M$2,0))","v":0},null,0]
["2031-07-28",0,{"$f":"+VLOOKUP(A93,'Tabla de Amortizacion'!$D$2:$M$182,MATCH(Tablas!$B$1,'Tabla de Amortizacion'!$D$2:$M$2,0))","v":0},null,0]
["2031-08-28",0,{"$f":"+VLOOKUP(A94,'Tabla de Amortizacion'!$D$2:$M$182,MATCH(Tablas!$B$1,'Tabla de Amortizacion'!$D$2:$M$2,0))","v":0},null,0]
["2031-09-28",0,{"$f":"+VLOOKUP(A95,'Tabla de Amortizacion'!$D$2:$M$182,MATCH(Tablas!$B$1,'Tabla de Amortizacion'!$D$2:$M$2,0))","v":0},null,0]
["2031-10-28",0,{"$f":"+VLOOKUP(A96,'Tabla de Amortizacion'!$D$2:$M$182,MATCH(Tablas!$B$1,'Tabla de Amortizacion'!$D$2:$M$2,0))","v":0},null,0]
["2031-11-28",0,{"$f":"+VLOOKUP(A97,'Tabla de Amortizacion'!$D$2:$M$182,MATCH(Tablas!$B$1,'Tabla de Amortizacion'!$D$2:$M$2,0))","v":0},null,0]
["2031-12-28",0,{"$f":"+VLOOKUP(A98,'Tabla de Amortizacion'!$D$2:$M$182,MATCH(Tablas!$B$1,'Tabla de Amortizacion'!$D$2:$M$2,0))","v":0},null,0]
["2032-01-28",0,{"$f":"+VLOOKUP(A99,'Tabla de Amortizacion'!$D$2:$M$182,MATCH(Tablas!$B$1,'Tabla de Amortizacion'!$D$2:$M$2,0))","v":0},null,0]
["2032-02-28",0,{"$f":"+VLOOKUP(A100,'Tabla de Amortizacion'!$D$2:$M$182,MATCH(Tablas!$B$1,'Tabla de Amortizacion'!$D$2:$M$2,0))","v":0},null,0]
["2032-03-28",0,{"$f":"+VLOOKUP(A101,'Tabla de Amortizacion'!$D$2:$M$182,MATCH(Tablas!$B$1,'Tabla de Amortizacion'!$D$2:$M$2,0))","v":0},null,0]
["2032-04-28",0,{"$f":"+VLOOKUP(A102,'Tabla de Amortizacion'!$D$2:$M$182,MATCH(Tablas!$B$1,'Tabla de Amortizacion'!$D$2:$M$2,0))","v":0},null,0]
["2032-05-28",0,{"$f":"+VLOOKUP(A103,'Tabla de Amortizacion'!$D$2:$M$182,MATCH(Tablas!$B$1,'Tabla de Amortizacion'!$D$2:$M$2,0))","v":0},null,0]
["2032-06-28",0,{"$f":"+VLOOKUP(A104,'Tabla de Amortizacion'!$D$2:$M$182,MATCH(Tablas!$B$1,'Tabla de Amortizacion'!$D$2:$M$2,0))","v":0},null,0]
["2032-07-28",0,{"$f":"+VLOOKUP(A105,'Tabla de Amortizacion'!$D$2:$M$182,MATCH(Tablas!$B$1,'Tabla de Amortizacion'!$D$2:$M$2,0))","v":0},null,0]
["2032-08-28",0,{"$f":"+VLOOKUP(A106,'Tabla de Amortizacion'!$D$2:$M$182,MATCH(Tablas!$B$1,'Tabla de Amortizacion'!$D$2:$M$2,0))","v":0},null,0]
["2032-09-28",0,{"$f":"+VLOOKUP(A107,'Tabla de Amortizacion'!$D$2:$M$182,MATCH(Tablas!$B$1,'Tabla de Amortizacion'!$D$2:$M$2,0))","v":0},null,0]
["2032-10-28",0,{"$f":"+VLOOKUP(A108,'Tabla de Amortizacion'!$D$2:$M$182,MATCH(Tablas!$B$1,'Tabla de Amortizacion'!$D$2:$M$2,0))","v":0},null,0]
["2032-11-28",0,{"$f":"+VLOOKUP(A109,'Tabla de Amortizacion'!$D$2:$M$182,MATCH(Tablas!$B$1,'Tabla de Amortizacion'!$D$2:$M$2,0))","v":0},null,0]
["2032-12-28",0,{"$f":"+VLOOKUP(A110,'Tabla de Amortizacion'!$D$2:$M$182,MATCH(Tablas!$B$1,'Tabla de Amortizacion'!$D$2:$M$2,0))","v":0},null,0]
["2033-01-28",0,{"$f":"+VLOOKUP(A111,'Tabla de Amortizacion'!$D$2:$M$182,MATCH(Tablas!$B$1,'Tabla de Amortizacion'!$D$2:$M$2,0))","v":0},null,0]
["2033-02-28",0,{"$f":"+VLOOKUP(A112,'Tabla de Amortizacion'!$D$2:$M$182,MATCH(Tablas!$B$1,'Tabla de Amortizacion'!$D$2:$M$2,0))","v":0},null,0]
["2033-03-28",0,{"$f":"+VLOOKUP(A113,'Tabla de Amortizacion'!$D$2:$M$182,MATCH(Tablas!$B$1,'Tabla de Amortizacion'!$D$2:$M$2,0))","v":0},null,0]
["2033-04-28",0,{"$f":"+VLOOKUP(A114,'Tabla de Amortizacion'!$D$2:$M$182,MATCH(Tablas!$B$1,'Tabla de Amortizacion'!$D$2:$M$2,0))","v":0},null,0]
["2033-05-28",0,{"$f":"+VLOOKUP(A115,'Tabla de Amortizacion'!$D$2:$M$182,MATCH(Tablas!$B$1,'Tabla de Amortizacion'!$D$2:$M$2,0))","v":0},null,0]
["2033-06-28",0,{"$f":"+VLOOKUP(A116,'Tabla de Amortizacion'!$D$2:$M$182,MATCH(Tablas!$B$1,'Tabla de Amortizacion'!$D$2:$M$2,0))","v":0},null,0]
["2033-07-28",0,{"$f":"+VLOOKUP(A117,'Tabla de Amortizacion'!$D$2:$M$182,MATCH(Tablas!$B$1,'Tabla de Amortizacion'!$D$2:$M$2,0))","v":0},null,0]
["2033-08-28",0,{"$f":"+VLOOKUP(A118,'Tabla de Amortizacion'!$D$2:$M$182,MATCH(Tablas!$B$1,'Tabla de Amortizacion'!$D$2:$M$2,0))","v":0},null,0]
["2033-09-28",0,{"$f":"+VLOOKUP(A119,'Tabla de Amortizacion'!$D$2:$M$182,MATCH(Tablas!$B$1,'Tabla de Amortizacion'!$D$2:$M$2,0))","v":0},null,0]
["2033-10-28",0,{"$f":"+VLOOKUP(A120,'Tabla de Amortizacion'!$D$2:$M$182,MATCH(Tablas!$B$1,'Tabla de Amortizacion'!$D$2:$M$2,0))","v":0},null,0]
["2033-11-28",0,{"$f":"+VLOOKUP(A121,'Tabla de Amortizacion'!$D$2:$M$182,MATCH(Tablas!$B$1,'Tabla de Amortizacion'!$D$2:$M$2,0))","v":0},null,0]
["2033-12-28",0,{"$f":"+VLOOKUP(A122,'Tabla de Amortizacion'!$D$2:$M$182,MATCH(Tablas!$B$1,'Tabla de Amortizacion'!$D$2:$M$2,0))","v":0},null,0]
["2034-01-28",0,{"$f":"+VLOOKUP(A123,'Tabla de Amortizacion'!$D$2:$M$182,MATCH(Tablas!$B$1,'Tabla de Amortizacion'!$D$2:$M$2,0))","v":0},null,0]
["2034-02-28",0,{"$f":"+VLOOKUP(A124,'Tabla de Amortizacion'!$D$2:$M$182,MATCH(Tablas!$B$1,'Tabla de Amortizacion'!$D$2:$M$2,0))","v":0},null,0]
["2034-03-28",0,{"$f":"+VLOOKUP(A125,'Tabla de Amortizacion'!$D$2:$M$182,MATCH(Tablas!$B$1,'Tabla de Amortizacion'!$D$2:$M$2,0))","v":0},null,0]
["2034-04-28",0,{"$f":"+VLOOKUP(A126,'Tabla de Amortizacion'!$D$2:$M$182,MATCH(Tablas!$B$1,'Tabla de Amortizacion'!$D$2:$M$2,0))","v":0},null,0]
["2034-05-28",0,{"$f":"+VLOOKUP(A127,'Tabla de Amortizacion'!$D$2:$M$182,MATCH(Tablas!$B$1,'Tabla de Amortizacion'!$D$2:$M$2,0))","v":0},null,0]
["2034-06-28",0,{"$f":"+VLOOKUP(A128,'Tabla de Amortizacion'!$D$2:$M$182,MATCH(Tablas!$B$1,'Tabla de Amortizacion'!$D$2:$M$2,0))","v":0},null,0]
["2034-07-28",0,{"$f":"+VLOOKUP(A129,'Tabla de Amortizacion'!$D$2:$M$182,MATCH(Tablas!$B$1,'Tabla de Amortizacion'!$D$2:$M$2,0))","v":0},null,0]
["2034-08-28",0,{"$f":"+VLOOKUP(A130,'Tabla de Amortizacion'!$D$2:$M$182,MATCH(Tablas!$B$1,'Tabla de Amortizacion'!$D$2:$M$2,0))","v":0},null,0]
[{"$f":"EDATE(A130,1)","v":"2034-09-28"},{"$f":"+ROUND(C131,8)","v":0},{"$f":"+VLOOKUP(A131,'Tabla de Amortizacion'!$D$2:$M$182,MATCH(Tablas!$B$1,'Tabla de Amortizacion'!$D$2:$M$2,0))","v":0},null,0]
["2034-10-28",0,{"$f":"+VLOOKUP(A132,'Tabla de Amortizacion'!$D$2:$M$182,MATCH(Tablas!$B$1,'Tabla de Amortizacion'!$D$2:$M$2,0))","v":0},null,0]
["2034-11-28",0,{"$f":"+VLOOKUP(A133,'Tabla de Amortizacion'!$D$2:$M$182,MATCH(Tablas!$B$1,'Tabla de Amortizacion'!$D$2:$M$2,0))","v":0},null,0]
["2034-12-28",0,{"$f":"+VLOOKUP(A134,'Tabla de Amortizacion'!$D$2:$M$182,MATCH(Tablas!$B$1,'Tabla de Amortizacion'!$D$2:$M$2,0))","v":0},null,0]
["2035-01-28",0,{"$f":"+VLOOKUP(A135,'Tabla de Amortizacion'!$D$2:$M$182,MATCH(Tablas!$B$1,'Tabla de Amortizacion'!$D$2:$M$2,0))","v":0},null,0]
["2035-02-28",0,{"$f":"+VLOOKUP(A136,'Tabla de Amortizacion'!$D$2:$M$182,MATCH(Tablas!$B$1,'Tabla de Amortizacion'!$D$2:$M$2,0))","v":0},null,0]
["2035-03-28",0,{"$f":"+VLOOKUP(A137,'Tabla de Amortizacion'!$D$2:$M$182,MATCH(Tablas!$B$1,'Tabla de Amortizacion'!$D$2:$M$2,0))","v":0},null,0]
["2035-04-28",0,{"$f":"+VLOOKUP(A138,'Tabla de Amortizacion'!$D$2:$M$182,MATCH(Tablas!$B$1,'Tabla de Amortizacion'!$D$2:$M$2,0))","v":0},null,0]
["2035-05-28",0,{"$f":"+VLOOKUP(A139,'Tabla de Amortizacion'!$D$2:$M$182,MATCH(Tablas!$B$1,'Tabla de Amortizacion'!$D$2:$M$2,0))","v":0},null,0]
["2035-06-28",0,{"$f":"+VLOOKUP(A140,'Tabla de Amortizacion'!$D$2:$M$182,MATCH(Tablas!$B$1,'Tabla de Amortizacion'!$D$2:$M$2,0))","v":0},null,0]
["2035-07-28",0,{"$f":"+VLOOKUP(A141,'Tabla de Amortizacion'!$D$2:$M$182,MATCH(Tablas!$B$1,'Tabla de Amortizacion'!$D$2:$M$2,0))","v":0},null,0]
["2035-08-28",0,{"$f":"+VLOOKUP(A142,'Tabla de Amortizacion'!$D$2:$M$182,MATCH(Tablas!$B$1,'Tabla de Amortizacion'!$D$2:$M$2,0))","v":0},null,0]
["2035-09-28",0,{"$f":"+VLOOKUP(A143,'Tabla de Amortizacion'!$D$2:$M$182,MATCH(Tablas!$B$1,'Tabla de Amortizacion'!$D$2:$M$2,0))","v":0},null,0]
["2035-10-28",0,{"$f":"+VLOOKUP(A144,'Tabla de Amortizacion'!$D$2:$M$182,MATCH(Tablas!$B$1,'Tabla de Amortizacion'!$D$2:$M$2,0))","v":0},null,0]
["2035-11-28",0,{"$f":"+VLOOKUP(A145,'Tabla de Amortizacion'!$D$2:$M$182,MATCH(Tablas!$B$1,'Tabla de Amortizacion'!$D$2:$M$2,0))","v":0},null,0]
["2035-12-28",0,{"$f":"+VLOOKUP(A146,'Tabla de Amortizacion'!$D$2:$M$182,MATCH(Tablas!$B$1,'Tabla de Amortizacion'!$D$2:$M$2,0))","v":0},null,0]
["2036-01-28",0,{"$f":"+VLOOKUP(A147,'Tabla de Amortizacion'!$D$2:$M$182,MATCH(Tablas!$B$1,'Tabla de Amortizacion'!$D$2:$M$2,0))","v":0},null,0]
["2036-02-28",0,{"$f":"+VLOOKUP(A148,'Tabla de Amortizacion'!$D$2:$M$182,MATCH(Tablas!$B$1,'Tabla de Amortizacion'!$D$2:$M$2,0))","v":0},null,0]
["2036-03-28",0,{"$f":"+VLOOKUP(A149,'Tabla de Amortizacion'!$D$2:$M$182,MATCH(Tablas!$B$1,'Tabla de Amortizacion'!$D$2:$M$2,0))","v":0},null,0]
["2036-04-28",0,{"$f":"+VLOOKUP(A150,'Tabla de Amortizacion'!$D$2:$M$182,MATCH(Tablas!$B$1,'Tabla de Amortizacion'!$D$2:$M$2,0))","v":0},null,0]
["2036-05-28",0,{"$f":"+VLOOKUP(A151,'Tabla de Amortizacion'!$D$2:$M$182,MATCH(Tablas!$B$1,'Tabla de Amortizacion'!$D$2:$M$2,0))","v":0},null,0]
["2036-06-28",0,{"$f":"+VLOOKUP(A152,'Tabla de Amortizacion'!$D$2:$M$182,MATCH(Tablas!$B$1,'Tabla de Amortizacion'!$D$2:$M$2,0))","v":0},null,0]
["2036-07-28",0,{"$f":"+VLOOKUP(A153,'Tabla de Amortizacion'!$D$2:$M$182,MATCH(Tablas!$B$1,'Tabla de Amortizacion'!$D$2:$M$2,0))","v":0},null,0]
["2036-08-28",0,{"$f":"+VLOOKUP(A154,'Tabla de Amortizacion'!$D$2:$M$182,MATCH(Tablas!$B$1,'Tabla de Amortizacion'!$D$2:$M$2,0))","v":0},null,0]
["2036-09-28",0,{"$f":"+VLOOKUP(A155,'Tabla de Amortizacion'!$D$2:$M$182,MATCH(Tablas!$B$1,'Tabla de Amortizacion'!$D$2:$M$2,0))","v":0},null,0]
["2036-10-28",0,{"$f":"+VLOOKUP(A156,'Tabla de Amortizacion'!$D$2:$M$182,MATCH(Tablas!$B$1,'Tabla de Amortizacion'!$D$2:$M$2,0))","v":0},null,0]
["2036-11-28",0,{"$f":"+VLOOKUP(A157,'Tabla de Amortizacion'!$D$2:$M$182,MATCH(Tablas!$B$1,'Tabla de Amortizacion'!$D$2:$M$2,0))","v":0},null,0]
["2036-12-28",0,{"$f":"+VLOOKUP(A158,'Tabla de Amortizacion'!$D$2:$M$182,MATCH(Tablas!$B$1,'Tabla de Amortizacion'!$D$2:$M$2,0))","v":0},null,0]
["2037-01-28",0,{"$f":"+VLOOKUP(A159,'Tabla de Amortizacion'!$D$2:$M$182,MATCH(Tablas!$B$1,'Tabla de Amortizacion'!$D$2:$M$2,0))","v":0},null,0]
["2037-02-28",0,{"$f":"+VLOOKUP(A160,'Tabla de Amortizacion'!$D$2:$M$182,MATCH(Tablas!$B$1,'Tabla de Amortizacion'!$D$2:$M$2,0))","v":0},null,0]
["2037-03-28",0,{"$f":"+VLOOKUP(A161,'Tabla de Amortizacion'!$D$2:$M$182,MATCH(Tablas!$B$1,'Tabla de Amortizacion'!$D$2:$M$2,0))","v":0},null,0]
["2037-04-28",0,{"$f":"+VLOOKUP(A162,'Tabla de Amortizacion'!$D$2:$M$182,MATCH(Tablas!$B$1,'Tabla de Amortizacion'!$D$2:$M$2,0))","v":0},null,0]
["2037-05-28",0,{"$f":"+VLOOKUP(A163,'Tabla de Amortizacion'!$D$2:$M$182,MATCH(Tablas!$B$1,'Tabla de Amortizacion'!$D$2:$M$2,0))","v":0},null,0]
["2037-06-28",0,{"$f":"+VLOOKUP(A164,'Tabla de Amortizacion'!$D$2:$M$182,MATCH(Tablas!$B$1,'Tabla de Amortizacion'!$D$2:$M$2,0))","v":0},null,0]
["2037-07-28",0,{"$f":"+VLOOKUP(A165,'Tabla de Amortizacion'!$D$2:$M$182,MATCH(Tablas!$B$1,'Tabla de Amortizacion'!$D$2:$M$2,0))","v":0},null,0]
["2037-08-28",0,{"$f":"+VLOOKUP(A166,'Tabla de Amortizacion'!$D$2:$M$182,MATCH(Tablas!$B$1,'Tabla de Amortizacion'!$D$2:$M$2,0))","v":0},null,0]
["2037-09-28",0,{"$f":"+VLOOKUP(A167,'Tabla de Amortizacion'!$D$2:$M$182,MATCH(Tablas!$B$1,'Tabla de Amortizacion'!$D$2:$M$2,0))","v":0},null,0]
["2037-10-28",0,{"$f":"+VLOOKUP(A168,'Tabla de Amortizacion'!$D$2:$M$182,MATCH(Tablas!$B$1,'Tabla de Amortizacion'!$D$2:$M$2,0))","v":0},null,0]
["2037-11-28",0,{"$f":"+VLOOKUP(A169,'Tabla de Amortizacion'!$D$2:$M$182,MATCH(Tablas!$B$1,'Tabla de Amortizacion'!$D$2:$M$2,0))","v":0},null,0]
["2037-12-28",0,{"$f":"+VLOOKUP(A170,'Tabla de Amortizacion'!$D$2:$M$182,MATCH(Tablas!$B$1,'Tabla de Amortizacion'!$D$2:$M$2,0))","v":0},null,0]
["2038-01-28",0,{"$f":"+VLOOKUP(A171,'Tabla de Amortizacion'!$D$2:$M$182,MATCH(Tablas!$B$1,'Tabla de Amortizacion'!$D$2:$M$2,0))","v":0},null,0]
["2038-02-28",0,{"$f":"+VLOOKUP(A172,'Tabla de Amortizacion'!$D$2:$M$182,MATCH(Tablas!$B$1,'Tabla de Amortizacion'!$D$2:$M$2,0))","v":0},null,0]
["2038-03-28",0,{"$f":"+VLOOKUP(A173,'Tabla de Amortizacion'!$D$2:$M$182,MATCH(Tablas!$B$1,'Tabla de Amortizacion'!$D$2:$M$2,0))","v":0},null,0]
["2038-04-28",0,{"$f":"+VLOOKUP(A174,'Tabla de Amortizacion'!$D$2:$M$182,MATCH(Tablas!$B$1,'Tabla de Amortizacion'!$D$2:$M$2,0))","v":0},null,0]
["2038-05-28",0,{"$f":"+VLOOKUP(A175,'Tabla de Amortizacion'!$D$2:$M$182,MATCH(Tablas!$B$1,'Tabla de Amortizacion'!$D$2:$M$2,0))","v":0},null,0]
["2038-06-28",0,{"$f":"+VLOOKUP(A176,'Tabla de Amortizacion'!$D$2:$M$182,MATCH(Tablas!$B$1,'Tabla de Amortizacion'!$D$2:$M$2,0))","v":0},null,0]
["2038-07-28",0,{"$f":"+VLOOKUP(A177,'Tabla de Amortizacion'!$D$2:$M$182,MATCH(Tablas!$B$1,'Tabla de Amortizacion'!$D$2:$M$2,0))","v":0},null,0]
["2038-08-28",0,{"$f":"+VLOOKUP(A178,'Tabla de Amortizacion'!$D$2:$M$182,MATCH(Tablas!$B$1,'Tabla de Amortizacion'!$D$2:$M$2,0))","v":0},null,0]
["2038-09-28",0,{"$f":"+VLOOKUP(A179,'Tabla de Amortizacion'!$D$2:$M$182,MATCH(Tablas!$B$1,'Tabla de Amortizacion'!$D$2:$M$2,0))","v":0},null,0]
["2038-10-28",0,{"$f":"+VLOOKUP(A180,'Tabla de Amortizacion'!$D$2:$M$182,MATCH(Tablas!$B$1,'Tabla de Amortizacion'!$D$2:$M$2,0))","v":0},null,0]
["2038-11-28",0,{"$f":"+VLOOKUP(A181,'Tabla de Amortizacion'!$D$2:$M$182,MATCH(Tablas!$B$1,'Tabla de Amortizacion'!$D$2:$M$2,0))","v":0},null,0]

{"sheet":"Exclusión","index":6,"n_rows":1,"n_cols":1,"rows_kept":1,"cut":false,"hidden":false,"merged":[[0,0,13,7]]}
["“Titularizadora Colombiana S.A publica el presente documento con un carácter estrictamente informativo para los inversionistas. Aunque la información aquí contenida ha sido obtenida de fuentes que la compañía considera confiables, Titularizadora Colombiana S.A no garantiza su exactitud. En ningún caso su contenido se puede considerar como una opinión financiera o legal ni como una recomendación de negocios o de inversión por parte de nuestra compañía. Tampoco puede ser considerado como una invitación a realizar negocios ni como una oferta para comprar o vender ningún tipo de valor. En ningún caso Titularizadora Colombiana S.A asume responsabilidad por las decisiones de inversión que se tomen, o el resultado de cualquier operación que se efectúe por parte de los destinatarios o de terceras personas, sobre la información aquí contenida. Tal responsabilidad es exclusiva de los inversionistas que hagan uso de ella. Dicha información puede tener variaciones posteriores a la fecha de su publicación razón por la cual Titularizadora Colombiana S.A se reserva el derecho de modificarla o actualizarla en cualquier tiempo y sin previo aviso.”"]